{"text_format":"1","workbook":"xlsx","n_sheets":11,"sheets":["Contexte & objectif","Guide d'utilisation","QUESTIONNAIRE PRÉLIMINAIRE","Page de présentation","Rapport","TCD-Contrôle global","TCD-Controle par risque","Risques présents","Calcul du risque et priorités","Risque, Prévention & Contrôle","parametre"],"not_rendered":{"charts":4,"images":55,"macros":1,"external_links":0,"defined_names":82,"comments":0,"pivot_tables":9},"unopened":[],"bounds":{"document_bytes":16777216,"sheet_cells":100000,"rows_first":2000,"rows_last":500,"rows_between":2000,"halvings":0,"cell_chars":16384,"cell_head_chars":4096},"cells_cut":0,"cells_raw":0,"read":"whole","date_system":"1900"}

{"sheet":"Contexte & objectif","index":0,"n_rows":9,"n_cols":1,"rows_kept":9,"cut":false,"hidden":false,"merged":[[8,0,8,7],[6,0,6,7],[1,0,1,7],[2,0,2,7],[4,0,4,7]]}
["MISE EN CONTEXTE"]
["La Loi modernisant le régime de santé et de sécurité du travail a été sanctionnée le 6 octobre 2021. Parmi les modifications annoncées se trouve la mise en place de mécanismes de prévention et de participation qui devront être implantés obligatoirement dans les entreprises en fonction du nombre de leurs travailleurs.\n\nRendez-vous sur le site Santé, sécurité et mieux-être de l'UPA pour déterminer les obligations qui s'appliquent à votre entreprise et pour vous familiariser avec la démarche de prévention : identifier – corriger – contrôler."]
["https://www.santesecurite.upa.qc.ca/sante-et-securite/regime-interimaire-sst"]
["OBJECTIF DU PRÉSENT OUTIL"]
["Le présent outil est un modèle de programme de prévention en GRANDES CULTURES, conçu pour être appliqué de façon autonome par les entreprises employant 20 travailleurs et plus à un moment de l'année (incluant les travailleurs offrant des services prêtés ou loués), lesquelles doivent identifier et analyser les risques pouvant influer sur la santé de leurs travailleurs, avec l'aide de leurs travailleurs. Cet outil n'est pas universel et un employeur pourrait tout à fait utiliser un autre modèle qui lui convient mieux. Bien qu'il contienne une liste exhaustive de dangers, risques, mesures de prévention et de contrôle en production agricole, il est possible qu'un élément spécifique à votre entreprise et à votre secteur de production n'y figure pas et doive être ajouté dans le questionnaire préliminaire. N'hésitez pas à communiquer avec le ou la préventionniste de votre fédération régionale de l'UPA au besoin."]
[]
["Aller à GUIDE D'UTILISATION"]
[]
["Aller au QUESTIONNAIRE PRÉLIMINAIRE"]

{"sheet":"Guide d'utilisation","index":1,"n_rows":11,"n_cols":1,"rows_kept":11,"cut":false,"hidden":false,"merged":[[7,0,7,7],[10,0,10,7],[2,0,2,7],[4,0,4,7],[1,0,1,7],[9,0,9,7]]}
["GUIDE D'UTILISATION"]
["\nImportant!\nPour être en mesure d'utiliser cet outil, veuillez vous assurer qu'il est enregistré au format .xslm afin que les macros du fichier Excel soient fonctionnelles. Si nécessaire, à l'ouverture du fichier veuillez activer les macros à l'aide du bouton « Activer le contenu » sur la barre jaune « Avertissement de sécurité », en haut de l'onglet (voir image ci-dessous). "]
["Le présent document est conçu selon un principe de listes déroulantes et de listes déroulantes dépendantes selon les sélections précédentes. Elles comportent une liste exhaustive de dangers, risques et mesures de prévention et de contrôle, mais vous pourriez avoir à bonifier celle-ci pour refléter la réalité de votre entreprise. \n\nPar ailleurs, un même danger peut comporter plusieurs risques et nécessiter plus d'une mesure de prévention et de contrôle, basées sur la définition de la CNESST pour chaque catégorie de risques. Lorsque vous aurez complété la sélection des éléments correspondant à la réalité de votre entreprise, vous pourrez filtrer les données afin de ne conserver dans votre programme que les éléments pour lesquels vous avez répondu oui (O)."]
[]
["**ATTENTION! Ce document contient de la programmation en arrière-plan et des listes dépendantes sont paramétrées individuellement. Il est impératif de ne supprimer aucun onglet, ni d'ajouter ou de suprimer des lignes et finalement, de ne modifier aucune information se retrouvant dans l'onglet « Risque, Prévention & Contrôle ». Cela impacterait automatiquement les informations contenues dans les listes dépendantes que vous aurez retenues dans votre programme de prévention. Il vous est toutefois possible d'ajouter des éléments."]
[]
["MISE EN GARDE"]
["Le présent document est un « modèle ». L’employeur est seul responsable du contenu de son programme de prévention. Ce document ne constitue pas une opinion, un conseil ou un avis juridique. En cas de divergence entre ce document et les lois et règlements applicables, la version officielle des lois et règlements prévaut. Nous vous invitons à consulter un avocat pour connaître les règles particulières applicables à une situation donnée."]
[]
["Aller au QUESTIONNAIRE PRÉLIMINAIRE"]
["Aller à CONTEXTE & OBJECTIF"]

{"sheet":"QUESTIONNAIRE PRÉLIMINAIRE","index":2,"n_rows":105,"n_cols":6,"rows_kept":105,"cut":false,"hidden":false,"merged":[[2,0,2,3],[3,0,3,3],[0,0,0,3]]}
["Identification des risques présents"]
["Instructions"]
["1- Complétez d'abord le tableau ci-dessous en validant tous les risques présents.Veuillez vous assurer que tous les champs « Présence » sont complétés pour chaque danger (soit par Oui, Non, Non applicable ou À confirmer dans la liste déroulante). Notez que les risques à tolérance zéro (RZ) et les risques prédominants (RP) établis par la CNESST comme devant être priorirairement pris en charge, sont identifiés en rouge dans la liste ci-dessous.\n\nÀ noter : la catégorie de risques « Conformité Mutuelle » s'applique uniquement aux membres de la Mutuelle de l'UPA.\n\nATTENTION! Un même danger peut se retrouver sous plus d'une catégorie de risque (ex. : espace clos est à la fois un risque chimique (si présence de gaz) et un risque à la sécurité)\n\n2- Pour chaque danger identifié, veuillez indiquer le nombre de fois que le système doit répéter ce risque dans le tableau des « Risques présents ». \n\nPar exemple, un producteur qui utilise dans sa serre des sécateurs et couteaux devra écrire, à la ligne 26 :  Risque PHYSIQUE / Danger Outils à main / Présence OUI / Nombre de lignes à créer = 2 (ici, le nombre 2 représente 2 dangers à évaluer, c'est-à-dire sécateur et couteau).\n\nImportant!  Si vous ne précisez pas le nombre de lignes à créer pour les danger dont la présence est cochée « OUI », une seule ligne sera générée par défaut. "]
["3- Assurez-vous qu'il n'y ait aucune ligne vide, puisque tout ce qui se trouvera en-dessous d'une ligne vide ne sera pas transféré dans la page des « risques présents ».\n\n4- Lorsque vous avez terminé, cliquez sur le bouton « Transférer tous les risques identifiés » (en bleu ci-dessus).\n\nImportant!  Si vous devez faire des modifications/ajouts/retraits à vos réponses ci-dessous une fois les risques identifiés transférés, il est préférable d'effacer les réponses (bouton rouge ci-haut) et de recommencer à l'étape 1 afin d'éviter les doublons de risques identifiés.\n\n5- À l'étape de l'analyse du risque (fréquence/gravité/priorité d'action), référez-vous à l'onglet « Calcul du risque et priorités »"]
[]
["Risques","Danger","Présence","Nb de lignes à créer"]
["Chimique","Espaces clos (présence gaz) "]
["Chimique","Garage/atelier (gaz combustion)"]
["Chimique","Matières dangereuses"]
["Chimique","Pesticides et produits phytosanitaires"]
["Chimique","Gaz/vapeurs/fumées/bioaérosols"]
["Chimique","Matières premières"]
["Chimique","Autres (préciser)"]
["Biologique","Poussières"]
["Biologique","Brume"]
["Biologique","Insectes (ex. : piqûres)"]
["Biologique","Parasites/bactéries"]
["Biologique","Autres (préciser)"]
["Physique","Tracteurs"]
["Physique","Machinerie agricole (moissoneuse, récolteuse, etc.)"]
["Physique","Garage/atelier (appareils, bruits, etc.)"]
["Physique","Systèmes électriques"]
["Physique","Travail à l'extérieur (chaleur, froid)",null,null,null,"Retour en haut de la page"]
["Physique","Ligne aérienne sous tension (RZ)"]
["Physique","Séchoir à grains"]
["Physique","Autres (préciser)"]
["Ergonomique","Tracteurs"]
["Ergonomique","Machinerie agricole"]
["Ergonomique","Garage/atelier"]
["Ergonomique","Manutention"]
["Ergonomique","Autres (préciser)"]
["Psychosocial","Nature du travail"]
["Psychosocial","Organisation du travail"]
["Psychosocial","Facteurs sociaux"]
["Psychosocial","Travail isolé"]
["Psychosocial","Autres (préciser)"]
["Securite","Tracteurs"]
["Securite","Machinerie agricole (moissoneuse, récolteuse, etc.)",null,null,null,"Retour en haut de la page"]
["Securite","Pièces et véhicules en mouvement (ex. vis balai)"]
["Securite","Meule, perceuse, etc."]
["Securite","Travaux en hauteur"]
["Securite","Espaces clos"]
["Securite","Silo ensilage (travaux hauteur, espace clos)"]
["Securite","Silos à grains (ensevelissement, espace clos)"]
["Securite","Appareil de levage"]
["Securite","Chariot élévateur"]
["Securite","Échelles/escabeau"]
["Securite","Escalier/mezzanine"]
["Securite","Chutes d'objets"]
["Securite","Garage/atelier"]
["Securite","Matières inflammables (propane, gaz)"]
["Securite","Environnement explosif"]
["Securite","Contact collègues/clients/fournisseurs"]
["Securite","Contats piétonniers (personnes, machines, voies de circulation)"]
["Securite","Véhicules tout-terrain",null,null,null,"Retour en haut de la page"]
["Securite","Échafaudages (RZ)"]
["Securite","Travail isolé"]
["Securite","Autres (préciser)"]
["Conformite_mutuelle","Certificat mutuelle"]
["Conformite_mutuelle","Programme de prévention "]
["Conformite_mutuelle","Participation de l'employeur"]
["Conformite_mutuelle","Plan d'action affiché"]
["Conformite_mutuelle","Participation des travailleurs"]
[]
[]
[]
[]
[]
[]
[]
[]
[]
[]
[]
[]
[]
[]
[]
[]
[null,null,null,null,null,"Retour en haut de la page"]
["Aller à la liste des risques présents"]
[]
[]
[]
[]
[]
[]
[]
[]
[]
[]
[]
[]
[]
[]
[]
[]
[]
[]
[]
[]
[]
[]
[]
[null,null,null,null,null,"Retour en haut de la page"]

{"sheet":"Page de présentation","index":3,"n_rows":53,"n_cols":4,"rows_kept":53,"cut":false,"hidden":false,"merged":[[0,0,3,6],[32,2,32,4],[46,5,46,6],[50,5,50,6],[52,5,52,6],[28,1,28,5],[30,2,30,4],[36,2,36,4],[34,2,34,4]]}
["Programme de prévention"]
[]
[]
[]
[]
[]
[]
[]
[]
[]
[]
[]
[]
[]
[]
[]
[]
[]
[]
[]
[]
[]
[]
[null,null,null,"***"]
[]
[]
[]
[]
[null,"Nom de la ferme"]
[]
[null,null,"No civique + nom de rue"]
[]
[null,null,"Casier postal"]
[]
[null,null,"Ville (Québec)"]
[]
[null,null,"Code postal"]
[]
[]
[]
[]
[]
[]
[]
[]
[]
["Date de la mise à jour :"]
[]
["Personne responsable :"]
[]
["Numéro UPA :"]
[]
["Numéro ENL :"]

{"sheet":"Rapport","index":4,"n_rows":52,"n_cols":3,"rows_kept":52,"cut":false,"hidden":false,"merged":[[51,1,51,8],[0,0,0,9],[5,1,5,8],[28,1,28,8],[43,1,43,8],[50,3,50,8],[16,2,16,6],[29,1,30,8]]}
["Rapport des risques observés"]
[]
[null,"En date du",{"$f":"TODAY()","v":"2023-07-10"}]
[]
[]
[null,"État de contrôle sur l'ensemble des risques"]
[]
[null,"À ce jour de "]
[]
[]
[]
[]
[]
[]
[]
[]
[null,null,"Détail sur l'état de contrôle"]
[]
[]
[]
[]
[]
[]
[]
[]
[]
[]
[]
[null,"État de contrôle par catégorie de risques"]
[null,"État de contrôle par catégorie de risques"]
[]
[]
[]
[]
[]
[]
[]
[]
[]
[]
[]
[]
[]
[null,"État de contrôle détaillé d'une catégorie spécifique"]
[]
[]
[]
[]
[]
[]
[]
[null,"Détail sur l'état de contrôle"]

{"sheet":"TCD-Contrôle global","index":5,"n_rows":47,"n_cols":20,"rows_kept":47,"cut":false,"hidden":true,"merged":[[5,7,6,7],[13,6,13,9],[4,10,4,11],[5,10,7,11],[8,10,10,11],[4,6,4,8]]}
[]
["Contrôlé","(vide)",null,null,null,null,"Annee en cours",{"$f":"YEAR(TODAY())","v":2023}]
[null,null,null,null,null,null,"Annee sélectionnée"]
["Nb de risques"]
[null,null,null,null,null,null,"Nombre de risques",null,null,null,"Risques contrôlés"]
[null,null,null,null,null,null,null,{"$f":"GETPIVOTDATA(\"Contrôlé\",$A$4)","v":0},null,null,{"$f":"IF(GETPIVOTDATA(\"Contrôlé\",$A$12)=OR(\"\",0),\"\",GETPIVOTDATA(\"Contrôlé\",$A$12)/GETPIVOTDATA(\"Contrôlé\",$A$4))","v":{"$error":"#DIV/0!"}}]
[]
[]
[null,null,null,null,null,null,null,null,null,null,{"$f":"IF($H$6=0,\"\",IF(GETPIVOTDATA(\"Contrôlé\",$A$12)>0,\"Incluant risque(s) contrôlé(s) & l'année(s) de contrôle absente(s)\",\"\"))","v":""}]
["Contrôlé","(Plusieurs éléments)"]
[]
[null,"Étiquettes de colonnes"]
[null,"Total général"]
["Nombre de Contrôlé",0,null,null,null,null,"Progression des 3 dernières années"]
[null,null,null,null,null,null,"Au 31 décembre de",{"$f":"CONCATENATE($H$2-2,\" ou avant\")","v":"2021 ou avant"},{"$f":"$H$2-1","v":2022},{"$f":"$H$2","v":2023},null,null,null,null,{"$f":"CONCATENATE($H$2-2,\" ou avant\")","v":"2021 ou avant"},{"$f":"$H$2-1","v":2022},{"$f":"$H$2","v":2023}]
[null,null,null,null,null,null,"Nb Risques contrôlés",{"$f":"IF($H$2-2=2020,COUNTIFS(Risque[Contrôlé],\"Oui\",Risque[Contrôlé en quelle année?],\"2020 ou avant\"),COUNTIFS(Risque[Contrôlé],\"Oui\",Risque[Contrôlé en quelle année?],\"<\" & $H$2-1))","v":0},{"$f":"SUM($H$16,COUNTIFS(Risque[Contrôlé],\"Oui\",Risque[Contrôlé en quelle année?],'TCD-Contrôle global'!$I$15))","v":0},{"$f":"SUM($I$16,COUNTIFS(Risque[Contrôlé],\"Oui\",Risque[Contrôlé en quelle année?],'TCD-Contrôle global'!$J$15))","v":0},null,null,null,null,{"$f":"COUNTA(Risque[Catégorie de risque])-COUNTIF(Risque[Année d''inscription du risque],\">\" & $H$2-2)","v":0},{"$f":"COUNTIF(Risque[Année d''inscription du risque],\">\" & $H$2-2)","v":0}]
[null,null,null,null,null,null,"Nb Risques",{"$f":"COUNTIFS(Risque[Catégorie de risque],\"<>\"\"\",Risque[Année d''inscription du risque],\"<\" & $H$2-1)","v":0},{"$f":"COUNTIFS(Risque[Catégorie de risque],\"<>\"\"\",Risque[Année d''inscription du risque],\"<\" & $H$2)","v":0},{"$f":"COUNTA(Risque[Catégorie de risque])","v":0}]
[null,null,null,null,null,null,"%",{"$f":"IF($H$16<>0,H$16/GETPIVOTDATA(\"Catégorie de risque\",$A$33),0)","v":0},{"$f":"IF($I$16<>0,I$16/GETPIVOTDATA(\"Catégorie de risque\",$A$33),0)","v":0},{"$f":"IF($J$16<>0,J$16/GETPIVOTDATA(\"Catégorie de risque\",$A$33),0)","v":0}]
[]
[]
[]
[]
[]
[]
[]
[]
[]
[]
[null,null,null,null,null,null,null,null,null,null,null,null,{"$f":"IF('Risques présents'!A6<>\"\",TRUE,FALSE)","v":false}]
[null,null,null,null,null,null,null,null,null,null,null,null,null,null,null,null,null,"Non utilisé"]
[null,null,null,null,null,null,null,null,null,null,null,null,null,null,null,null,null,"Nombre de Contrôlé","Étiquettes de colonnes"]
[null,null,null,null,null,null,null,null,null,null,null,null,null,null,null,null,null,"Étiquettes de lignes","(vide)","Total général"]
["Étiquettes de lignes","Nombre de risques",null,null,null,null,null,null,null,null,null,null,null,null,null,null,null,"<1905-01-01"]
["(vide)",null,null,null,null,null,null,null,null,null,null,null,null,null,null,null,null,"(vide)"]
["Total général",null,null,null,null,null,null,null,null,null,null,null,null,null,null,null,null,"Total général"]
[]
[]
[]
[]
[]
[]
[]
[]
[]
[null,null,null,null,null,null,null,null,null,null,null,null,null,null,null,null,null,null,"Valeurs"]
[null,null,null,null,null,null,null,null,null,null,null,null,null,null,null,null,null,"Étiquettes de lignes","nb","%"]
[null,null,null,null,null,null,null,null,null,null,null,null,null,null,null,null,null,"Vide (champ non complété)",0,{"$error":"#DIV/0!"}]

{"sheet":"TCD-Controle par risque","index":6,"n_rows":42,"n_cols":16,"rows_kept":42,"cut":false,"hidden":true,"merged":[[12,7,14,8],[16,3,16,7],[24,7,25,9],[5,7,7,8],[3,7,3,8],[4,7,4,8],[8,7,8,8],[11,7,11,8],[13,11,13,13],[14,11,14,13],[12,11,12,13],[11,11,11,13],[11,9,11,10],[12,9,13,10]]}
["Catégorie de risque","(vide)"]
[]
[null,"Contrôlé"]
[null,"Oui","Groupe1"]
["État de contrôle",null,null,null,null,null,null,{"$f":"IF(B1=\"(Tous)\",\"Tous les risques\",CONCATENATE(\"Risques de type \",$B$1))","v":"Risques de type (vide)"}]
[null,null,null,null,null,null,null,{"$f":"GETPIVOTDATA(\"Contrôlé\",$A$3,\"Contrôlé \",\"Oui\")","v":0}]
[]
[]
[null,null,null,null,null,null,null,{"$f":"IF(GETPIVOTDATA(\"Contrôlé\",$A$13,\"Contrôlé \",\"N/A\")>0,\"Risque(s) N/A exclus\",\"\")","v":""}]
[]
["Catégorie de risque","(vide)"]
[null,null,null,null,null,null,null,"Nombre total",null,"Risque(s) contrôlé(s)",null,"Contrôlé",null,null,{"$f":"GETPIVOTDATA(\"Contrôlé\",'TCD-Controle par risque'!$A$13,\"Contrôlé \",\"Oui\")","v":0},{"$f":"GETPIVOTDATA(\"%\",$A$13,\"Contrôlé \",\"Contrôlé\")","v":{"$error":"#DIV/0!"}}]
[null,"Valeurs",null,null,null,null,null,{"$f":"GETPIVOTDATA(\"Contrôlé\",$A$13)","v":0},null,{"$f":"GETPIVOTDATA(\"Contrôlé\",$A$13,\"Contrôlé \",\"Oui\")","v":0},null,"Non contrôlé / À confirmer",null,null,{"$f":"GETPIVOTDATA(\"Contrôlé\",$A$13,\"Contrôlé \",\"Non contrôlé / À confirmer\")","v":0},{"$f":"GETPIVOTDATA(\"%\",$A$13,\"Contrôlé \",\"Non contrôlé / À confirmer\")","v":{"$error":"#DIV/0!"}}]
["Catégorie de risque","Nb","%",null,null,null,null,null,null,null,null,"Vide (champ non complété)",null,null,{"$f":"GETPIVOTDATA(\"Contrôlé\",'TCD-Controle par risque'!$A$13,\"Contrôlé \",)","v":0},{"$f":"GETPIVOTDATA(\"%\",$A$13,\"Contrôlé \",\"Vide (champ non complété)\")","v":{"$error":"#DIV/0!"}}]
["Contrôlé",null,{"$error":"#DIV/0!"},null,null,null,null,null,null,null,null,"N/A",null,null,{"$f":"GETPIVOTDATA(\"Contrôlé\",'TCD-Controle par risque'!$A$13,\"Contrôlé \",\"N/A\")","v":0},{"$f":"GETPIVOTDATA(\"%\",$A$13,\"Contrôlé \",\"N/A\")","v":{"$error":"#DIV/0!"}}]
["Non contrôlé / À confirmer",null,{"$error":"#DIV/0!"}]
["Vide (champ non complété)",null,{"$error":"#DIV/0!"},"Détail sur l'état de contrôle"]
["N/A",null,{"$error":"#DIV/0!"}]
["Total général",null,{"$error":"#DIV/0!"}]
[]
[]
[]
[]
["État de contrôle","Contrôlé"]
["Catégorie de risque",null,null,null,null,null,null,"État de contrôle par catégorie de risque"]
["Total général"]
[]
[]
[]
[]
[]
[]
[]
[]
[]
[]
[]
[]
[]
["Nombre de Contrôlé","Contrôlé"]
["Catégorie de risque"]
["Total général"]

{"sheet":"Risques présents","index":7,"n_rows":1000,"n_cols":32,"rows_kept":1000,"cut":false,"hidden":false,"merged":[[0,0,0,29],[2,0,2,12],[2,13,2,20],[1,0,1,1],[1,3,1,4],[2,21,2,30]]}
["Liste des risques présents"]
["Aller au Questionnaire préliminaire",null,null,"Consulter le rapport de contrôle des risques"]
["IDENTIFIER",null,null,null,null,null,null,null,null,null,null,null,null,"CORRIGER",null,null,null,null,null,null,null,"CONTRÔLER"]
[]
["Catégorie de risque","Source de danger","cat_risque1 (masquer)","Risques associés","Précision du risque\n(si liste déroulante présente)","Autre risque - Précision\n(si liste déroulante présente)","Contrôlé","Contrôlé en quelle année?","Risque à tolérance zéro (RZ) ou risque prédominant (RP)?\nSi Oui, voir onglet « Calcul du risque »","Description de la situation (ex. : endroit, tâche associée, etc.)","Fréquence d'exposition","Gravité","Priorité d'action\n1   2   3","cat_risque2 (masquer)","Moyens de prévention","Moyen_prev_2 - masquer","Moyens de prévention - Précision\n(si liste déroulante présente)","Autres moyens de prévention & commentaires","Responsable","Échéance/\nfréquence","Date de réalisation","cat_risque3 (masquer)","Moyens de contrôle","Moyens de contrôle - Précision\n(si liste déroulante présente)","Autres moyens de contrôle & commentaires","cat_risque4 (masquer)","Formation(s) obligatoire(s)\nsi applicable)","Responsable2","Échéance/\nfréquence2","Date de réalisation2","Date d'inscription du risque","Année d'inscription du risque"]
[null,null,{"$f":"IF(ISBLANK(Risque[[#This Row],[Catégorie de risque]]),\"\",CONCATENATE(Risque[[#This Row],[Catégorie de risque]],1))","v":""},null,null,null,null,null,{"$f":"IF(ISBLANK(Risque[[#This Row],[Catégorie de risque]]),\"\",IF(OR(ISNUMBER(SEARCH(\"RZ\",Risque[[#This Row],[Source de danger]]))=TRUE,ISNUMBER(SEARCH(\"RP\",Risque[[#This Row],[Source de danger]]))=TRUE,ISNUMBER(SEARCH(\"RZ\",Risque[[#This Row],[Risques associés]]))=TRUE,ISNUMBER(SEARCH(\"RP\",Risque[[#This Row],[Risques associés]]))=TRUE,ISNUMBER(SEARCH(\"RZ\",Risque[[#This Row],[Précision du risque\n(si liste déroulante présente)]]))=TRUE,ISNUMBER(SEARCH(\"RP\",Risque[[#This Row],[Précision du risque\n(si liste déroulante présente)]]))=TRUE),\"Oui --> Priorité d'action\",\"Non\"))","v":""},null,null,null,null,{"$f":"IF(ISBLANK(Risque[[#This Row],[Catégorie de risque]]),\"\",CONCATENATE(Risque[[#This Row],[Catégorie de risque]],2))","v":""},null,{"$f":"IF(ISBLANK(Risque[[#This Row],[Moyens de prévention]]),\"\",CONCATENATE(Risque[[#This Row],[Moyens de prévention]],1))","v":""},null,null,null,null,null,{"$f":"IF(ISBLANK(Risque[[#This Row],[Catégorie de risque]]),\"\",CONCATENATE(Risque[[#This Row],[Catégorie de risque]],3))","v":""},null,null,null,{"$f":"IF(ISBLANK(Risque[[#This Row],[Catégorie de risque]]),\"\",CONCATENATE(Risque[[#This Row],[Catégorie de risque]],4))","v":""},null,null,null,null,null,{"$f":"IF(Risque[[#This Row],[Date d''inscription du risque]]<>\"\",YEAR(Risque[[#This Row],[Date d''inscription du risque]]),\"\")","v":""}]
[null,null,{"$f":"IF(ISBLANK(Risque[[#This Row],[Catégorie de risque]]),\"\",CONCATENATE(Risque[[#This Row],[Catégorie de risque]],1))","v":""},null,null,null,null,null,{"$f":"IF(ISBLANK(Risque[[#This Row],[Catégorie de risque]]),\"\",IF(OR(ISNUMBER(SEARCH(\"RZ\",Risque[[#This Row],[Source de danger]]))=TRUE,ISNUMBER(SEARCH(\"RP\",Risque[[#This Row],[Source de danger]]))=TRUE,ISNUMBER(SEARCH(\"RZ\",Risque[[#This Row],[Risques associés]]))=TRUE,ISNUMBER(SEARCH(\"RP\",Risque[[#This Row],[Risques associés]]))=TRUE,ISNUMBER(SEARCH(\"RZ\",Risque[[#This Row],[Précision du risque\n(si liste déroulante présente)]]))=TRUE,ISNUMBER(SEARCH(\"RP\",Risque[[#This Row],[Précision du risque\n(si liste déroulante présente)]]))=TRUE),\"Oui --> Priorité d'action\",\"Non\"))","v":""},null,null,null,null,{"$f":"IF(ISBLANK(Risque[[#This Row],[Catégorie de risque]]),\"\",CONCATENATE(Risque[[#This Row],[Catégorie de risque]],2))","v":""},null,{"$f":"IF(ISBLANK(Risque[[#This Row],[Moyens de prévention]]),\"\",CONCATENATE(Risque[[#This Row],[Moyens de prévention]],1))","v":""},null,null,null,null,null,{"$f":"IF(ISBLANK(Risque[[#This Row],[Catégorie de risque]]),\"\",CONCATENATE(Risque[[#This Row],[Catégorie de risque]],3))","v":""},null,null,null,{"$f":"IF(ISBLANK(Risque[[#This Row],[Catégorie de risque]]),\"\",CONCATENATE(Risque[[#This Row],[Catégorie de risque]],4))","v":""},null,null,null,null,null,{"$f":"IF(Risque[[#This Row],[Date d''inscription du risque]]<>\"\",YEAR(Risque[[#This Row],[Date d''inscription du risque]]),\"\")","v":""}]
[null,null,{"$f":"IF(ISBLANK(Risque[[#This Row],[Catégorie de risque]]),\"\",CONCATENATE(Risque[[#This Row],[Catégorie de risque]],1))","v":""},null,null,null,null,null,{"$f":"IF(ISBLANK(Risque[[#This Row],[Catégorie de risque]]),\"\",IF(OR(ISNUMBER(SEARCH(\"RZ\",Risque[[#This Row],[Source de danger]]))=TRUE,ISNUMBER(SEARCH(\"RP\",Risque[[#This Row],[Source de danger]]))=TRUE,ISNUMBER(SEARCH(\"RZ\",Risque[[#This Row],[Risques associés]]))=TRUE,ISNUMBER(SEARCH(\"RP\",Risque[[#This Row],[Risques associés]]))=TRUE,ISNUMBER(SEARCH(\"RZ\",Risque[[#This Row],[Précision du risque\n(si liste déroulante présente)]]))=TRUE,ISNUMBER(SEARCH(\"RP\",Risque[[#This Row],[Précision du risque\n(si liste déroulante présente)]]))=TRUE),\"Oui --> Priorité d'action\",\"Non\"))","v":""},null,null,null,null,{"$f":"IF(ISBLANK(Risque[[#This Row],[Catégorie de risque]]),\"\",CONCATENATE(Risque[[#This Row],[Catégorie de risque]],2))","v":""},null,{"$f":"IF(ISBLANK(Risque[[#This Row],[Moyens de prévention]]),\"\",CONCATENATE(Risque[[#This Row],[Moyens de prévention]],1))","v":""},null,null,null,null,null,{"$f":"IF(ISBLANK(Risque[[#This Row],[Catégorie de risque]]),\"\",CONCATENATE(Risque[[#This Row],[Catégorie de risque]],3))","v":""},null,null,null,{"$f":"IF(ISBLANK(Risque[[#This Row],[Catégorie de risque]]),\"\",CONCATENATE(Risque[[#This Row],[Catégorie de risque]],4))","v":""},null,null,null,null,null,{"$f":"IF(Risque[[#This Row],[Date d''inscription du risque]]<>\"\",YEAR(Risque[[#This Row],[Date d''inscription du risque]]),\"\")","v":""}]
[null,null,{"$f":"IF(ISBLANK(Risque[[#This Row],[Catégorie de risque]]),\"\",CONCATENATE(Risque[[#This Row],[Catégorie de risque]],1))","v":""},null,null,null,null,null,{"$f":"IF(ISBLANK(Risque[[#This Row],[Catégorie de risque]]),\"\",IF(OR(ISNUMBER(SEARCH(\"RZ\",Risque[[#This Row],[Source de danger]]))=TRUE,ISNUMBER(SEARCH(\"RP\",Risque[[#This Row],[Source de danger]]))=TRUE,ISNUMBER(SEARCH(\"RZ\",Risque[[#This Row],[Risques associés]]))=TRUE,ISNUMBER(SEARCH(\"RP\",Risque[[#This Row],[Risques associés]]))=TRUE,ISNUMBER(SEARCH(\"RZ\",Risque[[#This Row],[Précision du risque\n(si liste déroulante présente)]]))=TRUE,ISNUMBER(SEARCH(\"RP\",Risque[[#This Row],[Précision du risque\n(si liste déroulante présente)]]))=TRUE),\"Oui --> Priorité d'action\",\"Non\"))","v":""},null,null,null,null,{"$f":"IF(ISBLANK(Risque[[#This Row],[Catégorie de risque]]),\"\",CONCATENATE(Risque[[#This Row],[Catégorie de risque]],2))","v":""},null,{"$f":"IF(ISBLANK(Risque[[#This Row],[Moyens de prévention]]),\"\",CONCATENATE(Risque[[#This Row],[Moyens de prévention]],1))","v":""},null,null,null,null,null,{"$f":"IF(ISBLANK(Risque[[#This Row],[Catégorie de risque]]),\"\",CONCATENATE(Risque[[#This Row],[Catégorie de risque]],3))","v":""},null,null,null,{"$f":"IF(ISBLANK(Risque[[#This Row],[Catégorie de risque]]),\"\",CONCATENATE(Risque[[#This Row],[Catégorie de risque]],4))","v":""},null,null,null,null,null,{"$f":"IF(Risque[[#This Row],[Date d''inscription du risque]]<>\"\",YEAR(Risque[[#This Row],[Date d''inscription du risque]]),\"\")","v":""}]
[null,null,{"$f":"IF(ISBLANK(Risque[[#This Row],[Catégorie de risque]]),\"\",CONCATENATE(Risque[[#This Row],[Catégorie de risque]],1))","v":""},null,null,null,null,null,{"$f":"IF(ISBLANK(Risque[[#This Row],[Catégorie de risque]]),\"\",IF(OR(ISNUMBER(SEARCH(\"RZ\",Risque[[#This Row],[Source de danger]]))=TRUE,ISNUMBER(SEARCH(\"RP\",Risque[[#This Row],[Source de danger]]))=TRUE,ISNUMBER(SEARCH(\"RZ\",Risque[[#This Row],[Risques associés]]))=TRUE,ISNUMBER(SEARCH(\"RP\",Risque[[#This Row],[Risques associés]]))=TRUE,ISNUMBER(SEARCH(\"RZ\",Risque[[#This Row],[Précision du risque\n(si liste déroulante présente)]]))=TRUE,ISNUMBER(SEARCH(\"RP\",Risque[[#This Row],[Précision du risque\n(si liste déroulante présente)]]))=TRUE),\"Oui --> Priorité d'action\",\"Non\"))","v":""},null,null,null,null,{"$f":"IF(ISBLANK(Risque[[#This Row],[Catégorie de risque]]),\"\",CONCATENATE(Risque[[#This Row],[Catégorie de risque]],2))","v":""},null,{"$f":"IF(ISBLANK(Risque[[#This Row],[Moyens de prévention]]),\"\",CONCATENATE(Risque[[#This Row],[Moyens de prévention]],1))","v":""},null,null,null,null,null,{"$f":"IF(ISBLANK(Risque[[#This Row],[Catégorie de risque]]),\"\",CONCATENATE(Risque[[#This Row],[Catégorie de risque]],3))","v":""},null,null,null,{"$f":"IF(ISBLANK(Risque[[#This Row],[Catégorie de risque]]),\"\",CONCATENATE(Risque[[#This Row],[Catégorie de risque]],4))","v":""},null,null,null,null,null,{"$f":"IF(Risque[[#This Row],[Date d''inscription du risque]]<>\"\",YEAR(Risque[[#This Row],[Date d''inscription du risque]]),\"\")","v":""}]
[null,null,{"$f":"IF(ISBLANK(Risque[[#This Row],[Catégorie de risque]]),\"\",CONCATENATE(Risque[[#This Row],[Catégorie de risque]],1))","v":""},null,null,null,null,null,{"$f":"IF(ISBLANK(Risque[[#This Row],[Catégorie de risque]]),\"\",IF(OR(ISNUMBER(SEARCH(\"RZ\",Risque[[#This Row],[Source de danger]]))=TRUE,ISNUMBER(SEARCH(\"RP\",Risque[[#This Row],[Source de danger]]))=TRUE,ISNUMBER(SEARCH(\"RZ\",Risque[[#This Row],[Risques associés]]))=TRUE,ISNUMBER(SEARCH(\"RP\",Risque[[#This Row],[Risques associés]]))=TRUE,ISNUMBER(SEARCH(\"RZ\",Risque[[#This Row],[Précision du risque\n(si liste déroulante présente)]]))=TRUE,ISNUMBER(SEARCH(\"RP\",Risque[[#This Row],[Précision du risque\n(si liste déroulante présente)]]))=TRUE),\"Oui --> Priorité d'action\",\"Non\"))","v":""},null,null,null,null,{"$f":"IF(ISBLANK(Risque[[#This Row],[Catégorie de risque]]),\"\",CONCATENATE(Risque[[#This Row],[Catégorie de risque]],2))","v":""},null,{"$f":"IF(ISBLANK(Risque[[#This Row],[Moyens de prévention]]),\"\",CONCATENATE(Risque[[#This Row],[Moyens de prévention]],1))","v":""},null,null,null,null,null,{"$f":"IF(ISBLANK(Risque[[#This Row],[Catégorie de risque]]),\"\",CONCATENATE(Risque[[#This Row],[Catégorie de risque]],3))","v":""},null,null,null,{"$f":"IF(ISBLANK(Risque[[#This Row],[Catégorie de risque]]),\"\",CONCATENATE(Risque[[#This Row],[Catégorie de risque]],4))","v":""},null,null,null,null,null,{"$f":"IF(Risque[[#This Row],[Date d''inscription du risque]]<>\"\",YEAR(Risque[[#This Row],[Date d''inscription du risque]]),\"\")","v":""}]
[null,null,{"$f":"IF(ISBLANK(Risque[[#This Row],[Catégorie de risque]]),\"\",CONCATENATE(Risque[[#This Row],[Catégorie de risque]],1))","v":""},null,null,null,null,null,{"$f":"IF(ISBLANK(Risque[[#This Row],[Catégorie de risque]]),\"\",IF(OR(ISNUMBER(SEARCH(\"RZ\",Risque[[#This Row],[Source de danger]]))=TRUE,ISNUMBER(SEARCH(\"RP\",Risque[[#This Row],[Source de danger]]))=TRUE,ISNUMBER(SEARCH(\"RZ\",Risque[[#This Row],[Risques associés]]))=TRUE,ISNUMBER(SEARCH(\"RP\",Risque[[#This Row],[Risques associés]]))=TRUE,ISNUMBER(SEARCH(\"RZ\",Risque[[#This Row],[Précision du risque\n(si liste déroulante présente)]]))=TRUE,ISNUMBER(SEARCH(\"RP\",Risque[[#This Row],[Précision du risque\n(si liste déroulante présente)]]))=TRUE),\"Oui --> Priorité d'action\",\"Non\"))","v":""},null,null,null,null,{"$f":"IF(ISBLANK(Risque[[#This Row],[Catégorie de risque]]),\"\",CONCATENATE(Risque[[#This Row],[Catégorie de risque]],2))","v":""},null,{"$f":"IF(ISBLANK(Risque[[#This Row],[Moyens de prévention]]),\"\",CONCATENATE(Risque[[#This Row],[Moyens de prévention]],1))","v":""},null,null,null,null,null,{"$f":"IF(ISBLANK(Risque[[#This Row],[Catégorie de risque]]),\"\",CONCATENATE(Risque[[#This Row],[Catégorie de risque]],3))","v":""},null,null,null,{"$f":"IF(ISBLANK(Risque[[#This Row],[Catégorie de risque]]),\"\",CONCATENATE(Risque[[#This Row],[Catégorie de risque]],4))","v":""},null,null,null,null,null,{"$f":"IF(Risque[[#This Row],[Date d''inscription du risque]]<>\"\",YEAR(Risque[[#This Row],[Date d''inscription du risque]]),\"\")","v":""}]
[null,null,{"$f":"IF(ISBLANK(Risque[[#This Row],[Catégorie de risque]]),\"\",CONCATENATE(Risque[[#This Row],[Catégorie de risque]],1))","v":""},null,null,null,null,null,{"$f":"IF(ISBLANK(Risque[[#This Row],[Catégorie de risque]]),\"\",IF(OR(ISNUMBER(SEARCH(\"RZ\",Risque[[#This Row],[Source de danger]]))=TRUE,ISNUMBER(SEARCH(\"RP\",Risque[[#This Row],[Source de danger]]))=TRUE,ISNUMBER(SEARCH(\"RZ\",Risque[[#This Row],[Risques associés]]))=TRUE,ISNUMBER(SEARCH(\"RP\",Risque[[#This Row],[Risques associés]]))=TRUE,ISNUMBER(SEARCH(\"RZ\",Risque[[#This Row],[Précision du risque\n(si liste déroulante présente)]]))=TRUE,ISNUMBER(SEARCH(\"RP\",Risque[[#This Row],[Précision du risque\n(si liste déroulante présente)]]))=TRUE),\"Oui --> Priorité d'action\",\"Non\"))","v":""},null,null,null,null,{"$f":"IF(ISBLANK(Risque[[#This Row],[Catégorie de risque]]),\"\",CONCATENATE(Risque[[#This Row],[Catégorie de risque]],2))","v":""},null,{"$f":"IF(ISBLANK(Risque[[#This Row],[Moyens de prévention]]),\"\",CONCATENATE(Risque[[#This Row],[Moyens de prévention]],1))","v":""},null,null,null,null,null,{"$f":"IF(ISBLANK(Risque[[#This Row],[Catégorie de risque]]),\"\",CONCATENATE(Risque[[#This Row],[Catégorie de risque]],3))","v":""},null,null,null,{"$f":"IF(ISBLANK(Risque[[#This Row],[Catégorie de risque]]),\"\",CONCATENATE(Risque[[#This Row],[Catégorie de risque]],4))","v":""},null,null,null,null,null,{"$f":"IF(Risque[[#This Row],[Date d''inscription du risque]]<>\"\",YEAR(Risque[[#This Row],[Date d''inscription du risque]]),\"\")","v":""}]
[null,null,{"$f":"IF(ISBLANK(Risque[[#This Row],[Catégorie de risque]]),\"\",CONCATENATE(Risque[[#This Row],[Catégorie de risque]],1))","v":""},null,null,null,null,null,{"$f":"IF(ISBLANK(Risque[[#This Row],[Catégorie de risque]]),\"\",IF(OR(ISNUMBER(SEARCH(\"RZ\",Risque[[#This Row],[Source de danger]]))=TRUE,ISNUMBER(SEARCH(\"RP\",Risque[[#This Row],[Source de danger]]))=TRUE,ISNUMBER(SEARCH(\"RZ\",Risque[[#This Row],[Risques associés]]))=TRUE,ISNUMBER(SEARCH(\"RP\",Risque[[#This Row],[Risques associés]]))=TRUE,ISNUMBER(SEARCH(\"RZ\",Risque[[#This Row],[Précision du risque\n(si liste déroulante présente)]]))=TRUE,ISNUMBER(SEARCH(\"RP\",Risque[[#This Row],[Précision du risque\n(si liste déroulante présente)]]))=TRUE),\"Oui --> Priorité d'action\",\"Non\"))","v":""},null,null,null,null,{"$f":"IF(ISBLANK(Risque[[#This Row],[Catégorie de risque]]),\"\",CONCATENATE(Risque[[#This Row],[Catégorie de risque]],2))","v":""},null,{"$f":"IF(ISBLANK(Risque[[#This Row],[Moyens de prévention]]),\"\",CONCATENATE(Risque[[#This Row],[Moyens de prévention]],1))","v":""},null,null,null,null,null,{"$f":"IF(ISBLANK(Risque[[#This Row],[Catégorie de risque]]),\"\",CONCATENATE(Risque[[#This Row],[Catégorie de risque]],3))","v":""},null,null,null,{"$f":"IF(ISBLANK(Risque[[#This Row],[Catégorie de risque]]),\"\",CONCATENATE(Risque[[#This Row],[Catégorie de risque]],4))","v":""},null,null,null,null,null,{"$f":"IF(Risque[[#This Row],[Date d''inscription du risque]]<>\"\",YEAR(Risque[[#This Row],[Date d''inscription du risque]]),\"\")","v":""}]
[null,null,{"$f":"IF(ISBLANK(Risque[[#This Row],[Catégorie de risque]]),\"\",CONCATENATE(Risque[[#This Row],[Catégorie de risque]],1))","v":""},null,null,null,null,null,{"$f":"IF(ISBLANK(Risque[[#This Row],[Catégorie de risque]]),\"\",IF(OR(ISNUMBER(SEARCH(\"RZ\",Risque[[#This Row],[Source de danger]]))=TRUE,ISNUMBER(SEARCH(\"RP\",Risque[[#This Row],[Source de danger]]))=TRUE,ISNUMBER(SEARCH(\"RZ\",Risque[[#This Row],[Risques associés]]))=TRUE,ISNUMBER(SEARCH(\"RP\",Risque[[#This Row],[Risques associés]]))=TRUE,ISNUMBER(SEARCH(\"RZ\",Risque[[#This Row],[Précision du risque\n(si liste déroulante présente)]]))=TRUE,ISNUMBER(SEARCH(\"RP\",Risque[[#This Row],[Précision du risque\n(si liste déroulante présente)]]))=TRUE),\"Oui --> Priorité d'action\",\"Non\"))","v":""},null,null,null,null,{"$f":"IF(ISBLANK(Risque[[#This Row],[Catégorie de risque]]),\"\",CONCATENATE(Risque[[#This Row],[Catégorie de risque]],2))","v":""},null,{"$f":"IF(ISBLANK(Risque[[#This Row],[Moyens de prévention]]),\"\",CONCATENATE(Risque[[#This Row],[Moyens de prévention]],1))","v":""},null,null,null,null,null,{"$f":"IF(ISBLANK(Risque[[#This Row],[Catégorie de risque]]),\"\",CONCATENATE(Risque[[#This Row],[Catégorie de risque]],3))","v":""},null,null,null,{"$f":"IF(ISBLANK(Risque[[#This Row],[Catégorie de risque]]),\"\",CONCATENATE(Risque[[#This Row],[Catégorie de risque]],4))","v":""},null,null,null,null,null,{"$f":"IF(Risque[[#This Row],[Date d''inscription du risque]]<>\"\",YEAR(Risque[[#This Row],[Date d''inscription du risque]]),\"\")","v":""}]
[null,null,{"$f":"IF(ISBLANK(Risque[[#This Row],[Catégorie de risque]]),\"\",CONCATENATE(Risque[[#This Row],[Catégorie de risque]],1))","v":""},null,null,null,null,null,{"$f":"IF(ISBLANK(Risque[[#This Row],[Catégorie de risque]]),\"\",IF(OR(ISNUMBER(SEARCH(\"RZ\",Risque[[#This Row],[Source de danger]]))=TRUE,ISNUMBER(SEARCH(\"RP\",Risque[[#This Row],[Source de danger]]))=TRUE,ISNUMBER(SEARCH(\"RZ\",Risque[[#This Row],[Risques associés]]))=TRUE,ISNUMBER(SEARCH(\"RP\",Risque[[#This Row],[Risques associés]]))=TRUE,ISNUMBER(SEARCH(\"RZ\",Risque[[#This Row],[Précision du risque\n(si liste déroulante présente)]]))=TRUE,ISNUMBER(SEARCH(\"RP\",Risque[[#This Row],[Précision du risque\n(si liste déroulante présente)]]))=TRUE),\"Oui --> Priorité d'action\",\"Non\"))","v":""},null,null,null,null,{"$f":"IF(ISBLANK(Risque[[#This Row],[Catégorie de risque]]),\"\",CONCATENATE(Risque[[#This Row],[Catégorie de risque]],2))","v":""},null,{"$f":"IF(ISBLANK(Risque[[#This Row],[Moyens de prévention]]),\"\",CONCATENATE(Risque[[#This Row],[Moyens de prévention]],1))","v":""},null,null,null,null,null,{"$f":"IF(ISBLANK(Risque[[#This Row],[Catégorie de risque]]),\"\",CONCATENATE(Risque[[#This Row],[Catégorie de risque]],3))","v":""},null,null,null,{"$f":"IF(ISBLANK(Risque[[#This Row],[Catégorie de risque]]),\"\",CONCATENATE(Risque[[#This Row],[Catégorie de risque]],4))","v":""},null,null,null,null,null,{"$f":"IF(Risque[[#This Row],[Date d''inscription du risque]]<>\"\",YEAR(Risque[[#This Row],[Date d''inscription du risque]]),\"\")","v":""}]
[null,null,{"$f":"IF(ISBLANK(Risque[[#This Row],[Catégorie de risque]]),\"\",CONCATENATE(Risque[[#This Row],[Catégorie de risque]],1))","v":""},null,null,null,null,null,{"$f":"IF(ISBLANK(Risque[[#This Row],[Catégorie de risque]]),\"\",IF(OR(ISNUMBER(SEARCH(\"RZ\",Risque[[#This Row],[Source de danger]]))=TRUE,ISNUMBER(SEARCH(\"RP\",Risque[[#This Row],[Source de danger]]))=TRUE,ISNUMBER(SEARCH(\"RZ\",Risque[[#This Row],[Risques associés]]))=TRUE,ISNUMBER(SEARCH(\"RP\",Risque[[#This Row],[Risques associés]]))=TRUE,ISNUMBER(SEARCH(\"RZ\",Risque[[#This Row],[Précision du risque\n(si liste déroulante présente)]]))=TRUE,ISNUMBER(SEARCH(\"RP\",Risque[[#This Row],[Précision du risque\n(si liste déroulante présente)]]))=TRUE),\"Oui --> Priorité d'action\",\"Non\"))","v":""},null,null,null,null,{"$f":"IF(ISBLANK(Risque[[#This Row],[Catégorie de risque]]),\"\",CONCATENATE(Risque[[#This Row],[Catégorie de risque]],2))","v":""},null,{"$f":"IF(ISBLANK(Risque[[#This Row],[Moyens de prévention]]),\"\",CONCATENATE(Risque[[#This Row],[Moyens de prévention]],1))","v":""},null,null,null,null,null,{"$f":"IF(ISBLANK(Risque[[#This Row],[Catégorie de risque]]),\"\",CONCATENATE(Risque[[#This Row],[Catégorie de risque]],3))","v":""},null,null,null,{"$f":"IF(ISBLANK(Risque[[#This Row],[Catégorie de risque]]),\"\",CONCATENATE(Risque[[#This Row],[Catégorie de risque]],4))","v":""},null,null,null,null,null,{"$f":"IF(Risque[[#This Row],[Date d''inscription du risque]]<>\"\",YEAR(Risque[[#This Row],[Date d''inscription du risque]]),\"\")","v":""}]
[null,null,{"$f":"IF(ISBLANK(Risque[[#This Row],[Catégorie de risque]]),\"\",CONCATENATE(Risque[[#This Row],[Catégorie de risque]],1))","v":""},null,null,null,null,null,{"$f":"IF(ISBLANK(Risque[[#This Row],[Catégorie de risque]]),\"\",IF(OR(ISNUMBER(SEARCH(\"RZ\",Risque[[#This Row],[Source de danger]]))=TRUE,ISNUMBER(SEARCH(\"RP\",Risque[[#This Row],[Source de danger]]))=TRUE,ISNUMBER(SEARCH(\"RZ\",Risque[[#This Row],[Risques associés]]))=TRUE,ISNUMBER(SEARCH(\"RP\",Risque[[#This Row],[Risques associés]]))=TRUE,ISNUMBER(SEARCH(\"RZ\",Risque[[#This Row],[Précision du risque\n(si liste déroulante présente)]]))=TRUE,ISNUMBER(SEARCH(\"RP\",Risque[[#This Row],[Précision du risque\n(si liste déroulante présente)]]))=TRUE),\"Oui --> Priorité d'action\",\"Non\"))","v":""},null,null,null,null,{"$f":"IF(ISBLANK(Risque[[#This Row],[Catégorie de risque]]),\"\",CONCATENATE(Risque[[#This Row],[Catégorie de risque]],2))","v":""},null,{"$f":"IF(ISBLANK(Risque[[#This Row],[Moyens de prévention]]),\"\",CONCATENATE(Risque[[#This Row],[Moyens de prévention]],1))","v":""},null,null,null,null,null,{"$f":"IF(ISBLANK(Risque[[#This Row],[Catégorie de risque]]),\"\",CONCATENATE(Risque[[#This Row],[Catégorie de risque]],3))","v":""},null,null,null,{"$f":"IF(ISBLANK(Risque[[#This Row],[Catégorie de risque]]),\"\",CONCATENATE(Risque[[#This Row],[Catégorie de risque]],4))","v":""},null,null,null,null,null,{"$f":"IF(Risque[[#This Row],[Date d''inscription du risque]]<>\"\",YEAR(Risque[[#This Row],[Date d''inscription du risque]]),\"\")","v":""}]
[null,null,{"$f":"IF(ISBLANK(Risque[[#This Row],[Catégorie de risque]]),\"\",CONCATENATE(Risque[[#This Row],[Catégorie de risque]],1))","v":""},null,null,null,null,null,{"$f":"IF(ISBLANK(Risque[[#This Row],[Catégorie de risque]]),\"\",IF(OR(ISNUMBER(SEARCH(\"RZ\",Risque[[#This Row],[Source de danger]]))=TRUE,ISNUMBER(SEARCH(\"RP\",Risque[[#This Row],[Source de danger]]))=TRUE,ISNUMBER(SEARCH(\"RZ\",Risque[[#This Row],[Risques associés]]))=TRUE,ISNUMBER(SEARCH(\"RP\",Risque[[#This Row],[Risques associés]]))=TRUE,ISNUMBER(SEARCH(\"RZ\",Risque[[#This Row],[Précision du risque\n(si liste déroulante présente)]]))=TRUE,ISNUMBER(SEARCH(\"RP\",Risque[[#This Row],[Précision du risque\n(si liste déroulante présente)]]))=TRUE),\"Oui --> Priorité d'action\",\"Non\"))","v":""},null,null,null,null,{"$f":"IF(ISBLANK(Risque[[#This Row],[Catégorie de risque]]),\"\",CONCATENATE(Risque[[#This Row],[Catégorie de risque]],2))","v":""},null,{"$f":"IF(ISBLANK(Risque[[#This Row],[Moyens de prévention]]),\"\",CONCATENATE(Risque[[#This Row],[Moyens de prévention]],1))","v":""},null,null,null,null,null,{"$f":"IF(ISBLANK(Risque[[#This Row],[Catégorie de risque]]),\"\",CONCATENATE(Risque[[#This Row],[Catégorie de risque]],3))","v":""},null,null,null,{"$f":"IF(ISBLANK(Risque[[#This Row],[Catégorie de risque]]),\"\",CONCATENATE(Risque[[#This Row],[Catégorie de risque]],4))","v":""},null,null,null,null,null,{"$f":"IF(Risque[[#This Row],[Date d''inscription du risque]]<>\"\",YEAR(Risque[[#This Row],[Date d''inscription du risque]]),\"\")","v":""}]
[null,null,{"$f":"IF(ISBLANK(Risque[[#This Row],[Catégorie de risque]]),\"\",CONCATENATE(Risque[[#This Row],[Catégorie de risque]],1))","v":""},null,null,null,null,null,{"$f":"IF(ISBLANK(Risque[[#This Row],[Catégorie de risque]]),\"\",IF(OR(ISNUMBER(SEARCH(\"RZ\",Risque[[#This Row],[Source de danger]]))=TRUE,ISNUMBER(SEARCH(\"RP\",Risque[[#This Row],[Source de danger]]))=TRUE,ISNUMBER(SEARCH(\"RZ\",Risque[[#This Row],[Risques associés]]))=TRUE,ISNUMBER(SEARCH(\"RP\",Risque[[#This Row],[Risques associés]]))=TRUE,ISNUMBER(SEARCH(\"RZ\",Risque[[#This Row],[Précision du risque\n(si liste déroulante présente)]]))=TRUE,ISNUMBER(SEARCH(\"RP\",Risque[[#This Row],[Précision du risque\n(si liste déroulante présente)]]))=TRUE),\"Oui --> Priorité d'action\",\"Non\"))","v":""},null,null,null,null,{"$f":"IF(ISBLANK(Risque[[#This Row],[Catégorie de risque]]),\"\",CONCATENATE(Risque[[#This Row],[Catégorie de risque]],2))","v":""},null,{"$f":"IF(ISBLANK(Risque[[#This Row],[Moyens de prévention]]),\"\",CONCATENATE(Risque[[#This Row],[Moyens de prévention]],1))","v":""},null,null,null,null,null,{"$f":"IF(ISBLANK(Risque[[#This Row],[Catégorie de risque]]),\"\",CONCATENATE(Risque[[#This Row],[Catégorie de risque]],3))","v":""},null,null,null,{"$f":"IF(ISBLANK(Risque[[#This Row],[Catégorie de risque]]),\"\",CONCATENATE(Risque[[#This Row],[Catégorie de risque]],4))","v":""},null,null,null,null,null,{"$f":"IF(Risque[[#This Row],[Date d''inscription du risque]]<>\"\",YEAR(Risque[[#This Row],[Date d''inscription du risque]]),\"\")","v":""}]
[null,null,{"$f":"IF(ISBLANK(Risque[[#This Row],[Catégorie de risque]]),\"\",CONCATENATE(Risque[[#This Row],[Catégorie de risque]],1))","v":""},null,null,null,null,null,{"$f":"IF(ISBLANK(Risque[[#This Row],[Catégorie de risque]]),\"\",IF(OR(ISNUMBER(SEARCH(\"RZ\",Risque[[#This Row],[Source de danger]]))=TRUE,ISNUMBER(SEARCH(\"RP\",Risque[[#This Row],[Source de danger]]))=TRUE,ISNUMBER(SEARCH(\"RZ\",Risque[[#This Row],[Risques associés]]))=TRUE,ISNUMBER(SEARCH(\"RP\",Risque[[#This Row],[Risques associés]]))=TRUE,ISNUMBER(SEARCH(\"RZ\",Risque[[#This Row],[Précision du risque\n(si liste déroulante présente)]]))=TRUE,ISNUMBER(SEARCH(\"RP\",Risque[[#This Row],[Précision du risque\n(si liste déroulante présente)]]))=TRUE),\"Oui --> Priorité d'action\",\"Non\"))","v":""},null,null,null,null,{"$f":"IF(ISBLANK(Risque[[#This Row],[Catégorie de risque]]),\"\",CONCATENATE(Risque[[#This Row],[Catégorie de risque]],2))","v":""},null,{"$f":"IF(ISBLANK(Risque[[#This Row],[Moyens de prévention]]),\"\",CONCATENATE(Risque[[#This Row],[Moyens de prévention]],1))","v":""},null,null,null,null,null,{"$f":"IF(ISBLANK(Risque[[#This Row],[Catégorie de risque]]),\"\",CONCATENATE(Risque[[#This Row],[Catégorie de risque]],3))","v":""},null,null,null,{"$f":"IF(ISBLANK(Risque[[#This Row],[Catégorie de risque]]),\"\",CONCATENATE(Risque[[#This Row],[Catégorie de risque]],4))","v":""},null,null,null,null,null,{"$f":"IF(Risque[[#This Row],[Date d''inscription du risque]]<>\"\",YEAR(Risque[[#This Row],[Date d''inscription du risque]]),\"\")","v":""}]
[null,null,{"$f":"IF(ISBLANK(Risque[[#This Row],[Catégorie de risque]]),\"\",CONCATENATE(Risque[[#This Row],[Catégorie de risque]],1))","v":""},null,null,null,null,null,{"$f":"IF(ISBLANK(Risque[[#This Row],[Catégorie de risque]]),\"\",IF(OR(ISNUMBER(SEARCH(\"RZ\",Risque[[#This Row],[Source de danger]]))=TRUE,ISNUMBER(SEARCH(\"RP\",Risque[[#This Row],[Source de danger]]))=TRUE,ISNUMBER(SEARCH(\"RZ\",Risque[[#This Row],[Risques associés]]))=TRUE,ISNUMBER(SEARCH(\"RP\",Risque[[#This Row],[Risques associés]]))=TRUE,ISNUMBER(SEARCH(\"RZ\",Risque[[#This Row],[Précision du risque\n(si liste déroulante présente)]]))=TRUE,ISNUMBER(SEARCH(\"RP\",Risque[[#This Row],[Précision du risque\n(si liste déroulante présente)]]))=TRUE),\"Oui --> Priorité d'action\",\"Non\"))","v":""},null,null,null,null,{"$f":"IF(ISBLANK(Risque[[#This Row],[Catégorie de risque]]),\"\",CONCATENATE(Risque[[#This Row],[Catégorie de risque]],2))","v":""},null,{"$f":"IF(ISBLANK(Risque[[#This Row],[Moyens de prévention]]),\"\",CONCATENATE(Risque[[#This Row],[Moyens de prévention]],1))","v":""},null,null,null,null,null,{"$f":"IF(ISBLANK(Risque[[#This Row],[Catégorie de risque]]),\"\",CONCATENATE(Risque[[#This Row],[Catégorie de risque]],3))","v":""},null,null,null,{"$f":"IF(ISBLANK(Risque[[#This Row],[Catégorie de risque]]),\"\",CONCATENATE(Risque[[#This Row],[Catégorie de risque]],4))","v":""},null,null,null,null,null,{"$f":"IF(Risque[[#This Row],[Date d''inscription du risque]]<>\"\",YEAR(Risque[[#This Row],[Date d''inscription du risque]]),\"\")","v":""}]
[null,null,{"$f":"IF(ISBLANK(Risque[[#This Row],[Catégorie de risque]]),\"\",CONCATENATE(Risque[[#This Row],[Catégorie de risque]],1))","v":""},null,null,null,null,null,{"$f":"IF(ISBLANK(Risque[[#This Row],[Catégorie de risque]]),\"\",IF(OR(ISNUMBER(SEARCH(\"RZ\",Risque[[#This Row],[Source de danger]]))=TRUE,ISNUMBER(SEARCH(\"RP\",Risque[[#This Row],[Source de danger]]))=TRUE,ISNUMBER(SEARCH(\"RZ\",Risque[[#This Row],[Risques associés]]))=TRUE,ISNUMBER(SEARCH(\"RP\",Risque[[#This Row],[Risques associés]]))=TRUE,ISNUMBER(SEARCH(\"RZ\",Risque[[#This Row],[Précision du risque\n(si liste déroulante présente)]]))=TRUE,ISNUMBER(SEARCH(\"RP\",Risque[[#This Row],[Précision du risque\n(si liste déroulante présente)]]))=TRUE),\"Oui --> Priorité d'action\",\"Non\"))","v":""},null,null,null,null,{"$f":"IF(ISBLANK(Risque[[#This Row],[Catégorie de risque]]),\"\",CONCATENATE(Risque[[#This Row],[Catégorie de risque]],2))","v":""},null,{"$f":"IF(ISBLANK(Risque[[#This Row],[Moyens de prévention]]),\"\",CONCATENATE(Risque[[#This Row],[Moyens de prévention]],1))","v":""},null,null,null,null,null,{"$f":"IF(ISBLANK(Risque[[#This Row],[Catégorie de risque]]),\"\",CONCATENATE(Risque[[#This Row],[Catégorie de risque]],3))","v":""},null,null,null,{"$f":"IF(ISBLANK(Risque[[#This Row],[Catégorie de risque]]),\"\",CONCATENATE(Risque[[#This Row],[Catégorie de risque]],4))","v":""},null,null,null,null,null,{"$f":"IF(Risque[[#This Row],[Date d''inscription du risque]]<>\"\",YEAR(Risque[[#This Row],[Date d''inscription du risque]]),\"\")","v":""}]
[null,null,{"$f":"IF(ISBLANK(Risque[[#This Row],[Catégorie de risque]]),\"\",CONCATENATE(Risque[[#This Row],[Catégorie de risque]],1))","v":""},null,null,null,null,null,{"$f":"IF(ISBLANK(Risque[[#This Row],[Catégorie de risque]]),\"\",IF(OR(ISNUMBER(SEARCH(\"RZ\",Risque[[#This Row],[Source de danger]]))=TRUE,ISNUMBER(SEARCH(\"RP\",Risque[[#This Row],[Source de danger]]))=TRUE,ISNUMBER(SEARCH(\"RZ\",Risque[[#This Row],[Risques associés]]))=TRUE,ISNUMBER(SEARCH(\"RP\",Risque[[#This Row],[Risques associés]]))=TRUE,ISNUMBER(SEARCH(\"RZ\",Risque[[#This Row],[Précision du risque\n(si liste déroulante présente)]]))=TRUE,ISNUMBER(SEARCH(\"RP\",Risque[[#This Row],[Précision du risque\n(si liste déroulante présente)]]))=TRUE),\"Oui --> Priorité d'action\",\"Non\"))","v":""},null,null,null,null,{"$f":"IF(ISBLANK(Risque[[#This Row],[Catégorie de risque]]),\"\",CONCATENATE(Risque[[#This Row],[Catégorie de risque]],2))","v":""},null,{"$f":"IF(ISBLANK(Risque[[#This Row],[Moyens de prévention]]),\"\",CONCATENATE(Risque[[#This Row],[Moyens de prévention]],1))","v":""},null,null,null,null,null,{"$f":"IF(ISBLANK(Risque[[#This Row],[Catégorie de risque]]),\"\",CONCATENATE(Risque[[#This Row],[Catégorie de risque]],3))","v":""},null,null,null,{"$f":"IF(ISBLANK(Risque[[#This Row],[Catégorie de risque]]),\"\",CONCATENATE(Risque[[#This Row],[Catégorie de risque]],4))","v":""},null,null,null,null,null,{"$f":"IF(Risque[[#This Row],[Date d''inscription du risque]]<>\"\",YEAR(Risque[[#This Row],[Date d''inscription du risque]]),\"\")","v":""}]
[null,null,{"$f":"IF(ISBLANK(Risque[[#This Row],[Catégorie de risque]]),\"\",CONCATENATE(Risque[[#This Row],[Catégorie de risque]],1))","v":""},null,null,null,null,null,{"$f":"IF(ISBLANK(Risque[[#This Row],[Catégorie de risque]]),\"\",IF(OR(ISNUMBER(SEARCH(\"RZ\",Risque[[#This Row],[Source de danger]]))=TRUE,ISNUMBER(SEARCH(\"RP\",Risque[[#This Row],[Source de danger]]))=TRUE,ISNUMBER(SEARCH(\"RZ\",Risque[[#This Row],[Risques associés]]))=TRUE,ISNUMBER(SEARCH(\"RP\",Risque[[#This Row],[Risques associés]]))=TRUE,ISNUMBER(SEARCH(\"RZ\",Risque[[#This Row],[Précision du risque\n(si liste déroulante présente)]]))=TRUE,ISNUMBER(SEARCH(\"RP\",Risque[[#This Row],[Précision du risque\n(si liste déroulante présente)]]))=TRUE),\"Oui --> Priorité d'action\",\"Non\"))","v":""},null,null,null,null,{"$f":"IF(ISBLANK(Risque[[#This Row],[Catégorie de risque]]),\"\",CONCATENATE(Risque[[#This Row],[Catégorie de risque]],2))","v":""},null,{"$f":"IF(ISBLANK(Risque[[#This Row],[Moyens de prévention]]),\"\",CONCATENATE(Risque[[#This Row],[Moyens de prévention]],1))","v":""},null,null,null,null,null,{"$f":"IF(ISBLANK(Risque[[#This Row],[Catégorie de risque]]),\"\",CONCATENATE(Risque[[#This Row],[Catégorie de risque]],3))","v":""},null,null,null,{"$f":"IF(ISBLANK(Risque[[#This Row],[Catégorie de risque]]),\"\",CONCATENATE(Risque[[#This Row],[Catégorie de risque]],4))","v":""},null,null,null,null,null,{"$f":"IF(Risque[[#This Row],[Date d''inscription du risque]]<>\"\",YEAR(Risque[[#This Row],[Date d''inscription du risque]]),\"\")","v":""}]
[null,null,{"$f":"IF(ISBLANK(Risque[[#This Row],[Catégorie de risque]]),\"\",CONCATENATE(Risque[[#This Row],[Catégorie de risque]],1))","v":""},null,null,null,null,null,{"$f":"IF(ISBLANK(Risque[[#This Row],[Catégorie de risque]]),\"\",IF(OR(ISNUMBER(SEARCH(\"RZ\",Risque[[#This Row],[Source de danger]]))=TRUE,ISNUMBER(SEARCH(\"RP\",Risque[[#This Row],[Source de danger]]))=TRUE,ISNUMBER(SEARCH(\"RZ\",Risque[[#This Row],[Risques associés]]))=TRUE,ISNUMBER(SEARCH(\"RP\",Risque[[#This Row],[Risques associés]]))=TRUE,ISNUMBER(SEARCH(\"RZ\",Risque[[#This Row],[Précision du risque\n(si liste déroulante présente)]]))=TRUE,ISNUMBER(SEARCH(\"RP\",Risque[[#This Row],[Précision du risque\n(si liste déroulante présente)]]))=TRUE),\"Oui --> Priorité d'action\",\"Non\"))","v":""},null,null,null,null,{"$f":"IF(ISBLANK(Risque[[#This Row],[Catégorie de risque]]),\"\",CONCATENATE(Risque[[#This Row],[Catégorie de risque]],2))","v":""},null,{"$f":"IF(ISBLANK(Risque[[#This Row],[Moyens de prévention]]),\"\",CONCATENATE(Risque[[#This Row],[Moyens de prévention]],1))","v":""},null,null,null,null,null,{"$f":"IF(ISBLANK(Risque[[#This Row],[Catégorie de risque]]),\"\",CONCATENATE(Risque[[#This Row],[Catégorie de risque]],3))","v":""},null,null,null,{"$f":"IF(ISBLANK(Risque[[#This Row],[Catégorie de risque]]),\"\",CONCATENATE(Risque[[#This Row],[Catégorie de risque]],4))","v":""},null,null,null,null,null,{"$f":"IF(Risque[[#This Row],[Date d''inscription du risque]]<>\"\",YEAR(Risque[[#This Row],[Date d''inscription du risque]]),\"\")","v":""}]
[null,null,{"$f":"IF(ISBLANK(Risque[[#This Row],[Catégorie de risque]]),\"\",CONCATENATE(Risque[[#This Row],[Catégorie de risque]],1))","v":""},null,null,null,null,null,{"$f":"IF(ISBLANK(Risque[[#This Row],[Catégorie de risque]]),\"\",IF(OR(ISNUMBER(SEARCH(\"RZ\",Risque[[#This Row],[Source de danger]]))=TRUE,ISNUMBER(SEARCH(\"RP\",Risque[[#This Row],[Source de danger]]))=TRUE,ISNUMBER(SEARCH(\"RZ\",Risque[[#This Row],[Risques associés]]))=TRUE,ISNUMBER(SEARCH(\"RP\",Risque[[#This Row],[Risques associés]]))=TRUE,ISNUMBER(SEARCH(\"RZ\",Risque[[#This Row],[Précision du risque\n(si liste déroulante présente)]]))=TRUE,ISNUMBER(SEARCH(\"RP\",Risque[[#This Row],[Précision du risque\n(si liste déroulante présente)]]))=TRUE),\"Oui --> Priorité d'action\",\"Non\"))","v":""},null,null,null,null,{"$f":"IF(ISBLANK(Risque[[#This Row],[Catégorie de risque]]),\"\",CONCATENATE(Risque[[#This Row],[Catégorie de risque]],2))","v":""},null,{"$f":"IF(ISBLANK(Risque[[#This Row],[Moyens de prévention]]),\"\",CONCATENATE(Risque[[#This Row],[Moyens de prévention]],1))","v":""},null,null,null,null,null,{"$f":"IF(ISBLANK(Risque[[#This Row],[Catégorie de risque]]),\"\",CONCATENATE(Risque[[#This Row],[Catégorie de risque]],3))","v":""},null,null,null,{"$f":"IF(ISBLANK(Risque[[#This Row],[Catégorie de risque]]),\"\",CONCATENATE(Risque[[#This Row],[Catégorie de risque]],4))","v":""},null,null,null,null,null,{"$f":"IF(Risque[[#This Row],[Date d''inscription du risque]]<>\"\",YEAR(Risque[[#This Row],[Date d''inscription du risque]]),\"\")","v":""}]
[null,null,{"$f":"IF(ISBLANK(Risque[[#This Row],[Catégorie de risque]]),\"\",CONCATENATE(Risque[[#This Row],[Catégorie de risque]],1))","v":""},null,null,null,null,null,{"$f":"IF(ISBLANK(Risque[[#This Row],[Catégorie de risque]]),\"\",IF(OR(ISNUMBER(SEARCH(\"RZ\",Risque[[#This Row],[Source de danger]]))=TRUE,ISNUMBER(SEARCH(\"RP\",Risque[[#This Row],[Source de danger]]))=TRUE,ISNUMBER(SEARCH(\"RZ\",Risque[[#This Row],[Risques associés]]))=TRUE,ISNUMBER(SEARCH(\"RP\",Risque[[#This Row],[Risques associés]]))=TRUE,ISNUMBER(SEARCH(\"RZ\",Risque[[#This Row],[Précision du risque\n(si liste déroulante présente)]]))=TRUE,ISNUMBER(SEARCH(\"RP\",Risque[[#This Row],[Précision du risque\n(si liste déroulante présente)]]))=TRUE),\"Oui --> Priorité d'action\",\"Non\"))","v":""},null,null,null,null,{"$f":"IF(ISBLANK(Risque[[#This Row],[Catégorie de risque]]),\"\",CONCATENATE(Risque[[#This Row],[Catégorie de risque]],2))","v":""},null,{"$f":"IF(ISBLANK(Risque[[#This Row],[Moyens de prévention]]),\"\",CONCATENATE(Risque[[#This Row],[Moyens de prévention]],1))","v":""},null,null,null,null,null,{"$f":"IF(ISBLANK(Risque[[#This Row],[Catégorie de risque]]),\"\",CONCATENATE(Risque[[#This Row],[Catégorie de risque]],3))","v":""},null,null,null,{"$f":"IF(ISBLANK(Risque[[#This Row],[Catégorie de risque]]),\"\",CONCATENATE(Risque[[#This Row],[Catégorie de risque]],4))","v":""},null,null,null,null,null,{"$f":"IF(Risque[[#This Row],[Date d''inscription du risque]]<>\"\",YEAR(Risque[[#This Row],[Date d''inscription du risque]]),\"\")","v":""}]
[null,null,{"$f":"IF(ISBLANK(Risque[[#This Row],[Catégorie de risque]]),\"\",CONCATENATE(Risque[[#This Row],[Catégorie de risque]],1))","v":""},null,null,null,null,null,{"$f":"IF(ISBLANK(Risque[[#This Row],[Catégorie de risque]]),\"\",IF(OR(ISNUMBER(SEARCH(\"RZ\",Risque[[#This Row],[Source de danger]]))=TRUE,ISNUMBER(SEARCH(\"RP\",Risque[[#This Row],[Source de danger]]))=TRUE,ISNUMBER(SEARCH(\"RZ\",Risque[[#This Row],[Risques associés]]))=TRUE,ISNUMBER(SEARCH(\"RP\",Risque[[#This Row],[Risques associés]]))=TRUE,ISNUMBER(SEARCH(\"RZ\",Risque[[#This Row],[Précision du risque\n(si liste déroulante présente)]]))=TRUE,ISNUMBER(SEARCH(\"RP\",Risque[[#This Row],[Précision du risque\n(si liste déroulante présente)]]))=TRUE),\"Oui --> Priorité d'action\",\"Non\"))","v":""},null,null,null,null,{"$f":"IF(ISBLANK(Risque[[#This Row],[Catégorie de risque]]),\"\",CONCATENATE(Risque[[#This Row],[Catégorie de risque]],2))","v":""},null,{"$f":"IF(ISBLANK(Risque[[#This Row],[Moyens de prévention]]),\"\",CONCATENATE(Risque[[#This Row],[Moyens de prévention]],1))","v":""},null,null,null,null,null,{"$f":"IF(ISBLANK(Risque[[#This Row],[Catégorie de risque]]),\"\",CONCATENATE(Risque[[#This Row],[Catégorie de risque]],3))","v":""},null,null,null,{"$f":"IF(ISBLANK(Risque[[#This Row],[Catégorie de risque]]),\"\",CONCATENATE(Risque[[#This Row],[Catégorie de risque]],4))","v":""},null,null,null,null,null,{"$f":"IF(Risque[[#This Row],[Date d''inscription du risque]]<>\"\",YEAR(Risque[[#This Row],[Date d''inscription du risque]]),\"\")","v":""}]
[null,null,{"$f":"IF(ISBLANK(Risque[[#This Row],[Catégorie de risque]]),\"\",CONCATENATE(Risque[[#This Row],[Catégorie de risque]],1))","v":""},null,null,null,null,null,{"$f":"IF(ISBLANK(Risque[[#This Row],[Catégorie de risque]]),\"\",IF(OR(ISNUMBER(SEARCH(\"RZ\",Risque[[#This Row],[Source de danger]]))=TRUE,ISNUMBER(SEARCH(\"RP\",Risque[[#This Row],[Source de danger]]))=TRUE,ISNUMBER(SEARCH(\"RZ\",Risque[[#This Row],[Risques associés]]))=TRUE,ISNUMBER(SEARCH(\"RP\",Risque[[#This Row],[Risques associés]]))=TRUE,ISNUMBER(SEARCH(\"RZ\",Risque[[#This Row],[Précision du risque\n(si liste déroulante présente)]]))=TRUE,ISNUMBER(SEARCH(\"RP\",Risque[[#This Row],[Précision du risque\n(si liste déroulante présente)]]))=TRUE),\"Oui --> Priorité d'action\",\"Non\"))","v":""},null,null,null,null,{"$f":"IF(ISBLANK(Risque[[#This Row],[Catégorie de risque]]),\"\",CONCATENATE(Risque[[#This Row],[Catégorie de risque]],2))","v":""},null,{"$f":"IF(ISBLANK(Risque[[#This Row],[Moyens de prévention]]),\"\",CONCATENATE(Risque[[#This Row],[Moyens de prévention]],1))","v":""},null,null,null,null,null,{"$f":"IF(ISBLANK(Risque[[#This Row],[Catégorie de risque]]),\"\",CONCATENATE(Risque[[#This Row],[Catégorie de risque]],3))","v":""},null,null,null,{"$f":"IF(ISBLANK(Risque[[#This Row],[Catégorie de risque]]),\"\",CONCATENATE(Risque[[#This Row],[Catégorie de risque]],4))","v":""},null,null,null,null,null,{"$f":"IF(Risque[[#This Row],[Date d''inscription du risque]]<>\"\",YEAR(Risque[[#This Row],[Date d''inscription du risque]]),\"\")","v":""}]
[null,null,{"$f":"IF(ISBLANK(Risque[[#This Row],[Catégorie de risque]]),\"\",CONCATENATE(Risque[[#This Row],[Catégorie de risque]],1))","v":""},null,null,null,null,null,{"$f":"IF(ISBLANK(Risque[[#This Row],[Catégorie de risque]]),\"\",IF(OR(ISNUMBER(SEARCH(\"RZ\",Risque[[#This Row],[Source de danger]]))=TRUE,ISNUMBER(SEARCH(\"RP\",Risque[[#This Row],[Source de danger]]))=TRUE,ISNUMBER(SEARCH(\"RZ\",Risque[[#This Row],[Risques associés]]))=TRUE,ISNUMBER(SEARCH(\"RP\",Risque[[#This Row],[Risques associés]]))=TRUE,ISNUMBER(SEARCH(\"RZ\",Risque[[#This Row],[Précision du risque\n(si liste déroulante présente)]]))=TRUE,ISNUMBER(SEARCH(\"RP\",Risque[[#This Row],[Précision du risque\n(si liste déroulante présente)]]))=TRUE),\"Oui --> Priorité d'action\",\"Non\"))","v":""},null,null,null,null,{"$f":"IF(ISBLANK(Risque[[#This Row],[Catégorie de risque]]),\"\",CONCATENATE(Risque[[#This Row],[Catégorie de risque]],2))","v":""},null,{"$f":"IF(ISBLANK(Risque[[#This Row],[Moyens de prévention]]),\"\",CONCATENATE(Risque[[#This Row],[Moyens de prévention]],1))","v":""},null,null,null,null,null,{"$f":"IF(ISBLANK(Risque[[#This Row],[Catégorie de risque]]),\"\",CONCATENATE(Risque[[#This Row],[Catégorie de risque]],3))","v":""},null,null,null,{"$f":"IF(ISBLANK(Risque[[#This Row],[Catégorie de risque]]),\"\",CONCATENATE(Risque[[#This Row],[Catégorie de risque]],4))","v":""},null,null,null,null,null,{"$f":"IF(Risque[[#This Row],[Date d''inscription du risque]]<>\"\",YEAR(Risque[[#This Row],[Date d''inscription du risque]]),\"\")","v":""}]
[null,null,{"$f":"IF(ISBLANK(Risque[[#This Row],[Catégorie de risque]]),\"\",CONCATENATE(Risque[[#This Row],[Catégorie de risque]],1))","v":""},null,null,null,null,null,{"$f":"IF(ISBLANK(Risque[[#This Row],[Catégorie de risque]]),\"\",IF(OR(ISNUMBER(SEARCH(\"RZ\",Risque[[#This Row],[Source de danger]]))=TRUE,ISNUMBER(SEARCH(\"RP\",Risque[[#This Row],[Source de danger]]))=TRUE,ISNUMBER(SEARCH(\"RZ\",Risque[[#This Row],[Risques associés]]))=TRUE,ISNUMBER(SEARCH(\"RP\",Risque[[#This Row],[Risques associés]]))=TRUE,ISNUMBER(SEARCH(\"RZ\",Risque[[#This Row],[Précision du risque\n(si liste déroulante présente)]]))=TRUE,ISNUMBER(SEARCH(\"RP\",Risque[[#This Row],[Précision du risque\n(si liste déroulante présente)]]))=TRUE),\"Oui --> Priorité d'action\",\"Non\"))","v":""},null,null,null,null,{"$f":"IF(ISBLANK(Risque[[#This Row],[Catégorie de risque]]),\"\",CONCATENATE(Risque[[#This Row],[Catégorie de risque]],2))","v":""},null,{"$f":"IF(ISBLANK(Risque[[#This Row],[Moyens de prévention]]),\"\",CONCATENATE(Risque[[#This Row],[Moyens de prévention]],1))","v":""},null,null,null,null,null,{"$f":"IF(ISBLANK(Risque[[#This Row],[Catégorie de risque]]),\"\",CONCATENATE(Risque[[#This Row],[Catégorie de risque]],3))","v":""},null,null,null,{"$f":"IF(ISBLANK(Risque[[#This Row],[Catégorie de risque]]),\"\",CONCATENATE(Risque[[#This Row],[Catégorie de risque]],4))","v":""},null,null,null,null,null,{"$f":"IF(Risque[[#This Row],[Date d''inscription du risque]]<>\"\",YEAR(Risque[[#This Row],[Date d''inscription du risque]]),\"\")","v":""}]
[null,null,{"$f":"IF(ISBLANK(Risque[[#This Row],[Catégorie de risque]]),\"\",CONCATENATE(Risque[[#This Row],[Catégorie de risque]],1))","v":""},null,null,null,null,null,{"$f":"IF(ISBLANK(Risque[[#This Row],[Catégorie de risque]]),\"\",IF(OR(ISNUMBER(SEARCH(\"RZ\",Risque[[#This Row],[Source de danger]]))=TRUE,ISNUMBER(SEARCH(\"RP\",Risque[[#This Row],[Source de danger]]))=TRUE,ISNUMBER(SEARCH(\"RZ\",Risque[[#This Row],[Risques associés]]))=TRUE,ISNUMBER(SEARCH(\"RP\",Risque[[#This Row],[Risques associés]]))=TRUE,ISNUMBER(SEARCH(\"RZ\",Risque[[#This Row],[Précision du risque\n(si liste déroulante présente)]]))=TRUE,ISNUMBER(SEARCH(\"RP\",Risque[[#This Row],[Précision du risque\n(si liste déroulante présente)]]))=TRUE),\"Oui --> Priorité d'action\",\"Non\"))","v":""},null,null,null,null,{"$f":"IF(ISBLANK(Risque[[#This Row],[Catégorie de risque]]),\"\",CONCATENATE(Risque[[#This Row],[Catégorie de risque]],2))","v":""},null,{"$f":"IF(ISBLANK(Risque[[#This Row],[Moyens de prévention]]),\"\",CONCATENATE(Risque[[#This Row],[Moyens de prévention]],1))","v":""},null,null,null,null,null,{"$f":"IF(ISBLANK(Risque[[#This Row],[Catégorie de risque]]),\"\",CONCATENATE(Risque[[#This Row],[Catégorie de risque]],3))","v":""},null,null,null,{"$f":"IF(ISBLANK(Risque[[#This Row],[Catégorie de risque]]),\"\",CONCATENATE(Risque[[#This Row],[Catégorie de risque]],4))","v":""},null,null,null,null,null,{"$f":"IF(Risque[[#This Row],[Date d''inscription du risque]]<>\"\",YEAR(Risque[[#This Row],[Date d''inscription du risque]]),\"\")","v":""}]
[null,null,{"$f":"IF(ISBLANK(Risque[[#This Row],[Catégorie de risque]]),\"\",CONCATENATE(Risque[[#This Row],[Catégorie de risque]],1))","v":""},null,null,null,null,null,{"$f":"IF(ISBLANK(Risque[[#This Row],[Catégorie de risque]]),\"\",IF(OR(ISNUMBER(SEARCH(\"RZ\",Risque[[#This Row],[Source de danger]]))=TRUE,ISNUMBER(SEARCH(\"RP\",Risque[[#This Row],[Source de danger]]))=TRUE,ISNUMBER(SEARCH(\"RZ\",Risque[[#This Row],[Risques associés]]))=TRUE,ISNUMBER(SEARCH(\"RP\",Risque[[#This Row],[Risques associés]]))=TRUE,ISNUMBER(SEARCH(\"RZ\",Risque[[#This Row],[Précision du risque\n(si liste déroulante présente)]]))=TRUE,ISNUMBER(SEARCH(\"RP\",Risque[[#This Row],[Précision du risque\n(si liste déroulante présente)]]))=TRUE),\"Oui --> Priorité d'action\",\"Non\"))","v":""},null,null,null,null,{"$f":"IF(ISBLANK(Risque[[#This Row],[Catégorie de risque]]),\"\",CONCATENATE(Risque[[#This Row],[Catégorie de risque]],2))","v":""},null,{"$f":"IF(ISBLANK(Risque[[#This Row],[Moyens de prévention]]),\"\",CONCATENATE(Risque[[#This Row],[Moyens de prévention]],1))","v":""},null,null,null,null,null,{"$f":"IF(ISBLANK(Risque[[#This Row],[Catégorie de risque]]),\"\",CONCATENATE(Risque[[#This Row],[Catégorie de risque]],3))","v":""},null,null,null,{"$f":"IF(ISBLANK(Risque[[#This Row],[Catégorie de risque]]),\"\",CONCATENATE(Risque[[#This Row],[Catégorie de risque]],4))","v":""},null,null,null,null,null,{"$f":"IF(Risque[[#This Row],[Date d''inscription du risque]]<>\"\",YEAR(Risque[[#This Row],[Date d''inscription du risque]]),\"\")","v":""}]
[null,null,{"$f":"IF(ISBLANK(Risque[[#This Row],[Catégorie de risque]]),\"\",CONCATENATE(Risque[[#This Row],[Catégorie de risque]],1))","v":""},null,null,null,null,null,{"$f":"IF(ISBLANK(Risque[[#This Row],[Catégorie de risque]]),\"\",IF(OR(ISNUMBER(SEARCH(\"RZ\",Risque[[#This Row],[Source de danger]]))=TRUE,ISNUMBER(SEARCH(\"RP\",Risque[[#This Row],[Source de danger]]))=TRUE,ISNUMBER(SEARCH(\"RZ\",Risque[[#This Row],[Risques associés]]))=TRUE,ISNUMBER(SEARCH(\"RP\",Risque[[#This Row],[Risques associés]]))=TRUE,ISNUMBER(SEARCH(\"RZ\",Risque[[#This Row],[Précision du risque\n(si liste déroulante présente)]]))=TRUE,ISNUMBER(SEARCH(\"RP\",Risque[[#This Row],[Précision du risque\n(si liste déroulante présente)]]))=TRUE),\"Oui --> Priorité d'action\",\"Non\"))","v":""},null,null,null,null,{"$f":"IF(ISBLANK(Risque[[#This Row],[Catégorie de risque]]),\"\",CONCATENATE(Risque[[#This Row],[Catégorie de risque]],2))","v":""},null,{"$f":"IF(ISBLANK(Risque[[#This Row],[Moyens de prévention]]),\"\",CONCATENATE(Risque[[#This Row],[Moyens de prévention]],1))","v":""},null,null,null,null,null,{"$f":"IF(ISBLANK(Risque[[#This Row],[Catégorie de risque]]),\"\",CONCATENATE(Risque[[#This Row],[Catégorie de risque]],3))","v":""},null,null,null,{"$f":"IF(ISBLANK(Risque[[#This Row],[Catégorie de risque]]),\"\",CONCATENATE(Risque[[#This Row],[Catégorie de risque]],4))","v":""},null,null,null,null,null,{"$f":"IF(Risque[[#This Row],[Date d''inscription du risque]]<>\"\",YEAR(Risque[[#This Row],[Date d''inscription du risque]]),\"\")","v":""}]
[null,null,{"$f":"IF(ISBLANK(Risque[[#This Row],[Catégorie de risque]]),\"\",CONCATENATE(Risque[[#This Row],[Catégorie de risque]],1))","v":""},null,null,null,null,null,{"$f":"IF(ISBLANK(Risque[[#This Row],[Catégorie de risque]]),\"\",IF(OR(ISNUMBER(SEARCH(\"RZ\",Risque[[#This Row],[Source de danger]]))=TRUE,ISNUMBER(SEARCH(\"RP\",Risque[[#This Row],[Source de danger]]))=TRUE,ISNUMBER(SEARCH(\"RZ\",Risque[[#This Row],[Risques associés]]))=TRUE,ISNUMBER(SEARCH(\"RP\",Risque[[#This Row],[Risques associés]]))=TRUE,ISNUMBER(SEARCH(\"RZ\",Risque[[#This Row],[Précision du risque\n(si liste déroulante présente)]]))=TRUE,ISNUMBER(SEARCH(\"RP\",Risque[[#This Row],[Précision du risque\n(si liste déroulante présente)]]))=TRUE),\"Oui --> Priorité d'action\",\"Non\"))","v":""},null,null,null,null,{"$f":"IF(ISBLANK(Risque[[#This Row],[Catégorie de risque]]),\"\",CONCATENATE(Risque[[#This Row],[Catégorie de risque]],2))","v":""},null,{"$f":"IF(ISBLANK(Risque[[#This Row],[Moyens de prévention]]),\"\",CONCATENATE(Risque[[#This Row],[Moyens de prévention]],1))","v":""},null,null,null,null,null,{"$f":"IF(ISBLANK(Risque[[#This Row],[Catégorie de risque]]),\"\",CONCATENATE(Risque[[#This Row],[Catégorie de risque]],3))","v":""},null,null,null,{"$f":"IF(ISBLANK(Risque[[#This Row],[Catégorie de risque]]),\"\",CONCATENATE(Risque[[#This Row],[Catégorie de risque]],4))","v":""},null,null,null,null,null,{"$f":"IF(Risque[[#This Row],[Date d''inscription du risque]]<>\"\",YEAR(Risque[[#This Row],[Date d''inscription du risque]]),\"\")","v":""}]
[null,null,{"$f":"IF(ISBLANK(Risque[[#This Row],[Catégorie de risque]]),\"\",CONCATENATE(Risque[[#This Row],[Catégorie de risque]],1))","v":""},null,null,null,null,null,{"$f":"IF(ISBLANK(Risque[[#This Row],[Catégorie de risque]]),\"\",IF(OR(ISNUMBER(SEARCH(\"RZ\",Risque[[#This Row],[Source de danger]]))=TRUE,ISNUMBER(SEARCH(\"RP\",Risque[[#This Row],[Source de danger]]))=TRUE,ISNUMBER(SEARCH(\"RZ\",Risque[[#This Row],[Risques associés]]))=TRUE,ISNUMBER(SEARCH(\"RP\",Risque[[#This Row],[Risques associés]]))=TRUE,ISNUMBER(SEARCH(\"RZ\",Risque[[#This Row],[Précision du risque\n(si liste déroulante présente)]]))=TRUE,ISNUMBER(SEARCH(\"RP\",Risque[[#This Row],[Précision du risque\n(si liste déroulante présente)]]))=TRUE),\"Oui --> Priorité d'action\",\"Non\"))","v":""},null,null,null,null,{"$f":"IF(ISBLANK(Risque[[#This Row],[Catégorie de risque]]),\"\",CONCATENATE(Risque[[#This Row],[Catégorie de risque]],2))","v":""},null,{"$f":"IF(ISBLANK(Risque[[#This Row],[Moyens de prévention]]),\"\",CONCATENATE(Risque[[#This Row],[Moyens de prévention]],1))","v":""},null,null,null,null,null,{"$f":"IF(ISBLANK(Risque[[#This Row],[Catégorie de risque]]),\"\",CONCATENATE(Risque[[#This Row],[Catégorie de risque]],3))","v":""},null,null,null,{"$f":"IF(ISBLANK(Risque[[#This Row],[Catégorie de risque]]),\"\",CONCATENATE(Risque[[#This Row],[Catégorie de risque]],4))","v":""},null,null,null,null,null,{"$f":"IF(Risque[[#This Row],[Date d''inscription du risque]]<>\"\",YEAR(Risque[[#This Row],[Date d''inscription du risque]]),\"\")","v":""}]
[null,null,{"$f":"IF(ISBLANK(Risque[[#This Row],[Catégorie de risque]]),\"\",CONCATENATE(Risque[[#This Row],[Catégorie de risque]],1))","v":""},null,null,null,null,null,{"$f":"IF(ISBLANK(Risque[[#This Row],[Catégorie de risque]]),\"\",IF(OR(ISNUMBER(SEARCH(\"RZ\",Risque[[#This Row],[Source de danger]]))=TRUE,ISNUMBER(SEARCH(\"RP\",Risque[[#This Row],[Source de danger]]))=TRUE,ISNUMBER(SEARCH(\"RZ\",Risque[[#This Row],[Risques associés]]))=TRUE,ISNUMBER(SEARCH(\"RP\",Risque[[#This Row],[Risques associés]]))=TRUE,ISNUMBER(SEARCH(\"RZ\",Risque[[#This Row],[Précision du risque\n(si liste déroulante présente)]]))=TRUE,ISNUMBER(SEARCH(\"RP\",Risque[[#This Row],[Précision du risque\n(si liste déroulante présente)]]))=TRUE),\"Oui --> Priorité d'action\",\"Non\"))","v":""},null,null,null,null,{"$f":"IF(ISBLANK(Risque[[#This Row],[Catégorie de risque]]),\"\",CONCATENATE(Risque[[#This Row],[Catégorie de risque]],2))","v":""},null,{"$f":"IF(ISBLANK(Risque[[#This Row],[Moyens de prévention]]),\"\",CONCATENATE(Risque[[#This Row],[Moyens de prévention]],1))","v":""},null,null,null,null,null,{"$f":"IF(ISBLANK(Risque[[#This Row],[Catégorie de risque]]),\"\",CONCATENATE(Risque[[#This Row],[Catégorie de risque]],3))","v":""},null,null,null,{"$f":"IF(ISBLANK(Risque[[#This Row],[Catégorie de risque]]),\"\",CONCATENATE(Risque[[#This Row],[Catégorie de risque]],4))","v":""},null,null,null,null,null,{"$f":"IF(Risque[[#This Row],[Date d''inscription du risque]]<>\"\",YEAR(Risque[[#This Row],[Date d''inscription du risque]]),\"\")","v":""}]
[null,null,{"$f":"IF(ISBLANK(Risque[[#This Row],[Catégorie de risque]]),\"\",CONCATENATE(Risque[[#This Row],[Catégorie de risque]],1))","v":""},null,null,null,null,null,{"$f":"IF(ISBLANK(Risque[[#This Row],[Catégorie de risque]]),\"\",IF(OR(ISNUMBER(SEARCH(\"RZ\",Risque[[#This Row],[Source de danger]]))=TRUE,ISNUMBER(SEARCH(\"RP\",Risque[[#This Row],[Source de danger]]))=TRUE,ISNUMBER(SEARCH(\"RZ\",Risque[[#This Row],[Risques associés]]))=TRUE,ISNUMBER(SEARCH(\"RP\",Risque[[#This Row],[Risques associés]]))=TRUE,ISNUMBER(SEARCH(\"RZ\",Risque[[#This Row],[Précision du risque\n(si liste déroulante présente)]]))=TRUE,ISNUMBER(SEARCH(\"RP\",Risque[[#This Row],[Précision du risque\n(si liste déroulante présente)]]))=TRUE),\"Oui --> Priorité d'action\",\"Non\"))","v":""},null,null,null,null,{"$f":"IF(ISBLANK(Risque[[#This Row],[Catégorie de risque]]),\"\",CONCATENATE(Risque[[#This Row],[Catégorie de risque]],2))","v":""},null,{"$f":"IF(ISBLANK(Risque[[#This Row],[Moyens de prévention]]),\"\",CONCATENATE(Risque[[#This Row],[Moyens de prévention]],1))","v":""},null,null,null,null,null,{"$f":"IF(ISBLANK(Risque[[#This Row],[Catégorie de risque]]),\"\",CONCATENATE(Risque[[#This Row],[Catégorie de risque]],3))","v":""},null,null,null,{"$f":"IF(ISBLANK(Risque[[#This Row],[Catégorie de risque]]),\"\",CONCATENATE(Risque[[#This Row],[Catégorie de risque]],4))","v":""},null,null,null,null,null,{"$f":"IF(Risque[[#This Row],[Date d''inscription du risque]]<>\"\",YEAR(Risque[[#This Row],[Date d''inscription du risque]]),\"\")","v":""}]
[null,null,{"$f":"IF(ISBLANK(Risque[[#This Row],[Catégorie de risque]]),\"\",CONCATENATE(Risque[[#This Row],[Catégorie de risque]],1))","v":""},null,null,null,null,null,{"$f":"IF(ISBLANK(Risque[[#This Row],[Catégorie de risque]]),\"\",IF(OR(ISNUMBER(SEARCH(\"RZ\",Risque[[#This Row],[Source de danger]]))=TRUE,ISNUMBER(SEARCH(\"RP\",Risque[[#This Row],[Source de danger]]))=TRUE,ISNUMBER(SEARCH(\"RZ\",Risque[[#This Row],[Risques associés]]))=TRUE,ISNUMBER(SEARCH(\"RP\",Risque[[#This Row],[Risques associés]]))=TRUE,ISNUMBER(SEARCH(\"RZ\",Risque[[#This Row],[Précision du risque\n(si liste déroulante présente)]]))=TRUE,ISNUMBER(SEARCH(\"RP\",Risque[[#This Row],[Précision du risque\n(si liste déroulante présente)]]))=TRUE),\"Oui --> Priorité d'action\",\"Non\"))","v":""},null,null,null,null,{"$f":"IF(ISBLANK(Risque[[#This Row],[Catégorie de risque]]),\"\",CONCATENATE(Risque[[#This Row],[Catégorie de risque]],2))","v":""},null,{"$f":"IF(ISBLANK(Risque[[#This Row],[Moyens de prévention]]),\"\",CONCATENATE(Risque[[#This Row],[Moyens de prévention]],1))","v":""},null,null,null,null,null,{"$f":"IF(ISBLANK(Risque[[#This Row],[Catégorie de risque]]),\"\",CONCATENATE(Risque[[#This Row],[Catégorie de risque]],3))","v":""},null,null,null,{"$f":"IF(ISBLANK(Risque[[#This Row],[Catégorie de risque]]),\"\",CONCATENATE(Risque[[#This Row],[Catégorie de risque]],4))","v":""},null,null,null,null,null,{"$f":"IF(Risque[[#This Row],[Date d''inscription du risque]]<>\"\",YEAR(Risque[[#This Row],[Date d''inscription du risque]]),\"\")","v":""}]
[null,null,{"$f":"IF(ISBLANK(Risque[[#This Row],[Catégorie de risque]]),\"\",CONCATENATE(Risque[[#This Row],[Catégorie de risque]],1))","v":""},null,null,null,null,null,{"$f":"IF(ISBLANK(Risque[[#This Row],[Catégorie de risque]]),\"\",IF(OR(ISNUMBER(SEARCH(\"RZ\",Risque[[#This Row],[Source de danger]]))=TRUE,ISNUMBER(SEARCH(\"RP\",Risque[[#This Row],[Source de danger]]))=TRUE,ISNUMBER(SEARCH(\"RZ\",Risque[[#This Row],[Risques associés]]))=TRUE,ISNUMBER(SEARCH(\"RP\",Risque[[#This Row],[Risques associés]]))=TRUE,ISNUMBER(SEARCH(\"RZ\",Risque[[#This Row],[Précision du risque\n(si liste déroulante présente)]]))=TRUE,ISNUMBER(SEARCH(\"RP\",Risque[[#This Row],[Précision du risque\n(si liste déroulante présente)]]))=TRUE),\"Oui --> Priorité d'action\",\"Non\"))","v":""},null,null,null,null,{"$f":"IF(ISBLANK(Risque[[#This Row],[Catégorie de risque]]),\"\",CONCATENATE(Risque[[#This Row],[Catégorie de risque]],2))","v":""},null,{"$f":"IF(ISBLANK(Risque[[#This Row],[Moyens de prévention]]),\"\",CONCATENATE(Risque[[#This Row],[Moyens de prévention]],1))","v":""},null,null,null,null,null,{"$f":"IF(ISBLANK(Risque[[#This Row],[Catégorie de risque]]),\"\",CONCATENATE(Risque[[#This Row],[Catégorie de risque]],3))","v":""},null,null,null,{"$f":"IF(ISBLANK(Risque[[#This Row],[Catégorie de risque]]),\"\",CONCATENATE(Risque[[#This Row],[Catégorie de risque]],4))","v":""},null,null,null,null,null,{"$f":"IF(Risque[[#This Row],[Date d''inscription du risque]]<>\"\",YEAR(Risque[[#This Row],[Date d''inscription du risque]]),\"\")","v":""}]
[null,null,{"$f":"IF(ISBLANK(Risque[[#This Row],[Catégorie de risque]]),\"\",CONCATENATE(Risque[[#This Row],[Catégorie de risque]],1))","v":""},null,null,null,null,null,{"$f":"IF(ISBLANK(Risque[[#This Row],[Catégorie de risque]]),\"\",IF(OR(ISNUMBER(SEARCH(\"RZ\",Risque[[#This Row],[Source de danger]]))=TRUE,ISNUMBER(SEARCH(\"RP\",Risque[[#This Row],[Source de danger]]))=TRUE,ISNUMBER(SEARCH(\"RZ\",Risque[[#This Row],[Risques associés]]))=TRUE,ISNUMBER(SEARCH(\"RP\",Risque[[#This Row],[Risques associés]]))=TRUE,ISNUMBER(SEARCH(\"RZ\",Risque[[#This Row],[Précision du risque\n(si liste déroulante présente)]]))=TRUE,ISNUMBER(SEARCH(\"RP\",Risque[[#This Row],[Précision du risque\n(si liste déroulante présente)]]))=TRUE),\"Oui --> Priorité d'action\",\"Non\"))","v":""},null,null,null,null,{"$f":"IF(ISBLANK(Risque[[#This Row],[Catégorie de risque]]),\"\",CONCATENATE(Risque[[#This Row],[Catégorie de risque]],2))","v":""},null,{"$f":"IF(ISBLANK(Risque[[#This Row],[Moyens de prévention]]),\"\",CONCATENATE(Risque[[#This Row],[Moyens de prévention]],1))","v":""},null,null,null,null,null,{"$f":"IF(ISBLANK(Risque[[#This Row],[Catégorie de risque]]),\"\",CONCATENATE(Risque[[#This Row],[Catégorie de risque]],3))","v":""},null,null,null,{"$f":"IF(ISBLANK(Risque[[#This Row],[Catégorie de risque]]),\"\",CONCATENATE(Risque[[#This Row],[Catégorie de risque]],4))","v":""},null,null,null,null,null,{"$f":"IF(Risque[[#This Row],[Date d''inscription du risque]]<>\"\",YEAR(Risque[[#This Row],[Date d''inscription du risque]]),\"\")","v":""}]
[null,null,{"$f":"IF(ISBLANK(Risque[[#This Row],[Catégorie de risque]]),\"\",CONCATENATE(Risque[[#This Row],[Catégorie de risque]],1))","v":""},null,null,null,null,null,{"$f":"IF(ISBLANK(Risque[[#This Row],[Catégorie de risque]]),\"\",IF(OR(ISNUMBER(SEARCH(\"RZ\",Risque[[#This Row],[Source de danger]]))=TRUE,ISNUMBER(SEARCH(\"RP\",Risque[[#This Row],[Source de danger]]))=TRUE,ISNUMBER(SEARCH(\"RZ\",Risque[[#This Row],[Risques associés]]))=TRUE,ISNUMBER(SEARCH(\"RP\",Risque[[#This Row],[Risques associés]]))=TRUE,ISNUMBER(SEARCH(\"RZ\",Risque[[#This Row],[Précision du risque\n(si liste déroulante présente)]]))=TRUE,ISNUMBER(SEARCH(\"RP\",Risque[[#This Row],[Précision du risque\n(si liste déroulante présente)]]))=TRUE),\"Oui --> Priorité d'action\",\"Non\"))","v":""},null,null,null,null,{"$f":"IF(ISBLANK(Risque[[#This Row],[Catégorie de risque]]),\"\",CONCATENATE(Risque[[#This Row],[Catégorie de risque]],2))","v":""},null,{"$f":"IF(ISBLANK(Risque[[#This Row],[Moyens de prévention]]),\"\",CONCATENATE(Risque[[#This Row],[Moyens de prévention]],1))","v":""},null,null,null,null,null,{"$f":"IF(ISBLANK(Risque[[#This Row],[Catégorie de risque]]),\"\",CONCATENATE(Risque[[#This Row],[Catégorie de risque]],3))","v":""},null,null,null,{"$f":"IF(ISBLANK(Risque[[#This Row],[Catégorie de risque]]),\"\",CONCATENATE(Risque[[#This Row],[Catégorie de risque]],4))","v":""},null,null,null,null,null,{"$f":"IF(Risque[[#This Row],[Date d''inscription du risque]]<>\"\",YEAR(Risque[[#This Row],[Date d''inscription du risque]]),\"\")","v":""}]
[null,null,{"$f":"IF(ISBLANK(Risque[[#This Row],[Catégorie de risque]]),\"\",CONCATENATE(Risque[[#This Row],[Catégorie de risque]],1))","v":""},null,null,null,null,null,{"$f":"IF(ISBLANK(Risque[[#This Row],[Catégorie de risque]]),\"\",IF(OR(ISNUMBER(SEARCH(\"RZ\",Risque[[#This Row],[Source de danger]]))=TRUE,ISNUMBER(SEARCH(\"RP\",Risque[[#This Row],[Source de danger]]))=TRUE,ISNUMBER(SEARCH(\"RZ\",Risque[[#This Row],[Risques associés]]))=TRUE,ISNUMBER(SEARCH(\"RP\",Risque[[#This Row],[Risques associés]]))=TRUE,ISNUMBER(SEARCH(\"RZ\",Risque[[#This Row],[Précision du risque\n(si liste déroulante présente)]]))=TRUE,ISNUMBER(SEARCH(\"RP\",Risque[[#This Row],[Précision du risque\n(si liste déroulante présente)]]))=TRUE),\"Oui --> Priorité d'action\",\"Non\"))","v":""},null,null,null,null,{"$f":"IF(ISBLANK(Risque[[#This Row],[Catégorie de risque]]),\"\",CONCATENATE(Risque[[#This Row],[Catégorie de risque]],2))","v":""},null,{"$f":"IF(ISBLANK(Risque[[#This Row],[Moyens de prévention]]),\"\",CONCATENATE(Risque[[#This Row],[Moyens de prévention]],1))","v":""},null,null,null,null,null,{"$f":"IF(ISBLANK(Risque[[#This Row],[Catégorie de risque]]),\"\",CONCATENATE(Risque[[#This Row],[Catégorie de risque]],3))","v":""},null,null,null,{"$f":"IF(ISBLANK(Risque[[#This Row],[Catégorie de risque]]),\"\",CONCATENATE(Risque[[#This Row],[Catégorie de risque]],4))","v":""},null,null,null,null,null,{"$f":"IF(Risque[[#This Row],[Date d''inscription du risque]]<>\"\",YEAR(Risque[[#This Row],[Date d''inscription du risque]]),\"\")","v":""}]
[null,null,{"$f":"IF(ISBLANK(Risque[[#This Row],[Catégorie de risque]]),\"\",CONCATENATE(Risque[[#This Row],[Catégorie de risque]],1))","v":""},null,null,null,null,null,{"$f":"IF(ISBLANK(Risque[[#This Row],[Catégorie de risque]]),\"\",IF(OR(ISNUMBER(SEARCH(\"RZ\",Risque[[#This Row],[Source de danger]]))=TRUE,ISNUMBER(SEARCH(\"RP\",Risque[[#This Row],[Source de danger]]))=TRUE,ISNUMBER(SEARCH(\"RZ\",Risque[[#This Row],[Risques associés]]))=TRUE,ISNUMBER(SEARCH(\"RP\",Risque[[#This Row],[Risques associés]]))=TRUE,ISNUMBER(SEARCH(\"RZ\",Risque[[#This Row],[Précision du risque\n(si liste déroulante présente)]]))=TRUE,ISNUMBER(SEARCH(\"RP\",Risque[[#This Row],[Précision du risque\n(si liste déroulante présente)]]))=TRUE),\"Oui --> Priorité d'action\",\"Non\"))","v":""},null,null,null,null,{"$f":"IF(ISBLANK(Risque[[#This Row],[Catégorie de risque]]),\"\",CONCATENATE(Risque[[#This Row],[Catégorie de risque]],2))","v":""},null,{"$f":"IF(ISBLANK(Risque[[#This Row],[Moyens de prévention]]),\"\",CONCATENATE(Risque[[#This Row],[Moyens de prévention]],1))","v":""},null,null,null,null,null,{"$f":"IF(ISBLANK(Risque[[#This Row],[Catégorie de risque]]),\"\",CONCATENATE(Risque[[#This Row],[Catégorie de risque]],3))","v":""},null,null,null,{"$f":"IF(ISBLANK(Risque[[#This Row],[Catégorie de risque]]),\"\",CONCATENATE(Risque[[#This Row],[Catégorie de risque]],4))","v":""},null,null,null,null,null,{"$f":"IF(Risque[[#This Row],[Date d''inscription du risque]]<>\"\",YEAR(Risque[[#This Row],[Date d''inscription du risque]]),\"\")","v":""}]
[null,null,{"$f":"IF(ISBLANK(Risque[[#This Row],[Catégorie de risque]]),\"\",CONCATENATE(Risque[[#This Row],[Catégorie de risque]],1))","v":""},null,null,null,null,null,{"$f":"IF(ISBLANK(Risque[[#This Row],[Catégorie de risque]]),\"\",IF(OR(ISNUMBER(SEARCH(\"RZ\",Risque[[#This Row],[Source de danger]]))=TRUE,ISNUMBER(SEARCH(\"RP\",Risque[[#This Row],[Source de danger]]))=TRUE,ISNUMBER(SEARCH(\"RZ\",Risque[[#This Row],[Risques associés]]))=TRUE,ISNUMBER(SEARCH(\"RP\",Risque[[#This Row],[Risques associés]]))=TRUE,ISNUMBER(SEARCH(\"RZ\",Risque[[#This Row],[Précision du risque\n(si liste déroulante présente)]]))=TRUE,ISNUMBER(SEARCH(\"RP\",Risque[[#This Row],[Précision du risque\n(si liste déroulante présente)]]))=TRUE),\"Oui --> Priorité d'action\",\"Non\"))","v":""},null,null,null,null,{"$f":"IF(ISBLANK(Risque[[#This Row],[Catégorie de risque]]),\"\",CONCATENATE(Risque[[#This Row],[Catégorie de risque]],2))","v":""},null,{"$f":"IF(ISBLANK(Risque[[#This Row],[Moyens de prévention]]),\"\",CONCATENATE(Risque[[#This Row],[Moyens de prévention]],1))","v":""},null,null,null,null,null,{"$f":"IF(ISBLANK(Risque[[#This Row],[Catégorie de risque]]),\"\",CONCATENATE(Risque[[#This Row],[Catégorie de risque]],3))","v":""},null,null,null,{"$f":"IF(ISBLANK(Risque[[#This Row],[Catégorie de risque]]),\"\",CONCATENATE(Risque[[#This Row],[Catégorie de risque]],4))","v":""},null,null,null,null,null,{"$f":"IF(Risque[[#This Row],[Date d''inscription du risque]]<>\"\",YEAR(Risque[[#This Row],[Date d''inscription du risque]]),\"\")","v":""}]
[null,null,{"$f":"IF(ISBLANK(Risque[[#This Row],[Catégorie de risque]]),\"\",CONCATENATE(Risque[[#This Row],[Catégorie de risque]],1))","v":""},null,null,null,null,null,{"$f":"IF(ISBLANK(Risque[[#This Row],[Catégorie de risque]]),\"\",IF(OR(ISNUMBER(SEARCH(\"RZ\",Risque[[#This Row],[Source de danger]]))=TRUE,ISNUMBER(SEARCH(\"RP\",Risque[[#This Row],[Source de danger]]))=TRUE,ISNUMBER(SEARCH(\"RZ\",Risque[[#This Row],[Risques associés]]))=TRUE,ISNUMBER(SEARCH(\"RP\",Risque[[#This Row],[Risques associés]]))=TRUE,ISNUMBER(SEARCH(\"RZ\",Risque[[#This Row],[Précision du risque\n(si liste déroulante présente)]]))=TRUE,ISNUMBER(SEARCH(\"RP\",Risque[[#This Row],[Précision du risque\n(si liste déroulante présente)]]))=TRUE),\"Oui --> Priorité d'action\",\"Non\"))","v":""},null,null,null,null,{"$f":"IF(ISBLANK(Risque[[#This Row],[Catégorie de risque]]),\"\",CONCATENATE(Risque[[#This Row],[Catégorie de risque]],2))","v":""},null,{"$f":"IF(ISBLANK(Risque[[#This Row],[Moyens de prévention]]),\"\",CONCATENATE(Risque[[#This Row],[Moyens de prévention]],1))","v":""},null,null,null,null,null,{"$f":"IF(ISBLANK(Risque[[#This Row],[Catégorie de risque]]),\"\",CONCATENATE(Risque[[#This Row],[Catégorie de risque]],3))","v":""},null,null,null,{"$f":"IF(ISBLANK(Risque[[#This Row],[Catégorie de risque]]),\"\",CONCATENATE(Risque[[#This Row],[Catégorie de risque]],4))","v":""},null,null,null,null,null,{"$f":"IF(Risque[[#This Row],[Date d''inscription du risque]]<>\"\",YEAR(Risque[[#This Row],[Date d''inscription du risque]]),\"\")","v":""}]
[null,null,{"$f":"IF(ISBLANK(Risque[[#This Row],[Catégorie de risque]]),\"\",CONCATENATE(Risque[[#This Row],[Catégorie de risque]],1))","v":""},null,null,null,null,null,{"$f":"IF(ISBLANK(Risque[[#This Row],[Catégorie de risque]]),\"\",IF(OR(ISNUMBER(SEARCH(\"RZ\",Risque[[#This Row],[Source de danger]]))=TRUE,ISNUMBER(SEARCH(\"RP\",Risque[[#This Row],[Source de danger]]))=TRUE,ISNUMBER(SEARCH(\"RZ\",Risque[[#This Row],[Risques associés]]))=TRUE,ISNUMBER(SEARCH(\"RP\",Risque[[#This Row],[Risques associés]]))=TRUE,ISNUMBER(SEARCH(\"RZ\",Risque[[#This Row],[Précision du risque\n(si liste déroulante présente)]]))=TRUE,ISNUMBER(SEARCH(\"RP\",Risque[[#This Row],[Précision du risque\n(si liste déroulante présente)]]))=TRUE),\"Oui --> Priorité d'action\",\"Non\"))","v":""},null,null,null,null,{"$f":"IF(ISBLANK(Risque[[#This Row],[Catégorie de risque]]),\"\",CONCATENATE(Risque[[#This Row],[Catégorie de risque]],2))","v":""},null,{"$f":"IF(ISBLANK(Risque[[#This Row],[Moyens de prévention]]),\"\",CONCATENATE(Risque[[#This Row],[Moyens de prévention]],1))","v":""},null,null,null,null,null,{"$f":"IF(ISBLANK(Risque[[#This Row],[Catégorie de risque]]),\"\",CONCATENATE(Risque[[#This Row],[Catégorie de risque]],3))","v":""},null,null,null,{"$f":"IF(ISBLANK(Risque[[#This Row],[Catégorie de risque]]),\"\",CONCATENATE(Risque[[#This Row],[Catégorie de risque]],4))","v":""},null,null,null,null,null,{"$f":"IF(Risque[[#This Row],[Date d''inscription du risque]]<>\"\",YEAR(Risque[[#This Row],[Date d''inscription du risque]]),\"\")","v":""}]
[null,null,{"$f":"IF(ISBLANK(Risque[[#This Row],[Catégorie de risque]]),\"\",CONCATENATE(Risque[[#This Row],[Catégorie de risque]],1))","v":""},null,null,null,null,null,{"$f":"IF(ISBLANK(Risque[[#This Row],[Catégorie de risque]]),\"\",IF(OR(ISNUMBER(SEARCH(\"RZ\",Risque[[#This Row],[Source de danger]]))=TRUE,ISNUMBER(SEARCH(\"RP\",Risque[[#This Row],[Source de danger]]))=TRUE,ISNUMBER(SEARCH(\"RZ\",Risque[[#This Row],[Risques associés]]))=TRUE,ISNUMBER(SEARCH(\"RP\",Risque[[#This Row],[Risques associés]]))=TRUE,ISNUMBER(SEARCH(\"RZ\",Risque[[#This Row],[Précision du risque\n(si liste déroulante présente)]]))=TRUE,ISNUMBER(SEARCH(\"RP\",Risque[[#This Row],[Précision du risque\n(si liste déroulante présente)]]))=TRUE),\"Oui --> Priorité d'action\",\"Non\"))","v":""},null,null,null,null,{"$f":"IF(ISBLANK(Risque[[#This Row],[Catégorie de risque]]),\"\",CONCATENATE(Risque[[#This Row],[Catégorie de risque]],2))","v":""},null,{"$f":"IF(ISBLANK(Risque[[#This Row],[Moyens de prévention]]),\"\",CONCATENATE(Risque[[#This Row],[Moyens de prévention]],1))","v":""},null,null,null,null,null,{"$f":"IF(ISBLANK(Risque[[#This Row],[Catégorie de risque]]),\"\",CONCATENATE(Risque[[#This Row],[Catégorie de risque]],3))","v":""},null,null,null,{"$f":"IF(ISBLANK(Risque[[#This Row],[Catégorie de risque]]),\"\",CONCATENATE(Risque[[#This Row],[Catégorie de risque]],4))","v":""},null,null,null,null,null,{"$f":"IF(Risque[[#This Row],[Date d''inscription du risque]]<>\"\",YEAR(Risque[[#This Row],[Date d''inscription du risque]]),\"\")","v":""}]
[null,null,{"$f":"IF(ISBLANK(Risque[[#This Row],[Catégorie de risque]]),\"\",CONCATENATE(Risque[[#This Row],[Catégorie de risque]],1))","v":""},null,null,null,null,null,{"$f":"IF(ISBLANK(Risque[[#This Row],[Catégorie de risque]]),\"\",IF(OR(ISNUMBER(SEARCH(\"RZ\",Risque[[#This Row],[Source de danger]]))=TRUE,ISNUMBER(SEARCH(\"RP\",Risque[[#This Row],[Source de danger]]))=TRUE,ISNUMBER(SEARCH(\"RZ\",Risque[[#This Row],[Risques associés]]))=TRUE,ISNUMBER(SEARCH(\"RP\",Risque[[#This Row],[Risques associés]]))=TRUE,ISNUMBER(SEARCH(\"RZ\",Risque[[#This Row],[Précision du risque\n(si liste déroulante présente)]]))=TRUE,ISNUMBER(SEARCH(\"RP\",Risque[[#This Row],[Précision du risque\n(si liste déroulante présente)]]))=TRUE),\"Oui --> Priorité d'action\",\"Non\"))","v":""},null,null,null,null,{"$f":"IF(ISBLANK(Risque[[#This Row],[Catégorie de risque]]),\"\",CONCATENATE(Risque[[#This Row],[Catégorie de risque]],2))","v":""},null,{"$f":"IF(ISBLANK(Risque[[#This Row],[Moyens de prévention]]),\"\",CONCATENATE(Risque[[#This Row],[Moyens de prévention]],1))","v":""},null,null,null,null,null,{"$f":"IF(ISBLANK(Risque[[#This Row],[Catégorie de risque]]),\"\",CONCATENATE(Risque[[#This Row],[Catégorie de risque]],3))","v":""},null,null,null,{"$f":"IF(ISBLANK(Risque[[#This Row],[Catégorie de risque]]),\"\",CONCATENATE(Risque[[#This Row],[Catégorie de risque]],4))","v":""},null,null,null,null,null,{"$f":"IF(Risque[[#This Row],[Date d''inscription du risque]]<>\"\",YEAR(Risque[[#This Row],[Date d''inscription du risque]]),\"\")","v":""}]
[null,null,{"$f":"IF(ISBLANK(Risque[[#This Row],[Catégorie de risque]]),\"\",CONCATENATE(Risque[[#This Row],[Catégorie de risque]],1))","v":""},null,null,null,null,null,{"$f":"IF(ISBLANK(Risque[[#This Row],[Catégorie de risque]]),\"\",IF(OR(ISNUMBER(SEARCH(\"RZ\",Risque[[#This Row],[Source de danger]]))=TRUE,ISNUMBER(SEARCH(\"RP\",Risque[[#This Row],[Source de danger]]))=TRUE,ISNUMBER(SEARCH(\"RZ\",Risque[[#This Row],[Risques associés]]))=TRUE,ISNUMBER(SEARCH(\"RP\",Risque[[#This Row],[Risques associés]]))=TRUE,ISNUMBER(SEARCH(\"RZ\",Risque[[#This Row],[Précision du risque\n(si liste déroulante présente)]]))=TRUE,ISNUMBER(SEARCH(\"RP\",Risque[[#This Row],[Précision du risque\n(si liste déroulante présente)]]))=TRUE),\"Oui --> Priorité d'action\",\"Non\"))","v":""},null,null,null,null,{"$f":"IF(ISBLANK(Risque[[#This Row],[Catégorie de risque]]),\"\",CONCATENATE(Risque[[#This Row],[Catégorie de risque]],2))","v":""},null,{"$f":"IF(ISBLANK(Risque[[#This Row],[Moyens de prévention]]),\"\",CONCATENATE(Risque[[#This Row],[Moyens de prévention]],1))","v":""},null,null,null,null,null,{"$f":"IF(ISBLANK(Risque[[#This Row],[Catégorie de risque]]),\"\",CONCATENATE(Risque[[#This Row],[Catégorie de risque]],3))","v":""},null,null,null,{"$f":"IF(ISBLANK(Risque[[#This Row],[Catégorie de risque]]),\"\",CONCATENATE(Risque[[#This Row],[Catégorie de risque]],4))","v":""},null,null,null,null,null,{"$f":"IF(Risque[[#This Row],[Date d''inscription du risque]]<>\"\",YEAR(Risque[[#This Row],[Date d''inscription du risque]]),\"\")","v":""}]
[null,null,{"$f":"IF(ISBLANK(Risque[[#This Row],[Catégorie de risque]]),\"\",CONCATENATE(Risque[[#This Row],[Catégorie de risque]],1))","v":""},null,null,null,null,null,{"$f":"IF(ISBLANK(Risque[[#This Row],[Catégorie de risque]]),\"\",IF(OR(ISNUMBER(SEARCH(\"RZ\",Risque[[#This Row],[Source de danger]]))=TRUE,ISNUMBER(SEARCH(\"RP\",Risque[[#This Row],[Source de danger]]))=TRUE,ISNUMBER(SEARCH(\"RZ\",Risque[[#This Row],[Risques associés]]))=TRUE,ISNUMBER(SEARCH(\"RP\",Risque[[#This Row],[Risques associés]]))=TRUE,ISNUMBER(SEARCH(\"RZ\",Risque[[#This Row],[Précision du risque\n(si liste déroulante présente)]]))=TRUE,ISNUMBER(SEARCH(\"RP\",Risque[[#This Row],[Précision du risque\n(si liste déroulante présente)]]))=TRUE),\"Oui --> Priorité d'action\",\"Non\"))","v":""},null,null,null,null,{"$f":"IF(ISBLANK(Risque[[#This Row],[Catégorie de risque]]),\"\",CONCATENATE(Risque[[#This Row],[Catégorie de risque]],2))","v":""},null,{"$f":"IF(ISBLANK(Risque[[#This Row],[Moyens de prévention]]),\"\",CONCATENATE(Risque[[#This Row],[Moyens de prévention]],1))","v":""},null,null,null,null,null,{"$f":"IF(ISBLANK(Risque[[#This Row],[Catégorie de risque]]),\"\",CONCATENATE(Risque[[#This Row],[Catégorie de risque]],3))","v":""},null,null,null,{"$f":"IF(ISBLANK(Risque[[#This Row],[Catégorie de risque]]),\"\",CONCATENATE(Risque[[#This Row],[Catégorie de risque]],4))","v":""},null,null,null,null,null,{"$f":"IF(Risque[[#This Row],[Date d''inscription du risque]]<>\"\",YEAR(Risque[[#This Row],[Date d''inscription du risque]]),\"\")","v":""}]
[null,null,{"$f":"IF(ISBLANK(Risque[[#This Row],[Catégorie de risque]]),\"\",CONCATENATE(Risque[[#This Row],[Catégorie de risque]],1))","v":""},null,null,null,null,null,{"$f":"IF(ISBLANK(Risque[[#This Row],[Catégorie de risque]]),\"\",IF(OR(ISNUMBER(SEARCH(\"RZ\",Risque[[#This Row],[Source de danger]]))=TRUE,ISNUMBER(SEARCH(\"RP\",Risque[[#This Row],[Source de danger]]))=TRUE,ISNUMBER(SEARCH(\"RZ\",Risque[[#This Row],[Risques associés]]))=TRUE,ISNUMBER(SEARCH(\"RP\",Risque[[#This Row],[Risques associés]]))=TRUE,ISNUMBER(SEARCH(\"RZ\",Risque[[#This Row],[Précision du risque\n(si liste déroulante présente)]]))=TRUE,ISNUMBER(SEARCH(\"RP\",Risque[[#This Row],[Précision du risque\n(si liste déroulante présente)]]))=TRUE),\"Oui --> Priorité d'action\",\"Non\"))","v":""},null,null,null,null,{"$f":"IF(ISBLANK(Risque[[#This Row],[Catégorie de risque]]),\"\",CONCATENATE(Risque[[#This Row],[Catégorie de risque]],2))","v":""},null,{"$f":"IF(ISBLANK(Risque[[#This Row],[Moyens de prévention]]),\"\",CONCATENATE(Risque[[#This Row],[Moyens de prévention]],1))","v":""},null,null,null,null,null,{"$f":"IF(ISBLANK(Risque[[#This Row],[Catégorie de risque]]),\"\",CONCATENATE(Risque[[#This Row],[Catégorie de risque]],3))","v":""},null,null,null,{"$f":"IF(ISBLANK(Risque[[#This Row],[Catégorie de risque]]),\"\",CONCATENATE(Risque[[#This Row],[Catégorie de risque]],4))","v":""},null,null,null,null,null,{"$f":"IF(Risque[[#This Row],[Date d''inscription du risque]]<>\"\",YEAR(Risque[[#This Row],[Date d''inscription du risque]]),\"\")","v":""}]
[null,null,{"$f":"IF(ISBLANK(Risque[[#This Row],[Catégorie de risque]]),\"\",CONCATENATE(Risque[[#This Row],[Catégorie de risque]],1))","v":""},null,null,null,null,null,{"$f":"IF(ISBLANK(Risque[[#This Row],[Catégorie de risque]]),\"\",IF(OR(ISNUMBER(SEARCH(\"RZ\",Risque[[#This Row],[Source de danger]]))=TRUE,ISNUMBER(SEARCH(\"RP\",Risque[[#This Row],[Source de danger]]))=TRUE,ISNUMBER(SEARCH(\"RZ\",Risque[[#This Row],[Risques associés]]))=TRUE,ISNUMBER(SEARCH(\"RP\",Risque[[#This Row],[Risques associés]]))=TRUE,ISNUMBER(SEARCH(\"RZ\",Risque[[#This Row],[Précision du risque\n(si liste déroulante présente)]]))=TRUE,ISNUMBER(SEARCH(\"RP\",Risque[[#This Row],[Précision du risque\n(si liste déroulante présente)]]))=TRUE),\"Oui --> Priorité d'action\",\"Non\"))","v":""},null,null,null,null,{"$f":"IF(ISBLANK(Risque[[#This Row],[Catégorie de risque]]),\"\",CONCATENATE(Risque[[#This Row],[Catégorie de risque]],2))","v":""},null,{"$f":"IF(ISBLANK(Risque[[#This Row],[Moyens de prévention]]),\"\",CONCATENATE(Risque[[#This Row],[Moyens de prévention]],1))","v":""},null,null,null,null,null,{"$f":"IF(ISBLANK(Risque[[#This Row],[Catégorie de risque]]),\"\",CONCATENATE(Risque[[#This Row],[Catégorie de risque]],3))","v":""},null,null,null,{"$f":"IF(ISBLANK(Risque[[#This Row],[Catégorie de risque]]),\"\",CONCATENATE(Risque[[#This Row],[Catégorie de risque]],4))","v":""},null,null,null,null,null,{"$f":"IF(Risque[[#This Row],[Date d''inscription du risque]]<>\"\",YEAR(Risque[[#This Row],[Date d''inscription du risque]]),\"\")","v":""}]
[null,null,{"$f":"IF(ISBLANK(Risque[[#This Row],[Catégorie de risque]]),\"\",CONCATENATE(Risque[[#This Row],[Catégorie de risque]],1))","v":""},null,null,null,null,null,{"$f":"IF(ISBLANK(Risque[[#This Row],[Catégorie de risque]]),\"\",IF(OR(ISNUMBER(SEARCH(\"RZ\",Risque[[#This Row],[Source de danger]]))=TRUE,ISNUMBER(SEARCH(\"RP\",Risque[[#This Row],[Source de danger]]))=TRUE,ISNUMBER(SEARCH(\"RZ\",Risque[[#This Row],[Risques associés]]))=TRUE,ISNUMBER(SEARCH(\"RP\",Risque[[#This Row],[Risques associés]]))=TRUE,ISNUMBER(SEARCH(\"RZ\",Risque[[#This Row],[Précision du risque\n(si liste déroulante présente)]]))=TRUE,ISNUMBER(SEARCH(\"RP\",Risque[[#This Row],[Précision du risque\n(si liste déroulante présente)]]))=TRUE),\"Oui --> Priorité d'action\",\"Non\"))","v":""},null,null,null,null,{"$f":"IF(ISBLANK(Risque[[#This Row],[Catégorie de risque]]),\"\",CONCATENATE(Risque[[#This Row],[Catégorie de risque]],2))","v":""},null,{"$f":"IF(ISBLANK(Risque[[#This Row],[Moyens de prévention]]),\"\",CONCATENATE(Risque[[#This Row],[Moyens de prévention]],1))","v":""},null,null,null,null,null,{"$f":"IF(ISBLANK(Risque[[#This Row],[Catégorie de risque]]),\"\",CONCATENATE(Risque[[#This Row],[Catégorie de risque]],3))","v":""},null,null,null,{"$f":"IF(ISBLANK(Risque[[#This Row],[Catégorie de risque]]),\"\",CONCATENATE(Risque[[#This Row],[Catégorie de risque]],4))","v":""},null,null,null,null,null,{"$f":"IF(Risque[[#This Row],[Date d''inscription du risque]]<>\"\",YEAR(Risque[[#This Row],[Date d''inscription du risque]]),\"\")","v":""}]
[null,null,{"$f":"IF(ISBLANK(Risque[[#This Row],[Catégorie de risque]]),\"\",CONCATENATE(Risque[[#This Row],[Catégorie de risque]],1))","v":""},null,null,null,null,null,{"$f":"IF(ISBLANK(Risque[[#This Row],[Catégorie de risque]]),\"\",IF(OR(ISNUMBER(SEARCH(\"RZ\",Risque[[#This Row],[Source de danger]]))=TRUE,ISNUMBER(SEARCH(\"RP\",Risque[[#This Row],[Source de danger]]))=TRUE,ISNUMBER(SEARCH(\"RZ\",Risque[[#This Row],[Risques associés]]))=TRUE,ISNUMBER(SEARCH(\"RP\",Risque[[#This Row],[Risques associés]]))=TRUE,ISNUMBER(SEARCH(\"RZ\",Risque[[#This Row],[Précision du risque\n(si liste déroulante présente)]]))=TRUE,ISNUMBER(SEARCH(\"RP\",Risque[[#This Row],[Précision du risque\n(si liste déroulante présente)]]))=TRUE),\"Oui --> Priorité d'action\",\"Non\"))","v":""},null,null,null,null,{"$f":"IF(ISBLANK(Risque[[#This Row],[Catégorie de risque]]),\"\",CONCATENATE(Risque[[#This Row],[Catégorie de risque]],2))","v":""},null,{"$f":"IF(ISBLANK(Risque[[#This Row],[Moyens de prévention]]),\"\",CONCATENATE(Risque[[#This Row],[Moyens de prévention]],1))","v":""},null,null,null,null,null,{"$f":"IF(ISBLANK(Risque[[#This Row],[Catégorie de risque]]),\"\",CONCATENATE(Risque[[#This Row],[Catégorie de risque]],3))","v":""},null,null,null,{"$f":"IF(ISBLANK(Risque[[#This Row],[Catégorie de risque]]),\"\",CONCATENATE(Risque[[#This Row],[Catégorie de risque]],4))","v":""},null,null,null,null,null,{"$f":"IF(Risque[[#This Row],[Date d''inscription du risque]]<>\"\",YEAR(Risque[[#This Row],[Date d''inscription du risque]]),\"\")","v":""}]
[null,null,{"$f":"IF(ISBLANK(Risque[[#This Row],[Catégorie de risque]]),\"\",CONCATENATE(Risque[[#This Row],[Catégorie de risque]],1))","v":""},null,null,null,null,null,{"$f":"IF(ISBLANK(Risque[[#This Row],[Catégorie de risque]]),\"\",IF(OR(ISNUMBER(SEARCH(\"RZ\",Risque[[#This Row],[Source de danger]]))=TRUE,ISNUMBER(SEARCH(\"RP\",Risque[[#This Row],[Source de danger]]))=TRUE,ISNUMBER(SEARCH(\"RZ\",Risque[[#This Row],[Risques associés]]))=TRUE,ISNUMBER(SEARCH(\"RP\",Risque[[#This Row],[Risques associés]]))=TRUE,ISNUMBER(SEARCH(\"RZ\",Risque[[#This Row],[Précision du risque\n(si liste déroulante présente)]]))=TRUE,ISNUMBER(SEARCH(\"RP\",Risque[[#This Row],[Précision du risque\n(si liste déroulante présente)]]))=TRUE),\"Oui --> Priorité d'action\",\"Non\"))","v":""},null,null,null,null,{"$f":"IF(ISBLANK(Risque[[#This Row],[Catégorie de risque]]),\"\",CONCATENATE(Risque[[#This Row],[Catégorie de risque]],2))","v":""},null,{"$f":"IF(ISBLANK(Risque[[#This Row],[Moyens de prévention]]),\"\",CONCATENATE(Risque[[#This Row],[Moyens de prévention]],1))","v":""},null,null,null,null,null,{"$f":"IF(ISBLANK(Risque[[#This Row],[Catégorie de risque]]),\"\",CONCATENATE(Risque[[#This Row],[Catégorie de risque]],3))","v":""},null,null,null,{"$f":"IF(ISBLANK(Risque[[#This Row],[Catégorie de risque]]),\"\",CONCATENATE(Risque[[#This Row],[Catégorie de risque]],4))","v":""},null,null,null,null,null,{"$f":"IF(Risque[[#This Row],[Date d''inscription du risque]]<>\"\",YEAR(Risque[[#This Row],[Date d''inscription du risque]]),\"\")","v":""}]
[null,null,{"$f":"IF(ISBLANK(Risque[[#This Row],[Catégorie de risque]]),\"\",CONCATENATE(Risque[[#This Row],[Catégorie de risque]],1))","v":""},null,null,null,null,null,{"$f":"IF(ISBLANK(Risque[[#This Row],[Catégorie de risque]]),\"\",IF(OR(ISNUMBER(SEARCH(\"RZ\",Risque[[#This Row],[Source de danger]]))=TRUE,ISNUMBER(SEARCH(\"RP\",Risque[[#This Row],[Source de danger]]))=TRUE,ISNUMBER(SEARCH(\"RZ\",Risque[[#This Row],[Risques associés]]))=TRUE,ISNUMBER(SEARCH(\"RP\",Risque[[#This Row],[Risques associés]]))=TRUE,ISNUMBER(SEARCH(\"RZ\",Risque[[#This Row],[Précision du risque\n(si liste déroulante présente)]]))=TRUE,ISNUMBER(SEARCH(\"RP\",Risque[[#This Row],[Précision du risque\n(si liste déroulante présente)]]))=TRUE),\"Oui --> Priorité d'action\",\"Non\"))","v":""},null,null,null,null,{"$f":"IF(ISBLANK(Risque[[#This Row],[Catégorie de risque]]),\"\",CONCATENATE(Risque[[#This Row],[Catégorie de risque]],2))","v":""},null,{"$f":"IF(ISBLANK(Risque[[#This Row],[Moyens de prévention]]),\"\",CONCATENATE(Risque[[#This Row],[Moyens de prévention]],1))","v":""},null,null,null,null,null,{"$f":"IF(ISBLANK(Risque[[#This Row],[Catégorie de risque]]),\"\",CONCATENATE(Risque[[#This Row],[Catégorie de risque]],3))","v":""},null,null,null,{"$f":"IF(ISBLANK(Risque[[#This Row],[Catégorie de risque]]),\"\",CONCATENATE(Risque[[#This Row],[Catégorie de risque]],4))","v":""},null,null,null,null,null,{"$f":"IF(Risque[[#This Row],[Date d''inscription du risque]]<>\"\",YEAR(Risque[[#This Row],[Date d''inscription du risque]]),\"\")","v":""}]
[null,null,{"$f":"IF(ISBLANK(Risque[[#This Row],[Catégorie de risque]]),\"\",CONCATENATE(Risque[[#This Row],[Catégorie de risque]],1))","v":""},null,null,null,null,null,{"$f":"IF(ISBLANK(Risque[[#This Row],[Catégorie de risque]]),\"\",IF(OR(ISNUMBER(SEARCH(\"RZ\",Risque[[#This Row],[Source de danger]]))=TRUE,ISNUMBER(SEARCH(\"RP\",Risque[[#This Row],[Source de danger]]))=TRUE,ISNUMBER(SEARCH(\"RZ\",Risque[[#This Row],[Risques associés]]))=TRUE,ISNUMBER(SEARCH(\"RP\",Risque[[#This Row],[Risques associés]]))=TRUE,ISNUMBER(SEARCH(\"RZ\",Risque[[#This Row],[Précision du risque\n(si liste déroulante présente)]]))=TRUE,ISNUMBER(SEARCH(\"RP\",Risque[[#This Row],[Précision du risque\n(si liste déroulante présente)]]))=TRUE),\"Oui --> Priorité d'action\",\"Non\"))","v":""},null,null,null,null,{"$f":"IF(ISBLANK(Risque[[#This Row],[Catégorie de risque]]),\"\",CONCATENATE(Risque[[#This Row],[Catégorie de risque]],2))","v":""},null,{"$f":"IF(ISBLANK(Risque[[#This Row],[Moyens de prévention]]),\"\",CONCATENATE(Risque[[#This Row],[Moyens de prévention]],1))","v":""},null,null,null,null,null,{"$f":"IF(ISBLANK(Risque[[#This Row],[Catégorie de risque]]),\"\",CONCATENATE(Risque[[#This Row],[Catégorie de risque]],3))","v":""},null,null,null,{"$f":"IF(ISBLANK(Risque[[#This Row],[Catégorie de risque]]),\"\",CONCATENATE(Risque[[#This Row],[Catégorie de risque]],4))","v":""},null,null,null,null,null,{"$f":"IF(Risque[[#This Row],[Date d''inscription du risque]]<>\"\",YEAR(Risque[[#This Row],[Date d''inscription du risque]]),\"\")","v":""}]
[null,null,{"$f":"IF(ISBLANK(Risque[[#This Row],[Catégorie de risque]]),\"\",CONCATENATE(Risque[[#This Row],[Catégorie de risque]],1))","v":""},null,null,null,null,null,{"$f":"IF(ISBLANK(Risque[[#This Row],[Catégorie de risque]]),\"\",IF(OR(ISNUMBER(SEARCH(\"RZ\",Risque[[#This Row],[Source de danger]]))=TRUE,ISNUMBER(SEARCH(\"RP\",Risque[[#This Row],[Source de danger]]))=TRUE,ISNUMBER(SEARCH(\"RZ\",Risque[[#This Row],[Risques associés]]))=TRUE,ISNUMBER(SEARCH(\"RP\",Risque[[#This Row],[Risques associés]]))=TRUE,ISNUMBER(SEARCH(\"RZ\",Risque[[#This Row],[Précision du risque\n(si liste déroulante présente)]]))=TRUE,ISNUMBER(SEARCH(\"RP\",Risque[[#This Row],[Précision du risque\n(si liste déroulante présente)]]))=TRUE),\"Oui --> Priorité d'action\",\"Non\"))","v":""},null,null,null,null,{"$f":"IF(ISBLANK(Risque[[#This Row],[Catégorie de risque]]),\"\",CONCATENATE(Risque[[#This Row],[Catégorie de risque]],2))","v":""},null,{"$f":"IF(ISBLANK(Risque[[#This Row],[Moyens de prévention]]),\"\",CONCATENATE(Risque[[#This Row],[Moyens de prévention]],1))","v":""},null,null,null,null,null,{"$f":"IF(ISBLANK(Risque[[#This Row],[Catégorie de risque]]),\"\",CONCATENATE(Risque[[#This Row],[Catégorie de risque]],3))","v":""},null,null,null,{"$f":"IF(ISBLANK(Risque[[#This Row],[Catégorie de risque]]),\"\",CONCATENATE(Risque[[#This Row],[Catégorie de risque]],4))","v":""},null,null,null,null,null,{"$f":"IF(Risque[[#This Row],[Date d''inscription du risque]]<>\"\",YEAR(Risque[[#This Row],[Date d''inscription du risque]]),\"\")","v":""}]
[null,null,{"$f":"IF(ISBLANK(Risque[[#This Row],[Catégorie de risque]]),\"\",CONCATENATE(Risque[[#This Row],[Catégorie de risque]],1))","v":""},null,null,null,null,null,{"$f":"IF(ISBLANK(Risque[[#This Row],[Catégorie de risque]]),\"\",IF(OR(ISNUMBER(SEARCH(\"RZ\",Risque[[#This Row],[Source de danger]]))=TRUE,ISNUMBER(SEARCH(\"RP\",Risque[[#This Row],[Source de danger]]))=TRUE,ISNUMBER(SEARCH(\"RZ\",Risque[[#This Row],[Risques associés]]))=TRUE,ISNUMBER(SEARCH(\"RP\",Risque[[#This Row],[Risques associés]]))=TRUE,ISNUMBER(SEARCH(\"RZ\",Risque[[#This Row],[Précision du risque\n(si liste déroulante présente)]]))=TRUE,ISNUMBER(SEARCH(\"RP\",Risque[[#This Row],[Précision du risque\n(si liste déroulante présente)]]))=TRUE),\"Oui --> Priorité d'action\",\"Non\"))","v":""},null,null,null,null,{"$f":"IF(ISBLANK(Risque[[#This Row],[Catégorie de risque]]),\"\",CONCATENATE(Risque[[#This Row],[Catégorie de risque]],2))","v":""},null,{"$f":"IF(ISBLANK(Risque[[#This Row],[Moyens de prévention]]),\"\",CONCATENATE(Risque[[#This Row],[Moyens de prévention]],1))","v":""},null,null,null,null,null,{"$f":"IF(ISBLANK(Risque[[#This Row],[Catégorie de risque]]),\"\",CONCATENATE(Risque[[#This Row],[Catégorie de risque]],3))","v":""},null,null,null,{"$f":"IF(ISBLANK(Risque[[#This Row],[Catégorie de risque]]),\"\",CONCATENATE(Risque[[#This Row],[Catégorie de risque]],4))","v":""},null,null,null,null,null,{"$f":"IF(Risque[[#This Row],[Date d''inscription du risque]]<>\"\",YEAR(Risque[[#This Row],[Date d''inscription du risque]]),\"\")","v":""}]
[null,null,{"$f":"IF(ISBLANK(Risque[[#This Row],[Catégorie de risque]]),\"\",CONCATENATE(Risque[[#This Row],[Catégorie de risque]],1))","v":""},null,null,null,null,null,{"$f":"IF(ISBLANK(Risque[[#This Row],[Catégorie de risque]]),\"\",IF(OR(ISNUMBER(SEARCH(\"RZ\",Risque[[#This Row],[Source de danger]]))=TRUE,ISNUMBER(SEARCH(\"RP\",Risque[[#This Row],[Source de danger]]))=TRUE,ISNUMBER(SEARCH(\"RZ\",Risque[[#This Row],[Risques associés]]))=TRUE,ISNUMBER(SEARCH(\"RP\",Risque[[#This Row],[Risques associés]]))=TRUE,ISNUMBER(SEARCH(\"RZ\",Risque[[#This Row],[Précision du risque\n(si liste déroulante présente)]]))=TRUE,ISNUMBER(SEARCH(\"RP\",Risque[[#This Row],[Précision du risque\n(si liste déroulante présente)]]))=TRUE),\"Oui --> Priorité d'action\",\"Non\"))","v":""},null,null,null,null,{"$f":"IF(ISBLANK(Risque[[#This Row],[Catégorie de risque]]),\"\",CONCATENATE(Risque[[#This Row],[Catégorie de risque]],2))","v":""},null,{"$f":"IF(ISBLANK(Risque[[#This Row],[Moyens de prévention]]),\"\",CONCATENATE(Risque[[#This Row],[Moyens de prévention]],1))","v":""},null,null,null,null,null,{"$f":"IF(ISBLANK(Risque[[#This Row],[Catégorie de risque]]),\"\",CONCATENATE(Risque[[#This Row],[Catégorie de risque]],3))","v":""},null,null,null,{"$f":"IF(ISBLANK(Risque[[#This Row],[Catégorie de risque]]),\"\",CONCATENATE(Risque[[#This Row],[Catégorie de risque]],4))","v":""},null,null,null,null,null,{"$f":"IF(Risque[[#This Row],[Date d''inscription du risque]]<>\"\",YEAR(Risque[[#This Row],[Date d''inscription du risque]]),\"\")","v":""}]
[null,null,{"$f":"IF(ISBLANK(Risque[[#This Row],[Catégorie de risque]]),\"\",CONCATENATE(Risque[[#This Row],[Catégorie de risque]],1))","v":""},null,null,null,null,null,{"$f":"IF(ISBLANK(Risque[[#This Row],[Catégorie de risque]]),\"\",IF(OR(ISNUMBER(SEARCH(\"RZ\",Risque[[#This Row],[Source de danger]]))=TRUE,ISNUMBER(SEARCH(\"RP\",Risque[[#This Row],[Source de danger]]))=TRUE,ISNUMBER(SEARCH(\"RZ\",Risque[[#This Row],[Risques associés]]))=TRUE,ISNUMBER(SEARCH(\"RP\",Risque[[#This Row],[Risques associés]]))=TRUE,ISNUMBER(SEARCH(\"RZ\",Risque[[#This Row],[Précision du risque\n(si liste déroulante présente)]]))=TRUE,ISNUMBER(SEARCH(\"RP\",Risque[[#This Row],[Précision du risque\n(si liste déroulante présente)]]))=TRUE),\"Oui --> Priorité d'action\",\"Non\"))","v":""},null,null,null,null,{"$f":"IF(ISBLANK(Risque[[#This Row],[Catégorie de risque]]),\"\",CONCATENATE(Risque[[#This Row],[Catégorie de risque]],2))","v":""},null,{"$f":"IF(ISBLANK(Risque[[#This Row],[Moyens de prévention]]),\"\",CONCATENATE(Risque[[#This Row],[Moyens de prévention]],1))","v":""},null,null,null,null,null,{"$f":"IF(ISBLANK(Risque[[#This Row],[Catégorie de risque]]),\"\",CONCATENATE(Risque[[#This Row],[Catégorie de risque]],3))","v":""},null,null,null,{"$f":"IF(ISBLANK(Risque[[#This Row],[Catégorie de risque]]),\"\",CONCATENATE(Risque[[#This Row],[Catégorie de risque]],4))","v":""},null,null,null,null,null,{"$f":"IF(Risque[[#This Row],[Date d''inscription du risque]]<>\"\",YEAR(Risque[[#This Row],[Date d''inscription du risque]]),\"\")","v":""}]
[null,null,{"$f":"IF(ISBLANK(Risque[[#This Row],[Catégorie de risque]]),\"\",CONCATENATE(Risque[[#This Row],[Catégorie de risque]],1))","v":""},null,null,null,null,null,{"$f":"IF(ISBLANK(Risque[[#This Row],[Catégorie de risque]]),\"\",IF(OR(ISNUMBER(SEARCH(\"RZ\",Risque[[#This Row],[Source de danger]]))=TRUE,ISNUMBER(SEARCH(\"RP\",Risque[[#This Row],[Source de danger]]))=TRUE,ISNUMBER(SEARCH(\"RZ\",Risque[[#This Row],[Risques associés]]))=TRUE,ISNUMBER(SEARCH(\"RP\",Risque[[#This Row],[Risques associés]]))=TRUE,ISNUMBER(SEARCH(\"RZ\",Risque[[#This Row],[Précision du risque\n(si liste déroulante présente)]]))=TRUE,ISNUMBER(SEARCH(\"RP\",Risque[[#This Row],[Précision du risque\n(si liste déroulante présente)]]))=TRUE),\"Oui --> Priorité d'action\",\"Non\"))","v":""},null,null,null,null,{"$f":"IF(ISBLANK(Risque[[#This Row],[Catégorie de risque]]),\"\",CONCATENATE(Risque[[#This Row],[Catégorie de risque]],2))","v":""},null,{"$f":"IF(ISBLANK(Risque[[#This Row],[Moyens de prévention]]),\"\",CONCATENATE(Risque[[#This Row],[Moyens de prévention]],1))","v":""},null,null,null,null,null,{"$f":"IF(ISBLANK(Risque[[#This Row],[Catégorie de risque]]),\"\",CONCATENATE(Risque[[#This Row],[Catégorie de risque]],3))","v":""},null,null,null,{"$f":"IF(ISBLANK(Risque[[#This Row],[Catégorie de risque]]),\"\",CONCATENATE(Risque[[#This Row],[Catégorie de risque]],4))","v":""},null,null,null,null,null,{"$f":"IF(Risque[[#This Row],[Date d''inscription du risque]]<>\"\",YEAR(Risque[[#This Row],[Date d''inscription du risque]]),\"\")","v":""}]
[null,null,{"$f":"IF(ISBLANK(Risque[[#This Row],[Catégorie de risque]]),\"\",CONCATENATE(Risque[[#This Row],[Catégorie de risque]],1))","v":""},null,null,null,null,null,{"$f":"IF(ISBLANK(Risque[[#This Row],[Catégorie de risque]]),\"\",IF(OR(ISNUMBER(SEARCH(\"RZ\",Risque[[#This Row],[Source de danger]]))=TRUE,ISNUMBER(SEARCH(\"RP\",Risque[[#This Row],[Source de danger]]))=TRUE,ISNUMBER(SEARCH(\"RZ\",Risque[[#This Row],[Risques associés]]))=TRUE,ISNUMBER(SEARCH(\"RP\",Risque[[#This Row],[Risques associés]]))=TRUE,ISNUMBER(SEARCH(\"RZ\",Risque[[#This Row],[Précision du risque\n(si liste déroulante présente)]]))=TRUE,ISNUMBER(SEARCH(\"RP\",Risque[[#This Row],[Précision du risque\n(si liste déroulante présente)]]))=TRUE),\"Oui --> Priorité d'action\",\"Non\"))","v":""},null,null,null,null,{"$f":"IF(ISBLANK(Risque[[#This Row],[Catégorie de risque]]),\"\",CONCATENATE(Risque[[#This Row],[Catégorie de risque]],2))","v":""},null,{"$f":"IF(ISBLANK(Risque[[#This Row],[Moyens de prévention]]),\"\",CONCATENATE(Risque[[#This Row],[Moyens de prévention]],1))","v":""},null,null,null,null,null,{"$f":"IF(ISBLANK(Risque[[#This Row],[Catégorie de risque]]),\"\",CONCATENATE(Risque[[#This Row],[Catégorie de risque]],3))","v":""},null,null,null,{"$f":"IF(ISBLANK(Risque[[#This Row],[Catégorie de risque]]),\"\",CONCATENATE(Risque[[#This Row],[Catégorie de risque]],4))","v":""},null,null,null,null,null,{"$f":"IF(Risque[[#This Row],[Date d''inscription du risque]]<>\"\",YEAR(Risque[[#This Row],[Date d''inscription du risque]]),\"\")","v":""}]
[null,null,{"$f":"IF(ISBLANK(Risque[[#This Row],[Catégorie de risque]]),\"\",CONCATENATE(Risque[[#This Row],[Catégorie de risque]],1))","v":""},null,null,null,null,null,{"$f":"IF(ISBLANK(Risque[[#This Row],[Catégorie de risque]]),\"\",IF(OR(ISNUMBER(SEARCH(\"RZ\",Risque[[#This Row],[Source de danger]]))=TRUE,ISNUMBER(SEARCH(\"RP\",Risque[[#This Row],[Source de danger]]))=TRUE,ISNUMBER(SEARCH(\"RZ\",Risque[[#This Row],[Risques associés]]))=TRUE,ISNUMBER(SEARCH(\"RP\",Risque[[#This Row],[Risques associés]]))=TRUE,ISNUMBER(SEARCH(\"RZ\",Risque[[#This Row],[Précision du risque\n(si liste déroulante présente)]]))=TRUE,ISNUMBER(SEARCH(\"RP\",Risque[[#This Row],[Précision du risque\n(si liste déroulante présente)]]))=TRUE),\"Oui --> Priorité d'action\",\"Non\"))","v":""},null,null,null,null,{"$f":"IF(ISBLANK(Risque[[#This Row],[Catégorie de risque]]),\"\",CONCATENATE(Risque[[#This Row],[Catégorie de risque]],2))","v":""},null,{"$f":"IF(ISBLANK(Risque[[#This Row],[Moyens de prévention]]),\"\",CONCATENATE(Risque[[#This Row],[Moyens de prévention]],1))","v":""},null,null,null,null,null,{"$f":"IF(ISBLANK(Risque[[#This Row],[Catégorie de risque]]),\"\",CONCATENATE(Risque[[#This Row],[Catégorie de risque]],3))","v":""},null,null,null,{"$f":"IF(ISBLANK(Risque[[#This Row],[Catégorie de risque]]),\"\",CONCATENATE(Risque[[#This Row],[Catégorie de risque]],4))","v":""},null,null,null,null,null,{"$f":"IF(Risque[[#This Row],[Date d''inscription du risque]]<>\"\",YEAR(Risque[[#This Row],[Date d''inscription du risque]]),\"\")","v":""}]
[null,null,{"$f":"IF(ISBLANK(Risque[[#This Row],[Catégorie de risque]]),\"\",CONCATENATE(Risque[[#This Row],[Catégorie de risque]],1))","v":""},null,null,null,null,null,{"$f":"IF(ISBLANK(Risque[[#This Row],[Catégorie de risque]]),\"\",IF(OR(ISNUMBER(SEARCH(\"RZ\",Risque[[#This Row],[Source de danger]]))=TRUE,ISNUMBER(SEARCH(\"RP\",Risque[[#This Row],[Source de danger]]))=TRUE,ISNUMBER(SEARCH(\"RZ\",Risque[[#This Row],[Risques associés]]))=TRUE,ISNUMBER(SEARCH(\"RP\",Risque[[#This Row],[Risques associés]]))=TRUE,ISNUMBER(SEARCH(\"RZ\",Risque[[#This Row],[Précision du risque\n(si liste déroulante présente)]]))=TRUE,ISNUMBER(SEARCH(\"RP\",Risque[[#This Row],[Précision du risque\n(si liste déroulante présente)]]))=TRUE),\"Oui --> Priorité d'action\",\"Non\"))","v":""},null,null,null,null,{"$f":"IF(ISBLANK(Risque[[#This Row],[Catégorie de risque]]),\"\",CONCATENATE(Risque[[#This Row],[Catégorie de risque]],2))","v":""},null,{"$f":"IF(ISBLANK(Risque[[#This Row],[Moyens de prévention]]),\"\",CONCATENATE(Risque[[#This Row],[Moyens de prévention]],1))","v":""},null,null,null,null,null,{"$f":"IF(ISBLANK(Risque[[#This Row],[Catégorie de risque]]),\"\",CONCATENATE(Risque[[#This Row],[Catégorie de risque]],3))","v":""},null,null,null,{"$f":"IF(ISBLANK(Risque[[#This Row],[Catégorie de risque]]),\"\",CONCATENATE(Risque[[#This Row],[Catégorie de risque]],4))","v":""},null,null,null,null,null,{"$f":"IF(Risque[[#This Row],[Date d''inscription du risque]]<>\"\",YEAR(Risque[[#This Row],[Date d''inscription du risque]]),\"\")","v":""}]
[null,null,{"$f":"IF(ISBLANK(Risque[[#This Row],[Catégorie de risque]]),\"\",CONCATENATE(Risque[[#This Row],[Catégorie de risque]],1))","v":""},null,null,null,null,null,{"$f":"IF(ISBLANK(Risque[[#This Row],[Catégorie de risque]]),\"\",IF(OR(ISNUMBER(SEARCH(\"RZ\",Risque[[#This Row],[Source de danger]]))=TRUE,ISNUMBER(SEARCH(\"RP\",Risque[[#This Row],[Source de danger]]))=TRUE,ISNUMBER(SEARCH(\"RZ\",Risque[[#This Row],[Risques associés]]))=TRUE,ISNUMBER(SEARCH(\"RP\",Risque[[#This Row],[Risques associés]]))=TRUE,ISNUMBER(SEARCH(\"RZ\",Risque[[#This Row],[Précision du risque\n(si liste déroulante présente)]]))=TRUE,ISNUMBER(SEARCH(\"RP\",Risque[[#This Row],[Précision du risque\n(si liste déroulante présente)]]))=TRUE),\"Oui --> Priorité d'action\",\"Non\"))","v":""},null,null,null,null,{"$f":"IF(ISBLANK(Risque[[#This Row],[Catégorie de risque]]),\"\",CONCATENATE(Risque[[#This Row],[Catégorie de risque]],2))","v":""},null,{"$f":"IF(ISBLANK(Risque[[#This Row],[Moyens de prévention]]),\"\",CONCATENATE(Risque[[#This Row],[Moyens de prévention]],1))","v":""},null,null,null,null,null,{"$f":"IF(ISBLANK(Risque[[#This Row],[Catégorie de risque]]),\"\",CONCATENATE(Risque[[#This Row],[Catégorie de risque]],3))","v":""},null,null,null,{"$f":"IF(ISBLANK(Risque[[#This Row],[Catégorie de risque]]),\"\",CONCATENATE(Risque[[#This Row],[Catégorie de risque]],4))","v":""},null,null,null,null,null,{"$f":"IF(Risque[[#This Row],[Date d''inscription du risque]]<>\"\",YEAR(Risque[[#This Row],[Date d''inscription du risque]]),\"\")","v":""}]
[null,null,{"$f":"IF(ISBLANK(Risque[[#This Row],[Catégorie de risque]]),\"\",CONCATENATE(Risque[[#This Row],[Catégorie de risque]],1))","v":""},null,null,null,null,null,{"$f":"IF(ISBLANK(Risque[[#This Row],[Catégorie de risque]]),\"\",IF(OR(ISNUMBER(SEARCH(\"RZ\",Risque[[#This Row],[Source de danger]]))=TRUE,ISNUMBER(SEARCH(\"RP\",Risque[[#This Row],[Source de danger]]))=TRUE,ISNUMBER(SEARCH(\"RZ\",Risque[[#This Row],[Risques associés]]))=TRUE,ISNUMBER(SEARCH(\"RP\",Risque[[#This Row],[Risques associés]]))=TRUE,ISNUMBER(SEARCH(\"RZ\",Risque[[#This Row],[Précision du risque\n(si liste déroulante présente)]]))=TRUE,ISNUMBER(SEARCH(\"RP\",Risque[[#This Row],[Précision du risque\n(si liste déroulante présente)]]))=TRUE),\"Oui --> Priorité d'action\",\"Non\"))","v":""},null,null,null,null,{"$f":"IF(ISBLANK(Risque[[#This Row],[Catégorie de risque]]),\"\",CONCATENATE(Risque[[#This Row],[Catégorie de risque]],2))","v":""},null,{"$f":"IF(ISBLANK(Risque[[#This Row],[Moyens de prévention]]),\"\",CONCATENATE(Risque[[#This Row],[Moyens de prévention]],1))","v":""},null,null,null,null,null,{"$f":"IF(ISBLANK(Risque[[#This Row],[Catégorie de risque]]),\"\",CONCATENATE(Risque[[#This Row],[Catégorie de risque]],3))","v":""},null,null,null,{"$f":"IF(ISBLANK(Risque[[#This Row],[Catégorie de risque]]),\"\",CONCATENATE(Risque[[#This Row],[Catégorie de risque]],4))","v":""},null,null,null,null,null,{"$f":"IF(Risque[[#This Row],[Date d''inscription du risque]]<>\"\",YEAR(Risque[[#This Row],[Date d''inscription du risque]]),\"\")","v":""}]
[null,null,{"$f":"IF(ISBLANK(Risque[[#This Row],[Catégorie de risque]]),\"\",CONCATENATE(Risque[[#This Row],[Catégorie de risque]],1))","v":""},null,null,null,null,null,{"$f":"IF(ISBLANK(Risque[[#This Row],[Catégorie de risque]]),\"\",IF(OR(ISNUMBER(SEARCH(\"RZ\",Risque[[#This Row],[Source de danger]]))=TRUE,ISNUMBER(SEARCH(\"RP\",Risque[[#This Row],[Source de danger]]))=TRUE,ISNUMBER(SEARCH(\"RZ\",Risque[[#This Row],[Risques associés]]))=TRUE,ISNUMBER(SEARCH(\"RP\",Risque[[#This Row],[Risques associés]]))=TRUE,ISNUMBER(SEARCH(\"RZ\",Risque[[#This Row],[Précision du risque\n(si liste déroulante présente)]]))=TRUE,ISNUMBER(SEARCH(\"RP\",Risque[[#This Row],[Précision du risque\n(si liste déroulante présente)]]))=TRUE),\"Oui --> Priorité d'action\",\"Non\"))","v":""},null,null,null,null,{"$f":"IF(ISBLANK(Risque[[#This Row],[Catégorie de risque]]),\"\",CONCATENATE(Risque[[#This Row],[Catégorie de risque]],2))","v":""},null,{"$f":"IF(ISBLANK(Risque[[#This Row],[Moyens de prévention]]),\"\",CONCATENATE(Risque[[#This Row],[Moyens de prévention]],1))","v":""},null,null,null,null,null,{"$f":"IF(ISBLANK(Risque[[#This Row],[Catégorie de risque]]),\"\",CONCATENATE(Risque[[#This Row],[Catégorie de risque]],3))","v":""},null,null,null,{"$f":"IF(ISBLANK(Risque[[#This Row],[Catégorie de risque]]),\"\",CONCATENATE(Risque[[#This Row],[Catégorie de risque]],4))","v":""},null,null,null,null,null,{"$f":"IF(Risque[[#This Row],[Date d''inscription du risque]]<>\"\",YEAR(Risque[[#This Row],[Date d''inscription du risque]]),\"\")","v":""}]
[null,null,{"$f":"IF(ISBLANK(Risque[[#This Row],[Catégorie de risque]]),\"\",CONCATENATE(Risque[[#This Row],[Catégorie de risque]],1))","v":""},null,null,null,null,null,{"$f":"IF(ISBLANK(Risque[[#This Row],[Catégorie de risque]]),\"\",IF(OR(ISNUMBER(SEARCH(\"RZ\",Risque[[#This Row],[Source de danger]]))=TRUE,ISNUMBER(SEARCH(\"RP\",Risque[[#This Row],[Source de danger]]))=TRUE,ISNUMBER(SEARCH(\"RZ\",Risque[[#This Row],[Risques associés]]))=TRUE,ISNUMBER(SEARCH(\"RP\",Risque[[#This Row],[Risques associés]]))=TRUE,ISNUMBER(SEARCH(\"RZ\",Risque[[#This Row],[Précision du risque\n(si liste déroulante présente)]]))=TRUE,ISNUMBER(SEARCH(\"RP\",Risque[[#This Row],[Précision du risque\n(si liste déroulante présente)]]))=TRUE),\"Oui --> Priorité d'action\",\"Non\"))","v":""},null,null,null,null,{"$f":"IF(ISBLANK(Risque[[#This Row],[Catégorie de risque]]),\"\",CONCATENATE(Risque[[#This Row],[Catégorie de risque]],2))","v":""},null,{"$f":"IF(ISBLANK(Risque[[#This Row],[Moyens de prévention]]),\"\",CONCATENATE(Risque[[#This Row],[Moyens de prévention]],1))","v":""},null,null,null,null,null,{"$f":"IF(ISBLANK(Risque[[#This Row],[Catégorie de risque]]),\"\",CONCATENATE(Risque[[#This Row],[Catégorie de risque]],3))","v":""},null,null,null,{"$f":"IF(ISBLANK(Risque[[#This Row],[Catégorie de risque]]),\"\",CONCATENATE(Risque[[#This Row],[Catégorie de risque]],4))","v":""},null,null,null,null,null,{"$f":"IF(Risque[[#This Row],[Date d''inscription du risque]]<>\"\",YEAR(Risque[[#This Row],[Date d''inscription du risque]]),\"\")","v":""}]
[null,null,{"$f":"IF(ISBLANK(Risque[[#This Row],[Catégorie de risque]]),\"\",CONCATENATE(Risque[[#This Row],[Catégorie de risque]],1))","v":""},null,null,null,null,null,{"$f":"IF(ISBLANK(Risque[[#This Row],[Catégorie de risque]]),\"\",IF(OR(ISNUMBER(SEARCH(\"RZ\",Risque[[#This Row],[Source de danger]]))=TRUE,ISNUMBER(SEARCH(\"RP\",Risque[[#This Row],[Source de danger]]))=TRUE,ISNUMBER(SEARCH(\"RZ\",Risque[[#This Row],[Risques associés]]))=TRUE,ISNUMBER(SEARCH(\"RP\",Risque[[#This Row],[Risques associés]]))=TRUE,ISNUMBER(SEARCH(\"RZ\",Risque[[#This Row],[Précision du risque\n(si liste déroulante présente)]]))=TRUE,ISNUMBER(SEARCH(\"RP\",Risque[[#This Row],[Précision du risque\n(si liste déroulante présente)]]))=TRUE),\"Oui --> Priorité d'action\",\"Non\"))","v":""},null,null,null,null,{"$f":"IF(ISBLANK(Risque[[#This Row],[Catégorie de risque]]),\"\",CONCATENATE(Risque[[#This Row],[Catégorie de risque]],2))","v":""},null,{"$f":"IF(ISBLANK(Risque[[#This Row],[Moyens de prévention]]),\"\",CONCATENATE(Risque[[#This Row],[Moyens de prévention]],1))","v":""},null,null,null,null,null,{"$f":"IF(ISBLANK(Risque[[#This Row],[Catégorie de risque]]),\"\",CONCATENATE(Risque[[#This Row],[Catégorie de risque]],3))","v":""},null,null,null,{"$f":"IF(ISBLANK(Risque[[#This Row],[Catégorie de risque]]),\"\",CONCATENATE(Risque[[#This Row],[Catégorie de risque]],4))","v":""},null,null,null,null,null,{"$f":"IF(Risque[[#This Row],[Date d''inscription du risque]]<>\"\",YEAR(Risque[[#This Row],[Date d''inscription du risque]]),\"\")","v":""}]
[null,null,{"$f":"IF(ISBLANK(Risque[[#This Row],[Catégorie de risque]]),\"\",CONCATENATE(Risque[[#This Row],[Catégorie de risque]],1))","v":""},null,null,null,null,null,{"$f":"IF(ISBLANK(Risque[[#This Row],[Catégorie de risque]]),\"\",IF(OR(ISNUMBER(SEARCH(\"RZ\",Risque[[#This Row],[Source de danger]]))=TRUE,ISNUMBER(SEARCH(\"RP\",Risque[[#This Row],[Source de danger]]))=TRUE,ISNUMBER(SEARCH(\"RZ\",Risque[[#This Row],[Risques associés]]))=TRUE,ISNUMBER(SEARCH(\"RP\",Risque[[#This Row],[Risques associés]]))=TRUE,ISNUMBER(SEARCH(\"RZ\",Risque[[#This Row],[Précision du risque\n(si liste déroulante présente)]]))=TRUE,ISNUMBER(SEARCH(\"RP\",Risque[[#This Row],[Précision du risque\n(si liste déroulante présente)]]))=TRUE),\"Oui --> Priorité d'action\",\"Non\"))","v":""},null,null,null,null,{"$f":"IF(ISBLANK(Risque[[#This Row],[Catégorie de risque]]),\"\",CONCATENATE(Risque[[#This Row],[Catégorie de risque]],2))","v":""},null,{"$f":"IF(ISBLANK(Risque[[#This Row],[Moyens de prévention]]),\"\",CONCATENATE(Risque[[#This Row],[Moyens de prévention]],1))","v":""},null,null,null,null,null,{"$f":"IF(ISBLANK(Risque[[#This Row],[Catégorie de risque]]),\"\",CONCATENATE(Risque[[#This Row],[Catégorie de risque]],3))","v":""},null,null,null,{"$f":"IF(ISBLANK(Risque[[#This Row],[Catégorie de risque]]),\"\",CONCATENATE(Risque[[#This Row],[Catégorie de risque]],4))","v":""},null,null,null,null,null,{"$f":"IF(Risque[[#This Row],[Date d''inscription du risque]]<>\"\",YEAR(Risque[[#This Row],[Date d''inscription du risque]]),\"\")","v":""}]
[null,null,{"$f":"IF(ISBLANK(Risque[[#This Row],[Catégorie de risque]]),\"\",CONCATENATE(Risque[[#This Row],[Catégorie de risque]],1))","v":""},null,null,null,null,null,{"$f":"IF(ISBLANK(Risque[[#This Row],[Catégorie de risque]]),\"\",IF(OR(ISNUMBER(SEARCH(\"RZ\",Risque[[#This Row],[Source de danger]]))=TRUE,ISNUMBER(SEARCH(\"RP\",Risque[[#This Row],[Source de danger]]))=TRUE,ISNUMBER(SEARCH(\"RZ\",Risque[[#This Row],[Risques associés]]))=TRUE,ISNUMBER(SEARCH(\"RP\",Risque[[#This Row],[Risques associés]]))=TRUE,ISNUMBER(SEARCH(\"RZ\",Risque[[#This Row],[Précision du risque\n(si liste déroulante présente)]]))=TRUE,ISNUMBER(SEARCH(\"RP\",Risque[[#This Row],[Précision du risque\n(si liste déroulante présente)]]))=TRUE),\"Oui --> Priorité d'action\",\"Non\"))","v":""},null,null,null,null,{"$f":"IF(ISBLANK(Risque[[#This Row],[Catégorie de risque]]),\"\",CONCATENATE(Risque[[#This Row],[Catégorie de risque]],2))","v":""},null,{"$f":"IF(ISBLANK(Risque[[#This Row],[Moyens de prévention]]),\"\",CONCATENATE(Risque[[#This Row],[Moyens de prévention]],1))","v":""},null,null,null,null,null,{"$f":"IF(ISBLANK(Risque[[#This Row],[Catégorie de risque]]),\"\",CONCATENATE(Risque[[#This Row],[Catégorie de risque]],3))","v":""},null,null,null,{"$f":"IF(ISBLANK(Risque[[#This Row],[Catégorie de risque]]),\"\",CONCATENATE(Risque[[#This Row],[Catégorie de risque]],4))","v":""},null,null,null,null,null,{"$f":"IF(Risque[[#This Row],[Date d''inscription du risque]]<>\"\",YEAR(Risque[[#This Row],[Date d''inscription du risque]]),\"\")","v":""}]
[null,null,{"$f":"IF(ISBLANK(Risque[[#This Row],[Catégorie de risque]]),\"\",CONCATENATE(Risque[[#This Row],[Catégorie de risque]],1))","v":""},null,null,null,null,null,{"$f":"IF(ISBLANK(Risque[[#This Row],[Catégorie de risque]]),\"\",IF(OR(ISNUMBER(SEARCH(\"RZ\",Risque[[#This Row],[Source de danger]]))=TRUE,ISNUMBER(SEARCH(\"RP\",Risque[[#This Row],[Source de danger]]))=TRUE,ISNUMBER(SEARCH(\"RZ\",Risque[[#This Row],[Risques associés]]))=TRUE,ISNUMBER(SEARCH(\"RP\",Risque[[#This Row],[Risques associés]]))=TRUE,ISNUMBER(SEARCH(\"RZ\",Risque[[#This Row],[Précision du risque\n(si liste déroulante présente)]]))=TRUE,ISNUMBER(SEARCH(\"RP\",Risque[[#This Row],[Précision du risque\n(si liste déroulante présente)]]))=TRUE),\"Oui --> Priorité d'action\",\"Non\"))","v":""},null,null,null,null,{"$f":"IF(ISBLANK(Risque[[#This Row],[Catégorie de risque]]),\"\",CONCATENATE(Risque[[#This Row],[Catégorie de risque]],2))","v":""},null,{"$f":"IF(ISBLANK(Risque[[#This Row],[Moyens de prévention]]),\"\",CONCATENATE(Risque[[#This Row],[Moyens de prévention]],1))","v":""},null,null,null,null,null,{"$f":"IF(ISBLANK(Risque[[#This Row],[Catégorie de risque]]),\"\",CONCATENATE(Risque[[#This Row],[Catégorie de risque]],3))","v":""},null,null,null,{"$f":"IF(ISBLANK(Risque[[#This Row],[Catégorie de risque]]),\"\",CONCATENATE(Risque[[#This Row],[Catégorie de risque]],4))","v":""},null,null,null,null,null,{"$f":"IF(Risque[[#This Row],[Date d''inscription du risque]]<>\"\",YEAR(Risque[[#This Row],[Date d''inscription du risque]]),\"\")","v":""}]
[null,null,{"$f":"IF(ISBLANK(Risque[[#This Row],[Catégorie de risque]]),\"\",CONCATENATE(Risque[[#This Row],[Catégorie de risque]],1))","v":""},null,null,null,null,null,{"$f":"IF(ISBLANK(Risque[[#This Row],[Catégorie de risque]]),\"\",IF(OR(ISNUMBER(SEARCH(\"RZ\",Risque[[#This Row],[Source de danger]]))=TRUE,ISNUMBER(SEARCH(\"RP\",Risque[[#This Row],[Source de danger]]))=TRUE,ISNUMBER(SEARCH(\"RZ\",Risque[[#This Row],[Risques associés]]))=TRUE,ISNUMBER(SEARCH(\"RP\",Risque[[#This Row],[Risques associés]]))=TRUE,ISNUMBER(SEARCH(\"RZ\",Risque[[#This Row],[Précision du risque\n(si liste déroulante présente)]]))=TRUE,ISNUMBER(SEARCH(\"RP\",Risque[[#This Row],[Précision du risque\n(si liste déroulante présente)]]))=TRUE),\"Oui --> Priorité d'action\",\"Non\"))","v":""},null,null,null,null,{"$f":"IF(ISBLANK(Risque[[#This Row],[Catégorie de risque]]),\"\",CONCATENATE(Risque[[#This Row],[Catégorie de risque]],2))","v":""},null,{"$f":"IF(ISBLANK(Risque[[#This Row],[Moyens de prévention]]),\"\",CONCATENATE(Risque[[#This Row],[Moyens de prévention]],1))","v":""},null,null,null,null,null,{"$f":"IF(ISBLANK(Risque[[#This Row],[Catégorie de risque]]),\"\",CONCATENATE(Risque[[#This Row],[Catégorie de risque]],3))","v":""},null,null,null,{"$f":"IF(ISBLANK(Risque[[#This Row],[Catégorie de risque]]),\"\",CONCATENATE(Risque[[#This Row],[Catégorie de risque]],4))","v":""},null,null,null,null,null,{"$f":"IF(Risque[[#This Row],[Date d''inscription du risque]]<>\"\",YEAR(Risque[[#This Row],[Date d''inscription du risque]]),\"\")","v":""}]
[null,null,{"$f":"IF(ISBLANK(Risque[[#This Row],[Catégorie de risque]]),\"\",CONCATENATE(Risque[[#This Row],[Catégorie de risque]],1))","v":""},null,null,null,null,null,{"$f":"IF(ISBLANK(Risque[[#This Row],[Catégorie de risque]]),\"\",IF(OR(ISNUMBER(SEARCH(\"RZ\",Risque[[#This Row],[Source de danger]]))=TRUE,ISNUMBER(SEARCH(\"RP\",Risque[[#This Row],[Source de danger]]))=TRUE,ISNUMBER(SEARCH(\"RZ\",Risque[[#This Row],[Risques associés]]))=TRUE,ISNUMBER(SEARCH(\"RP\",Risque[[#This Row],[Risques associés]]))=TRUE,ISNUMBER(SEARCH(\"RZ\",Risque[[#This Row],[Précision du risque\n(si liste déroulante présente)]]))=TRUE,ISNUMBER(SEARCH(\"RP\",Risque[[#This Row],[Précision du risque\n(si liste déroulante présente)]]))=TRUE),\"Oui --> Priorité d'action\",\"Non\"))","v":""},null,null,null,null,{"$f":"IF(ISBLANK(Risque[[#This Row],[Catégorie de risque]]),\"\",CONCATENATE(Risque[[#This Row],[Catégorie de risque]],2))","v":""},null,{"$f":"IF(ISBLANK(Risque[[#This Row],[Moyens de prévention]]),\"\",CONCATENATE(Risque[[#This Row],[Moyens de prévention]],1))","v":""},null,null,null,null,null,{"$f":"IF(ISBLANK(Risque[[#This Row],[Catégorie de risque]]),\"\",CONCATENATE(Risque[[#This Row],[Catégorie de risque]],3))","v":""},null,null,null,{"$f":"IF(ISBLANK(Risque[[#This Row],[Catégorie de risque]]),\"\",CONCATENATE(Risque[[#This Row],[Catégorie de risque]],4))","v":""},null,null,null,null,null,{"$f":"IF(Risque[[#This Row],[Date d''inscription du risque]]<>\"\",YEAR(Risque[[#This Row],[Date d''inscription du risque]]),\"\")","v":""}]
[null,null,{"$f":"IF(ISBLANK(Risque[[#This Row],[Catégorie de risque]]),\"\",CONCATENATE(Risque[[#This Row],[Catégorie de risque]],1))","v":""},null,null,null,null,null,{"$f":"IF(ISBLANK(Risque[[#This Row],[Catégorie de risque]]),\"\",IF(OR(ISNUMBER(SEARCH(\"RZ\",Risque[[#This Row],[Source de danger]]))=TRUE,ISNUMBER(SEARCH(\"RP\",Risque[[#This Row],[Source de danger]]))=TRUE,ISNUMBER(SEARCH(\"RZ\",Risque[[#This Row],[Risques associés]]))=TRUE,ISNUMBER(SEARCH(\"RP\",Risque[[#This Row],[Risques associés]]))=TRUE,ISNUMBER(SEARCH(\"RZ\",Risque[[#This Row],[Précision du risque\n(si liste déroulante présente)]]))=TRUE,ISNUMBER(SEARCH(\"RP\",Risque[[#This Row],[Précision du risque\n(si liste déroulante présente)]]))=TRUE),\"Oui --> Priorité d'action\",\"Non\"))","v":""},null,null,null,null,{"$f":"IF(ISBLANK(Risque[[#This Row],[Catégorie de risque]]),\"\",CONCATENATE(Risque[[#This Row],[Catégorie de risque]],2))","v":""},null,{"$f":"IF(ISBLANK(Risque[[#This Row],[Moyens de prévention]]),\"\",CONCATENATE(Risque[[#This Row],[Moyens de prévention]],1))","v":""},null,null,null,null,null,{"$f":"IF(ISBLANK(Risque[[#This Row],[Catégorie de risque]]),\"\",CONCATENATE(Risque[[#This Row],[Catégorie de risque]],3))","v":""},null,null,null,{"$f":"IF(ISBLANK(Risque[[#This Row],[Catégorie de risque]]),\"\",CONCATENATE(Risque[[#This Row],[Catégorie de risque]],4))","v":""},null,null,null,null,null,{"$f":"IF(Risque[[#This Row],[Date d''inscription du risque]]<>\"\",YEAR(Risque[[#This Row],[Date d''inscription du risque]]),\"\")","v":""}]
[null,null,{"$f":"IF(ISBLANK(Risque[[#This Row],[Catégorie de risque]]),\"\",CONCATENATE(Risque[[#This Row],[Catégorie de risque]],1))","v":""},null,null,null,null,null,{"$f":"IF(ISBLANK(Risque[[#This Row],[Catégorie de risque]]),\"\",IF(OR(ISNUMBER(SEARCH(\"RZ\",Risque[[#This Row],[Source de danger]]))=TRUE,ISNUMBER(SEARCH(\"RP\",Risque[[#This Row],[Source de danger]]))=TRUE,ISNUMBER(SEARCH(\"RZ\",Risque[[#This Row],[Risques associés]]))=TRUE,ISNUMBER(SEARCH(\"RP\",Risque[[#This Row],[Risques associés]]))=TRUE,ISNUMBER(SEARCH(\"RZ\",Risque[[#This Row],[Précision du risque\n(si liste déroulante présente)]]))=TRUE,ISNUMBER(SEARCH(\"RP\",Risque[[#This Row],[Précision du risque\n(si liste déroulante présente)]]))=TRUE),\"Oui --> Priorité d'action\",\"Non\"))","v":""},null,null,null,null,{"$f":"IF(ISBLANK(Risque[[#This Row],[Catégorie de risque]]),\"\",CONCATENATE(Risque[[#This Row],[Catégorie de risque]],2))","v":""},null,{"$f":"IF(ISBLANK(Risque[[#This Row],[Moyens de prévention]]),\"\",CONCATENATE(Risque[[#This Row],[Moyens de prévention]],1))","v":""},null,null,null,null,null,{"$f":"IF(ISBLANK(Risque[[#This Row],[Catégorie de risque]]),\"\",CONCATENATE(Risque[[#This Row],[Catégorie de risque]],3))","v":""},null,null,null,{"$f":"IF(ISBLANK(Risque[[#This Row],[Catégorie de risque]]),\"\",CONCATENATE(Risque[[#This Row],[Catégorie de risque]],4))","v":""},null,null,null,null,null,{"$f":"IF(Risque[[#This Row],[Date d''inscription du risque]]<>\"\",YEAR(Risque[[#This Row],[Date d''inscription du risque]]),\"\")","v":""}]
[null,null,{"$f":"IF(ISBLANK(Risque[[#This Row],[Catégorie de risque]]),\"\",CONCATENATE(Risque[[#This Row],[Catégorie de risque]],1))","v":""},null,null,null,null,null,{"$f":"IF(ISBLANK(Risque[[#This Row],[Catégorie de risque]]),\"\",IF(OR(ISNUMBER(SEARCH(\"RZ\",Risque[[#This Row],[Source de danger]]))=TRUE,ISNUMBER(SEARCH(\"RP\",Risque[[#This Row],[Source de danger]]))=TRUE,ISNUMBER(SEARCH(\"RZ\",Risque[[#This Row],[Risques associés]]))=TRUE,ISNUMBER(SEARCH(\"RP\",Risque[[#This Row],[Risques associés]]))=TRUE,ISNUMBER(SEARCH(\"RZ\",Risque[[#This Row],[Précision du risque\n(si liste déroulante présente)]]))=TRUE,ISNUMBER(SEARCH(\"RP\",Risque[[#This Row],[Précision du risque\n(si liste déroulante présente)]]))=TRUE),\"Oui --> Priorité d'action\",\"Non\"))","v":""},null,null,null,null,{"$f":"IF(ISBLANK(Risque[[#This Row],[Catégorie de risque]]),\"\",CONCATENATE(Risque[[#This Row],[Catégorie de risque]],2))","v":""},null,{"$f":"IF(ISBLANK(Risque[[#This Row],[Moyens de prévention]]),\"\",CONCATENATE(Risque[[#This Row],[Moyens de prévention]],1))","v":""},null,null,null,null,null,{"$f":"IF(ISBLANK(Risque[[#This Row],[Catégorie de risque]]),\"\",CONCATENATE(Risque[[#This Row],[Catégorie de risque]],3))","v":""},null,null,null,{"$f":"IF(ISBLANK(Risque[[#This Row],[Catégorie de risque]]),\"\",CONCATENATE(Risque[[#This Row],[Catégorie de risque]],4))","v":""},null,null,null,null,null,{"$f":"IF(Risque[[#This Row],[Date d''inscription du risque]]<>\"\",YEAR(Risque[[#This Row],[Date d''inscription du risque]]),\"\")","v":""}]
[null,null,{"$f":"IF(ISBLANK(Risque[[#This Row],[Catégorie de risque]]),\"\",CONCATENATE(Risque[[#This Row],[Catégorie de risque]],1))","v":""},null,null,null,null,null,{"$f":"IF(ISBLANK(Risque[[#This Row],[Catégorie de risque]]),\"\",IF(OR(ISNUMBER(SEARCH(\"RZ\",Risque[[#This Row],[Source de danger]]))=TRUE,ISNUMBER(SEARCH(\"RP\",Risque[[#This Row],[Source de danger]]))=TRUE,ISNUMBER(SEARCH(\"RZ\",Risque[[#This Row],[Risques associés]]))=TRUE,ISNUMBER(SEARCH(\"RP\",Risque[[#This Row],[Risques associés]]))=TRUE,ISNUMBER(SEARCH(\"RZ\",Risque[[#This Row],[Précision du risque\n(si liste déroulante présente)]]))=TRUE,ISNUMBER(SEARCH(\"RP\",Risque[[#This Row],[Précision du risque\n(si liste déroulante présente)]]))=TRUE),\"Oui --> Priorité d'action\",\"Non\"))","v":""},null,null,null,null,{"$f":"IF(ISBLANK(Risque[[#This Row],[Catégorie de risque]]),\"\",CONCATENATE(Risque[[#This Row],[Catégorie de risque]],2))","v":""},null,{"$f":"IF(ISBLANK(Risque[[#This Row],[Moyens de prévention]]),\"\",CONCATENATE(Risque[[#This Row],[Moyens de prévention]],1))","v":""},null,null,null,null,null,{"$f":"IF(ISBLANK(Risque[[#This Row],[Catégorie de risque]]),\"\",CONCATENATE(Risque[[#This Row],[Catégorie de risque]],3))","v":""},null,null,null,{"$f":"IF(ISBLANK(Risque[[#This Row],[Catégorie de risque]]),\"\",CONCATENATE(Risque[[#This Row],[Catégorie de risque]],4))","v":""},null,null,null,null,null,{"$f":"IF(Risque[[#This Row],[Date d''inscription du risque]]<>\"\",YEAR(Risque[[#This Row],[Date d''inscription du risque]]),\"\")","v":""}]
[null,null,{"$f":"IF(ISBLANK(Risque[[#This Row],[Catégorie de risque]]),\"\",CONCATENATE(Risque[[#This Row],[Catégorie de risque]],1))","v":""},null,null,null,null,null,{"$f":"IF(ISBLANK(Risque[[#This Row],[Catégorie de risque]]),\"\",IF(OR(ISNUMBER(SEARCH(\"RZ\",Risque[[#This Row],[Source de danger]]))=TRUE,ISNUMBER(SEARCH(\"RP\",Risque[[#This Row],[Source de danger]]))=TRUE,ISNUMBER(SEARCH(\"RZ\",Risque[[#This Row],[Risques associés]]))=TRUE,ISNUMBER(SEARCH(\"RP\",Risque[[#This Row],[Risques associés]]))=TRUE,ISNUMBER(SEARCH(\"RZ\",Risque[[#This Row],[Précision du risque\n(si liste déroulante présente)]]))=TRUE,ISNUMBER(SEARCH(\"RP\",Risque[[#This Row],[Précision du risque\n(si liste déroulante présente)]]))=TRUE),\"Oui --> Priorité d'action\",\"Non\"))","v":""},null,null,null,null,{"$f":"IF(ISBLANK(Risque[[#This Row],[Catégorie de risque]]),\"\",CONCATENATE(Risque[[#This Row],[Catégorie de risque]],2))","v":""},null,{"$f":"IF(ISBLANK(Risque[[#This Row],[Moyens de prévention]]),\"\",CONCATENATE(Risque[[#This Row],[Moyens de prévention]],1))","v":""},null,null,null,null,null,{"$f":"IF(ISBLANK(Risque[[#This Row],[Catégorie de risque]]),\"\",CONCATENATE(Risque[[#This Row],[Catégorie de risque]],3))","v":""},null,null,null,{"$f":"IF(ISBLANK(Risque[[#This Row],[Catégorie de risque]]),\"\",CONCATENATE(Risque[[#This Row],[Catégorie de risque]],4))","v":""},null,null,null,null,null,{"$f":"IF(Risque[[#This Row],[Date d''inscription du risque]]<>\"\",YEAR(Risque[[#This Row],[Date d''inscription du risque]]),\"\")","v":""}]
[null,null,{"$f":"IF(ISBLANK(Risque[[#This Row],[Catégorie de risque]]),\"\",CONCATENATE(Risque[[#This Row],[Catégorie de risque]],1))","v":""},null,null,null,null,null,{"$f":"IF(ISBLANK(Risque[[#This Row],[Catégorie de risque]]),\"\",IF(OR(ISNUMBER(SEARCH(\"RZ\",Risque[[#This Row],[Source de danger]]))=TRUE,ISNUMBER(SEARCH(\"RP\",Risque[[#This Row],[Source de danger]]))=TRUE,ISNUMBER(SEARCH(\"RZ\",Risque[[#This Row],[Risques associés]]))=TRUE,ISNUMBER(SEARCH(\"RP\",Risque[[#This Row],[Risques associés]]))=TRUE,ISNUMBER(SEARCH(\"RZ\",Risque[[#This Row],[Précision du risque\n(si liste déroulante présente)]]))=TRUE,ISNUMBER(SEARCH(\"RP\",Risque[[#This Row],[Précision du risque\n(si liste déroulante présente)]]))=TRUE),\"Oui --> Priorité d'action\",\"Non\"))","v":""},null,null,null,null,{"$f":"IF(ISBLANK(Risque[[#This Row],[Catégorie de risque]]),\"\",CONCATENATE(Risque[[#This Row],[Catégorie de risque]],2))","v":""},null,{"$f":"IF(ISBLANK(Risque[[#This Row],[Moyens de prévention]]),\"\",CONCATENATE(Risque[[#This Row],[Moyens de prévention]],1))","v":""},null,null,null,null,null,{"$f":"IF(ISBLANK(Risque[[#This Row],[Catégorie de risque]]),\"\",CONCATENATE(Risque[[#This Row],[Catégorie de risque]],3))","v":""},null,null,null,{"$f":"IF(ISBLANK(Risque[[#This Row],[Catégorie de risque]]),\"\",CONCATENATE(Risque[[#This Row],[Catégorie de risque]],4))","v":""},null,null,null,null,null,{"$f":"IF(Risque[[#This Row],[Date d''inscription du risque]]<>\"\",YEAR(Risque[[#This Row],[Date d''inscription du risque]]),\"\")","v":""}]
[null,null,{"$f":"IF(ISBLANK(Risque[[#This Row],[Catégorie de risque]]),\"\",CONCATENATE(Risque[[#This Row],[Catégorie de risque]],1))","v":""},null,null,null,null,null,{"$f":"IF(ISBLANK(Risque[[#This Row],[Catégorie de risque]]),\"\",IF(OR(ISNUMBER(SEARCH(\"RZ\",Risque[[#This Row],[Source de danger]]))=TRUE,ISNUMBER(SEARCH(\"RP\",Risque[[#This Row],[Source de danger]]))=TRUE,ISNUMBER(SEARCH(\"RZ\",Risque[[#This Row],[Risques associés]]))=TRUE,ISNUMBER(SEARCH(\"RP\",Risque[[#This Row],[Risques associés]]))=TRUE,ISNUMBER(SEARCH(\"RZ\",Risque[[#This Row],[Précision du risque\n(si liste déroulante présente)]]))=TRUE,ISNUMBER(SEARCH(\"RP\",Risque[[#This Row],[Précision du risque\n(si liste déroulante présente)]]))=TRUE),\"Oui --> Priorité d'action\",\"Non\"))","v":""},null,null,null,null,{"$f":"IF(ISBLANK(Risque[[#This Row],[Catégorie de risque]]),\"\",CONCATENATE(Risque[[#This Row],[Catégorie de risque]],2))","v":""},null,{"$f":"IF(ISBLANK(Risque[[#This Row],[Moyens de prévention]]),\"\",CONCATENATE(Risque[[#This Row],[Moyens de prévention]],1))","v":""},null,null,null,null,null,{"$f":"IF(ISBLANK(Risque[[#This Row],[Catégorie de risque]]),\"\",CONCATENATE(Risque[[#This Row],[Catégorie de risque]],3))","v":""},null,null,null,{"$f":"IF(ISBLANK(Risque[[#This Row],[Catégorie de risque]]),\"\",CONCATENATE(Risque[[#This Row],[Catégorie de risque]],4))","v":""},null,null,null,null,null,{"$f":"IF(Risque[[#This Row],[Date d''inscription du risque]]<>\"\",YEAR(Risque[[#This Row],[Date d''inscription du risque]]),\"\")","v":""}]
[null,null,{"$f":"IF(ISBLANK(Risque[[#This Row],[Catégorie de risque]]),\"\",CONCATENATE(Risque[[#This Row],[Catégorie de risque]],1))","v":""},null,null,null,null,null,{"$f":"IF(ISBLANK(Risque[[#This Row],[Catégorie de risque]]),\"\",IF(OR(ISNUMBER(SEARCH(\"RZ\",Risque[[#This Row],[Source de danger]]))=TRUE,ISNUMBER(SEARCH(\"RP\",Risque[[#This Row],[Source de danger]]))=TRUE,ISNUMBER(SEARCH(\"RZ\",Risque[[#This Row],[Risques associés]]))=TRUE,ISNUMBER(SEARCH(\"RP\",Risque[[#This Row],[Risques associés]]))=TRUE,ISNUMBER(SEARCH(\"RZ\",Risque[[#This Row],[Précision du risque\n(si liste déroulante présente)]]))=TRUE,ISNUMBER(SEARCH(\"RP\",Risque[[#This Row],[Précision du risque\n(si liste déroulante présente)]]))=TRUE),\"Oui --> Priorité d'action\",\"Non\"))","v":""},null,null,null,null,{"$f":"IF(ISBLANK(Risque[[#This Row],[Catégorie de risque]]),\"\",CONCATENATE(Risque[[#This Row],[Catégorie de risque]],2))","v":""},null,{"$f":"IF(ISBLANK(Risque[[#This Row],[Moyens de prévention]]),\"\",CONCATENATE(Risque[[#This Row],[Moyens de prévention]],1))","v":""},null,null,null,null,null,{"$f":"IF(ISBLANK(Risque[[#This Row],[Catégorie de risque]]),\"\",CONCATENATE(Risque[[#This Row],[Catégorie de risque]],3))","v":""},null,null,null,{"$f":"IF(ISBLANK(Risque[[#This Row],[Catégorie de risque]]),\"\",CONCATENATE(Risque[[#This Row],[Catégorie de risque]],4))","v":""},null,null,null,null,null,{"$f":"IF(Risque[[#This Row],[Date d''inscription du risque]]<>\"\",YEAR(Risque[[#This Row],[Date d''inscription du risque]]),\"\")","v":""}]
[null,null,{"$f":"IF(ISBLANK(Risque[[#This Row],[Catégorie de risque]]),\"\",CONCATENATE(Risque[[#This Row],[Catégorie de risque]],1))","v":""},null,null,null,null,null,{"$f":"IF(ISBLANK(Risque[[#This Row],[Catégorie de risque]]),\"\",IF(OR(ISNUMBER(SEARCH(\"RZ\",Risque[[#This Row],[Source de danger]]))=TRUE,ISNUMBER(SEARCH(\"RP\",Risque[[#This Row],[Source de danger]]))=TRUE,ISNUMBER(SEARCH(\"RZ\",Risque[[#This Row],[Risques associés]]))=TRUE,ISNUMBER(SEARCH(\"RP\",Risque[[#This Row],[Risques associés]]))=TRUE,ISNUMBER(SEARCH(\"RZ\",Risque[[#This Row],[Précision du risque\n(si liste déroulante présente)]]))=TRUE,ISNUMBER(SEARCH(\"RP\",Risque[[#This Row],[Précision du risque\n(si liste déroulante présente)]]))=TRUE),\"Oui --> Priorité d'action\",\"Non\"))","v":""},null,null,null,null,{"$f":"IF(ISBLANK(Risque[[#This Row],[Catégorie de risque]]),\"\",CONCATENATE(Risque[[#This Row],[Catégorie de risque]],2))","v":""},null,{"$f":"IF(ISBLANK(Risque[[#This Row],[Moyens de prévention]]),\"\",CONCATENATE(Risque[[#This Row],[Moyens de prévention]],1))","v":""},null,null,null,null,null,{"$f":"IF(ISBLANK(Risque[[#This Row],[Catégorie de risque]]),\"\",CONCATENATE(Risque[[#This Row],[Catégorie de risque]],3))","v":""},null,null,null,{"$f":"IF(ISBLANK(Risque[[#This Row],[Catégorie de risque]]),\"\",CONCATENATE(Risque[[#This Row],[Catégorie de risque]],4))","v":""},null,null,null,null,null,{"$f":"IF(Risque[[#This Row],[Date d''inscription du risque]]<>\"\",YEAR(Risque[[#This Row],[Date d''inscription du risque]]),\"\")","v":""}]
[null,null,{"$f":"IF(ISBLANK(Risque[[#This Row],[Catégorie de risque]]),\"\",CONCATENATE(Risque[[#This Row],[Catégorie de risque]],1))","v":""},null,null,null,null,null,{"$f":"IF(ISBLANK(Risque[[#This Row],[Catégorie de risque]]),\"\",IF(OR(ISNUMBER(SEARCH(\"RZ\",Risque[[#This Row],[Source de danger]]))=TRUE,ISNUMBER(SEARCH(\"RP\",Risque[[#This Row],[Source de danger]]))=TRUE,ISNUMBER(SEARCH(\"RZ\",Risque[[#This Row],[Risques associés]]))=TRUE,ISNUMBER(SEARCH(\"RP\",Risque[[#This Row],[Risques associés]]))=TRUE,ISNUMBER(SEARCH(\"RZ\",Risque[[#This Row],[Précision du risque\n(si liste déroulante présente)]]))=TRUE,ISNUMBER(SEARCH(\"RP\",Risque[[#This Row],[Précision du risque\n(si liste déroulante présente)]]))=TRUE),\"Oui --> Priorité d'action\",\"Non\"))","v":""},null,null,null,null,{"$f":"IF(ISBLANK(Risque[[#This Row],[Catégorie de risque]]),\"\",CONCATENATE(Risque[[#This Row],[Catégorie de risque]],2))","v":""},null,{"$f":"IF(ISBLANK(Risque[[#This Row],[Moyens de prévention]]),\"\",CONCATENATE(Risque[[#This Row],[Moyens de prévention]],1))","v":""},null,null,null,null,null,{"$f":"IF(ISBLANK(Risque[[#This Row],[Catégorie de risque]]),\"\",CONCATENATE(Risque[[#This Row],[Catégorie de risque]],3))","v":""},null,null,null,{"$f":"IF(ISBLANK(Risque[[#This Row],[Catégorie de risque]]),\"\",CONCATENATE(Risque[[#This Row],[Catégorie de risque]],4))","v":""},null,null,null,null,null,{"$f":"IF(Risque[[#This Row],[Date d''inscription du risque]]<>\"\",YEAR(Risque[[#This Row],[Date d''inscription du risque]]),\"\")","v":""}]
[null,null,{"$f":"IF(ISBLANK(Risque[[#This Row],[Catégorie de risque]]),\"\",CONCATENATE(Risque[[#This Row],[Catégorie de risque]],1))","v":""},null,null,null,null,null,{"$f":"IF(ISBLANK(Risque[[#This Row],[Catégorie de risque]]),\"\",IF(OR(ISNUMBER(SEARCH(\"RZ\",Risque[[#This Row],[Source de danger]]))=TRUE,ISNUMBER(SEARCH(\"RP\",Risque[[#This Row],[Source de danger]]))=TRUE,ISNUMBER(SEARCH(\"RZ\",Risque[[#This Row],[Risques associés]]))=TRUE,ISNUMBER(SEARCH(\"RP\",Risque[[#This Row],[Risques associés]]))=TRUE,ISNUMBER(SEARCH(\"RZ\",Risque[[#This Row],[Précision du risque\n(si liste déroulante présente)]]))=TRUE,ISNUMBER(SEARCH(\"RP\",Risque[[#This Row],[Précision du risque\n(si liste déroulante présente)]]))=TRUE),\"Oui --> Priorité d'action\",\"Non\"))","v":""},null,null,null,null,{"$f":"IF(ISBLANK(Risque[[#This Row],[Catégorie de risque]]),\"\",CONCATENATE(Risque[[#This Row],[Catégorie de risque]],2))","v":""},null,{"$f":"IF(ISBLANK(Risque[[#This Row],[Moyens de prévention]]),\"\",CONCATENATE(Risque[[#This Row],[Moyens de prévention]],1))","v":""},null,null,null,null,null,{"$f":"IF(ISBLANK(Risque[[#This Row],[Catégorie de risque]]),\"\",CONCATENATE(Risque[[#This Row],[Catégorie de risque]],3))","v":""},null,null,null,{"$f":"IF(ISBLANK(Risque[[#This Row],[Catégorie de risque]]),\"\",CONCATENATE(Risque[[#This Row],[Catégorie de risque]],4))","v":""},null,null,null,null,null,{"$f":"IF(Risque[[#This Row],[Date d''inscription du risque]]<>\"\",YEAR(Risque[[#This Row],[Date d''inscription du risque]]),\"\")","v":""}]
[null,null,{"$f":"IF(ISBLANK(Risque[[#This Row],[Catégorie de risque]]),\"\",CONCATENATE(Risque[[#This Row],[Catégorie de risque]],1))","v":""},null,null,null,null,null,{"$f":"IF(ISBLANK(Risque[[#This Row],[Catégorie de risque]]),\"\",IF(OR(ISNUMBER(SEARCH(\"RZ\",Risque[[#This Row],[Source de danger]]))=TRUE,ISNUMBER(SEARCH(\"RP\",Risque[[#This Row],[Source de danger]]))=TRUE,ISNUMBER(SEARCH(\"RZ\",Risque[[#This Row],[Risques associés]]))=TRUE,ISNUMBER(SEARCH(\"RP\",Risque[[#This Row],[Risques associés]]))=TRUE,ISNUMBER(SEARCH(\"RZ\",Risque[[#This Row],[Précision du risque\n(si liste déroulante présente)]]))=TRUE,ISNUMBER(SEARCH(\"RP\",Risque[[#This Row],[Précision du risque\n(si liste déroulante présente)]]))=TRUE),\"Oui --> Priorité d'action\",\"Non\"))","v":""},null,null,null,null,{"$f":"IF(ISBLANK(Risque[[#This Row],[Catégorie de risque]]),\"\",CONCATENATE(Risque[[#This Row],[Catégorie de risque]],2))","v":""},null,{"$f":"IF(ISBLANK(Risque[[#This Row],[Moyens de prévention]]),\"\",CONCATENATE(Risque[[#This Row],[Moyens de prévention]],1))","v":""},null,null,null,null,null,{"$f":"IF(ISBLANK(Risque[[#This Row],[Catégorie de risque]]),\"\",CONCATENATE(Risque[[#This Row],[Catégorie de risque]],3))","v":""},null,null,null,{"$f":"IF(ISBLANK(Risque[[#This Row],[Catégorie de risque]]),\"\",CONCATENATE(Risque[[#This Row],[Catégorie de risque]],4))","v":""},null,null,null,null,null,{"$f":"IF(Risque[[#This Row],[Date d''inscription du risque]]<>\"\",YEAR(Risque[[#This Row],[Date d''inscription du risque]]),\"\")","v":""}]
[null,null,{"$f":"IF(ISBLANK(Risque[[#This Row],[Catégorie de risque]]),\"\",CONCATENATE(Risque[[#This Row],[Catégorie de risque]],1))","v":""},null,null,null,null,null,{"$f":"IF(ISBLANK(Risque[[#This Row],[Catégorie de risque]]),\"\",IF(OR(ISNUMBER(SEARCH(\"RZ\",Risque[[#This Row],[Source de danger]]))=TRUE,ISNUMBER(SEARCH(\"RP\",Risque[[#This Row],[Source de danger]]))=TRUE,ISNUMBER(SEARCH(\"RZ\",Risque[[#This Row],[Risques associés]]))=TRUE,ISNUMBER(SEARCH(\"RP\",Risque[[#This Row],[Risques associés]]))=TRUE,ISNUMBER(SEARCH(\"RZ\",Risque[[#This Row],[Précision du risque\n(si liste déroulante présente)]]))=TRUE,ISNUMBER(SEARCH(\"RP\",Risque[[#This Row],[Précision du risque\n(si liste déroulante présente)]]))=TRUE),\"Oui --> Priorité d'action\",\"Non\"))","v":""},null,null,null,null,{"$f":"IF(ISBLANK(Risque[[#This Row],[Catégorie de risque]]),\"\",CONCATENATE(Risque[[#This Row],[Catégorie de risque]],2))","v":""},null,{"$f":"IF(ISBLANK(Risque[[#This Row],[Moyens de prévention]]),\"\",CONCATENATE(Risque[[#This Row],[Moyens de prévention]],1))","v":""},null,null,null,null,null,{"$f":"IF(ISBLANK(Risque[[#This Row],[Catégorie de risque]]),\"\",CONCATENATE(Risque[[#This Row],[Catégorie de risque]],3))","v":""},null,null,null,{"$f":"IF(ISBLANK(Risque[[#This Row],[Catégorie de risque]]),\"\",CONCATENATE(Risque[[#This Row],[Catégorie de risque]],4))","v":""},null,null,null,null,null,{"$f":"IF(Risque[[#This Row],[Date d''inscription du risque]]<>\"\",YEAR(Risque[[#This Row],[Date d''inscription du risque]]),\"\")","v":""}]
[null,null,{"$f":"IF(ISBLANK(Risque[[#This Row],[Catégorie de risque]]),\"\",CONCATENATE(Risque[[#This Row],[Catégorie de risque]],1))","v":""},null,null,null,null,null,{"$f":"IF(ISBLANK(Risque[[#This Row],[Catégorie de risque]]),\"\",IF(OR(ISNUMBER(SEARCH(\"RZ\",Risque[[#This Row],[Source de danger]]))=TRUE,ISNUMBER(SEARCH(\"RP\",Risque[[#This Row],[Source de danger]]))=TRUE,ISNUMBER(SEARCH(\"RZ\",Risque[[#This Row],[Risques associés]]))=TRUE,ISNUMBER(SEARCH(\"RP\",Risque[[#This Row],[Risques associés]]))=TRUE,ISNUMBER(SEARCH(\"RZ\",Risque[[#This Row],[Précision du risque\n(si liste déroulante présente)]]))=TRUE,ISNUMBER(SEARCH(\"RP\",Risque[[#This Row],[Précision du risque\n(si liste déroulante présente)]]))=TRUE),\"Oui --> Priorité d'action\",\"Non\"))","v":""},null,null,null,null,{"$f":"IF(ISBLANK(Risque[[#This Row],[Catégorie de risque]]),\"\",CONCATENATE(Risque[[#This Row],[Catégorie de risque]],2))","v":""},null,{"$f":"IF(ISBLANK(Risque[[#This Row],[Moyens de prévention]]),\"\",CONCATENATE(Risque[[#This Row],[Moyens de prévention]],1))","v":""},null,null,null,null,null,{"$f":"IF(ISBLANK(Risque[[#This Row],[Catégorie de risque]]),\"\",CONCATENATE(Risque[[#This Row],[Catégorie de risque]],3))","v":""},null,null,null,{"$f":"IF(ISBLANK(Risque[[#This Row],[Catégorie de risque]]),\"\",CONCATENATE(Risque[[#This Row],[Catégorie de risque]],4))","v":""},null,null,null,null,null,{"$f":"IF(Risque[[#This Row],[Date d''inscription du risque]]<>\"\",YEAR(Risque[[#This Row],[Date d''inscription du risque]]),\"\")","v":""}]
[null,null,{"$f":"IF(ISBLANK(Risque[[#This Row],[Catégorie de risque]]),\"\",CONCATENATE(Risque[[#This Row],[Catégorie de risque]],1))","v":""},null,null,null,null,null,{"$f":"IF(ISBLANK(Risque[[#This Row],[Catégorie de risque]]),\"\",IF(OR(ISNUMBER(SEARCH(\"RZ\",Risque[[#This Row],[Source de danger]]))=TRUE,ISNUMBER(SEARCH(\"RP\",Risque[[#This Row],[Source de danger]]))=TRUE,ISNUMBER(SEARCH(\"RZ\",Risque[[#This Row],[Risques associés]]))=TRUE,ISNUMBER(SEARCH(\"RP\",Risque[[#This Row],[Risques associés]]))=TRUE,ISNUMBER(SEARCH(\"RZ\",Risque[[#This Row],[Précision du risque\n(si liste déroulante présente)]]))=TRUE,ISNUMBER(SEARCH(\"RP\",Risque[[#This Row],[Précision du risque\n(si liste déroulante présente)]]))=TRUE),\"Oui --> Priorité d'action\",\"Non\"))","v":""},null,null,null,null,{"$f":"IF(ISBLANK(Risque[[#This Row],[Catégorie de risque]]),\"\",CONCATENATE(Risque[[#This Row],[Catégorie de risque]],2))","v":""},null,{"$f":"IF(ISBLANK(Risque[[#This Row],[Moyens de prévention]]),\"\",CONCATENATE(Risque[[#This Row],[Moyens de prévention]],1))","v":""},null,null,null,null,null,{"$f":"IF(ISBLANK(Risque[[#This Row],[Catégorie de risque]]),\"\",CONCATENATE(Risque[[#This Row],[Catégorie de risque]],3))","v":""},null,null,null,{"$f":"IF(ISBLANK(Risque[[#This Row],[Catégorie de risque]]),\"\",CONCATENATE(Risque[[#This Row],[Catégorie de risque]],4))","v":""},null,null,null,null,null,{"$f":"IF(Risque[[#This Row],[Date d''inscription du risque]]<>\"\",YEAR(Risque[[#This Row],[Date d''inscription du risque]]),\"\")","v":""}]
[null,null,{"$f":"IF(ISBLANK(Risque[[#This Row],[Catégorie de risque]]),\"\",CONCATENATE(Risque[[#This Row],[Catégorie de risque]],1))","v":""},null,null,null,null,null,{"$f":"IF(ISBLANK(Risque[[#This Row],[Catégorie de risque]]),\"\",IF(OR(ISNUMBER(SEARCH(\"RZ\",Risque[[#This Row],[Source de danger]]))=TRUE,ISNUMBER(SEARCH(\"RP\",Risque[[#This Row],[Source de danger]]))=TRUE,ISNUMBER(SEARCH(\"RZ\",Risque[[#This Row],[Risques associés]]))=TRUE,ISNUMBER(SEARCH(\"RP\",Risque[[#This Row],[Risques associés]]))=TRUE,ISNUMBER(SEARCH(\"RZ\",Risque[[#This Row],[Précision du risque\n(si liste déroulante présente)]]))=TRUE,ISNUMBER(SEARCH(\"RP\",Risque[[#This Row],[Précision du risque\n(si liste déroulante présente)]]))=TRUE),\"Oui --> Priorité d'action\",\"Non\"))","v":""},null,null,null,null,{"$f":"IF(ISBLANK(Risque[[#This Row],[Catégorie de risque]]),\"\",CONCATENATE(Risque[[#This Row],[Catégorie de risque]],2))","v":""},null,{"$f":"IF(ISBLANK(Risque[[#This Row],[Moyens de prévention]]),\"\",CONCATENATE(Risque[[#This Row],[Moyens de prévention]],1))","v":""},null,null,null,null,null,{"$f":"IF(ISBLANK(Risque[[#This Row],[Catégorie de risque]]),\"\",CONCATENATE(Risque[[#This Row],[Catégorie de risque]],3))","v":""},null,null,null,{"$f":"IF(ISBLANK(Risque[[#This Row],[Catégorie de risque]]),\"\",CONCATENATE(Risque[[#This Row],[Catégorie de risque]],4))","v":""},null,null,null,null,null,{"$f":"IF(Risque[[#This Row],[Date d''inscription du risque]]<>\"\",YEAR(Risque[[#This Row],[Date d''inscription du risque]]),\"\")","v":""}]
[null,null,{"$f":"IF(ISBLANK(Risque[[#This Row],[Catégorie de risque]]),\"\",CONCATENATE(Risque[[#This Row],[Catégorie de risque]],1))","v":""},null,null,null,null,null,{"$f":"IF(ISBLANK(Risque[[#This Row],[Catégorie de risque]]),\"\",IF(OR(ISNUMBER(SEARCH(\"RZ\",Risque[[#This Row],[Source de danger]]))=TRUE,ISNUMBER(SEARCH(\"RP\",Risque[[#This Row],[Source de danger]]))=TRUE,ISNUMBER(SEARCH(\"RZ\",Risque[[#This Row],[Risques associés]]))=TRUE,ISNUMBER(SEARCH(\"RP\",Risque[[#This Row],[Risques associés]]))=TRUE,ISNUMBER(SEARCH(\"RZ\",Risque[[#This Row],[Précision du risque\n(si liste déroulante présente)]]))=TRUE,ISNUMBER(SEARCH(\"RP\",Risque[[#This Row],[Précision du risque\n(si liste déroulante présente)]]))=TRUE),\"Oui --> Priorité d'action\",\"Non\"))","v":""},null,null,null,null,{"$f":"IF(ISBLANK(Risque[[#This Row],[Catégorie de risque]]),\"\",CONCATENATE(Risque[[#This Row],[Catégorie de risque]],2))","v":""},null,{"$f":"IF(ISBLANK(Risque[[#This Row],[Moyens de prévention]]),\"\",CONCATENATE(Risque[[#This Row],[Moyens de prévention]],1))","v":""},null,null,null,null,null,{"$f":"IF(ISBLANK(Risque[[#This Row],[Catégorie de risque]]),\"\",CONCATENATE(Risque[[#This Row],[Catégorie de risque]],3))","v":""},null,null,null,{"$f":"IF(ISBLANK(Risque[[#This Row],[Catégorie de risque]]),\"\",CONCATENATE(Risque[[#This Row],[Catégorie de risque]],4))","v":""},null,null,null,null,null,{"$f":"IF(Risque[[#This Row],[Date d''inscription du risque]]<>\"\",YEAR(Risque[[#This Row],[Date d''inscription du risque]]),\"\")","v":""}]
[null,null,{"$f":"IF(ISBLANK(Risque[[#This Row],[Catégorie de risque]]),\"\",CONCATENATE(Risque[[#This Row],[Catégorie de risque]],1))","v":""},null,null,null,null,null,{"$f":"IF(ISBLANK(Risque[[#This Row],[Catégorie de risque]]),\"\",IF(OR(ISNUMBER(SEARCH(\"RZ\",Risque[[#This Row],[Source de danger]]))=TRUE,ISNUMBER(SEARCH(\"RP\",Risque[[#This Row],[Source de danger]]))=TRUE,ISNUMBER(SEARCH(\"RZ\",Risque[[#This Row],[Risques associés]]))=TRUE,ISNUMBER(SEARCH(\"RP\",Risque[[#This Row],[Risques associés]]))=TRUE,ISNUMBER(SEARCH(\"RZ\",Risque[[#This Row],[Précision du risque\n(si liste déroulante présente)]]))=TRUE,ISNUMBER(SEARCH(\"RP\",Risque[[#This Row],[Précision du risque\n(si liste déroulante présente)]]))=TRUE),\"Oui --> Priorité d'action\",\"Non\"))","v":""},null,null,null,null,{"$f":"IF(ISBLANK(Risque[[#This Row],[Catégorie de risque]]),\"\",CONCATENATE(Risque[[#This Row],[Catégorie de risque]],2))","v":""},null,{"$f":"IF(ISBLANK(Risque[[#This Row],[Moyens de prévention]]),\"\",CONCATENATE(Risque[[#This Row],[Moyens de prévention]],1))","v":""},null,null,null,null,null,{"$f":"IF(ISBLANK(Risque[[#This Row],[Catégorie de risque]]),\"\",CONCATENATE(Risque[[#This Row],[Catégorie de risque]],3))","v":""},null,null,null,{"$f":"IF(ISBLANK(Risque[[#This Row],[Catégorie de risque]]),\"\",CONCATENATE(Risque[[#This Row],[Catégorie de risque]],4))","v":""},null,null,null,null,null,{"$f":"IF(Risque[[#This Row],[Date d''inscription du risque]]<>\"\",YEAR(Risque[[#This Row],[Date d''inscription du risque]]),\"\")","v":""}]
[null,null,{"$f":"IF(ISBLANK(Risque[[#This Row],[Catégorie de risque]]),\"\",CONCATENATE(Risque[[#This Row],[Catégorie de risque]],1))","v":""},null,null,null,null,null,{"$f":"IF(ISBLANK(Risque[[#This Row],[Catégorie de risque]]),\"\",IF(OR(ISNUMBER(SEARCH(\"RZ\",Risque[[#This Row],[Source de danger]]))=TRUE,ISNUMBER(SEARCH(\"RP\",Risque[[#This Row],[Source de danger]]))=TRUE,ISNUMBER(SEARCH(\"RZ\",Risque[[#This Row],[Risques associés]]))=TRUE,ISNUMBER(SEARCH(\"RP\",Risque[[#This Row],[Risques associés]]))=TRUE,ISNUMBER(SEARCH(\"RZ\",Risque[[#This Row],[Précision du risque\n(si liste déroulante présente)]]))=TRUE,ISNUMBER(SEARCH(\"RP\",Risque[[#This Row],[Précision du risque\n(si liste déroulante présente)]]))=TRUE),\"Oui --> Priorité d'action\",\"Non\"))","v":""},null,null,null,null,{"$f":"IF(ISBLANK(Risque[[#This Row],[Catégorie de risque]]),\"\",CONCATENATE(Risque[[#This Row],[Catégorie de risque]],2))","v":""},null,{"$f":"IF(ISBLANK(Risque[[#This Row],[Moyens de prévention]]),\"\",CONCATENATE(Risque[[#This Row],[Moyens de prévention]],1))","v":""},null,null,null,null,null,{"$f":"IF(ISBLANK(Risque[[#This Row],[Catégorie de risque]]),\"\",CONCATENATE(Risque[[#This Row],[Catégorie de risque]],3))","v":""},null,null,null,{"$f":"IF(ISBLANK(Risque[[#This Row],[Catégorie de risque]]),\"\",CONCATENATE(Risque[[#This Row],[Catégorie de risque]],4))","v":""},null,null,null,null,null,{"$f":"IF(Risque[[#This Row],[Date d''inscription du risque]]<>\"\",YEAR(Risque[[#This Row],[Date d''inscription du risque]]),\"\")","v":""}]
[null,null,{"$f":"IF(ISBLANK(Risque[[#This Row],[Catégorie de risque]]),\"\",CONCATENATE(Risque[[#This Row],[Catégorie de risque]],1))","v":""},null,null,null,null,null,{"$f":"IF(ISBLANK(Risque[[#This Row],[Catégorie de risque]]),\"\",IF(OR(ISNUMBER(SEARCH(\"RZ\",Risque[[#This Row],[Source de danger]]))=TRUE,ISNUMBER(SEARCH(\"RP\",Risque[[#This Row],[Source de danger]]))=TRUE,ISNUMBER(SEARCH(\"RZ\",Risque[[#This Row],[Risques associés]]))=TRUE,ISNUMBER(SEARCH(\"RP\",Risque[[#This Row],[Risques associés]]))=TRUE,ISNUMBER(SEARCH(\"RZ\",Risque[[#This Row],[Précision du risque\n(si liste déroulante présente)]]))=TRUE,ISNUMBER(SEARCH(\"RP\",Risque[[#This Row],[Précision du risque\n(si liste déroulante présente)]]))=TRUE),\"Oui --> Priorité d'action\",\"Non\"))","v":""},null,null,null,null,{"$f":"IF(ISBLANK(Risque[[#This Row],[Catégorie de risque]]),\"\",CONCATENATE(Risque[[#This Row],[Catégorie de risque]],2))","v":""},null,{"$f":"IF(ISBLANK(Risque[[#This Row],[Moyens de prévention]]),\"\",CONCATENATE(Risque[[#This Row],[Moyens de prévention]],1))","v":""},null,null,null,null,null,{"$f":"IF(ISBLANK(Risque[[#This Row],[Catégorie de risque]]),\"\",CONCATENATE(Risque[[#This Row],[Catégorie de risque]],3))","v":""},null,null,null,{"$f":"IF(ISBLANK(Risque[[#This Row],[Catégorie de risque]]),\"\",CONCATENATE(Risque[[#This Row],[Catégorie de risque]],4))","v":""},null,null,null,null,null,{"$f":"IF(Risque[[#This Row],[Date d''inscription du risque]]<>\"\",YEAR(Risque[[#This Row],[Date d''inscription du risque]]),\"\")","v":""}]
[null,null,{"$f":"IF(ISBLANK(Risque[[#This Row],[Catégorie de risque]]),\"\",CONCATENATE(Risque[[#This Row],[Catégorie de risque]],1))","v":""},null,null,null,null,null,{"$f":"IF(ISBLANK(Risque[[#This Row],[Catégorie de risque]]),\"\",IF(OR(ISNUMBER(SEARCH(\"RZ\",Risque[[#This Row],[Source de danger]]))=TRUE,ISNUMBER(SEARCH(\"RP\",Risque[[#This Row],[Source de danger]]))=TRUE,ISNUMBER(SEARCH(\"RZ\",Risque[[#This Row],[Risques associés]]))=TRUE,ISNUMBER(SEARCH(\"RP\",Risque[[#This Row],[Risques associés]]))=TRUE,ISNUMBER(SEARCH(\"RZ\",Risque[[#This Row],[Précision du risque\n(si liste déroulante présente)]]))=TRUE,ISNUMBER(SEARCH(\"RP\",Risque[[#This Row],[Précision du risque\n(si liste déroulante présente)]]))=TRUE),\"Oui --> Priorité d'action\",\"Non\"))","v":""},null,null,null,null,{"$f":"IF(ISBLANK(Risque[[#This Row],[Catégorie de risque]]),\"\",CONCATENATE(Risque[[#This Row],[Catégorie de risque]],2))","v":""},null,{"$f":"IF(ISBLANK(Risque[[#This Row],[Moyens de prévention]]),\"\",CONCATENATE(Risque[[#This Row],[Moyens de prévention]],1))","v":""},null,null,null,null,null,{"$f":"IF(ISBLANK(Risque[[#This Row],[Catégorie de risque]]),\"\",CONCATENATE(Risque[[#This Row],[Catégorie de risque]],3))","v":""},null,null,null,{"$f":"IF(ISBLANK(Risque[[#This Row],[Catégorie de risque]]),\"\",CONCATENATE(Risque[[#This Row],[Catégorie de risque]],4))","v":""},null,null,null,null,null,{"$f":"IF(Risque[[#This Row],[Date d''inscription du risque]]<>\"\",YEAR(Risque[[#This Row],[Date d''inscription du risque]]),\"\")","v":""}]
[null,null,{"$f":"IF(ISBLANK(Risque[[#This Row],[Catégorie de risque]]),\"\",CONCATENATE(Risque[[#This Row],[Catégorie de risque]],1))","v":""},null,null,null,null,null,{"$f":"IF(ISBLANK(Risque[[#This Row],[Catégorie de risque]]),\"\",IF(OR(ISNUMBER(SEARCH(\"RZ\",Risque[[#This Row],[Source de danger]]))=TRUE,ISNUMBER(SEARCH(\"RP\",Risque[[#This Row],[Source de danger]]))=TRUE,ISNUMBER(SEARCH(\"RZ\",Risque[[#This Row],[Risques associés]]))=TRUE,ISNUMBER(SEARCH(\"RP\",Risque[[#This Row],[Risques associés]]))=TRUE,ISNUMBER(SEARCH(\"RZ\",Risque[[#This Row],[Précision du risque\n(si liste déroulante présente)]]))=TRUE,ISNUMBER(SEARCH(\"RP\",Risque[[#This Row],[Précision du risque\n(si liste déroulante présente)]]))=TRUE),\"Oui --> Priorité d'action\",\"Non\"))","v":""},null,null,null,null,{"$f":"IF(ISBLANK(Risque[[#This Row],[Catégorie de risque]]),\"\",CONCATENATE(Risque[[#This Row],[Catégorie de risque]],2))","v":""},null,{"$f":"IF(ISBLANK(Risque[[#This Row],[Moyens de prévention]]),\"\",CONCATENATE(Risque[[#This Row],[Moyens de prévention]],1))","v":""},null,null,null,null,null,{"$f":"IF(ISBLANK(Risque[[#This Row],[Catégorie de risque]]),\"\",CONCATENATE(Risque[[#This Row],[Catégorie de risque]],3))","v":""},null,null,null,{"$f":"IF(ISBLANK(Risque[[#This Row],[Catégorie de risque]]),\"\",CONCATENATE(Risque[[#This Row],[Catégorie de risque]],4))","v":""},null,null,null,null,null,{"$f":"IF(Risque[[#This Row],[Date d''inscription du risque]]<>\"\",YEAR(Risque[[#This Row],[Date d''inscription du risque]]),\"\")","v":""}]
[null,null,{"$f":"IF(ISBLANK(Risque[[#This Row],[Catégorie de risque]]),\"\",CONCATENATE(Risque[[#This Row],[Catégorie de risque]],1))","v":""},null,null,null,null,null,{"$f":"IF(ISBLANK(Risque[[#This Row],[Catégorie de risque]]),\"\",IF(OR(ISNUMBER(SEARCH(\"RZ\",Risque[[#This Row],[Source de danger]]))=TRUE,ISNUMBER(SEARCH(\"RP\",Risque[[#This Row],[Source de danger]]))=TRUE,ISNUMBER(SEARCH(\"RZ\",Risque[[#This Row],[Risques associés]]))=TRUE,ISNUMBER(SEARCH(\"RP\",Risque[[#This Row],[Risques associés]]))=TRUE,ISNUMBER(SEARCH(\"RZ\",Risque[[#This Row],[Précision du risque\n(si liste déroulante présente)]]))=TRUE,ISNUMBER(SEARCH(\"RP\",Risque[[#This Row],[Précision du risque\n(si liste déroulante présente)]]))=TRUE),\"Oui --> Priorité d'action\",\"Non\"))","v":""},null,null,null,null,{"$f":"IF(ISBLANK(Risque[[#This Row],[Catégorie de risque]]),\"\",CONCATENATE(Risque[[#This Row],[Catégorie de risque]],2))","v":""},null,{"$f":"IF(ISBLANK(Risque[[#This Row],[Moyens de prévention]]),\"\",CONCATENATE(Risque[[#This Row],[Moyens de prévention]],1))","v":""},null,null,null,null,null,{"$f":"IF(ISBLANK(Risque[[#This Row],[Catégorie de risque]]),\"\",CONCATENATE(Risque[[#This Row],[Catégorie de risque]],3))","v":""},null,null,null,{"$f":"IF(ISBLANK(Risque[[#This Row],[Catégorie de risque]]),\"\",CONCATENATE(Risque[[#This Row],[Catégorie de risque]],4))","v":""},null,null,null,null,null,{"$f":"IF(Risque[[#This Row],[Date d''inscription du risque]]<>\"\",YEAR(Risque[[#This Row],[Date d''inscription du risque]]),\"\")","v":""}]
[null,null,{"$f":"IF(ISBLANK(Risque[[#This Row],[Catégorie de risque]]),\"\",CONCATENATE(Risque[[#This Row],[Catégorie de risque]],1))","v":""},null,null,null,null,null,{"$f":"IF(ISBLANK(Risque[[#This Row],[Catégorie de risque]]),\"\",IF(OR(ISNUMBER(SEARCH(\"RZ\",Risque[[#This Row],[Source de danger]]))=TRUE,ISNUMBER(SEARCH(\"RP\",Risque[[#This Row],[Source de danger]]))=TRUE,ISNUMBER(SEARCH(\"RZ\",Risque[[#This Row],[Risques associés]]))=TRUE,ISNUMBER(SEARCH(\"RP\",Risque[[#This Row],[Risques associés]]))=TRUE,ISNUMBER(SEARCH(\"RZ\",Risque[[#This Row],[Précision du risque\n(si liste déroulante présente)]]))=TRUE,ISNUMBER(SEARCH(\"RP\",Risque[[#This Row],[Précision du risque\n(si liste déroulante présente)]]))=TRUE),\"Oui --> Priorité d'action\",\"Non\"))","v":""},null,null,null,null,{"$f":"IF(ISBLANK(Risque[[#This Row],[Catégorie de risque]]),\"\",CONCATENATE(Risque[[#This Row],[Catégorie de risque]],2))","v":""},null,{"$f":"IF(ISBLANK(Risque[[#This Row],[Moyens de prévention]]),\"\",CONCATENATE(Risque[[#This Row],[Moyens de prévention]],1))","v":""},null,null,null,null,null,{"$f":"IF(ISBLANK(Risque[[#This Row],[Catégorie de risque]]),\"\",CONCATENATE(Risque[[#This Row],[Catégorie de risque]],3))","v":""},null,null,null,{"$f":"IF(ISBLANK(Risque[[#This Row],[Catégorie de risque]]),\"\",CONCATENATE(Risque[[#This Row],[Catégorie de risque]],4))","v":""},null,null,null,null,null,{"$f":"IF(Risque[[#This Row],[Date d''inscription du risque]]<>\"\",YEAR(Risque[[#This Row],[Date d''inscription du risque]]),\"\")","v":""}]
[null,null,{"$f":"IF(ISBLANK(Risque[[#This Row],[Catégorie de risque]]),\"\",CONCATENATE(Risque[[#This Row],[Catégorie de risque]],1))","v":""},null,null,null,null,null,{"$f":"IF(ISBLANK(Risque[[#This Row],[Catégorie de risque]]),\"\",IF(OR(ISNUMBER(SEARCH(\"RZ\",Risque[[#This Row],[Source de danger]]))=TRUE,ISNUMBER(SEARCH(\"RP\",Risque[[#This Row],[Source de danger]]))=TRUE,ISNUMBER(SEARCH(\"RZ\",Risque[[#This Row],[Risques associés]]))=TRUE,ISNUMBER(SEARCH(\"RP\",Risque[[#This Row],[Risques associés]]))=TRUE,ISNUMBER(SEARCH(\"RZ\",Risque[[#This Row],[Précision du risque\n(si liste déroulante présente)]]))=TRUE,ISNUMBER(SEARCH(\"RP\",Risque[[#This Row],[Précision du risque\n(si liste déroulante présente)]]))=TRUE),\"Oui --> Priorité d'action\",\"Non\"))","v":""},null,null,null,null,{"$f":"IF(ISBLANK(Risque[[#This Row],[Catégorie de risque]]),\"\",CONCATENATE(Risque[[#This Row],[Catégorie de risque]],2))","v":""},null,{"$f":"IF(ISBLANK(Risque[[#This Row],[Moyens de prévention]]),\"\",CONCATENATE(Risque[[#This Row],[Moyens de prévention]],1))","v":""},null,null,null,null,null,{"$f":"IF(ISBLANK(Risque[[#This Row],[Catégorie de risque]]),\"\",CONCATENATE(Risque[[#This Row],[Catégorie de risque]],3))","v":""},null,null,null,{"$f":"IF(ISBLANK(Risque[[#This Row],[Catégorie de risque]]),\"\",CONCATENATE(Risque[[#This Row],[Catégorie de risque]],4))","v":""},null,null,null,null,null,{"$f":"IF(Risque[[#This Row],[Date d''inscription du risque]]<>\"\",YEAR(Risque[[#This Row],[Date d''inscription du risque]]),\"\")","v":""}]
[null,null,{"$f":"IF(ISBLANK(Risque[[#This Row],[Catégorie de risque]]),\"\",CONCATENATE(Risque[[#This Row],[Catégorie de risque]],1))","v":""},null,null,null,null,null,{"$f":"IF(ISBLANK(Risque[[#This Row],[Catégorie de risque]]),\"\",IF(OR(ISNUMBER(SEARCH(\"RZ\",Risque[[#This Row],[Source de danger]]))=TRUE,ISNUMBER(SEARCH(\"RP\",Risque[[#This Row],[Source de danger]]))=TRUE,ISNUMBER(SEARCH(\"RZ\",Risque[[#This Row],[Risques associés]]))=TRUE,ISNUMBER(SEARCH(\"RP\",Risque[[#This Row],[Risques associés]]))=TRUE,ISNUMBER(SEARCH(\"RZ\",Risque[[#This Row],[Précision du risque\n(si liste déroulante présente)]]))=TRUE,ISNUMBER(SEARCH(\"RP\",Risque[[#This Row],[Précision du risque\n(si liste déroulante présente)]]))=TRUE),\"Oui --> Priorité d'action\",\"Non\"))","v":""},null,null,null,null,{"$f":"IF(ISBLANK(Risque[[#This Row],[Catégorie de risque]]),\"\",CONCATENATE(Risque[[#This Row],[Catégorie de risque]],2))","v":""},null,{"$f":"IF(ISBLANK(Risque[[#This Row],[Moyens de prévention]]),\"\",CONCATENATE(Risque[[#This Row],[Moyens de prévention]],1))","v":""},null,null,null,null,null,{"$f":"IF(ISBLANK(Risque[[#This Row],[Catégorie de risque]]),\"\",CONCATENATE(Risque[[#This Row],[Catégorie de risque]],3))","v":""},null,null,null,{"$f":"IF(ISBLANK(Risque[[#This Row],[Catégorie de risque]]),\"\",CONCATENATE(Risque[[#This Row],[Catégorie de risque]],4))","v":""},null,null,null,null,null,{"$f":"IF(Risque[[#This Row],[Date d''inscription du risque]]<>\"\",YEAR(Risque[[#This Row],[Date d''inscription du risque]]),\"\")","v":""}]
[null,null,{"$f":"IF(ISBLANK(Risque[[#This Row],[Catégorie de risque]]),\"\",CONCATENATE(Risque[[#This Row],[Catégorie de risque]],1))","v":""},null,null,null,null,null,{"$f":"IF(ISBLANK(Risque[[#This Row],[Catégorie de risque]]),\"\",IF(OR(ISNUMBER(SEARCH(\"RZ\",Risque[[#This Row],[Source de danger]]))=TRUE,ISNUMBER(SEARCH(\"RP\",Risque[[#This Row],[Source de danger]]))=TRUE,ISNUMBER(SEARCH(\"RZ\",Risque[[#This Row],[Risques associés]]))=TRUE,ISNUMBER(SEARCH(\"RP\",Risque[[#This Row],[Risques associés]]))=TRUE,ISNUMBER(SEARCH(\"RZ\",Risque[[#This Row],[Précision du risque\n(si liste déroulante présente)]]))=TRUE,ISNUMBER(SEARCH(\"RP\",Risque[[#This Row],[Précision du risque\n(si liste déroulante présente)]]))=TRUE),\"Oui --> Priorité d'action\",\"Non\"))","v":""},null,null,null,null,{"$f":"IF(ISBLANK(Risque[[#This Row],[Catégorie de risque]]),\"\",CONCATENATE(Risque[[#This Row],[Catégorie de risque]],2))","v":""},null,{"$f":"IF(ISBLANK(Risque[[#This Row],[Moyens de prévention]]),\"\",CONCATENATE(Risque[[#This Row],[Moyens de prévention]],1))","v":""},null,null,null,null,null,{"$f":"IF(ISBLANK(Risque[[#This Row],[Catégorie de risque]]),\"\",CONCATENATE(Risque[[#This Row],[Catégorie de risque]],3))","v":""},null,null,null,{"$f":"IF(ISBLANK(Risque[[#This Row],[Catégorie de risque]]),\"\",CONCATENATE(Risque[[#This Row],[Catégorie de risque]],4))","v":""},null,null,null,null,null,{"$f":"IF(Risque[[#This Row],[Date d''inscription du risque]]<>\"\",YEAR(Risque[[#This Row],[Date d''inscription du risque]]),\"\")","v":""}]
[null,null,{"$f":"IF(ISBLANK(Risque[[#This Row],[Catégorie de risque]]),\"\",CONCATENATE(Risque[[#This Row],[Catégorie de risque]],1))","v":""},null,null,null,null,null,{"$f":"IF(ISBLANK(Risque[[#This Row],[Catégorie de risque]]),\"\",IF(OR(ISNUMBER(SEARCH(\"RZ\",Risque[[#This Row],[Source de danger]]))=TRUE,ISNUMBER(SEARCH(\"RP\",Risque[[#This Row],[Source de danger]]))=TRUE,ISNUMBER(SEARCH(\"RZ\",Risque[[#This Row],[Risques associés]]))=TRUE,ISNUMBER(SEARCH(\"RP\",Risque[[#This Row],[Risques associés]]))=TRUE,ISNUMBER(SEARCH(\"RZ\",Risque[[#This Row],[Précision du risque\n(si liste déroulante présente)]]))=TRUE,ISNUMBER(SEARCH(\"RP\",Risque[[#This Row],[Précision du risque\n(si liste déroulante présente)]]))=TRUE),\"Oui --> Priorité d'action\",\"Non\"))","v":""},null,null,null,null,{"$f":"IF(ISBLANK(Risque[[#This Row],[Catégorie de risque]]),\"\",CONCATENATE(Risque[[#This Row],[Catégorie de risque]],2))","v":""},null,{"$f":"IF(ISBLANK(Risque[[#This Row],[Moyens de prévention]]),\"\",CONCATENATE(Risque[[#This Row],[Moyens de prévention]],1))","v":""},null,null,null,null,null,{"$f":"IF(ISBLANK(Risque[[#This Row],[Catégorie de risque]]),\"\",CONCATENATE(Risque[[#This Row],[Catégorie de risque]],3))","v":""},null,null,null,{"$f":"IF(ISBLANK(Risque[[#This Row],[Catégorie de risque]]),\"\",CONCATENATE(Risque[[#This Row],[Catégorie de risque]],4))","v":""},null,null,null,null,null,{"$f":"IF(Risque[[#This Row],[Date d''inscription du risque]]<>\"\",YEAR(Risque[[#This Row],[Date d''inscription du risque]]),\"\")","v":""}]
[null,null,{"$f":"IF(ISBLANK(Risque[[#This Row],[Catégorie de risque]]),\"\",CONCATENATE(Risque[[#This Row],[Catégorie de risque]],1))","v":""},null,null,null,null,null,{"$f":"IF(ISBLANK(Risque[[#This Row],[Catégorie de risque]]),\"\",IF(OR(ISNUMBER(SEARCH(\"RZ\",Risque[[#This Row],[Source de danger]]))=TRUE,ISNUMBER(SEARCH(\"RP\",Risque[[#This Row],[Source de danger]]))=TRUE,ISNUMBER(SEARCH(\"RZ\",Risque[[#This Row],[Risques associés]]))=TRUE,ISNUMBER(SEARCH(\"RP\",Risque[[#This Row],[Risques associés]]))=TRUE,ISNUMBER(SEARCH(\"RZ\",Risque[[#This Row],[Précision du risque\n(si liste déroulante présente)]]))=TRUE,ISNUMBER(SEARCH(\"RP\",Risque[[#This Row],[Précision du risque\n(si liste déroulante présente)]]))=TRUE),\"Oui --> Priorité d'action\",\"Non\"))","v":""},null,null,null,null,{"$f":"IF(ISBLANK(Risque[[#This Row],[Catégorie de risque]]),\"\",CONCATENATE(Risque[[#This Row],[Catégorie de risque]],2))","v":""},null,{"$f":"IF(ISBLANK(Risque[[#This Row],[Moyens de prévention]]),\"\",CONCATENATE(Risque[[#This Row],[Moyens de prévention]],1))","v":""},null,null,null,null,null,{"$f":"IF(ISBLANK(Risque[[#This Row],[Catégorie de risque]]),\"\",CONCATENATE(Risque[[#This Row],[Catégorie de risque]],3))","v":""},null,null,null,{"$f":"IF(ISBLANK(Risque[[#This Row],[Catégorie de risque]]),\"\",CONCATENATE(Risque[[#This Row],[Catégorie de risque]],4))","v":""},null,null,null,null,null,{"$f":"IF(Risque[[#This Row],[Date d''inscription du risque]]<>\"\",YEAR(Risque[[#This Row],[Date d''inscription du risque]]),\"\")","v":""}]
[null,null,{"$f":"IF(ISBLANK(Risque[[#This Row],[Catégorie de risque]]),\"\",CONCATENATE(Risque[[#This Row],[Catégorie de risque]],1))","v":""},null,null,null,null,null,{"$f":"IF(ISBLANK(Risque[[#This Row],[Catégorie de risque]]),\"\",IF(OR(ISNUMBER(SEARCH(\"RZ\",Risque[[#This Row],[Source de danger]]))=TRUE,ISNUMBER(SEARCH(\"RP\",Risque[[#This Row],[Source de danger]]))=TRUE,ISNUMBER(SEARCH(\"RZ\",Risque[[#This Row],[Risques associés]]))=TRUE,ISNUMBER(SEARCH(\"RP\",Risque[[#This Row],[Risques associés]]))=TRUE,ISNUMBER(SEARCH(\"RZ\",Risque[[#This Row],[Précision du risque\n(si liste déroulante présente)]]))=TRUE,ISNUMBER(SEARCH(\"RP\",Risque[[#This Row],[Précision du risque\n(si liste déroulante présente)]]))=TRUE),\"Oui --> Priorité d'action\",\"Non\"))","v":""},null,null,null,null,{"$f":"IF(ISBLANK(Risque[[#This Row],[Catégorie de risque]]),\"\",CONCATENATE(Risque[[#This Row],[Catégorie de risque]],2))","v":""},null,{"$f":"IF(ISBLANK(Risque[[#This Row],[Moyens de prévention]]),\"\",CONCATENATE(Risque[[#This Row],[Moyens de prévention]],1))","v":""},null,null,null,null,null,{"$f":"IF(ISBLANK(Risque[[#This Row],[Catégorie de risque]]),\"\",CONCATENATE(Risque[[#This Row],[Catégorie de risque]],3))","v":""},null,null,null,{"$f":"IF(ISBLANK(Risque[[#This Row],[Catégorie de risque]]),\"\",CONCATENATE(Risque[[#This Row],[Catégorie de risque]],4))","v":""},null,null,null,null,null,{"$f":"IF(Risque[[#This Row],[Date d''inscription du risque]]<>\"\",YEAR(Risque[[#This Row],[Date d''inscription du risque]]),\"\")","v":""}]
[null,null,{"$f":"IF(ISBLANK(Risque[[#This Row],[Catégorie de risque]]),\"\",CONCATENATE(Risque[[#This Row],[Catégorie de risque]],1))","v":""},null,null,null,null,null,{"$f":"IF(ISBLANK(Risque[[#This Row],[Catégorie de risque]]),\"\",IF(OR(ISNUMBER(SEARCH(\"RZ\",Risque[[#This Row],[Source de danger]]))=TRUE,ISNUMBER(SEARCH(\"RP\",Risque[[#This Row],[Source de danger]]))=TRUE,ISNUMBER(SEARCH(\"RZ\",Risque[[#This Row],[Risques associés]]))=TRUE,ISNUMBER(SEARCH(\"RP\",Risque[[#This Row],[Risques associés]]))=TRUE,ISNUMBER(SEARCH(\"RZ\",Risque[[#This Row],[Précision du risque\n(si liste déroulante présente)]]))=TRUE,ISNUMBER(SEARCH(\"RP\",Risque[[#This Row],[Précision du risque\n(si liste déroulante présente)]]))=TRUE),\"Oui --> Priorité d'action\",\"Non\"))","v":""},null,null,null,null,{"$f":"IF(ISBLANK(Risque[[#This Row],[Catégorie de risque]]),\"\",CONCATENATE(Risque[[#This Row],[Catégorie de risque]],2))","v":""},null,{"$f":"IF(ISBLANK(Risque[[#This Row],[Moyens de prévention]]),\"\",CONCATENATE(Risque[[#This Row],[Moyens de prévention]],1))","v":""},null,null,null,null,null,{"$f":"IF(ISBLANK(Risque[[#This Row],[Catégorie de risque]]),\"\",CONCATENATE(Risque[[#This Row],[Catégorie de risque]],3))","v":""},null,null,null,{"$f":"IF(ISBLANK(Risque[[#This Row],[Catégorie de risque]]),\"\",CONCATENATE(Risque[[#This Row],[Catégorie de risque]],4))","v":""},null,null,null,null,null,{"$f":"IF(Risque[[#This Row],[Date d''inscription du risque]]<>\"\",YEAR(Risque[[#This Row],[Date d''inscription du risque]]),\"\")","v":""}]
[null,null,{"$f":"IF(ISBLANK(Risque[[#This Row],[Catégorie de risque]]),\"\",CONCATENATE(Risque[[#This Row],[Catégorie de risque]],1))","v":""},null,null,null,null,null,{"$f":"IF(ISBLANK(Risque[[#This Row],[Catégorie de risque]]),\"\",IF(OR(ISNUMBER(SEARCH(\"RZ\",Risque[[#This Row],[Source de danger]]))=TRUE,ISNUMBER(SEARCH(\"RP\",Risque[[#This Row],[Source de danger]]))=TRUE,ISNUMBER(SEARCH(\"RZ\",Risque[[#This Row],[Risques associés]]))=TRUE,ISNUMBER(SEARCH(\"RP\",Risque[[#This Row],[Risques associés]]))=TRUE,ISNUMBER(SEARCH(\"RZ\",Risque[[#This Row],[Précision du risque\n(si liste déroulante présente)]]))=TRUE,ISNUMBER(SEARCH(\"RP\",Risque[[#This Row],[Précision du risque\n(si liste déroulante présente)]]))=TRUE),\"Oui --> Priorité d'action\",\"Non\"))","v":""},null,null,null,null,{"$f":"IF(ISBLANK(Risque[[#This Row],[Catégorie de risque]]),\"\",CONCATENATE(Risque[[#This Row],[Catégorie de risque]],2))","v":""},null,{"$f":"IF(ISBLANK(Risque[[#This Row],[Moyens de prévention]]),\"\",CONCATENATE(Risque[[#This Row],[Moyens de prévention]],1))","v":""},null,null,null,null,null,{"$f":"IF(ISBLANK(Risque[[#This Row],[Catégorie de risque]]),\"\",CONCATENATE(Risque[[#This Row],[Catégorie de risque]],3))","v":""},null,null,null,{"$f":"IF(ISBLANK(Risque[[#This Row],[Catégorie de risque]]),\"\",CONCATENATE(Risque[[#This Row],[Catégorie de risque]],4))","v":""},null,null,null,null,null,{"$f":"IF(Risque[[#This Row],[Date d''inscription du risque]]<>\"\",YEAR(Risque[[#This Row],[Date d''inscription du risque]]),\"\")","v":""}]
[null,null,{"$f":"IF(ISBLANK(Risque[[#This Row],[Catégorie de risque]]),\"\",CONCATENATE(Risque[[#This Row],[Catégorie de risque]],1))","v":""},null,null,null,null,null,{"$f":"IF(ISBLANK(Risque[[#This Row],[Catégorie de risque]]),\"\",IF(OR(ISNUMBER(SEARCH(\"RZ\",Risque[[#This Row],[Source de danger]]))=TRUE,ISNUMBER(SEARCH(\"RP\",Risque[[#This Row],[Source de danger]]))=TRUE,ISNUMBER(SEARCH(\"RZ\",Risque[[#This Row],[Risques associés]]))=TRUE,ISNUMBER(SEARCH(\"RP\",Risque[[#This Row],[Risques associés]]))=TRUE,ISNUMBER(SEARCH(\"RZ\",Risque[[#This Row],[Précision du risque\n(si liste déroulante présente)]]))=TRUE,ISNUMBER(SEARCH(\"RP\",Risque[[#This Row],[Précision du risque\n(si liste déroulante présente)]]))=TRUE),\"Oui --> Priorité d'action\",\"Non\"))","v":""},null,null,null,null,{"$f":"IF(ISBLANK(Risque[[#This Row],[Catégorie de risque]]),\"\",CONCATENATE(Risque[[#This Row],[Catégorie de risque]],2))","v":""},null,{"$f":"IF(ISBLANK(Risque[[#This Row],[Moyens de prévention]]),\"\",CONCATENATE(Risque[[#This Row],[Moyens de prévention]],1))","v":""},null,null,null,null,null,{"$f":"IF(ISBLANK(Risque[[#This Row],[Catégorie de risque]]),\"\",CONCATENATE(Risque[[#This Row],[Catégorie de risque]],3))","v":""},null,null,null,{"$f":"IF(ISBLANK(Risque[[#This Row],[Catégorie de risque]]),\"\",CONCATENATE(Risque[[#This Row],[Catégorie de risque]],4))","v":""},null,null,null,null,null,{"$f":"IF(Risque[[#This Row],[Date d''inscription du risque]]<>\"\",YEAR(Risque[[#This Row],[Date d''inscription du risque]]),\"\")","v":""}]
[null,null,{"$f":"IF(ISBLANK(Risque[[#This Row],[Catégorie de risque]]),\"\",CONCATENATE(Risque[[#This Row],[Catégorie de risque]],1))","v":""},null,null,null,null,null,{"$f":"IF(ISBLANK(Risque[[#This Row],[Catégorie de risque]]),\"\",IF(OR(ISNUMBER(SEARCH(\"RZ\",Risque[[#This Row],[Source de danger]]))=TRUE,ISNUMBER(SEARCH(\"RP\",Risque[[#This Row],[Source de danger]]))=TRUE,ISNUMBER(SEARCH(\"RZ\",Risque[[#This Row],[Risques associés]]))=TRUE,ISNUMBER(SEARCH(\"RP\",Risque[[#This Row],[Risques associés]]))=TRUE,ISNUMBER(SEARCH(\"RZ\",Risque[[#This Row],[Précision du risque\n(si liste déroulante présente)]]))=TRUE,ISNUMBER(SEARCH(\"RP\",Risque[[#This Row],[Précision du risque\n(si liste déroulante présente)]]))=TRUE),\"Oui --> Priorité d'action\",\"Non\"))","v":""},null,null,null,null,{"$f":"IF(ISBLANK(Risque[[#This Row],[Catégorie de risque]]),\"\",CONCATENATE(Risque[[#This Row],[Catégorie de risque]],2))","v":""},null,{"$f":"IF(ISBLANK(Risque[[#This Row],[Moyens de prévention]]),\"\",CONCATENATE(Risque[[#This Row],[Moyens de prévention]],1))","v":""},null,null,null,null,null,{"$f":"IF(ISBLANK(Risque[[#This Row],[Catégorie de risque]]),\"\",CONCATENATE(Risque[[#This Row],[Catégorie de risque]],3))","v":""},null,null,null,{"$f":"IF(ISBLANK(Risque[[#This Row],[Catégorie de risque]]),\"\",CONCATENATE(Risque[[#This Row],[Catégorie de risque]],4))","v":""},null,null,null,null,null,{"$f":"IF(Risque[[#This Row],[Date d''inscription du risque]]<>\"\",YEAR(Risque[[#This Row],[Date d''inscription du risque]]),\"\")","v":""}]
[null,null,{"$f":"IF(ISBLANK(Risque[[#This Row],[Catégorie de risque]]),\"\",CONCATENATE(Risque[[#This Row],[Catégorie de risque]],1))","v":""},null,null,null,null,null,{"$f":"IF(ISBLANK(Risque[[#This Row],[Catégorie de risque]]),\"\",IF(OR(ISNUMBER(SEARCH(\"RZ\",Risque[[#This Row],[Source de danger]]))=TRUE,ISNUMBER(SEARCH(\"RP\",Risque[[#This Row],[Source de danger]]))=TRUE,ISNUMBER(SEARCH(\"RZ\",Risque[[#This Row],[Risques associés]]))=TRUE,ISNUMBER(SEARCH(\"RP\",Risque[[#This Row],[Risques associés]]))=TRUE,ISNUMBER(SEARCH(\"RZ\",Risque[[#This Row],[Précision du risque\n(si liste déroulante présente)]]))=TRUE,ISNUMBER(SEARCH(\"RP\",Risque[[#This Row],[Précision du risque\n(si liste déroulante présente)]]))=TRUE),\"Oui --> Priorité d'action\",\"Non\"))","v":""},null,null,null,null,{"$f":"IF(ISBLANK(Risque[[#This Row],[Catégorie de risque]]),\"\",CONCATENATE(Risque[[#This Row],[Catégorie de risque]],2))","v":""},null,{"$f":"IF(ISBLANK(Risque[[#This Row],[Moyens de prévention]]),\"\",CONCATENATE(Risque[[#This Row],[Moyens de prévention]],1))","v":""},null,null,null,null,null,{"$f":"IF(ISBLANK(Risque[[#This Row],[Catégorie de risque]]),\"\",CONCATENATE(Risque[[#This Row],[Catégorie de risque]],3))","v":""},null,null,null,{"$f":"IF(ISBLANK(Risque[[#This Row],[Catégorie de risque]]),\"\",CONCATENATE(Risque[[#This Row],[Catégorie de risque]],4))","v":""},null,null,null,null,null,{"$f":"IF(Risque[[#This Row],[Date d''inscription du risque]]<>\"\",YEAR(Risque[[#This Row],[Date d''inscription du risque]]),\"\")","v":""}]
[null,null,{"$f":"IF(ISBLANK(Risque[[#This Row],[Catégorie de risque]]),\"\",CONCATENATE(Risque[[#This Row],[Catégorie de risque]],1))","v":""},null,null,null,null,null,{"$f":"IF(ISBLANK(Risque[[#This Row],[Catégorie de risque]]),\"\",IF(OR(ISNUMBER(SEARCH(\"RZ\",Risque[[#This Row],[Source de danger]]))=TRUE,ISNUMBER(SEARCH(\"RP\",Risque[[#This Row],[Source de danger]]))=TRUE,ISNUMBER(SEARCH(\"RZ\",Risque[[#This Row],[Risques associés]]))=TRUE,ISNUMBER(SEARCH(\"RP\",Risque[[#This Row],[Risques associés]]))=TRUE,ISNUMBER(SEARCH(\"RZ\",Risque[[#This Row],[Précision du risque\n(si liste déroulante présente)]]))=TRUE,ISNUMBER(SEARCH(\"RP\",Risque[[#This Row],[Précision du risque\n(si liste déroulante présente)]]))=TRUE),\"Oui --> Priorité d'action\",\"Non\"))","v":""},null,null,null,null,{"$f":"IF(ISBLANK(Risque[[#This Row],[Catégorie de risque]]),\"\",CONCATENATE(Risque[[#This Row],[Catégorie de risque]],2))","v":""},null,{"$f":"IF(ISBLANK(Risque[[#This Row],[Moyens de prévention]]),\"\",CONCATENATE(Risque[[#This Row],[Moyens de prévention]],1))","v":""},null,null,null,null,null,{"$f":"IF(ISBLANK(Risque[[#This Row],[Catégorie de risque]]),\"\",CONCATENATE(Risque[[#This Row],[Catégorie de risque]],3))","v":""},null,null,null,{"$f":"IF(ISBLANK(Risque[[#This Row],[Catégorie de risque]]),\"\",CONCATENATE(Risque[[#This Row],[Catégorie de risque]],4))","v":""},null,null,null,null,null,{"$f":"IF(Risque[[#This Row],[Date d''inscription du risque]]<>\"\",YEAR(Risque[[#This Row],[Date d''inscription du risque]]),\"\")","v":""}]
[null,null,{"$f":"IF(ISBLANK(Risque[[#This Row],[Catégorie de risque]]),\"\",CONCATENATE(Risque[[#This Row],[Catégorie de risque]],1))","v":""},null,null,null,null,null,{"$f":"IF(ISBLANK(Risque[[#This Row],[Catégorie de risque]]),\"\",IF(OR(ISNUMBER(SEARCH(\"RZ\",Risque[[#This Row],[Source de danger]]))=TRUE,ISNUMBER(SEARCH(\"RP\",Risque[[#This Row],[Source de danger]]))=TRUE,ISNUMBER(SEARCH(\"RZ\",Risque[[#This Row],[Risques associés]]))=TRUE,ISNUMBER(SEARCH(\"RP\",Risque[[#This Row],[Risques associés]]))=TRUE,ISNUMBER(SEARCH(\"RZ\",Risque[[#This Row],[Précision du risque\n(si liste déroulante présente)]]))=TRUE,ISNUMBER(SEARCH(\"RP\",Risque[[#This Row],[Précision du risque\n(si liste déroulante présente)]]))=TRUE),\"Oui --> Priorité d'action\",\"Non\"))","v":""},null,null,null,null,{"$f":"IF(ISBLANK(Risque[[#This Row],[Catégorie de risque]]),\"\",CONCATENATE(Risque[[#This Row],[Catégorie de risque]],2))","v":""},null,{"$f":"IF(ISBLANK(Risque[[#This Row],[Moyens de prévention]]),\"\",CONCATENATE(Risque[[#This Row],[Moyens de prévention]],1))","v":""},null,null,null,null,null,{"$f":"IF(ISBLANK(Risque[[#This Row],[Catégorie de risque]]),\"\",CONCATENATE(Risque[[#This Row],[Catégorie de risque]],3))","v":""},null,null,null,{"$f":"IF(ISBLANK(Risque[[#This Row],[Catégorie de risque]]),\"\",CONCATENATE(Risque[[#This Row],[Catégorie de risque]],4))","v":""},null,null,null,null,null,{"$f":"IF(Risque[[#This Row],[Date d''inscription du risque]]<>\"\",YEAR(Risque[[#This Row],[Date d''inscription du risque]]),\"\")","v":""}]
[null,null,{"$f":"IF(ISBLANK(Risque[[#This Row],[Catégorie de risque]]),\"\",CONCATENATE(Risque[[#This Row],[Catégorie de risque]],1))","v":""},null,null,null,null,null,{"$f":"IF(ISBLANK(Risque[[#This Row],[Catégorie de risque]]),\"\",IF(OR(ISNUMBER(SEARCH(\"RZ\",Risque[[#This Row],[Source de danger]]))=TRUE,ISNUMBER(SEARCH(\"RP\",Risque[[#This Row],[Source de danger]]))=TRUE,ISNUMBER(SEARCH(\"RZ\",Risque[[#This Row],[Risques associés]]))=TRUE,ISNUMBER(SEARCH(\"RP\",Risque[[#This Row],[Risques associés]]))=TRUE,ISNUMBER(SEARCH(\"RZ\",Risque[[#This Row],[Précision du risque\n(si liste déroulante présente)]]))=TRUE,ISNUMBER(SEARCH(\"RP\",Risque[[#This Row],[Précision du risque\n(si liste déroulante présente)]]))=TRUE),\"Oui --> Priorité d'action\",\"Non\"))","v":""},null,null,null,null,{"$f":"IF(ISBLANK(Risque[[#This Row],[Catégorie de risque]]),\"\",CONCATENATE(Risque[[#This Row],[Catégorie de risque]],2))","v":""},null,{"$f":"IF(ISBLANK(Risque[[#This Row],[Moyens de prévention]]),\"\",CONCATENATE(Risque[[#This Row],[Moyens de prévention]],1))","v":""},null,null,null,null,null,{"$f":"IF(ISBLANK(Risque[[#This Row],[Catégorie de risque]]),\"\",CONCATENATE(Risque[[#This Row],[Catégorie de risque]],3))","v":""},null,null,null,{"$f":"IF(ISBLANK(Risque[[#This Row],[Catégorie de risque]]),\"\",CONCATENATE(Risque[[#This Row],[Catégorie de risque]],4))","v":""},null,null,null,null,null,{"$f":"IF(Risque[[#This Row],[Date d''inscription du risque]]<>\"\",YEAR(Risque[[#This Row],[Date d''inscription du risque]]),\"\")","v":""}]
[null,null,{"$f":"IF(ISBLANK(Risque[[#This Row],[Catégorie de risque]]),\"\",CONCATENATE(Risque[[#This Row],[Catégorie de risque]],1))","v":""},null,null,null,null,null,{"$f":"IF(ISBLANK(Risque[[#This Row],[Catégorie de risque]]),\"\",IF(OR(ISNUMBER(SEARCH(\"RZ\",Risque[[#This Row],[Source de danger]]))=TRUE,ISNUMBER(SEARCH(\"RP\",Risque[[#This Row],[Source de danger]]))=TRUE,ISNUMBER(SEARCH(\"RZ\",Risque[[#This Row],[Risques associés]]))=TRUE,ISNUMBER(SEARCH(\"RP\",Risque[[#This Row],[Risques associés]]))=TRUE,ISNUMBER(SEARCH(\"RZ\",Risque[[#This Row],[Précision du risque\n(si liste déroulante présente)]]))=TRUE,ISNUMBER(SEARCH(\"RP\",Risque[[#This Row],[Précision du risque\n(si liste déroulante présente)]]))=TRUE),\"Oui --> Priorité d'action\",\"Non\"))","v":""},null,null,null,null,{"$f":"IF(ISBLANK(Risque[[#This Row],[Catégorie de risque]]),\"\",CONCATENATE(Risque[[#This Row],[Catégorie de risque]],2))","v":""},null,{"$f":"IF(ISBLANK(Risque[[#This Row],[Moyens de prévention]]),\"\",CONCATENATE(Risque[[#This Row],[Moyens de prévention]],1))","v":""},null,null,null,null,null,{"$f":"IF(ISBLANK(Risque[[#This Row],[Catégorie de risque]]),\"\",CONCATENATE(Risque[[#This Row],[Catégorie de risque]],3))","v":""},null,null,null,{"$f":"IF(ISBLANK(Risque[[#This Row],[Catégorie de risque]]),\"\",CONCATENATE(Risque[[#This Row],[Catégorie de risque]],4))","v":""},null,null,null,null,null,{"$f":"IF(Risque[[#This Row],[Date d''inscription du risque]]<>\"\",YEAR(Risque[[#This Row],[Date d''inscription du risque]]),\"\")","v":""}]
[null,null,{"$f":"IF(ISBLANK(Risque[[#This Row],[Catégorie de risque]]),\"\",CONCATENATE(Risque[[#This Row],[Catégorie de risque]],1))","v":""},null,null,null,null,null,{"$f":"IF(ISBLANK(Risque[[#This Row],[Catégorie de risque]]),\"\",IF(OR(ISNUMBER(SEARCH(\"RZ\",Risque[[#This Row],[Source de danger]]))=TRUE,ISNUMBER(SEARCH(\"RP\",Risque[[#This Row],[Source de danger]]))=TRUE,ISNUMBER(SEARCH(\"RZ\",Risque[[#This Row],[Risques associés]]))=TRUE,ISNUMBER(SEARCH(\"RP\",Risque[[#This Row],[Risques associés]]))=TRUE,ISNUMBER(SEARCH(\"RZ\",Risque[[#This Row],[Précision du risque\n(si liste déroulante présente)]]))=TRUE,ISNUMBER(SEARCH(\"RP\",Risque[[#This Row],[Précision du risque\n(si liste déroulante présente)]]))=TRUE),\"Oui --> Priorité d'action\",\"Non\"))","v":""},null,null,null,null,{"$f":"IF(ISBLANK(Risque[[#This Row],[Catégorie de risque]]),\"\",CONCATENATE(Risque[[#This Row],[Catégorie de risque]],2))","v":""},null,{"$f":"IF(ISBLANK(Risque[[#This Row],[Moyens de prévention]]),\"\",CONCATENATE(Risque[[#This Row],[Moyens de prévention]],1))","v":""},null,null,null,null,null,{"$f":"IF(ISBLANK(Risque[[#This Row],[Catégorie de risque]]),\"\",CONCATENATE(Risque[[#This Row],[Catégorie de risque]],3))","v":""},null,null,null,{"$f":"IF(ISBLANK(Risque[[#This Row],[Catégorie de risque]]),\"\",CONCATENATE(Risque[[#This Row],[Catégorie de risque]],4))","v":""},null,null,null,null,null,{"$f":"IF(Risque[[#This Row],[Date d''inscription du risque]]<>\"\",YEAR(Risque[[#This Row],[Date d''inscription du risque]]),\"\")","v":""}]
[null,null,{"$f":"IF(ISBLANK(Risque[[#This Row],[Catégorie de risque]]),\"\",CONCATENATE(Risque[[#This Row],[Catégorie de risque]],1))","v":""},null,null,null,null,null,{"$f":"IF(ISBLANK(Risque[[#This Row],[Catégorie de risque]]),\"\",IF(OR(ISNUMBER(SEARCH(\"RZ\",Risque[[#This Row],[Source de danger]]))=TRUE,ISNUMBER(SEARCH(\"RP\",Risque[[#This Row],[Source de danger]]))=TRUE,ISNUMBER(SEARCH(\"RZ\",Risque[[#This Row],[Risques associés]]))=TRUE,ISNUMBER(SEARCH(\"RP\",Risque[[#This Row],[Risques associés]]))=TRUE,ISNUMBER(SEARCH(\"RZ\",Risque[[#This Row],[Précision du risque\n(si liste déroulante présente)]]))=TRUE,ISNUMBER(SEARCH(\"RP\",Risque[[#This Row],[Précision du risque\n(si liste déroulante présente)]]))=TRUE),\"Oui --> Priorité d'action\",\"Non\"))","v":""},null,null,null,null,{"$f":"IF(ISBLANK(Risque[[#This Row],[Catégorie de risque]]),\"\",CONCATENATE(Risque[[#This Row],[Catégorie de risque]],2))","v":""},null,{"$f":"IF(ISBLANK(Risque[[#This Row],[Moyens de prévention]]),\"\",CONCATENATE(Risque[[#This Row],[Moyens de prévention]],1))","v":""},null,null,null,null,null,{"$f":"IF(ISBLANK(Risque[[#This Row],[Catégorie de risque]]),\"\",CONCATENATE(Risque[[#This Row],[Catégorie de risque]],3))","v":""},null,null,null,{"$f":"IF(ISBLANK(Risque[[#This Row],[Catégorie de risque]]),\"\",CONCATENATE(Risque[[#This Row],[Catégorie de risque]],4))","v":""},null,null,null,null,null,{"$f":"IF(Risque[[#This Row],[Date d''inscription du risque]]<>\"\",YEAR(Risque[[#This Row],[Date d''inscription du risque]]),\"\")","v":""}]
[null,null,{"$f":"IF(ISBLANK(Risque[[#This Row],[Catégorie de risque]]),\"\",CONCATENATE(Risque[[#This Row],[Catégorie de risque]],1))","v":""},null,null,null,null,null,{"$f":"IF(ISBLANK(Risque[[#This Row],[Catégorie de risque]]),\"\",IF(OR(ISNUMBER(SEARCH(\"RZ\",Risque[[#This Row],[Source de danger]]))=TRUE,ISNUMBER(SEARCH(\"RP\",Risque[[#This Row],[Source de danger]]))=TRUE,ISNUMBER(SEARCH(\"RZ\",Risque[[#This Row],[Risques associés]]))=TRUE,ISNUMBER(SEARCH(\"RP\",Risque[[#This Row],[Risques associés]]))=TRUE,ISNUMBER(SEARCH(\"RZ\",Risque[[#This Row],[Précision du risque\n(si liste déroulante présente)]]))=TRUE,ISNUMBER(SEARCH(\"RP\",Risque[[#This Row],[Précision du risque\n(si liste déroulante présente)]]))=TRUE),\"Oui --> Priorité d'action\",\"Non\"))","v":""},null,null,null,null,{"$f":"IF(ISBLANK(Risque[[#This Row],[Catégorie de risque]]),\"\",CONCATENATE(Risque[[#This Row],[Catégorie de risque]],2))","v":""},null,{"$f":"IF(ISBLANK(Risque[[#This Row],[Moyens de prévention]]),\"\",CONCATENATE(Risque[[#This Row],[Moyens de prévention]],1))","v":""},null,null,null,null,null,{"$f":"IF(ISBLANK(Risque[[#This Row],[Catégorie de risque]]),\"\",CONCATENATE(Risque[[#This Row],[Catégorie de risque]],3))","v":""},null,null,null,{"$f":"IF(ISBLANK(Risque[[#This Row],[Catégorie de risque]]),\"\",CONCATENATE(Risque[[#This Row],[Catégorie de risque]],4))","v":""},null,null,null,null,null,{"$f":"IF(Risque[[#This Row],[Date d''inscription du risque]]<>\"\",YEAR(Risque[[#This Row],[Date d''inscription du risque]]),\"\")","v":""}]
[null,null,{"$f":"IF(ISBLANK(Risque[[#This Row],[Catégorie de risque]]),\"\",CONCATENATE(Risque[[#This Row],[Catégorie de risque]],1))","v":""},null,null,null,null,null,{"$f":"IF(ISBLANK(Risque[[#This Row],[Catégorie de risque]]),\"\",IF(OR(ISNUMBER(SEARCH(\"RZ\",Risque[[#This Row],[Source de danger]]))=TRUE,ISNUMBER(SEARCH(\"RP\",Risque[[#This Row],[Source de danger]]))=TRUE,ISNUMBER(SEARCH(\"RZ\",Risque[[#This Row],[Risques associés]]))=TRUE,ISNUMBER(SEARCH(\"RP\",Risque[[#This Row],[Risques associés]]))=TRUE,ISNUMBER(SEARCH(\"RZ\",Risque[[#This Row],[Précision du risque\n(si liste déroulante présente)]]))=TRUE,ISNUMBER(SEARCH(\"RP\",Risque[[#This Row],[Précision du risque\n(si liste déroulante présente)]]))=TRUE),\"Oui --> Priorité d'action\",\"Non\"))","v":""},null,null,null,null,{"$f":"IF(ISBLANK(Risque[[#This Row],[Catégorie de risque]]),\"\",CONCATENATE(Risque[[#This Row],[Catégorie de risque]],2))","v":""},null,{"$f":"IF(ISBLANK(Risque[[#This Row],[Moyens de prévention]]),\"\",CONCATENATE(Risque[[#This Row],[Moyens de prévention]],1))","v":""},null,null,null,null,null,{"$f":"IF(ISBLANK(Risque[[#This Row],[Catégorie de risque]]),\"\",CONCATENATE(Risque[[#This Row],[Catégorie de risque]],3))","v":""},null,null,null,{"$f":"IF(ISBLANK(Risque[[#This Row],[Catégorie de risque]]),\"\",CONCATENATE(Risque[[#This Row],[Catégorie de risque]],4))","v":""},null,null,null,null,null,{"$f":"IF(Risque[[#This Row],[Date d''inscription du risque]]<>\"\",YEAR(Risque[[#This Row],[Date d''inscription du risque]]),\"\")","v":""}]
[null,null,{"$f":"IF(ISBLANK(Risque[[#This Row],[Catégorie de risque]]),\"\",CONCATENATE(Risque[[#This Row],[Catégorie de risque]],1))","v":""},null,null,null,null,null,{"$f":"IF(ISBLANK(Risque[[#This Row],[Catégorie de risque]]),\"\",IF(OR(ISNUMBER(SEARCH(\"RZ\",Risque[[#This Row],[Source de danger]]))=TRUE,ISNUMBER(SEARCH(\"RP\",Risque[[#This Row],[Source de danger]]))=TRUE,ISNUMBER(SEARCH(\"RZ\",Risque[[#This Row],[Risques associés]]))=TRUE,ISNUMBER(SEARCH(\"RP\",Risque[[#This Row],[Risques associés]]))=TRUE,ISNUMBER(SEARCH(\"RZ\",Risque[[#This Row],[Précision du risque\n(si liste déroulante présente)]]))=TRUE,ISNUMBER(SEARCH(\"RP\",Risque[[#This Row],[Précision du risque\n(si liste déroulante présente)]]))=TRUE),\"Oui --> Priorité d'action\",\"Non\"))","v":""},null,null,null,null,{"$f":"IF(ISBLANK(Risque[[#This Row],[Catégorie de risque]]),\"\",CONCATENATE(Risque[[#This Row],[Catégorie de risque]],2))","v":""},null,{"$f":"IF(ISBLANK(Risque[[#This Row],[Moyens de prévention]]),\"\",CONCATENATE(Risque[[#This Row],[Moyens de prévention]],1))","v":""},null,null,null,null,null,{"$f":"IF(ISBLANK(Risque[[#This Row],[Catégorie de risque]]),\"\",CONCATENATE(Risque[[#This Row],[Catégorie de risque]],3))","v":""},null,null,null,{"$f":"IF(ISBLANK(Risque[[#This Row],[Catégorie de risque]]),\"\",CONCATENATE(Risque[[#This Row],[Catégorie de risque]],4))","v":""},null,null,null,null,null,{"$f":"IF(Risque[[#This Row],[Date d''inscription du risque]]<>\"\",YEAR(Risque[[#This Row],[Date d''inscription du risque]]),\"\")","v":""}]
[null,null,{"$f":"IF(ISBLANK(Risque[[#This Row],[Catégorie de risque]]),\"\",CONCATENATE(Risque[[#This Row],[Catégorie de risque]],1))","v":""},null,null,null,null,null,{"$f":"IF(ISBLANK(Risque[[#This Row],[Catégorie de risque]]),\"\",IF(OR(ISNUMBER(SEARCH(\"RZ\",Risque[[#This Row],[Source de danger]]))=TRUE,ISNUMBER(SEARCH(\"RP\",Risque[[#This Row],[Source de danger]]))=TRUE,ISNUMBER(SEARCH(\"RZ\",Risque[[#This Row],[Risques associés]]))=TRUE,ISNUMBER(SEARCH(\"RP\",Risque[[#This Row],[Risques associés]]))=TRUE,ISNUMBER(SEARCH(\"RZ\",Risque[[#This Row],[Précision du risque\n(si liste déroulante présente)]]))=TRUE,ISNUMBER(SEARCH(\"RP\",Risque[[#This Row],[Précision du risque\n(si liste déroulante présente)]]))=TRUE),\"Oui --> Priorité d'action\",\"Non\"))","v":""},null,null,null,null,{"$f":"IF(ISBLANK(Risque[[#This Row],[Catégorie de risque]]),\"\",CONCATENATE(Risque[[#This Row],[Catégorie de risque]],2))","v":""},null,{"$f":"IF(ISBLANK(Risque[[#This Row],[Moyens de prévention]]),\"\",CONCATENATE(Risque[[#This Row],[Moyens de prévention]],1))","v":""},null,null,null,null,null,{"$f":"IF(ISBLANK(Risque[[#This Row],[Catégorie de risque]]),\"\",CONCATENATE(Risque[[#This Row],[Catégorie de risque]],3))","v":""},null,null,null,{"$f":"IF(ISBLANK(Risque[[#This Row],[Catégorie de risque]]),\"\",CONCATENATE(Risque[[#This Row],[Catégorie de risque]],4))","v":""},null,null,null,null,null,{"$f":"IF(Risque[[#This Row],[Date d''inscription du risque]]<>\"\",YEAR(Risque[[#This Row],[Date d''inscription du risque]]),\"\")","v":""}]
[null,null,{"$f":"IF(ISBLANK(Risque[[#This Row],[Catégorie de risque]]),\"\",CONCATENATE(Risque[[#This Row],[Catégorie de risque]],1))","v":""},null,null,null,null,null,{"$f":"IF(ISBLANK(Risque[[#This Row],[Catégorie de risque]]),\"\",IF(OR(ISNUMBER(SEARCH(\"RZ\",Risque[[#This Row],[Source de danger]]))=TRUE,ISNUMBER(SEARCH(\"RP\",Risque[[#This Row],[Source de danger]]))=TRUE,ISNUMBER(SEARCH(\"RZ\",Risque[[#This Row],[Risques associés]]))=TRUE,ISNUMBER(SEARCH(\"RP\",Risque[[#This Row],[Risques associés]]))=TRUE,ISNUMBER(SEARCH(\"RZ\",Risque[[#This Row],[Précision du risque\n(si liste déroulante présente)]]))=TRUE,ISNUMBER(SEARCH(\"RP\",Risque[[#This Row],[Précision du risque\n(si liste déroulante présente)]]))=TRUE),\"Oui --> Priorité d'action\",\"Non\"))","v":""},null,null,null,null,{"$f":"IF(ISBLANK(Risque[[#This Row],[Catégorie de risque]]),\"\",CONCATENATE(Risque[[#This Row],[Catégorie de risque]],2))","v":""},null,{"$f":"IF(ISBLANK(Risque[[#This Row],[Moyens de prévention]]),\"\",CONCATENATE(Risque[[#This Row],[Moyens de prévention]],1))","v":""},null,null,null,null,null,{"$f":"IF(ISBLANK(Risque[[#This Row],[Catégorie de risque]]),\"\",CONCATENATE(Risque[[#This Row],[Catégorie de risque]],3))","v":""},null,null,null,{"$f":"IF(ISBLANK(Risque[[#This Row],[Catégorie de risque]]),\"\",CONCATENATE(Risque[[#This Row],[Catégorie de risque]],4))","v":""},null,null,null,null,null,{"$f":"IF(Risque[[#This Row],[Date d''inscription du risque]]<>\"\",YEAR(Risque[[#This Row],[Date d''inscription du risque]]),\"\")","v":""}]
[null,null,{"$f":"IF(ISBLANK(Risque[[#This Row],[Catégorie de risque]]),\"\",CONCATENATE(Risque[[#This Row],[Catégorie de risque]],1))","v":""},null,null,null,null,null,{"$f":"IF(ISBLANK(Risque[[#This Row],[Catégorie de risque]]),\"\",IF(OR(ISNUMBER(SEARCH(\"RZ\",Risque[[#This Row],[Source de danger]]))=TRUE,ISNUMBER(SEARCH(\"RP\",Risque[[#This Row],[Source de danger]]))=TRUE,ISNUMBER(SEARCH(\"RZ\",Risque[[#This Row],[Risques associés]]))=TRUE,ISNUMBER(SEARCH(\"RP\",Risque[[#This Row],[Risques associés]]))=TRUE,ISNUMBER(SEARCH(\"RZ\",Risque[[#This Row],[Précision du risque\n(si liste déroulante présente)]]))=TRUE,ISNUMBER(SEARCH(\"RP\",Risque[[#This Row],[Précision du risque\n(si liste déroulante présente)]]))=TRUE),\"Oui --> Priorité d'action\",\"Non\"))","v":""},null,null,null,null,{"$f":"IF(ISBLANK(Risque[[#This Row],[Catégorie de risque]]),\"\",CONCATENATE(Risque[[#This Row],[Catégorie de risque]],2))","v":""},null,{"$f":"IF(ISBLANK(Risque[[#This Row],[Moyens de prévention]]),\"\",CONCATENATE(Risque[[#This Row],[Moyens de prévention]],1))","v":""},null,null,null,null,null,{"$f":"IF(ISBLANK(Risque[[#This Row],[Catégorie de risque]]),\"\",CONCATENATE(Risque[[#This Row],[Catégorie de risque]],3))","v":""},null,null,null,{"$f":"IF(ISBLANK(Risque[[#This Row],[Catégorie de risque]]),\"\",CONCATENATE(Risque[[#This Row],[Catégorie de risque]],4))","v":""},null,null,null,null,null,{"$f":"IF(Risque[[#This Row],[Date d''inscription du risque]]<>\"\",YEAR(Risque[[#This Row],[Date d''inscription du risque]]),\"\")","v":""}]
[null,null,{"$f":"IF(ISBLANK(Risque[[#This Row],[Catégorie de risque]]),\"\",CONCATENATE(Risque[[#This Row],[Catégorie de risque]],1))","v":""},null,null,null,null,null,{"$f":"IF(ISBLANK(Risque[[#This Row],[Catégorie de risque]]),\"\",IF(OR(ISNUMBER(SEARCH(\"RZ\",Risque[[#This Row],[Source de danger]]))=TRUE,ISNUMBER(SEARCH(\"RP\",Risque[[#This Row],[Source de danger]]))=TRUE,ISNUMBER(SEARCH(\"RZ\",Risque[[#This Row],[Risques associés]]))=TRUE,ISNUMBER(SEARCH(\"RP\",Risque[[#This Row],[Risques associés]]))=TRUE,ISNUMBER(SEARCH(\"RZ\",Risque[[#This Row],[Précision du risque\n(si liste déroulante présente)]]))=TRUE,ISNUMBER(SEARCH(\"RP\",Risque[[#This Row],[Précision du risque\n(si liste déroulante présente)]]))=TRUE),\"Oui --> Priorité d'action\",\"Non\"))","v":""},null,null,null,null,{"$f":"IF(ISBLANK(Risque[[#This Row],[Catégorie de risque]]),\"\",CONCATENATE(Risque[[#This Row],[Catégorie de risque]],2))","v":""},null,{"$f":"IF(ISBLANK(Risque[[#This Row],[Moyens de prévention]]),\"\",CONCATENATE(Risque[[#This Row],[Moyens de prévention]],1))","v":""},null,null,null,null,null,{"$f":"IF(ISBLANK(Risque[[#This Row],[Catégorie de risque]]),\"\",CONCATENATE(Risque[[#This Row],[Catégorie de risque]],3))","v":""},null,null,null,{"$f":"IF(ISBLANK(Risque[[#This Row],[Catégorie de risque]]),\"\",CONCATENATE(Risque[[#This Row],[Catégorie de risque]],4))","v":""},null,null,null,null,null,{"$f":"IF(Risque[[#This Row],[Date d''inscription du risque]]<>\"\",YEAR(Risque[[#This Row],[Date d''inscription du risque]]),\"\")","v":""}]
[null,null,{"$f":"IF(ISBLANK(Risque[[#This Row],[Catégorie de risque]]),\"\",CONCATENATE(Risque[[#This Row],[Catégorie de risque]],1))","v":""},null,null,null,null,null,{"$f":"IF(ISBLANK(Risque[[#This Row],[Catégorie de risque]]),\"\",IF(OR(ISNUMBER(SEARCH(\"RZ\",Risque[[#This Row],[Source de danger]]))=TRUE,ISNUMBER(SEARCH(\"RP\",Risque[[#This Row],[Source de danger]]))=TRUE,ISNUMBER(SEARCH(\"RZ\",Risque[[#This Row],[Risques associés]]))=TRUE,ISNUMBER(SEARCH(\"RP\",Risque[[#This Row],[Risques associés]]))=TRUE,ISNUMBER(SEARCH(\"RZ\",Risque[[#This Row],[Précision du risque\n(si liste déroulante présente)]]))=TRUE,ISNUMBER(SEARCH(\"RP\",Risque[[#This Row],[Précision du risque\n(si liste déroulante présente)]]))=TRUE),\"Oui --> Priorité d'action\",\"Non\"))","v":""},null,null,null,null,{"$f":"IF(ISBLANK(Risque[[#This Row],[Catégorie de risque]]),\"\",CONCATENATE(Risque[[#This Row],[Catégorie de risque]],2))","v":""},null,{"$f":"IF(ISBLANK(Risque[[#This Row],[Moyens de prévention]]),\"\",CONCATENATE(Risque[[#This Row],[Moyens de prévention]],1))","v":""},null,null,null,null,null,{"$f":"IF(ISBLANK(Risque[[#This Row],[Catégorie de risque]]),\"\",CONCATENATE(Risque[[#This Row],[Catégorie de risque]],3))","v":""},null,null,null,{"$f":"IF(ISBLANK(Risque[[#This Row],[Catégorie de risque]]),\"\",CONCATENATE(Risque[[#This Row],[Catégorie de risque]],4))","v":""},null,null,null,null,null,{"$f":"IF(Risque[[#This Row],[Date d''inscription du risque]]<>\"\",YEAR(Risque[[#This Row],[Date d''inscription du risque]]),\"\")","v":""}]
[null,null,{"$f":"IF(ISBLANK(Risque[[#This Row],[Catégorie de risque]]),\"\",CONCATENATE(Risque[[#This Row],[Catégorie de risque]],1))","v":""},null,null,null,null,null,{"$f":"IF(ISBLANK(Risque[[#This Row],[Catégorie de risque]]),\"\",IF(OR(ISNUMBER(SEARCH(\"RZ\",Risque[[#This Row],[Source de danger]]))=TRUE,ISNUMBER(SEARCH(\"RP\",Risque[[#This Row],[Source de danger]]))=TRUE,ISNUMBER(SEARCH(\"RZ\",Risque[[#This Row],[Risques associés]]))=TRUE,ISNUMBER(SEARCH(\"RP\",Risque[[#This Row],[Risques associés]]))=TRUE,ISNUMBER(SEARCH(\"RZ\",Risque[[#This Row],[Précision du risque\n(si liste déroulante présente)]]))=TRUE,ISNUMBER(SEARCH(\"RP\",Risque[[#This Row],[Précision du risque\n(si liste déroulante présente)]]))=TRUE),\"Oui --> Priorité d'action\",\"Non\"))","v":""},null,null,null,null,{"$f":"IF(ISBLANK(Risque[[#This Row],[Catégorie de risque]]),\"\",CONCATENATE(Risque[[#This Row],[Catégorie de risque]],2))","v":""},null,{"$f":"IF(ISBLANK(Risque[[#This Row],[Moyens de prévention]]),\"\",CONCATENATE(Risque[[#This Row],[Moyens de prévention]],1))","v":""},null,null,null,null,null,{"$f":"IF(ISBLANK(Risque[[#This Row],[Catégorie de risque]]),\"\",CONCATENATE(Risque[[#This Row],[Catégorie de risque]],3))","v":""},null,null,null,{"$f":"IF(ISBLANK(Risque[[#This Row],[Catégorie de risque]]),\"\",CONCATENATE(Risque[[#This Row],[Catégorie de risque]],4))","v":""},null,null,null,null,null,{"$f":"IF(Risque[[#This Row],[Date d''inscription du risque]]<>\"\",YEAR(Risque[[#This Row],[Date d''inscription du risque]]),\"\")","v":""}]
[null,null,{"$f":"IF(ISBLANK(Risque[[#This Row],[Catégorie de risque]]),\"\",CONCATENATE(Risque[[#This Row],[Catégorie de risque]],1))","v":""},null,null,null,null,null,{"$f":"IF(ISBLANK(Risque[[#This Row],[Catégorie de risque]]),\"\",IF(OR(ISNUMBER(SEARCH(\"RZ\",Risque[[#This Row],[Source de danger]]))=TRUE,ISNUMBER(SEARCH(\"RP\",Risque[[#This Row],[Source de danger]]))=TRUE,ISNUMBER(SEARCH(\"RZ\",Risque[[#This Row],[Risques associés]]))=TRUE,ISNUMBER(SEARCH(\"RP\",Risque[[#This Row],[Risques associés]]))=TRUE,ISNUMBER(SEARCH(\"RZ\",Risque[[#This Row],[Précision du risque\n(si liste déroulante présente)]]))=TRUE,ISNUMBER(SEARCH(\"RP\",Risque[[#This Row],[Précision du risque\n(si liste déroulante présente)]]))=TRUE),\"Oui --> Priorité d'action\",\"Non\"))","v":""},null,null,null,null,{"$f":"IF(ISBLANK(Risque[[#This Row],[Catégorie de risque]]),\"\",CONCATENATE(Risque[[#This Row],[Catégorie de risque]],2))","v":""},null,{"$f":"IF(ISBLANK(Risque[[#This Row],[Moyens de prévention]]),\"\",CONCATENATE(Risque[[#This Row],[Moyens de prévention]],1))","v":""},null,null,null,null,null,{"$f":"IF(ISBLANK(Risque[[#This Row],[Catégorie de risque]]),\"\",CONCATENATE(Risque[[#This Row],[Catégorie de risque]],3))","v":""},null,null,null,{"$f":"IF(ISBLANK(Risque[[#This Row],[Catégorie de risque]]),\"\",CONCATENATE(Risque[[#This Row],[Catégorie de risque]],4))","v":""},null,null,null,null,null,{"$f":"IF(Risque[[#This Row],[Date d''inscription du risque]]<>\"\",YEAR(Risque[[#This Row],[Date d''inscription du risque]]),\"\")","v":""}]
[null,null,{"$f":"IF(ISBLANK(Risque[[#This Row],[Catégorie de risque]]),\"\",CONCATENATE(Risque[[#This Row],[Catégorie de risque]],1))","v":""},null,null,null,null,null,{"$f":"IF(ISBLANK(Risque[[#This Row],[Catégorie de risque]]),\"\",IF(OR(ISNUMBER(SEARCH(\"RZ\",Risque[[#This Row],[Source de danger]]))=TRUE,ISNUMBER(SEARCH(\"RP\",Risque[[#This Row],[Source de danger]]))=TRUE,ISNUMBER(SEARCH(\"RZ\",Risque[[#This Row],[Risques associés]]))=TRUE,ISNUMBER(SEARCH(\"RP\",Risque[[#This Row],[Risques associés]]))=TRUE,ISNUMBER(SEARCH(\"RZ\",Risque[[#This Row],[Précision du risque\n(si liste déroulante présente)]]))=TRUE,ISNUMBER(SEARCH(\"RP\",Risque[[#This Row],[Précision du risque\n(si liste déroulante présente)]]))=TRUE),\"Oui --> Priorité d'action\",\"Non\"))","v":""},null,null,null,null,{"$f":"IF(ISBLANK(Risque[[#This Row],[Catégorie de risque]]),\"\",CONCATENATE(Risque[[#This Row],[Catégorie de risque]],2))","v":""},null,{"$f":"IF(ISBLANK(Risque[[#This Row],[Moyens de prévention]]),\"\",CONCATENATE(Risque[[#This Row],[Moyens de prévention]],1))","v":""},null,null,null,null,null,{"$f":"IF(ISBLANK(Risque[[#This Row],[Catégorie de risque]]),\"\",CONCATENATE(Risque[[#This Row],[Catégorie de risque]],3))","v":""},null,null,null,{"$f":"IF(ISBLANK(Risque[[#This Row],[Catégorie de risque]]),\"\",CONCATENATE(Risque[[#This Row],[Catégorie de risque]],4))","v":""},null,null,null,null,null,{"$f":"IF(Risque[[#This Row],[Date d''inscription du risque]]<>\"\",YEAR(Risque[[#This Row],[Date d''inscription du risque]]),\"\")","v":""}]
[null,null,{"$f":"IF(ISBLANK(Risque[[#This Row],[Catégorie de risque]]),\"\",CONCATENATE(Risque[[#This Row],[Catégorie de risque]],1))","v":""},null,null,null,null,null,{"$f":"IF(ISBLANK(Risque[[#This Row],[Catégorie de risque]]),\"\",IF(OR(ISNUMBER(SEARCH(\"RZ\",Risque[[#This Row],[Source de danger]]))=TRUE,ISNUMBER(SEARCH(\"RP\",Risque[[#This Row],[Source de danger]]))=TRUE,ISNUMBER(SEARCH(\"RZ\",Risque[[#This Row],[Risques associés]]))=TRUE,ISNUMBER(SEARCH(\"RP\",Risque[[#This Row],[Risques associés]]))=TRUE,ISNUMBER(SEARCH(\"RZ\",Risque[[#This Row],[Précision du risque\n(si liste déroulante présente)]]))=TRUE,ISNUMBER(SEARCH(\"RP\",Risque[[#This Row],[Précision du risque\n(si liste déroulante présente)]]))=TRUE),\"Oui --> Priorité d'action\",\"Non\"))","v":""},null,null,null,null,{"$f":"IF(ISBLANK(Risque[[#This Row],[Catégorie de risque]]),\"\",CONCATENATE(Risque[[#This Row],[Catégorie de risque]],2))","v":""},null,{"$f":"IF(ISBLANK(Risque[[#This Row],[Moyens de prévention]]),\"\",CONCATENATE(Risque[[#This Row],[Moyens de prévention]],1))","v":""},null,null,null,null,null,{"$f":"IF(ISBLANK(Risque[[#This Row],[Catégorie de risque]]),\"\",CONCATENATE(Risque[[#This Row],[Catégorie de risque]],3))","v":""},null,null,null,{"$f":"IF(ISBLANK(Risque[[#This Row],[Catégorie de risque]]),\"\",CONCATENATE(Risque[[#This Row],[Catégorie de risque]],4))","v":""},null,null,null,null,null,{"$f":"IF(Risque[[#This Row],[Date d''inscription du risque]]<>\"\",YEAR(Risque[[#This Row],[Date d''inscription du risque]]),\"\")","v":""}]
[null,null,{"$f":"IF(ISBLANK(Risque[[#This Row],[Catégorie de risque]]),\"\",CONCATENATE(Risque[[#This Row],[Catégorie de risque]],1))","v":""},null,null,null,null,null,{"$f":"IF(ISBLANK(Risque[[#This Row],[Catégorie de risque]]),\"\",IF(OR(ISNUMBER(SEARCH(\"RZ\",Risque[[#This Row],[Source de danger]]))=TRUE,ISNUMBER(SEARCH(\"RP\",Risque[[#This Row],[Source de danger]]))=TRUE,ISNUMBER(SEARCH(\"RZ\",Risque[[#This Row],[Risques associés]]))=TRUE,ISNUMBER(SEARCH(\"RP\",Risque[[#This Row],[Risques associés]]))=TRUE,ISNUMBER(SEARCH(\"RZ\",Risque[[#This Row],[Précision du risque\n(si liste déroulante présente)]]))=TRUE,ISNUMBER(SEARCH(\"RP\",Risque[[#This Row],[Précision du risque\n(si liste déroulante présente)]]))=TRUE),\"Oui --> Priorité d'action\",\"Non\"))","v":""},null,null,null,null,{"$f":"IF(ISBLANK(Risque[[#This Row],[Catégorie de risque]]),\"\",CONCATENATE(Risque[[#This Row],[Catégorie de risque]],2))","v":""},null,{"$f":"IF(ISBLANK(Risque[[#This Row],[Moyens de prévention]]),\"\",CONCATENATE(Risque[[#This Row],[Moyens de prévention]],1))","v":""},null,null,null,null,null,{"$f":"IF(ISBLANK(Risque[[#This Row],[Catégorie de risque]]),\"\",CONCATENATE(Risque[[#This Row],[Catégorie de risque]],3))","v":""},null,null,null,{"$f":"IF(ISBLANK(Risque[[#This Row],[Catégorie de risque]]),\"\",CONCATENATE(Risque[[#This Row],[Catégorie de risque]],4))","v":""},null,null,null,null,null,{"$f":"IF(Risque[[#This Row],[Date d''inscription du risque]]<>\"\",YEAR(Risque[[#This Row],[Date d''inscription du risque]]),\"\")","v":""}]
[null,null,{"$f":"IF(ISBLANK(Risque[[#This Row],[Catégorie de risque]]),\"\",CONCATENATE(Risque[[#This Row],[Catégorie de risque]],1))","v":""},null,null,null,null,null,{"$f":"IF(ISBLANK(Risque[[#This Row],[Catégorie de risque]]),\"\",IF(OR(ISNUMBER(SEARCH(\"RZ\",Risque[[#This Row],[Source de danger]]))=TRUE,ISNUMBER(SEARCH(\"RP\",Risque[[#This Row],[Source de danger]]))=TRUE,ISNUMBER(SEARCH(\"RZ\",Risque[[#This Row],[Risques associés]]))=TRUE,ISNUMBER(SEARCH(\"RP\",Risque[[#This Row],[Risques associés]]))=TRUE,ISNUMBER(SEARCH(\"RZ\",Risque[[#This Row],[Précision du risque\n(si liste déroulante présente)]]))=TRUE,ISNUMBER(SEARCH(\"RP\",Risque[[#This Row],[Précision du risque\n(si liste déroulante présente)]]))=TRUE),\"Oui --> Priorité d'action\",\"Non\"))","v":""},null,null,null,null,{"$f":"IF(ISBLANK(Risque[[#This Row],[Catégorie de risque]]),\"\",CONCATENATE(Risque[[#This Row],[Catégorie de risque]],2))","v":""},null,{"$f":"IF(ISBLANK(Risque[[#This Row],[Moyens de prévention]]),\"\",CONCATENATE(Risque[[#This Row],[Moyens de prévention]],1))","v":""},null,null,null,null,null,{"$f":"IF(ISBLANK(Risque[[#This Row],[Catégorie de risque]]),\"\",CONCATENATE(Risque[[#This Row],[Catégorie de risque]],3))","v":""},null,null,null,{"$f":"IF(ISBLANK(Risque[[#This Row],[Catégorie de risque]]),\"\",CONCATENATE(Risque[[#This Row],[Catégorie de risque]],4))","v":""},null,null,null,null,null,{"$f":"IF(Risque[[#This Row],[Date d''inscription du risque]]<>\"\",YEAR(Risque[[#This Row],[Date d''inscription du risque]]),\"\")","v":""}]
[null,null,{"$f":"IF(ISBLANK(Risque[[#This Row],[Catégorie de risque]]),\"\",CONCATENATE(Risque[[#This Row],[Catégorie de risque]],1))","v":""},null,null,null,null,null,{"$f":"IF(ISBLANK(Risque[[#This Row],[Catégorie de risque]]),\"\",IF(OR(ISNUMBER(SEARCH(\"RZ\",Risque[[#This Row],[Source de danger]]))=TRUE,ISNUMBER(SEARCH(\"RP\",Risque[[#This Row],[Source de danger]]))=TRUE,ISNUMBER(SEARCH(\"RZ\",Risque[[#This Row],[Risques associés]]))=TRUE,ISNUMBER(SEARCH(\"RP\",Risque[[#This Row],[Risques associés]]))=TRUE,ISNUMBER(SEARCH(\"RZ\",Risque[[#This Row],[Précision du risque\n(si liste déroulante présente)]]))=TRUE,ISNUMBER(SEARCH(\"RP\",Risque[[#This Row],[Précision du risque\n(si liste déroulante présente)]]))=TRUE),\"Oui --> Priorité d'action\",\"Non\"))","v":""},null,null,null,null,{"$f":"IF(ISBLANK(Risque[[#This Row],[Catégorie de risque]]),\"\",CONCATENATE(Risque[[#This Row],[Catégorie de risque]],2))","v":""},null,{"$f":"IF(ISBLANK(Risque[[#This Row],[Moyens de prévention]]),\"\",CONCATENATE(Risque[[#This Row],[Moyens de prévention]],1))","v":""},null,null,null,null,null,{"$f":"IF(ISBLANK(Risque[[#This Row],[Catégorie de risque]]),\"\",CONCATENATE(Risque[[#This Row],[Catégorie de risque]],3))","v":""},null,null,null,{"$f":"IF(ISBLANK(Risque[[#This Row],[Catégorie de risque]]),\"\",CONCATENATE(Risque[[#This Row],[Catégorie de risque]],4))","v":""},null,null,null,null,null,{"$f":"IF(Risque[[#This Row],[Date d''inscription du risque]]<>\"\",YEAR(Risque[[#This Row],[Date d''inscription du risque]]),\"\")","v":""}]
[null,null,{"$f":"IF(ISBLANK(Risque[[#This Row],[Catégorie de risque]]),\"\",CONCATENATE(Risque[[#This Row],[Catégorie de risque]],1))","v":""},null,null,null,null,null,{"$f":"IF(ISBLANK(Risque[[#This Row],[Catégorie de risque]]),\"\",IF(OR(ISNUMBER(SEARCH(\"RZ\",Risque[[#This Row],[Source de danger]]))=TRUE,ISNUMBER(SEARCH(\"RP\",Risque[[#This Row],[Source de danger]]))=TRUE,ISNUMBER(SEARCH(\"RZ\",Risque[[#This Row],[Risques associés]]))=TRUE,ISNUMBER(SEARCH(\"RP\",Risque[[#This Row],[Risques associés]]))=TRUE,ISNUMBER(SEARCH(\"RZ\",Risque[[#This Row],[Précision du risque\n(si liste déroulante présente)]]))=TRUE,ISNUMBER(SEARCH(\"RP\",Risque[[#This Row],[Précision du risque\n(si liste déroulante présente)]]))=TRUE),\"Oui --> Priorité d'action\",\"Non\"))","v":""},null,null,null,null,{"$f":"IF(ISBLANK(Risque[[#This Row],[Catégorie de risque]]),\"\",CONCATENATE(Risque[[#This Row],[Catégorie de risque]],2))","v":""},null,{"$f":"IF(ISBLANK(Risque[[#This Row],[Moyens de prévention]]),\"\",CONCATENATE(Risque[[#This Row],[Moyens de prévention]],1))","v":""},null,null,null,null,null,{"$f":"IF(ISBLANK(Risque[[#This Row],[Catégorie de risque]]),\"\",CONCATENATE(Risque[[#This Row],[Catégorie de risque]],3))","v":""},null,null,null,{"$f":"IF(ISBLANK(Risque[[#This Row],[Catégorie de risque]]),\"\",CONCATENATE(Risque[[#This Row],[Catégorie de risque]],4))","v":""},null,null,null,null,null,{"$f":"IF(Risque[[#This Row],[Date d''inscription du risque]]<>\"\",YEAR(Risque[[#This Row],[Date d''inscription du risque]]),\"\")","v":""}]
[null,null,{"$f":"IF(ISBLANK(Risque[[#This Row],[Catégorie de risque]]),\"\",CONCATENATE(Risque[[#This Row],[Catégorie de risque]],1))","v":""},null,null,null,null,null,{"$f":"IF(ISBLANK(Risque[[#This Row],[Catégorie de risque]]),\"\",IF(OR(ISNUMBER(SEARCH(\"RZ\",Risque[[#This Row],[Source de danger]]))=TRUE,ISNUMBER(SEARCH(\"RP\",Risque[[#This Row],[Source de danger]]))=TRUE,ISNUMBER(SEARCH(\"RZ\",Risque[[#This Row],[Risques associés]]))=TRUE,ISNUMBER(SEARCH(\"RP\",Risque[[#This Row],[Risques associés]]))=TRUE,ISNUMBER(SEARCH(\"RZ\",Risque[[#This Row],[Précision du risque\n(si liste déroulante présente)]]))=TRUE,ISNUMBER(SEARCH(\"RP\",Risque[[#This Row],[Précision du risque\n(si liste déroulante présente)]]))=TRUE),\"Oui --> Priorité d'action\",\"Non\"))","v":""},null,null,null,null,{"$f":"IF(ISBLANK(Risque[[#This Row],[Catégorie de risque]]),\"\",CONCATENATE(Risque[[#This Row],[Catégorie de risque]],2))","v":""},null,{"$f":"IF(ISBLANK(Risque[[#This Row],[Moyens de prévention]]),\"\",CONCATENATE(Risque[[#This Row],[Moyens de prévention]],1))","v":""},null,null,null,null,null,{"$f":"IF(ISBLANK(Risque[[#This Row],[Catégorie de risque]]),\"\",CONCATENATE(Risque[[#This Row],[Catégorie de risque]],3))","v":""},null,null,null,{"$f":"IF(ISBLANK(Risque[[#This Row],[Catégorie de risque]]),\"\",CONCATENATE(Risque[[#This Row],[Catégorie de risque]],4))","v":""},null,null,null,null,null,{"$f":"IF(Risque[[#This Row],[Date d''inscription du risque]]<>\"\",YEAR(Risque[[#This Row],[Date d''inscription du risque]]),\"\")","v":""}]
[null,null,{"$f":"IF(ISBLANK(Risque[[#This Row],[Catégorie de risque]]),\"\",CONCATENATE(Risque[[#This Row],[Catégorie de risque]],1))","v":""},null,null,null,null,null,{"$f":"IF(ISBLANK(Risque[[#This Row],[Catégorie de risque]]),\"\",IF(OR(ISNUMBER(SEARCH(\"RZ\",Risque[[#This Row],[Source de danger]]))=TRUE,ISNUMBER(SEARCH(\"RP\",Risque[[#This Row],[Source de danger]]))=TRUE,ISNUMBER(SEARCH(\"RZ\",Risque[[#This Row],[Risques associés]]))=TRUE,ISNUMBER(SEARCH(\"RP\",Risque[[#This Row],[Risques associés]]))=TRUE,ISNUMBER(SEARCH(\"RZ\",Risque[[#This Row],[Précision du risque\n(si liste déroulante présente)]]))=TRUE,ISNUMBER(SEARCH(\"RP\",Risque[[#This Row],[Précision du risque\n(si liste déroulante présente)]]))=TRUE),\"Oui --> Priorité d'action\",\"Non\"))","v":""},null,null,null,null,{"$f":"IF(ISBLANK(Risque[[#This Row],[Catégorie de risque]]),\"\",CONCATENATE(Risque[[#This Row],[Catégorie de risque]],2))","v":""},null,{"$f":"IF(ISBLANK(Risque[[#This Row],[Moyens de prévention]]),\"\",CONCATENATE(Risque[[#This Row],[Moyens de prévention]],1))","v":""},null,null,null,null,null,{"$f":"IF(ISBLANK(Risque[[#This Row],[Catégorie de risque]]),\"\",CONCATENATE(Risque[[#This Row],[Catégorie de risque]],3))","v":""},null,null,null,{"$f":"IF(ISBLANK(Risque[[#This Row],[Catégorie de risque]]),\"\",CONCATENATE(Risque[[#This Row],[Catégorie de risque]],4))","v":""},null,null,null,null,null,{"$f":"IF(Risque[[#This Row],[Date d''inscription du risque]]<>\"\",YEAR(Risque[[#This Row],[Date d''inscription du risque]]),\"\")","v":""}]
[null,null,{"$f":"IF(ISBLANK(Risque[[#This Row],[Catégorie de risque]]),\"\",CONCATENATE(Risque[[#This Row],[Catégorie de risque]],1))","v":""},null,null,null,null,null,{"$f":"IF(ISBLANK(Risque[[#This Row],[Catégorie de risque]]),\"\",IF(OR(ISNUMBER(SEARCH(\"RZ\",Risque[[#This Row],[Source de danger]]))=TRUE,ISNUMBER(SEARCH(\"RP\",Risque[[#This Row],[Source de danger]]))=TRUE,ISNUMBER(SEARCH(\"RZ\",Risque[[#This Row],[Risques associés]]))=TRUE,ISNUMBER(SEARCH(\"RP\",Risque[[#This Row],[Risques associés]]))=TRUE,ISNUMBER(SEARCH(\"RZ\",Risque[[#This Row],[Précision du risque\n(si liste déroulante présente)]]))=TRUE,ISNUMBER(SEARCH(\"RP\",Risque[[#This Row],[Précision du risque\n(si liste déroulante présente)]]))=TRUE),\"Oui --> Priorité d'action\",\"Non\"))","v":""},null,null,null,null,{"$f":"IF(ISBLANK(Risque[[#This Row],[Catégorie de risque]]),\"\",CONCATENATE(Risque[[#This Row],[Catégorie de risque]],2))","v":""},null,{"$f":"IF(ISBLANK(Risque[[#This Row],[Moyens de prévention]]),\"\",CONCATENATE(Risque[[#This Row],[Moyens de prévention]],1))","v":""},null,null,null,null,null,{"$f":"IF(ISBLANK(Risque[[#This Row],[Catégorie de risque]]),\"\",CONCATENATE(Risque[[#This Row],[Catégorie de risque]],3))","v":""},null,null,null,{"$f":"IF(ISBLANK(Risque[[#This Row],[Catégorie de risque]]),\"\",CONCATENATE(Risque[[#This Row],[Catégorie de risque]],4))","v":""},null,null,null,null,null,{"$f":"IF(Risque[[#This Row],[Date d''inscription du risque]]<>\"\",YEAR(Risque[[#This Row],[Date d''inscription du risque]]),\"\")","v":""}]
[null,null,{"$f":"IF(ISBLANK(Risque[[#This Row],[Catégorie de risque]]),\"\",CONCATENATE(Risque[[#This Row],[Catégorie de risque]],1))","v":""},null,null,null,null,null,{"$f":"IF(ISBLANK(Risque[[#This Row],[Catégorie de risque]]),\"\",IF(OR(ISNUMBER(SEARCH(\"RZ\",Risque[[#This Row],[Source de danger]]))=TRUE,ISNUMBER(SEARCH(\"RP\",Risque[[#This Row],[Source de danger]]))=TRUE,ISNUMBER(SEARCH(\"RZ\",Risque[[#This Row],[Risques associés]]))=TRUE,ISNUMBER(SEARCH(\"RP\",Risque[[#This Row],[Risques associés]]))=TRUE,ISNUMBER(SEARCH(\"RZ\",Risque[[#This Row],[Précision du risque\n(si liste déroulante présente)]]))=TRUE,ISNUMBER(SEARCH(\"RP\",Risque[[#This Row],[Précision du risque\n(si liste déroulante présente)]]))=TRUE),\"Oui --> Priorité d'action\",\"Non\"))","v":""},null,null,null,null,{"$f":"IF(ISBLANK(Risque[[#This Row],[Catégorie de risque]]),\"\",CONCATENATE(Risque[[#This Row],[Catégorie de risque]],2))","v":""},null,{"$f":"IF(ISBLANK(Risque[[#This Row],[Moyens de prévention]]),\"\",CONCATENATE(Risque[[#This Row],[Moyens de prévention]],1))","v":""},null,null,null,null,null,{"$f":"IF(ISBLANK(Risque[[#This Row],[Catégorie de risque]]),\"\",CONCATENATE(Risque[[#This Row],[Catégorie de risque]],3))","v":""},null,null,null,{"$f":"IF(ISBLANK(Risque[[#This Row],[Catégorie de risque]]),\"\",CONCATENATE(Risque[[#This Row],[Catégorie de risque]],4))","v":""},null,null,null,null,null,{"$f":"IF(Risque[[#This Row],[Date d''inscription du risque]]<>\"\",YEAR(Risque[[#This Row],[Date d''inscription du risque]]),\"\")","v":""}]
[null,null,{"$f":"IF(ISBLANK(Risque[[#This Row],[Catégorie de risque]]),\"\",CONCATENATE(Risque[[#This Row],[Catégorie de risque]],1))","v":""},null,null,null,null,null,{"$f":"IF(ISBLANK(Risque[[#This Row],[Catégorie de risque]]),\"\",IF(OR(ISNUMBER(SEARCH(\"RZ\",Risque[[#This Row],[Source de danger]]))=TRUE,ISNUMBER(SEARCH(\"RP\",Risque[[#This Row],[Source de danger]]))=TRUE,ISNUMBER(SEARCH(\"RZ\",Risque[[#This Row],[Risques associés]]))=TRUE,ISNUMBER(SEARCH(\"RP\",Risque[[#This Row],[Risques associés]]))=TRUE,ISNUMBER(SEARCH(\"RZ\",Risque[[#This Row],[Précision du risque\n(si liste déroulante présente)]]))=TRUE,ISNUMBER(SEARCH(\"RP\",Risque[[#This Row],[Précision du risque\n(si liste déroulante présente)]]))=TRUE),\"Oui --> Priorité d'action\",\"Non\"))","v":""},null,null,null,null,{"$f":"IF(ISBLANK(Risque[[#This Row],[Catégorie de risque]]),\"\",CONCATENATE(Risque[[#This Row],[Catégorie de risque]],2))","v":""},null,{"$f":"IF(ISBLANK(Risque[[#This Row],[Moyens de prévention]]),\"\",CONCATENATE(Risque[[#This Row],[Moyens de prévention]],1))","v":""},null,null,null,null,null,{"$f":"IF(ISBLANK(Risque[[#This Row],[Catégorie de risque]]),\"\",CONCATENATE(Risque[[#This Row],[Catégorie de risque]],3))","v":""},null,null,null,{"$f":"IF(ISBLANK(Risque[[#This Row],[Catégorie de risque]]),\"\",CONCATENATE(Risque[[#This Row],[Catégorie de risque]],4))","v":""},null,null,null,null,null,{"$f":"IF(Risque[[#This Row],[Date d''inscription du risque]]<>\"\",YEAR(Risque[[#This Row],[Date d''inscription du risque]]),\"\")","v":""}]
[null,null,{"$f":"IF(ISBLANK(Risque[[#This Row],[Catégorie de risque]]),\"\",CONCATENATE(Risque[[#This Row],[Catégorie de risque]],1))","v":""},null,null,null,null,null,{"$f":"IF(ISBLANK(Risque[[#This Row],[Catégorie de risque]]),\"\",IF(OR(ISNUMBER(SEARCH(\"RZ\",Risque[[#This Row],[Source de danger]]))=TRUE,ISNUMBER(SEARCH(\"RP\",Risque[[#This Row],[Source de danger]]))=TRUE,ISNUMBER(SEARCH(\"RZ\",Risque[[#This Row],[Risques associés]]))=TRUE,ISNUMBER(SEARCH(\"RP\",Risque[[#This Row],[Risques associés]]))=TRUE,ISNUMBER(SEARCH(\"RZ\",Risque[[#This Row],[Précision du risque\n(si liste déroulante présente)]]))=TRUE,ISNUMBER(SEARCH(\"RP\",Risque[[#This Row],[Précision du risque\n(si liste déroulante présente)]]))=TRUE),\"Oui --> Priorité d'action\",\"Non\"))","v":""},null,null,null,null,{"$f":"IF(ISBLANK(Risque[[#This Row],[Catégorie de risque]]),\"\",CONCATENATE(Risque[[#This Row],[Catégorie de risque]],2))","v":""},null,{"$f":"IF(ISBLANK(Risque[[#This Row],[Moyens de prévention]]),\"\",CONCATENATE(Risque[[#This Row],[Moyens de prévention]],1))","v":""},null,null,null,null,null,{"$f":"IF(ISBLANK(Risque[[#This Row],[Catégorie de risque]]),\"\",CONCATENATE(Risque[[#This Row],[Catégorie de risque]],3))","v":""},null,null,null,{"$f":"IF(ISBLANK(Risque[[#This Row],[Catégorie de risque]]),\"\",CONCATENATE(Risque[[#This Row],[Catégorie de risque]],4))","v":""},null,null,null,null,null,{"$f":"IF(Risque[[#This Row],[Date d''inscription du risque]]<>\"\",YEAR(Risque[[#This Row],[Date d''inscription du risque]]),\"\")","v":""}]
[null,null,{"$f":"IF(ISBLANK(Risque[[#This Row],[Catégorie de risque]]),\"\",CONCATENATE(Risque[[#This Row],[Catégorie de risque]],1))","v":""},null,null,null,null,null,{"$f":"IF(ISBLANK(Risque[[#This Row],[Catégorie de risque]]),\"\",IF(OR(ISNUMBER(SEARCH(\"RZ\",Risque[[#This Row],[Source de danger]]))=TRUE,ISNUMBER(SEARCH(\"RP\",Risque[[#This Row],[Source de danger]]))=TRUE,ISNUMBER(SEARCH(\"RZ\",Risque[[#This Row],[Risques associés]]))=TRUE,ISNUMBER(SEARCH(\"RP\",Risque[[#This Row],[Risques associés]]))=TRUE,ISNUMBER(SEARCH(\"RZ\",Risque[[#This Row],[Précision du risque\n(si liste déroulante présente)]]))=TRUE,ISNUMBER(SEARCH(\"RP\",Risque[[#This Row],[Précision du risque\n(si liste déroulante présente)]]))=TRUE),\"Oui --> Priorité d'action\",\"Non\"))","v":""},null,null,null,null,{"$f":"IF(ISBLANK(Risque[[#This Row],[Catégorie de risque]]),\"\",CONCATENATE(Risque[[#This Row],[Catégorie de risque]],2))","v":""},null,{"$f":"IF(ISBLANK(Risque[[#This Row],[Moyens de prévention]]),\"\",CONCATENATE(Risque[[#This Row],[Moyens de prévention]],1))","v":""},null,null,null,null,null,{"$f":"IF(ISBLANK(Risque[[#This Row],[Catégorie de risque]]),\"\",CONCATENATE(Risque[[#This Row],[Catégorie de risque]],3))","v":""},null,null,null,{"$f":"IF(ISBLANK(Risque[[#This Row],[Catégorie de risque]]),\"\",CONCATENATE(Risque[[#This Row],[Catégorie de risque]],4))","v":""},null,null,null,null,null,{"$f":"IF(Risque[[#This Row],[Date d''inscription du risque]]<>\"\",YEAR(Risque[[#This Row],[Date d''inscription du risque]]),\"\")","v":""}]
[null,null,{"$f":"IF(ISBLANK(Risque[[#This Row],[Catégorie de risque]]),\"\",CONCATENATE(Risque[[#This Row],[Catégorie de risque]],1))","v":""},null,null,null,null,null,{"$f":"IF(ISBLANK(Risque[[#This Row],[Catégorie de risque]]),\"\",IF(OR(ISNUMBER(SEARCH(\"RZ\",Risque[[#This Row],[Source de danger]]))=TRUE,ISNUMBER(SEARCH(\"RP\",Risque[[#This Row],[Source de danger]]))=TRUE,ISNUMBER(SEARCH(\"RZ\",Risque[[#This Row],[Risques associés]]))=TRUE,ISNUMBER(SEARCH(\"RP\",Risque[[#This Row],[Risques associés]]))=TRUE,ISNUMBER(SEARCH(\"RZ\",Risque[[#This Row],[Précision du risque\n(si liste déroulante présente)]]))=TRUE,ISNUMBER(SEARCH(\"RP\",Risque[[#This Row],[Précision du risque\n(si liste déroulante présente)]]))=TRUE),\"Oui --> Priorité d'action\",\"Non\"))","v":""},null,null,null,null,{"$f":"IF(ISBLANK(Risque[[#This Row],[Catégorie de risque]]),\"\",CONCATENATE(Risque[[#This Row],[Catégorie de risque]],2))","v":""},null,{"$f":"IF(ISBLANK(Risque[[#This Row],[Moyens de prévention]]),\"\",CONCATENATE(Risque[[#This Row],[Moyens de prévention]],1))","v":""},null,null,null,null,null,{"$f":"IF(ISBLANK(Risque[[#This Row],[Catégorie de risque]]),\"\",CONCATENATE(Risque[[#This Row],[Catégorie de risque]],3))","v":""},null,null,null,{"$f":"IF(ISBLANK(Risque[[#This Row],[Catégorie de risque]]),\"\",CONCATENATE(Risque[[#This Row],[Catégorie de risque]],4))","v":""},null,null,null,null,null,{"$f":"IF(Risque[[#This Row],[Date d''inscription du risque]]<>\"\",YEAR(Risque[[#This Row],[Date d''inscription du risque]]),\"\")","v":""}]
[null,null,{"$f":"IF(ISBLANK(Risque[[#This Row],[Catégorie de risque]]),\"\",CONCATENATE(Risque[[#This Row],[Catégorie de risque]],1))","v":""},null,null,null,null,null,{"$f":"IF(ISBLANK(Risque[[#This Row],[Catégorie de risque]]),\"\",IF(OR(ISNUMBER(SEARCH(\"RZ\",Risque[[#This Row],[Source de danger]]))=TRUE,ISNUMBER(SEARCH(\"RP\",Risque[[#This Row],[Source de danger]]))=TRUE,ISNUMBER(SEARCH(\"RZ\",Risque[[#This Row],[Risques associés]]))=TRUE,ISNUMBER(SEARCH(\"RP\",Risque[[#This Row],[Risques associés]]))=TRUE,ISNUMBER(SEARCH(\"RZ\",Risque[[#This Row],[Précision du risque\n(si liste déroulante présente)]]))=TRUE,ISNUMBER(SEARCH(\"RP\",Risque[[#This Row],[Précision du risque\n(si liste déroulante présente)]]))=TRUE),\"Oui --> Priorité d'action\",\"Non\"))","v":""},null,null,null,null,{"$f":"IF(ISBLANK(Risque[[#This Row],[Catégorie de risque]]),\"\",CONCATENATE(Risque[[#This Row],[Catégorie de risque]],2))","v":""},null,{"$f":"IF(ISBLANK(Risque[[#This Row],[Moyens de prévention]]),\"\",CONCATENATE(Risque[[#This Row],[Moyens de prévention]],1))","v":""},null,null,null,null,null,{"$f":"IF(ISBLANK(Risque[[#This Row],[Catégorie de risque]]),\"\",CONCATENATE(Risque[[#This Row],[Catégorie de risque]],3))","v":""},null,null,null,{"$f":"IF(ISBLANK(Risque[[#This Row],[Catégorie de risque]]),\"\",CONCATENATE(Risque[[#This Row],[Catégorie de risque]],4))","v":""},null,null,null,null,null,{"$f":"IF(Risque[[#This Row],[Date d''inscription du risque]]<>\"\",YEAR(Risque[[#This Row],[Date d''inscription du risque]]),\"\")","v":""}]
[null,null,{"$f":"IF(ISBLANK(Risque[[#This Row],[Catégorie de risque]]),\"\",CONCATENATE(Risque[[#This Row],[Catégorie de risque]],1))","v":""},null,null,null,null,null,{"$f":"IF(ISBLANK(Risque[[#This Row],[Catégorie de risque]]),\"\",IF(OR(ISNUMBER(SEARCH(\"RZ\",Risque[[#This Row],[Source de danger]]))=TRUE,ISNUMBER(SEARCH(\"RP\",Risque[[#This Row],[Source de danger]]))=TRUE,ISNUMBER(SEARCH(\"RZ\",Risque[[#This Row],[Risques associés]]))=TRUE,ISNUMBER(SEARCH(\"RP\",Risque[[#This Row],[Risques associés]]))=TRUE,ISNUMBER(SEARCH(\"RZ\",Risque[[#This Row],[Précision du risque\n(si liste déroulante présente)]]))=TRUE,ISNUMBER(SEARCH(\"RP\",Risque[[#This Row],[Précision du risque\n(si liste déroulante présente)]]))=TRUE),\"Oui --> Priorité d'action\",\"Non\"))","v":""},null,null,null,null,{"$f":"IF(ISBLANK(Risque[[#This Row],[Catégorie de risque]]),\"\",CONCATENATE(Risque[[#This Row],[Catégorie de risque]],2))","v":""},null,{"$f":"IF(ISBLANK(Risque[[#This Row],[Moyens de prévention]]),\"\",CONCATENATE(Risque[[#This Row],[Moyens de prévention]],1))","v":""},null,null,null,null,null,{"$f":"IF(ISBLANK(Risque[[#This Row],[Catégorie de risque]]),\"\",CONCATENATE(Risque[[#This Row],[Catégorie de risque]],3))","v":""},null,null,null,{"$f":"IF(ISBLANK(Risque[[#This Row],[Catégorie de risque]]),\"\",CONCATENATE(Risque[[#This Row],[Catégorie de risque]],4))","v":""},null,null,null,null,null,{"$f":"IF(Risque[[#This Row],[Date d''inscription du risque]]<>\"\",YEAR(Risque[[#This Row],[Date d''inscription du risque]]),\"\")","v":""}]
[null,null,{"$f":"IF(ISBLANK(Risque[[#This Row],[Catégorie de risque]]),\"\",CONCATENATE(Risque[[#This Row],[Catégorie de risque]],1))","v":""},null,null,null,null,null,{"$f":"IF(ISBLANK(Risque[[#This Row],[Catégorie de risque]]),\"\",IF(OR(ISNUMBER(SEARCH(\"RZ\",Risque[[#This Row],[Source de danger]]))=TRUE,ISNUMBER(SEARCH(\"RP\",Risque[[#This Row],[Source de danger]]))=TRUE,ISNUMBER(SEARCH(\"RZ\",Risque[[#This Row],[Risques associés]]))=TRUE,ISNUMBER(SEARCH(\"RP\",Risque[[#This Row],[Risques associés]]))=TRUE,ISNUMBER(SEARCH(\"RZ\",Risque[[#This Row],[Précision du risque\n(si liste déroulante présente)]]))=TRUE,ISNUMBER(SEARCH(\"RP\",Risque[[#This Row],[Précision du risque\n(si liste déroulante présente)]]))=TRUE),\"Oui --> Priorité d'action\",\"Non\"))","v":""},null,null,null,null,{"$f":"IF(ISBLANK(Risque[[#This Row],[Catégorie de risque]]),\"\",CONCATENATE(Risque[[#This Row],[Catégorie de risque]],2))","v":""},null,{"$f":"IF(ISBLANK(Risque[[#This Row],[Moyens de prévention]]),\"\",CONCATENATE(Risque[[#This Row],[Moyens de prévention]],1))","v":""},null,null,null,null,null,{"$f":"IF(ISBLANK(Risque[[#This Row],[Catégorie de risque]]),\"\",CONCATENATE(Risque[[#This Row],[Catégorie de risque]],3))","v":""},null,null,null,{"$f":"IF(ISBLANK(Risque[[#This Row],[Catégorie de risque]]),\"\",CONCATENATE(Risque[[#This Row],[Catégorie de risque]],4))","v":""},null,null,null,null,null,{"$f":"IF(Risque[[#This Row],[Date d''inscription du risque]]<>\"\",YEAR(Risque[[#This Row],[Date d''inscription du risque]]),\"\")","v":""}]
[null,null,{"$f":"IF(ISBLANK(Risque[[#This Row],[Catégorie de risque]]),\"\",CONCATENATE(Risque[[#This Row],[Catégorie de risque]],1))","v":""},null,null,null,null,null,{"$f":"IF(ISBLANK(Risque[[#This Row],[Catégorie de risque]]),\"\",IF(OR(ISNUMBER(SEARCH(\"RZ\",Risque[[#This Row],[Source de danger]]))=TRUE,ISNUMBER(SEARCH(\"RP\",Risque[[#This Row],[Source de danger]]))=TRUE,ISNUMBER(SEARCH(\"RZ\",Risque[[#This Row],[Risques associés]]))=TRUE,ISNUMBER(SEARCH(\"RP\",Risque[[#This Row],[Risques associés]]))=TRUE,ISNUMBER(SEARCH(\"RZ\",Risque[[#This Row],[Précision du risque\n(si liste déroulante présente)]]))=TRUE,ISNUMBER(SEARCH(\"RP\",Risque[[#This Row],[Précision du risque\n(si liste déroulante présente)]]))=TRUE),\"Oui --> Priorité d'action\",\"Non\"))","v":""},null,null,null,null,{"$f":"IF(ISBLANK(Risque[[#This Row],[Catégorie de risque]]),\"\",CONCATENATE(Risque[[#This Row],[Catégorie de risque]],2))","v":""},null,{"$f":"IF(ISBLANK(Risque[[#This Row],[Moyens de prévention]]),\"\",CONCATENATE(Risque[[#This Row],[Moyens de prévention]],1))","v":""},null,null,null,null,null,{"$f":"IF(ISBLANK(Risque[[#This Row],[Catégorie de risque]]),\"\",CONCATENATE(Risque[[#This Row],[Catégorie de risque]],3))","v":""},null,null,null,{"$f":"IF(ISBLANK(Risque[[#This Row],[Catégorie de risque]]),\"\",CONCATENATE(Risque[[#This Row],[Catégorie de risque]],4))","v":""},null,null,null,null,null,{"$f":"IF(Risque[[#This Row],[Date d''inscription du risque]]<>\"\",YEAR(Risque[[#This Row],[Date d''inscription du risque]]),\"\")","v":""}]
[null,null,{"$f":"IF(ISBLANK(Risque[[#This Row],[Catégorie de risque]]),\"\",CONCATENATE(Risque[[#This Row],[Catégorie de risque]],1))","v":""},null,null,null,null,null,{"$f":"IF(ISBLANK(Risque[[#This Row],[Catégorie de risque]]),\"\",IF(OR(ISNUMBER(SEARCH(\"RZ\",Risque[[#This Row],[Source de danger]]))=TRUE,ISNUMBER(SEARCH(\"RP\",Risque[[#This Row],[Source de danger]]))=TRUE,ISNUMBER(SEARCH(\"RZ\",Risque[[#This Row],[Risques associés]]))=TRUE,ISNUMBER(SEARCH(\"RP\",Risque[[#This Row],[Risques associés]]))=TRUE,ISNUMBER(SEARCH(\"RZ\",Risque[[#This Row],[Précision du risque\n(si liste déroulante présente)]]))=TRUE,ISNUMBER(SEARCH(\"RP\",Risque[[#This Row],[Précision du risque\n(si liste déroulante présente)]]))=TRUE),\"Oui --> Priorité d'action\",\"Non\"))","v":""},null,null,null,null,{"$f":"IF(ISBLANK(Risque[[#This Row],[Catégorie de risque]]),\"\",CONCATENATE(Risque[[#This Row],[Catégorie de risque]],2))","v":""},null,{"$f":"IF(ISBLANK(Risque[[#This Row],[Moyens de prévention]]),\"\",CONCATENATE(Risque[[#This Row],[Moyens de prévention]],1))","v":""},null,null,null,null,null,{"$f":"IF(ISBLANK(Risque[[#This Row],[Catégorie de risque]]),\"\",CONCATENATE(Risque[[#This Row],[Catégorie de risque]],3))","v":""},null,null,null,{"$f":"IF(ISBLANK(Risque[[#This Row],[Catégorie de risque]]),\"\",CONCATENATE(Risque[[#This Row],[Catégorie de risque]],4))","v":""},null,null,null,null,null,{"$f":"IF(Risque[[#This Row],[Date d''inscription du risque]]<>\"\",YEAR(Risque[[#This Row],[Date d''inscription du risque]]),\"\")","v":""}]
[null,null,{"$f":"IF(ISBLANK(Risque[[#This Row],[Catégorie de risque]]),\"\",CONCATENATE(Risque[[#This Row],[Catégorie de risque]],1))","v":""},null,null,null,null,null,{"$f":"IF(ISBLANK(Risque[[#This Row],[Catégorie de risque]]),\"\",IF(OR(ISNUMBER(SEARCH(\"RZ\",Risque[[#This Row],[Source de danger]]))=TRUE,ISNUMBER(SEARCH(\"RP\",Risque[[#This Row],[Source de danger]]))=TRUE,ISNUMBER(SEARCH(\"RZ\",Risque[[#This Row],[Risques associés]]))=TRUE,ISNUMBER(SEARCH(\"RP\",Risque[[#This Row],[Risques associés]]))=TRUE,ISNUMBER(SEARCH(\"RZ\",Risque[[#This Row],[Précision du risque\n(si liste déroulante présente)]]))=TRUE,ISNUMBER(SEARCH(\"RP\",Risque[[#This Row],[Précision du risque\n(si liste déroulante présente)]]))=TRUE),\"Oui --> Priorité d'action\",\"Non\"))","v":""},null,null,null,null,{"$f":"IF(ISBLANK(Risque[[#This Row],[Catégorie de risque]]),\"\",CONCATENATE(Risque[[#This Row],[Catégorie de risque]],2))","v":""},null,{"$f":"IF(ISBLANK(Risque[[#This Row],[Moyens de prévention]]),\"\",CONCATENATE(Risque[[#This Row],[Moyens de prévention]],1))","v":""},null,null,null,null,null,{"$f":"IF(ISBLANK(Risque[[#This Row],[Catégorie de risque]]),\"\",CONCATENATE(Risque[[#This Row],[Catégorie de risque]],3))","v":""},null,null,null,{"$f":"IF(ISBLANK(Risque[[#This Row],[Catégorie de risque]]),\"\",CONCATENATE(Risque[[#This Row],[Catégorie de risque]],4))","v":""},null,null,null,null,null,{"$f":"IF(Risque[[#This Row],[Date d''inscription du risque]]<>\"\",YEAR(Risque[[#This Row],[Date d''inscription du risque]]),\"\")","v":""}]
[null,null,{"$f":"IF(ISBLANK(Risque[[#This Row],[Catégorie de risque]]),\"\",CONCATENATE(Risque[[#This Row],[Catégorie de risque]],1))","v":""},null,null,null,null,null,{"$f":"IF(ISBLANK(Risque[[#This Row],[Catégorie de risque]]),\"\",IF(OR(ISNUMBER(SEARCH(\"RZ\",Risque[[#This Row],[Source de danger]]))=TRUE,ISNUMBER(SEARCH(\"RP\",Risque[[#This Row],[Source de danger]]))=TRUE,ISNUMBER(SEARCH(\"RZ\",Risque[[#This Row],[Risques associés]]))=TRUE,ISNUMBER(SEARCH(\"RP\",Risque[[#This Row],[Risques associés]]))=TRUE,ISNUMBER(SEARCH(\"RZ\",Risque[[#This Row],[Précision du risque\n(si liste déroulante présente)]]))=TRUE,ISNUMBER(SEARCH(\"RP\",Risque[[#This Row],[Précision du risque\n(si liste déroulante présente)]]))=TRUE),\"Oui --> Priorité d'action\",\"Non\"))","v":""},null,null,null,null,{"$f":"IF(ISBLANK(Risque[[#This Row],[Catégorie de risque]]),\"\",CONCATENATE(Risque[[#This Row],[Catégorie de risque]],2))","v":""},null,{"$f":"IF(ISBLANK(Risque[[#This Row],[Moyens de prévention]]),\"\",CONCATENATE(Risque[[#This Row],[Moyens de prévention]],1))","v":""},null,null,null,null,null,{"$f":"IF(ISBLANK(Risque[[#This Row],[Catégorie de risque]]),\"\",CONCATENATE(Risque[[#This Row],[Catégorie de risque]],3))","v":""},null,null,null,{"$f":"IF(ISBLANK(Risque[[#This Row],[Catégorie de risque]]),\"\",CONCATENATE(Risque[[#This Row],[Catégorie de risque]],4))","v":""},null,null,null,null,null,{"$f":"IF(Risque[[#This Row],[Date d''inscription du risque]]<>\"\",YEAR(Risque[[#This Row],[Date d''inscription du risque]]),\"\")","v":""}]
[null,null,{"$f":"IF(ISBLANK(Risque[[#This Row],[Catégorie de risque]]),\"\",CONCATENATE(Risque[[#This Row],[Catégorie de risque]],1))","v":""},null,null,null,null,null,{"$f":"IF(ISBLANK(Risque[[#This Row],[Catégorie de risque]]),\"\",IF(OR(ISNUMBER(SEARCH(\"RZ\",Risque[[#This Row],[Source de danger]]))=TRUE,ISNUMBER(SEARCH(\"RP\",Risque[[#This Row],[Source de danger]]))=TRUE,ISNUMBER(SEARCH(\"RZ\",Risque[[#This Row],[Risques associés]]))=TRUE,ISNUMBER(SEARCH(\"RP\",Risque[[#This Row],[Risques associés]]))=TRUE,ISNUMBER(SEARCH(\"RZ\",Risque[[#This Row],[Précision du risque\n(si liste déroulante présente)]]))=TRUE,ISNUMBER(SEARCH(\"RP\",Risque[[#This Row],[Précision du risque\n(si liste déroulante présente)]]))=TRUE),\"Oui --> Priorité d'action\",\"Non\"))","v":""},null,null,null,null,{"$f":"IF(ISBLANK(Risque[[#This Row],[Catégorie de risque]]),\"\",CONCATENATE(Risque[[#This Row],[Catégorie de risque]],2))","v":""},null,{"$f":"IF(ISBLANK(Risque[[#This Row],[Moyens de prévention]]),\"\",CONCATENATE(Risque[[#This Row],[Moyens de prévention]],1))","v":""},null,null,null,null,null,{"$f":"IF(ISBLANK(Risque[[#This Row],[Catégorie de risque]]),\"\",CONCATENATE(Risque[[#This Row],[Catégorie de risque]],3))","v":""},null,null,null,{"$f":"IF(ISBLANK(Risque[[#This Row],[Catégorie de risque]]),\"\",CONCATENATE(Risque[[#This Row],[Catégorie de risque]],4))","v":""},null,null,null,null,null,{"$f":"IF(Risque[[#This Row],[Date d''inscription du risque]]<>\"\",YEAR(Risque[[#This Row],[Date d''inscription du risque]]),\"\")","v":""}]
[null,null,{"$f":"IF(ISBLANK(Risque[[#This Row],[Catégorie de risque]]),\"\",CONCATENATE(Risque[[#This Row],[Catégorie de risque]],1))","v":""},null,null,null,null,null,{"$f":"IF(ISBLANK(Risque[[#This Row],[Catégorie de risque]]),\"\",IF(OR(ISNUMBER(SEARCH(\"RZ\",Risque[[#This Row],[Source de danger]]))=TRUE,ISNUMBER(SEARCH(\"RP\",Risque[[#This Row],[Source de danger]]))=TRUE,ISNUMBER(SEARCH(\"RZ\",Risque[[#This Row],[Risques associés]]))=TRUE,ISNUMBER(SEARCH(\"RP\",Risque[[#This Row],[Risques associés]]))=TRUE,ISNUMBER(SEARCH(\"RZ\",Risque[[#This Row],[Précision du risque\n(si liste déroulante présente)]]))=TRUE,ISNUMBER(SEARCH(\"RP\",Risque[[#This Row],[Précision du risque\n(si liste déroulante présente)]]))=TRUE),\"Oui --> Priorité d'action\",\"Non\"))","v":""},null,null,null,null,{"$f":"IF(ISBLANK(Risque[[#This Row],[Catégorie de risque]]),\"\",CONCATENATE(Risque[[#This Row],[Catégorie de risque]],2))","v":""},null,{"$f":"IF(ISBLANK(Risque[[#This Row],[Moyens de prévention]]),\"\",CONCATENATE(Risque[[#This Row],[Moyens de prévention]],1))","v":""},null,null,null,null,null,{"$f":"IF(ISBLANK(Risque[[#This Row],[Catégorie de risque]]),\"\",CONCATENATE(Risque[[#This Row],[Catégorie de risque]],3))","v":""},null,null,null,{"$f":"IF(ISBLANK(Risque[[#This Row],[Catégorie de risque]]),\"\",CONCATENATE(Risque[[#This Row],[Catégorie de risque]],4))","v":""},null,null,null,null,null,{"$f":"IF(Risque[[#This Row],[Date d''inscription du risque]]<>\"\",YEAR(Risque[[#This Row],[Date d''inscription du risque]]),\"\")","v":""}]
[null,null,{"$f":"IF(ISBLANK(Risque[[#This Row],[Catégorie de risque]]),\"\",CONCATENATE(Risque[[#This Row],[Catégorie de risque]],1))","v":""},null,null,null,null,null,{"$f":"IF(ISBLANK(Risque[[#This Row],[Catégorie de risque]]),\"\",IF(OR(ISNUMBER(SEARCH(\"RZ\",Risque[[#This Row],[Source de danger]]))=TRUE,ISNUMBER(SEARCH(\"RP\",Risque[[#This Row],[Source de danger]]))=TRUE,ISNUMBER(SEARCH(\"RZ\",Risque[[#This Row],[Risques associés]]))=TRUE,ISNUMBER(SEARCH(\"RP\",Risque[[#This Row],[Risques associés]]))=TRUE,ISNUMBER(SEARCH(\"RZ\",Risque[[#This Row],[Précision du risque\n(si liste déroulante présente)]]))=TRUE,ISNUMBER(SEARCH(\"RP\",Risque[[#This Row],[Précision du risque\n(si liste déroulante présente)]]))=TRUE),\"Oui --> Priorité d'action\",\"Non\"))","v":""},null,null,null,null,{"$f":"IF(ISBLANK(Risque[[#This Row],[Catégorie de risque]]),\"\",CONCATENATE(Risque[[#This Row],[Catégorie de risque]],2))","v":""},null,{"$f":"IF(ISBLANK(Risque[[#This Row],[Moyens de prévention]]),\"\",CONCATENATE(Risque[[#This Row],[Moyens de prévention]],1))","v":""},null,null,null,null,null,{"$f":"IF(ISBLANK(Risque[[#This Row],[Catégorie de risque]]),\"\",CONCATENATE(Risque[[#This Row],[Catégorie de risque]],3))","v":""},null,null,null,{"$f":"IF(ISBLANK(Risque[[#This Row],[Catégorie de risque]]),\"\",CONCATENATE(Risque[[#This Row],[Catégorie de risque]],4))","v":""},null,null,null,null,null,{"$f":"IF(Risque[[#This Row],[Date d''inscription du risque]]<>\"\",YEAR(Risque[[#This Row],[Date d''inscription du risque]]),\"\")","v":""}]
[null,null,{"$f":"IF(ISBLANK(Risque[[#This Row],[Catégorie de risque]]),\"\",CONCATENATE(Risque[[#This Row],[Catégorie de risque]],1))","v":""},null,null,null,null,null,{"$f":"IF(ISBLANK(Risque[[#This Row],[Catégorie de risque]]),\"\",IF(OR(ISNUMBER(SEARCH(\"RZ\",Risque[[#This Row],[Source de danger]]))=TRUE,ISNUMBER(SEARCH(\"RP\",Risque[[#This Row],[Source de danger]]))=TRUE,ISNUMBER(SEARCH(\"RZ\",Risque[[#This Row],[Risques associés]]))=TRUE,ISNUMBER(SEARCH(\"RP\",Risque[[#This Row],[Risques associés]]))=TRUE,ISNUMBER(SEARCH(\"RZ\",Risque[[#This Row],[Précision du risque\n(si liste déroulante présente)]]))=TRUE,ISNUMBER(SEARCH(\"RP\",Risque[[#This Row],[Précision du risque\n(si liste déroulante présente)]]))=TRUE),\"Oui --> Priorité d'action\",\"Non\"))","v":""},null,null,null,null,{"$f":"IF(ISBLANK(Risque[[#This Row],[Catégorie de risque]]),\"\",CONCATENATE(Risque[[#This Row],[Catégorie de risque]],2))","v":""},null,{"$f":"IF(ISBLANK(Risque[[#This Row],[Moyens de prévention]]),\"\",CONCATENATE(Risque[[#This Row],[Moyens de prévention]],1))","v":""},null,null,null,null,null,{"$f":"IF(ISBLANK(Risque[[#This Row],[Catégorie de risque]]),\"\",CONCATENATE(Risque[[#This Row],[Catégorie de risque]],3))","v":""},null,null,null,{"$f":"IF(ISBLANK(Risque[[#This Row],[Catégorie de risque]]),\"\",CONCATENATE(Risque[[#This Row],[Catégorie de risque]],4))","v":""},null,null,null,null,null,{"$f":"IF(Risque[[#This Row],[Date d''inscription du risque]]<>\"\",YEAR(Risque[[#This Row],[Date d''inscription du risque]]),\"\")","v":""}]
[null,null,{"$f":"IF(ISBLANK(Risque[[#This Row],[Catégorie de risque]]),\"\",CONCATENATE(Risque[[#This Row],[Catégorie de risque]],1))","v":""},null,null,null,null,null,{"$f":"IF(ISBLANK(Risque[[#This Row],[Catégorie de risque]]),\"\",IF(OR(ISNUMBER(SEARCH(\"RZ\",Risque[[#This Row],[Source de danger]]))=TRUE,ISNUMBER(SEARCH(\"RP\",Risque[[#This Row],[Source de danger]]))=TRUE,ISNUMBER(SEARCH(\"RZ\",Risque[[#This Row],[Risques associés]]))=TRUE,ISNUMBER(SEARCH(\"RP\",Risque[[#This Row],[Risques associés]]))=TRUE,ISNUMBER(SEARCH(\"RZ\",Risque[[#This Row],[Précision du risque\n(si liste déroulante présente)]]))=TRUE,ISNUMBER(SEARCH(\"RP\",Risque[[#This Row],[Précision du risque\n(si liste déroulante présente)]]))=TRUE),\"Oui --> Priorité d'action\",\"Non\"))","v":""},null,null,null,null,{"$f":"IF(ISBLANK(Risque[[#This Row],[Catégorie de risque]]),\"\",CONCATENATE(Risque[[#This Row],[Catégorie de risque]],2))","v":""},null,{"$f":"IF(ISBLANK(Risque[[#This Row],[Moyens de prévention]]),\"\",CONCATENATE(Risque[[#This Row],[Moyens de prévention]],1))","v":""},null,null,null,null,null,{"$f":"IF(ISBLANK(Risque[[#This Row],[Catégorie de risque]]),\"\",CONCATENATE(Risque[[#This Row],[Catégorie de risque]],3))","v":""},null,null,null,{"$f":"IF(ISBLANK(Risque[[#This Row],[Catégorie de risque]]),\"\",CONCATENATE(Risque[[#This Row],[Catégorie de risque]],4))","v":""},null,null,null,null,null,{"$f":"IF(Risque[[#This Row],[Date d''inscription du risque]]<>\"\",YEAR(Risque[[#This Row],[Date d''inscription du risque]]),\"\")","v":""}]
[null,null,{"$f":"IF(ISBLANK(Risque[[#This Row],[Catégorie de risque]]),\"\",CONCATENATE(Risque[[#This Row],[Catégorie de risque]],1))","v":""},null,null,null,null,null,{"$f":"IF(ISBLANK(Risque[[#This Row],[Catégorie de risque]]),\"\",IF(OR(ISNUMBER(SEARCH(\"RZ\",Risque[[#This Row],[Source de danger]]))=TRUE,ISNUMBER(SEARCH(\"RP\",Risque[[#This Row],[Source de danger]]))=TRUE,ISNUMBER(SEARCH(\"RZ\",Risque[[#This Row],[Risques associés]]))=TRUE,ISNUMBER(SEARCH(\"RP\",Risque[[#This Row],[Risques associés]]))=TRUE,ISNUMBER(SEARCH(\"RZ\",Risque[[#This Row],[Précision du risque\n(si liste déroulante présente)]]))=TRUE,ISNUMBER(SEARCH(\"RP\",Risque[[#This Row],[Précision du risque\n(si liste déroulante présente)]]))=TRUE),\"Oui --> Priorité d'action\",\"Non\"))","v":""},null,null,null,null,{"$f":"IF(ISBLANK(Risque[[#This Row],[Catégorie de risque]]),\"\",CONCATENATE(Risque[[#This Row],[Catégorie de risque]],2))","v":""},null,{"$f":"IF(ISBLANK(Risque[[#This Row],[Moyens de prévention]]),\"\",CONCATENATE(Risque[[#This Row],[Moyens de prévention]],1))","v":""},null,null,null,null,null,{"$f":"IF(ISBLANK(Risque[[#This Row],[Catégorie de risque]]),\"\",CONCATENATE(Risque[[#This Row],[Catégorie de risque]],3))","v":""},null,null,null,{"$f":"IF(ISBLANK(Risque[[#This Row],[Catégorie de risque]]),\"\",CONCATENATE(Risque[[#This Row],[Catégorie de risque]],4))","v":""},null,null,null,null,null,{"$f":"IF(Risque[[#This Row],[Date d''inscription du risque]]<>\"\",YEAR(Risque[[#This Row],[Date d''inscription du risque]]),\"\")","v":""}]
[null,null,{"$f":"IF(ISBLANK(Risque[[#This Row],[Catégorie de risque]]),\"\",CONCATENATE(Risque[[#This Row],[Catégorie de risque]],1))","v":""},null,null,null,null,null,{"$f":"IF(ISBLANK(Risque[[#This Row],[Catégorie de risque]]),\"\",IF(OR(ISNUMBER(SEARCH(\"RZ\",Risque[[#This Row],[Source de danger]]))=TRUE,ISNUMBER(SEARCH(\"RP\",Risque[[#This Row],[Source de danger]]))=TRUE,ISNUMBER(SEARCH(\"RZ\",Risque[[#This Row],[Risques associés]]))=TRUE,ISNUMBER(SEARCH(\"RP\",Risque[[#This Row],[Risques associés]]))=TRUE,ISNUMBER(SEARCH(\"RZ\",Risque[[#This Row],[Précision du risque\n(si liste déroulante présente)]]))=TRUE,ISNUMBER(SEARCH(\"RP\",Risque[[#This Row],[Précision du risque\n(si liste déroulante présente)]]))=TRUE),\"Oui --> Priorité d'action\",\"Non\"))","v":""},null,null,null,null,{"$f":"IF(ISBLANK(Risque[[#This Row],[Catégorie de risque]]),\"\",CONCATENATE(Risque[[#This Row],[Catégorie de risque]],2))","v":""},null,{"$f":"IF(ISBLANK(Risque[[#This Row],[Moyens de prévention]]),\"\",CONCATENATE(Risque[[#This Row],[Moyens de prévention]],1))","v":""},null,null,null,null,null,{"$f":"IF(ISBLANK(Risque[[#This Row],[Catégorie de risque]]),\"\",CONCATENATE(Risque[[#This Row],[Catégorie de risque]],3))","v":""},null,null,null,{"$f":"IF(ISBLANK(Risque[[#This Row],[Catégorie de risque]]),\"\",CONCATENATE(Risque[[#This Row],[Catégorie de risque]],4))","v":""},null,null,null,null,null,{"$f":"IF(Risque[[#This Row],[Date d''inscription du risque]]<>\"\",YEAR(Risque[[#This Row],[Date d''inscription du risque]]),\"\")","v":""}]
[null,null,{"$f":"IF(ISBLANK(Risque[[#This Row],[Catégorie de risque]]),\"\",CONCATENATE(Risque[[#This Row],[Catégorie de risque]],1))","v":""},null,null,null,null,null,{"$f":"IF(ISBLANK(Risque[[#This Row],[Catégorie de risque]]),\"\",IF(OR(ISNUMBER(SEARCH(\"RZ\",Risque[[#This Row],[Source de danger]]))=TRUE,ISNUMBER(SEARCH(\"RP\",Risque[[#This Row],[Source de danger]]))=TRUE,ISNUMBER(SEARCH(\"RZ\",Risque[[#This Row],[Risques associés]]))=TRUE,ISNUMBER(SEARCH(\"RP\",Risque[[#This Row],[Risques associés]]))=TRUE,ISNUMBER(SEARCH(\"RZ\",Risque[[#This Row],[Précision du risque\n(si liste déroulante présente)]]))=TRUE,ISNUMBER(SEARCH(\"RP\",Risque[[#This Row],[Précision du risque\n(si liste déroulante présente)]]))=TRUE),\"Oui --> Priorité d'action\",\"Non\"))","v":""},null,null,null,null,{"$f":"IF(ISBLANK(Risque[[#This Row],[Catégorie de risque]]),\"\",CONCATENATE(Risque[[#This Row],[Catégorie de risque]],2))","v":""},null,{"$f":"IF(ISBLANK(Risque[[#This Row],[Moyens de prévention]]),\"\",CONCATENATE(Risque[[#This Row],[Moyens de prévention]],1))","v":""},null,null,null,null,null,{"$f":"IF(ISBLANK(Risque[[#This Row],[Catégorie de risque]]),\"\",CONCATENATE(Risque[[#This Row],[Catégorie de risque]],3))","v":""},null,null,null,{"$f":"IF(ISBLANK(Risque[[#This Row],[Catégorie de risque]]),\"\",CONCATENATE(Risque[[#This Row],[Catégorie de risque]],4))","v":""},null,null,null,null,null,{"$f":"IF(Risque[[#This Row],[Date d''inscription du risque]]<>\"\",YEAR(Risque[[#This Row],[Date d''inscription du risque]]),\"\")","v":""}]
[null,null,{"$f":"IF(ISBLANK(Risque[[#This Row],[Catégorie de risque]]),\"\",CONCATENATE(Risque[[#This Row],[Catégorie de risque]],1))","v":""},null,null,null,null,null,{"$f":"IF(ISBLANK(Risque[[#This Row],[Catégorie de risque]]),\"\",IF(OR(ISNUMBER(SEARCH(\"RZ\",Risque[[#This Row],[Source de danger]]))=TRUE,ISNUMBER(SEARCH(\"RP\",Risque[[#This Row],[Source de danger]]))=TRUE,ISNUMBER(SEARCH(\"RZ\",Risque[[#This Row],[Risques associés]]))=TRUE,ISNUMBER(SEARCH(\"RP\",Risque[[#This Row],[Risques associés]]))=TRUE,ISNUMBER(SEARCH(\"RZ\",Risque[[#This Row],[Précision du risque\n(si liste déroulante présente)]]))=TRUE,ISNUMBER(SEARCH(\"RP\",Risque[[#This Row],[Précision du risque\n(si liste déroulante présente)]]))=TRUE),\"Oui --> Priorité d'action\",\"Non\"))","v":""},null,null,null,null,{"$f":"IF(ISBLANK(Risque[[#This Row],[Catégorie de risque]]),\"\",CONCATENATE(Risque[[#This Row],[Catégorie de risque]],2))","v":""},null,{"$f":"IF(ISBLANK(Risque[[#This Row],[Moyens de prévention]]),\"\",CONCATENATE(Risque[[#This Row],[Moyens de prévention]],1))","v":""},null,null,null,null,null,{"$f":"IF(ISBLANK(Risque[[#This Row],[Catégorie de risque]]),\"\",CONCATENATE(Risque[[#This Row],[Catégorie de risque]],3))","v":""},null,null,null,{"$f":"IF(ISBLANK(Risque[[#This Row],[Catégorie de risque]]),\"\",CONCATENATE(Risque[[#This Row],[Catégorie de risque]],4))","v":""},null,null,null,null,null,{"$f":"IF(Risque[[#This Row],[Date d''inscription du risque]]<>\"\",YEAR(Risque[[#This Row],[Date d''inscription du risque]]),\"\")","v":""}]
[null,null,{"$f":"IF(ISBLANK(Risque[[#This Row],[Catégorie de risque]]),\"\",CONCATENATE(Risque[[#This Row],[Catégorie de risque]],1))","v":""},null,null,null,null,null,{"$f":"IF(ISBLANK(Risque[[#This Row],[Catégorie de risque]]),\"\",IF(OR(ISNUMBER(SEARCH(\"RZ\",Risque[[#This Row],[Source de danger]]))=TRUE,ISNUMBER(SEARCH(\"RP\",Risque[[#This Row],[Source de danger]]))=TRUE,ISNUMBER(SEARCH(\"RZ\",Risque[[#This Row],[Risques associés]]))=TRUE,ISNUMBER(SEARCH(\"RP\",Risque[[#This Row],[Risques associés]]))=TRUE,ISNUMBER(SEARCH(\"RZ\",Risque[[#This Row],[Précision du risque\n(si liste déroulante présente)]]))=TRUE,ISNUMBER(SEARCH(\"RP\",Risque[[#This Row],[Précision du risque\n(si liste déroulante présente)]]))=TRUE),\"Oui --> Priorité d'action\",\"Non\"))","v":""},null,null,null,null,{"$f":"IF(ISBLANK(Risque[[#This Row],[Catégorie de risque]]),\"\",CONCATENATE(Risque[[#This Row],[Catégorie de risque]],2))","v":""},null,{"$f":"IF(ISBLANK(Risque[[#This Row],[Moyens de prévention]]),\"\",CONCATENATE(Risque[[#This Row],[Moyens de prévention]],1))","v":""},null,null,null,null,null,{"$f":"IF(ISBLANK(Risque[[#This Row],[Catégorie de risque]]),\"\",CONCATENATE(Risque[[#This Row],[Catégorie de risque]],3))","v":""},null,null,null,{"$f":"IF(ISBLANK(Risque[[#This Row],[Catégorie de risque]]),\"\",CONCATENATE(Risque[[#This Row],[Catégorie de risque]],4))","v":""},null,null,null,null,null,{"$f":"IF(Risque[[#This Row],[Date d''inscription du risque]]<>\"\",YEAR(Risque[[#This Row],[Date d''inscription du risque]]),\"\")","v":""}]
[null,null,{"$f":"IF(ISBLANK(Risque[[#This Row],[Catégorie de risque]]),\"\",CONCATENATE(Risque[[#This Row],[Catégorie de risque]],1))","v":""},null,null,null,null,null,{"$f":"IF(ISBLANK(Risque[[#This Row],[Catégorie de risque]]),\"\",IF(OR(ISNUMBER(SEARCH(\"RZ\",Risque[[#This Row],[Source de danger]]))=TRUE,ISNUMBER(SEARCH(\"RP\",Risque[[#This Row],[Source de danger]]))=TRUE,ISNUMBER(SEARCH(\"RZ\",Risque[[#This Row],[Risques associés]]))=TRUE,ISNUMBER(SEARCH(\"RP\",Risque[[#This Row],[Risques associés]]))=TRUE,ISNUMBER(SEARCH(\"RZ\",Risque[[#This Row],[Précision du risque\n(si liste déroulante présente)]]))=TRUE,ISNUMBER(SEARCH(\"RP\",Risque[[#This Row],[Précision du risque\n(si liste déroulante présente)]]))=TRUE),\"Oui --> Priorité d'action\",\"Non\"))","v":""},null,null,null,null,{"$f":"IF(ISBLANK(Risque[[#This Row],[Catégorie de risque]]),\"\",CONCATENATE(Risque[[#This Row],[Catégorie de risque]],2))","v":""},null,{"$f":"IF(ISBLANK(Risque[[#This Row],[Moyens de prévention]]),\"\",CONCATENATE(Risque[[#This Row],[Moyens de prévention]],1))","v":""},null,null,null,null,null,{"$f":"IF(ISBLANK(Risque[[#This Row],[Catégorie de risque]]),\"\",CONCATENATE(Risque[[#This Row],[Catégorie de risque]],3))","v":""},null,null,null,{"$f":"IF(ISBLANK(Risque[[#This Row],[Catégorie de risque]]),\"\",CONCATENATE(Risque[[#This Row],[Catégorie de risque]],4))","v":""},null,null,null,null,null,{"$f":"IF(Risque[[#This Row],[Date d''inscription du risque]]<>\"\",YEAR(Risque[[#This Row],[Date d''inscription du risque]]),\"\")","v":""}]
[null,null,{"$f":"IF(ISBLANK(Risque[[#This Row],[Catégorie de risque]]),\"\",CONCATENATE(Risque[[#This Row],[Catégorie de risque]],1))","v":""},null,null,null,null,null,{"$f":"IF(ISBLANK(Risque[[#This Row],[Catégorie de risque]]),\"\",IF(OR(ISNUMBER(SEARCH(\"RZ\",Risque[[#This Row],[Source de danger]]))=TRUE,ISNUMBER(SEARCH(\"RP\",Risque[[#This Row],[Source de danger]]))=TRUE,ISNUMBER(SEARCH(\"RZ\",Risque[[#This Row],[Risques associés]]))=TRUE,ISNUMBER(SEARCH(\"RP\",Risque[[#This Row],[Risques associés]]))=TRUE,ISNUMBER(SEARCH(\"RZ\",Risque[[#This Row],[Précision du risque\n(si liste déroulante présente)]]))=TRUE,ISNUMBER(SEARCH(\"RP\",Risque[[#This Row],[Précision du risque\n(si liste déroulante présente)]]))=TRUE),\"Oui --> Priorité d'action\",\"Non\"))","v":""},null,null,null,null,{"$f":"IF(ISBLANK(Risque[[#This Row],[Catégorie de risque]]),\"\",CONCATENATE(Risque[[#This Row],[Catégorie de risque]],2))","v":""},null,{"$f":"IF(ISBLANK(Risque[[#This Row],[Moyens de prévention]]),\"\",CONCATENATE(Risque[[#This Row],[Moyens de prévention]],1))","v":""},null,null,null,null,null,{"$f":"IF(ISBLANK(Risque[[#This Row],[Catégorie de risque]]),\"\",CONCATENATE(Risque[[#This Row],[Catégorie de risque]],3))","v":""},null,null,null,{"$f":"IF(ISBLANK(Risque[[#This Row],[Catégorie de risque]]),\"\",CONCATENATE(Risque[[#This Row],[Catégorie de risque]],4))","v":""},null,null,null,null,null,{"$f":"IF(Risque[[#This Row],[Date d''inscription du risque]]<>\"\",YEAR(Risque[[#This Row],[Date d''inscription du risque]]),\"\")","v":""}]
[null,null,{"$f":"IF(ISBLANK(Risque[[#This Row],[Catégorie de risque]]),\"\",CONCATENATE(Risque[[#This Row],[Catégorie de risque]],1))","v":""},null,null,null,null,null,{"$f":"IF(ISBLANK(Risque[[#This Row],[Catégorie de risque]]),\"\",IF(OR(ISNUMBER(SEARCH(\"RZ\",Risque[[#This Row],[Source de danger]]))=TRUE,ISNUMBER(SEARCH(\"RP\",Risque[[#This Row],[Source de danger]]))=TRUE,ISNUMBER(SEARCH(\"RZ\",Risque[[#This Row],[Risques associés]]))=TRUE,ISNUMBER(SEARCH(\"RP\",Risque[[#This Row],[Risques associés]]))=TRUE,ISNUMBER(SEARCH(\"RZ\",Risque[[#This Row],[Précision du risque\n(si liste déroulante présente)]]))=TRUE,ISNUMBER(SEARCH(\"RP\",Risque[[#This Row],[Précision du risque\n(si liste déroulante présente)]]))=TRUE),\"Oui --> Priorité d'action\",\"Non\"))","v":""},null,null,null,null,{"$f":"IF(ISBLANK(Risque[[#This Row],[Catégorie de risque]]),\"\",CONCATENATE(Risque[[#This Row],[Catégorie de risque]],2))","v":""},null,{"$f":"IF(ISBLANK(Risque[[#This Row],[Moyens de prévention]]),\"\",CONCATENATE(Risque[[#This Row],[Moyens de prévention]],1))","v":""},null,null,null,null,null,{"$f":"IF(ISBLANK(Risque[[#This Row],[Catégorie de risque]]),\"\",CONCATENATE(Risque[[#This Row],[Catégorie de risque]],3))","v":""},null,null,null,{"$f":"IF(ISBLANK(Risque[[#This Row],[Catégorie de risque]]),\"\",CONCATENATE(Risque[[#This Row],[Catégorie de risque]],4))","v":""},null,null,null,null,null,{"$f":"IF(Risque[[#This Row],[Date d''inscription du risque]]<>\"\",YEAR(Risque[[#This Row],[Date d''inscription du risque]]),\"\")","v":""}]
[null,null,{"$f":"IF(ISBLANK(Risque[[#This Row],[Catégorie de risque]]),\"\",CONCATENATE(Risque[[#This Row],[Catégorie de risque]],1))","v":""},null,null,null,null,null,{"$f":"IF(ISBLANK(Risque[[#This Row],[Catégorie de risque]]),\"\",IF(OR(ISNUMBER(SEARCH(\"RZ\",Risque[[#This Row],[Source de danger]]))=TRUE,ISNUMBER(SEARCH(\"RP\",Risque[[#This Row],[Source de danger]]))=TRUE,ISNUMBER(SEARCH(\"RZ\",Risque[[#This Row],[Risques associés]]))=TRUE,ISNUMBER(SEARCH(\"RP\",Risque[[#This Row],[Risques associés]]))=TRUE,ISNUMBER(SEARCH(\"RZ\",Risque[[#This Row],[Précision du risque\n(si liste déroulante présente)]]))=TRUE,ISNUMBER(SEARCH(\"RP\",Risque[[#This Row],[Précision du risque\n(si liste déroulante présente)]]))=TRUE),\"Oui --> Priorité d'action\",\"Non\"))","v":""},null,null,null,null,{"$f":"IF(ISBLANK(Risque[[#This Row],[Catégorie de risque]]),\"\",CONCATENATE(Risque[[#This Row],[Catégorie de risque]],2))","v":""},null,{"$f":"IF(ISBLANK(Risque[[#This Row],[Moyens de prévention]]),\"\",CONCATENATE(Risque[[#This Row],[Moyens de prévention]],1))","v":""},null,null,null,null,null,{"$f":"IF(ISBLANK(Risque[[#This Row],[Catégorie de risque]]),\"\",CONCATENATE(Risque[[#This Row],[Catégorie de risque]],3))","v":""},null,null,null,{"$f":"IF(ISBLANK(Risque[[#This Row],[Catégorie de risque]]),\"\",CONCATENATE(Risque[[#This Row],[Catégorie de risque]],4))","v":""},null,null,null,null,null,{"$f":"IF(Risque[[#This Row],[Date d''inscription du risque]]<>\"\",YEAR(Risque[[#This Row],[Date d''inscription du risque]]),\"\")","v":""}]
[null,null,{"$f":"IF(ISBLANK(Risque[[#This Row],[Catégorie de risque]]),\"\",CONCATENATE(Risque[[#This Row],[Catégorie de risque]],1))","v":""},null,null,null,null,null,{"$f":"IF(ISBLANK(Risque[[#This Row],[Catégorie de risque]]),\"\",IF(OR(ISNUMBER(SEARCH(\"RZ\",Risque[[#This Row],[Source de danger]]))=TRUE,ISNUMBER(SEARCH(\"RP\",Risque[[#This Row],[Source de danger]]))=TRUE,ISNUMBER(SEARCH(\"RZ\",Risque[[#This Row],[Risques associés]]))=TRUE,ISNUMBER(SEARCH(\"RP\",Risque[[#This Row],[Risques associés]]))=TRUE,ISNUMBER(SEARCH(\"RZ\",Risque[[#This Row],[Précision du risque\n(si liste déroulante présente)]]))=TRUE,ISNUMBER(SEARCH(\"RP\",Risque[[#This Row],[Précision du risque\n(si liste déroulante présente)]]))=TRUE),\"Oui --> Priorité d'action\",\"Non\"))","v":""},null,null,null,null,{"$f":"IF(ISBLANK(Risque[[#This Row],[Catégorie de risque]]),\"\",CONCATENATE(Risque[[#This Row],[Catégorie de risque]],2))","v":""},null,{"$f":"IF(ISBLANK(Risque[[#This Row],[Moyens de prévention]]),\"\",CONCATENATE(Risque[[#This Row],[Moyens de prévention]],1))","v":""},null,null,null,null,null,{"$f":"IF(ISBLANK(Risque[[#This Row],[Catégorie de risque]]),\"\",CONCATENATE(Risque[[#This Row],[Catégorie de risque]],3))","v":""},null,null,null,{"$f":"IF(ISBLANK(Risque[[#This Row],[Catégorie de risque]]),\"\",CONCATENATE(Risque[[#This Row],[Catégorie de risque]],4))","v":""},null,null,null,null,null,{"$f":"IF(Risque[[#This Row],[Date d''inscription du risque]]<>\"\",YEAR(Risque[[#This Row],[Date d''inscription du risque]]),\"\")","v":""}]
[null,null,{"$f":"IF(ISBLANK(Risque[[#This Row],[Catégorie de risque]]),\"\",CONCATENATE(Risque[[#This Row],[Catégorie de risque]],1))","v":""},null,null,null,null,null,{"$f":"IF(ISBLANK(Risque[[#This Row],[Catégorie de risque]]),\"\",IF(OR(ISNUMBER(SEARCH(\"RZ\",Risque[[#This Row],[Source de danger]]))=TRUE,ISNUMBER(SEARCH(\"RP\",Risque[[#This Row],[Source de danger]]))=TRUE,ISNUMBER(SEARCH(\"RZ\",Risque[[#This Row],[Risques associés]]))=TRUE,ISNUMBER(SEARCH(\"RP\",Risque[[#This Row],[Risques associés]]))=TRUE,ISNUMBER(SEARCH(\"RZ\",Risque[[#This Row],[Précision du risque\n(si liste déroulante présente)]]))=TRUE,ISNUMBER(SEARCH(\"RP\",Risque[[#This Row],[Précision du risque\n(si liste déroulante présente)]]))=TRUE),\"Oui --> Priorité d'action\",\"Non\"))","v":""},null,null,null,null,{"$f":"IF(ISBLANK(Risque[[#This Row],[Catégorie de risque]]),\"\",CONCATENATE(Risque[[#This Row],[Catégorie de risque]],2))","v":""},null,{"$f":"IF(ISBLANK(Risque[[#This Row],[Moyens de prévention]]),\"\",CONCATENATE(Risque[[#This Row],[Moyens de prévention]],1))","v":""},null,null,null,null,null,{"$f":"IF(ISBLANK(Risque[[#This Row],[Catégorie de risque]]),\"\",CONCATENATE(Risque[[#This Row],[Catégorie de risque]],3))","v":""},null,null,null,{"$f":"IF(ISBLANK(Risque[[#This Row],[Catégorie de risque]]),\"\",CONCATENATE(Risque[[#This Row],[Catégorie de risque]],4))","v":""},null,null,null,null,null,{"$f":"IF(Risque[[#This Row],[Date d''inscription du risque]]<>\"\",YEAR(Risque[[#This Row],[Date d''inscription du risque]]),\"\")","v":""}]
[null,null,{"$f":"IF(ISBLANK(Risque[[#This Row],[Catégorie de risque]]),\"\",CONCATENATE(Risque[[#This Row],[Catégorie de risque]],1))","v":""},null,null,null,null,null,{"$f":"IF(ISBLANK(Risque[[#This Row],[Catégorie de risque]]),\"\",IF(OR(ISNUMBER(SEARCH(\"RZ\",Risque[[#This Row],[Source de danger]]))=TRUE,ISNUMBER(SEARCH(\"RP\",Risque[[#This Row],[Source de danger]]))=TRUE,ISNUMBER(SEARCH(\"RZ\",Risque[[#This Row],[Risques associés]]))=TRUE,ISNUMBER(SEARCH(\"RP\",Risque[[#This Row],[Risques associés]]))=TRUE,ISNUMBER(SEARCH(\"RZ\",Risque[[#This Row],[Précision du risque\n(si liste déroulante présente)]]))=TRUE,ISNUMBER(SEARCH(\"RP\",Risque[[#This Row],[Précision du risque\n(si liste déroulante présente)]]))=TRUE),\"Oui --> Priorité d'action\",\"Non\"))","v":""},null,null,null,null,{"$f":"IF(ISBLANK(Risque[[#This Row],[Catégorie de risque]]),\"\",CONCATENATE(Risque[[#This Row],[Catégorie de risque]],2))","v":""},null,{"$f":"IF(ISBLANK(Risque[[#This Row],[Moyens de prévention]]),\"\",CONCATENATE(Risque[[#This Row],[Moyens de prévention]],1))","v":""},null,null,null,null,null,{"$f":"IF(ISBLANK(Risque[[#This Row],[Catégorie de risque]]),\"\",CONCATENATE(Risque[[#This Row],[Catégorie de risque]],3))","v":""},null,null,null,{"$f":"IF(ISBLANK(Risque[[#This Row],[Catégorie de risque]]),\"\",CONCATENATE(Risque[[#This Row],[Catégorie de risque]],4))","v":""},null,null,null,null,null,{"$f":"IF(Risque[[#This Row],[Date d''inscription du risque]]<>\"\",YEAR(Risque[[#This Row],[Date d''inscription du risque]]),\"\")","v":""}]
[null,null,{"$f":"IF(ISBLANK(Risque[[#This Row],[Catégorie de risque]]),\"\",CONCATENATE(Risque[[#This Row],[Catégorie de risque]],1))","v":""},null,null,null,null,null,{"$f":"IF(ISBLANK(Risque[[#This Row],[Catégorie de risque]]),\"\",IF(OR(ISNUMBER(SEARCH(\"RZ\",Risque[[#This Row],[Source de danger]]))=TRUE,ISNUMBER(SEARCH(\"RP\",Risque[[#This Row],[Source de danger]]))=TRUE,ISNUMBER(SEARCH(\"RZ\",Risque[[#This Row],[Risques associés]]))=TRUE,ISNUMBER(SEARCH(\"RP\",Risque[[#This Row],[Risques associés]]))=TRUE,ISNUMBER(SEARCH(\"RZ\",Risque[[#This Row],[Précision du risque\n(si liste déroulante présente)]]))=TRUE,ISNUMBER(SEARCH(\"RP\",Risque[[#This Row],[Précision du risque\n(si liste déroulante présente)]]))=TRUE),\"Oui --> Priorité d'action\",\"Non\"))","v":""},null,null,null,null,{"$f":"IF(ISBLANK(Risque[[#This Row],[Catégorie de risque]]),\"\",CONCATENATE(Risque[[#This Row],[Catégorie de risque]],2))","v":""},null,{"$f":"IF(ISBLANK(Risque[[#This Row],[Moyens de prévention]]),\"\",CONCATENATE(Risque[[#This Row],[Moyens de prévention]],1))","v":""},null,null,null,null,null,{"$f":"IF(ISBLANK(Risque[[#This Row],[Catégorie de risque]]),\"\",CONCATENATE(Risque[[#This Row],[Catégorie de risque]],3))","v":""},null,null,null,{"$f":"IF(ISBLANK(Risque[[#This Row],[Catégorie de risque]]),\"\",CONCATENATE(Risque[[#This Row],[Catégorie de risque]],4))","v":""},null,null,null,null,null,{"$f":"IF(Risque[[#This Row],[Date d''inscription du risque]]<>\"\",YEAR(Risque[[#This Row],[Date d''inscription du risque]]),\"\")","v":""}]
[null,null,{"$f":"IF(ISBLANK(Risque[[#This Row],[Catégorie de risque]]),\"\",CONCATENATE(Risque[[#This Row],[Catégorie de risque]],1))","v":""},null,null,null,null,null,{"$f":"IF(ISBLANK(Risque[[#This Row],[Catégorie de risque]]),\"\",IF(OR(ISNUMBER(SEARCH(\"RZ\",Risque[[#This Row],[Source de danger]]))=TRUE,ISNUMBER(SEARCH(\"RP\",Risque[[#This Row],[Source de danger]]))=TRUE,ISNUMBER(SEARCH(\"RZ\",Risque[[#This Row],[Risques associés]]))=TRUE,ISNUMBER(SEARCH(\"RP\",Risque[[#This Row],[Risques associés]]))=TRUE,ISNUMBER(SEARCH(\"RZ\",Risque[[#This Row],[Précision du risque\n(si liste déroulante présente)]]))=TRUE,ISNUMBER(SEARCH(\"RP\",Risque[[#This Row],[Précision du risque\n(si liste déroulante présente)]]))=TRUE),\"Oui --> Priorité d'action\",\"Non\"))","v":""},null,null,null,null,{"$f":"IF(ISBLANK(Risque[[#This Row],[Catégorie de risque]]),\"\",CONCATENATE(Risque[[#This Row],[Catégorie de risque]],2))","v":""},null,{"$f":"IF(ISBLANK(Risque[[#This Row],[Moyens de prévention]]),\"\",CONCATENATE(Risque[[#This Row],[Moyens de prévention]],1))","v":""},null,null,null,null,null,{"$f":"IF(ISBLANK(Risque[[#This Row],[Catégorie de risque]]),\"\",CONCATENATE(Risque[[#This Row],[Catégorie de risque]],3))","v":""},null,null,null,{"$f":"IF(ISBLANK(Risque[[#This Row],[Catégorie de risque]]),\"\",CONCATENATE(Risque[[#This Row],[Catégorie de risque]],4))","v":""},null,null,null,null,null,{"$f":"IF(Risque[[#This Row],[Date d''inscription du risque]]<>\"\",YEAR(Risque[[#This Row],[Date d''inscription du risque]]),\"\")","v":""}]
[null,null,{"$f":"IF(ISBLANK(Risque[[#This Row],[Catégorie de risque]]),\"\",CONCATENATE(Risque[[#This Row],[Catégorie de risque]],1))","v":""},null,null,null,null,null,{"$f":"IF(ISBLANK(Risque[[#This Row],[Catégorie de risque]]),\"\",IF(OR(ISNUMBER(SEARCH(\"RZ\",Risque[[#This Row],[Source de danger]]))=TRUE,ISNUMBER(SEARCH(\"RP\",Risque[[#This Row],[Source de danger]]))=TRUE,ISNUMBER(SEARCH(\"RZ\",Risque[[#This Row],[Risques associés]]))=TRUE,ISNUMBER(SEARCH(\"RP\",Risque[[#This Row],[Risques associés]]))=TRUE,ISNUMBER(SEARCH(\"RZ\",Risque[[#This Row],[Précision du risque\n(si liste déroulante présente)]]))=TRUE,ISNUMBER(SEARCH(\"RP\",Risque[[#This Row],[Précision du risque\n(si liste déroulante présente)]]))=TRUE),\"Oui --> Priorité d'action\",\"Non\"))","v":""},null,null,null,null,{"$f":"IF(ISBLANK(Risque[[#This Row],[Catégorie de risque]]),\"\",CONCATENATE(Risque[[#This Row],[Catégorie de risque]],2))","v":""},null,{"$f":"IF(ISBLANK(Risque[[#This Row],[Moyens de prévention]]),\"\",CONCATENATE(Risque[[#This Row],[Moyens de prévention]],1))","v":""},null,null,null,null,null,{"$f":"IF(ISBLANK(Risque[[#This Row],[Catégorie de risque]]),\"\",CONCATENATE(Risque[[#This Row],[Catégorie de risque]],3))","v":""},null,null,null,{"$f":"IF(ISBLANK(Risque[[#This Row],[Catégorie de risque]]),\"\",CONCATENATE(Risque[[#This Row],[Catégorie de risque]],4))","v":""},null,null,null,null,null,{"$f":"IF(Risque[[#This Row],[Date d''inscription du risque]]<>\"\",YEAR(Risque[[#This Row],[Date d''inscription du risque]]),\"\")","v":""}]
[null,null,{"$f":"IF(ISBLANK(Risque[[#This Row],[Catégorie de risque]]),\"\",CONCATENATE(Risque[[#This Row],[Catégorie de risque]],1))","v":""},null,null,null,null,null,{"$f":"IF(ISBLANK(Risque[[#This Row],[Catégorie de risque]]),\"\",IF(OR(ISNUMBER(SEARCH(\"RZ\",Risque[[#This Row],[Source de danger]]))=TRUE,ISNUMBER(SEARCH(\"RP\",Risque[[#This Row],[Source de danger]]))=TRUE,ISNUMBER(SEARCH(\"RZ\",Risque[[#This Row],[Risques associés]]))=TRUE,ISNUMBER(SEARCH(\"RP\",Risque[[#This Row],[Risques associés]]))=TRUE,ISNUMBER(SEARCH(\"RZ\",Risque[[#This Row],[Précision du risque\n(si liste déroulante présente)]]))=TRUE,ISNUMBER(SEARCH(\"RP\",Risque[[#This Row],[Précision du risque\n(si liste déroulante présente)]]))=TRUE),\"Oui --> Priorité d'action\",\"Non\"))","v":""},null,null,null,null,{"$f":"IF(ISBLANK(Risque[[#This Row],[Catégorie de risque]]),\"\",CONCATENATE(Risque[[#This Row],[Catégorie de risque]],2))","v":""},null,{"$f":"IF(ISBLANK(Risque[[#This Row],[Moyens de prévention]]),\"\",CONCATENATE(Risque[[#This Row],[Moyens de prévention]],1))","v":""},null,null,null,null,null,{"$f":"IF(ISBLANK(Risque[[#This Row],[Catégorie de risque]]),\"\",CONCATENATE(Risque[[#This Row],[Catégorie de risque]],3))","v":""},null,null,null,{"$f":"IF(ISBLANK(Risque[[#This Row],[Catégorie de risque]]),\"\",CONCATENATE(Risque[[#This Row],[Catégorie de risque]],4))","v":""},null,null,null,null,null,{"$f":"IF(Risque[[#This Row],[Date d''inscription du risque]]<>\"\",YEAR(Risque[[#This Row],[Date d''inscription du risque]]),\"\")","v":""}]
[null,null,{"$f":"IF(ISBLANK(Risque[[#This Row],[Catégorie de risque]]),\"\",CONCATENATE(Risque[[#This Row],[Catégorie de risque]],1))","v":""},null,null,null,null,null,{"$f":"IF(ISBLANK(Risque[[#This Row],[Catégorie de risque]]),\"\",IF(OR(ISNUMBER(SEARCH(\"RZ\",Risque[[#This Row],[Source de danger]]))=TRUE,ISNUMBER(SEARCH(\"RP\",Risque[[#This Row],[Source de danger]]))=TRUE,ISNUMBER(SEARCH(\"RZ\",Risque[[#This Row],[Risques associés]]))=TRUE,ISNUMBER(SEARCH(\"RP\",Risque[[#This Row],[Risques associés]]))=TRUE,ISNUMBER(SEARCH(\"RZ\",Risque[[#This Row],[Précision du risque\n(si liste déroulante présente)]]))=TRUE,ISNUMBER(SEARCH(\"RP\",Risque[[#This Row],[Précision du risque\n(si liste déroulante présente)]]))=TRUE),\"Oui --> Priorité d'action\",\"Non\"))","v":""},null,null,null,null,{"$f":"IF(ISBLANK(Risque[[#This Row],[Catégorie de risque]]),\"\",CONCATENATE(Risque[[#This Row],[Catégorie de risque]],2))","v":""},null,{"$f":"IF(ISBLANK(Risque[[#This Row],[Moyens de prévention]]),\"\",CONCATENATE(Risque[[#This Row],[Moyens de prévention]],1))","v":""},null,null,null,null,null,{"$f":"IF(ISBLANK(Risque[[#This Row],[Catégorie de risque]]),\"\",CONCATENATE(Risque[[#This Row],[Catégorie de risque]],3))","v":""},null,null,null,{"$f":"IF(ISBLANK(Risque[[#This Row],[Catégorie de risque]]),\"\",CONCATENATE(Risque[[#This Row],[Catégorie de risque]],4))","v":""},null,null,null,null,null,{"$f":"IF(Risque[[#This Row],[Date d''inscription du risque]]<>\"\",YEAR(Risque[[#This Row],[Date d''inscription du risque]]),\"\")","v":""}]
[null,null,{"$f":"IF(ISBLANK(Risque[[#This Row],[Catégorie de risque]]),\"\",CONCATENATE(Risque[[#This Row],[Catégorie de risque]],1))","v":""},null,null,null,null,null,{"$f":"IF(ISBLANK(Risque[[#This Row],[Catégorie de risque]]),\"\",IF(OR(ISNUMBER(SEARCH(\"RZ\",Risque[[#This Row],[Source de danger]]))=TRUE,ISNUMBER(SEARCH(\"RP\",Risque[[#This Row],[Source de danger]]))=TRUE,ISNUMBER(SEARCH(\"RZ\",Risque[[#This Row],[Risques associés]]))=TRUE,ISNUMBER(SEARCH(\"RP\",Risque[[#This Row],[Risques associés]]))=TRUE,ISNUMBER(SEARCH(\"RZ\",Risque[[#This Row],[Précision du risque\n(si liste déroulante présente)]]))=TRUE,ISNUMBER(SEARCH(\"RP\",Risque[[#This Row],[Précision du risque\n(si liste déroulante présente)]]))=TRUE),\"Oui --> Priorité d'action\",\"Non\"))","v":""},null,null,null,null,{"$f":"IF(ISBLANK(Risque[[#This Row],[Catégorie de risque]]),\"\",CONCATENATE(Risque[[#This Row],[Catégorie de risque]],2))","v":""},null,{"$f":"IF(ISBLANK(Risque[[#This Row],[Moyens de prévention]]),\"\",CONCATENATE(Risque[[#This Row],[Moyens de prévention]],1))","v":""},null,null,null,null,null,{"$f":"IF(ISBLANK(Risque[[#This Row],[Catégorie de risque]]),\"\",CONCATENATE(Risque[[#This Row],[Catégorie de risque]],3))","v":""},null,null,null,{"$f":"IF(ISBLANK(Risque[[#This Row],[Catégorie de risque]]),\"\",CONCATENATE(Risque[[#This Row],[Catégorie de risque]],4))","v":""},null,null,null,null,null,{"$f":"IF(Risque[[#This Row],[Date d''inscription du risque]]<>\"\",YEAR(Risque[[#This Row],[Date d''inscription du risque]]),\"\")","v":""}]
[null,null,{"$f":"IF(ISBLANK(Risque[[#This Row],[Catégorie de risque]]),\"\",CONCATENATE(Risque[[#This Row],[Catégorie de risque]],1))","v":""},null,null,null,null,null,{"$f":"IF(ISBLANK(Risque[[#This Row],[Catégorie de risque]]),\"\",IF(OR(ISNUMBER(SEARCH(\"RZ\",Risque[[#This Row],[Source de danger]]))=TRUE,ISNUMBER(SEARCH(\"RP\",Risque[[#This Row],[Source de danger]]))=TRUE,ISNUMBER(SEARCH(\"RZ\",Risque[[#This Row],[Risques associés]]))=TRUE,ISNUMBER(SEARCH(\"RP\",Risque[[#This Row],[Risques associés]]))=TRUE,ISNUMBER(SEARCH(\"RZ\",Risque[[#This Row],[Précision du risque\n(si liste déroulante présente)]]))=TRUE,ISNUMBER(SEARCH(\"RP\",Risque[[#This Row],[Précision du risque\n(si liste déroulante présente)]]))=TRUE),\"Oui --> Priorité d'action\",\"Non\"))","v":""},null,null,null,null,{"$f":"IF(ISBLANK(Risque[[#This Row],[Catégorie de risque]]),\"\",CONCATENATE(Risque[[#This Row],[Catégorie de risque]],2))","v":""},null,{"$f":"IF(ISBLANK(Risque[[#This Row],[Moyens de prévention]]),\"\",CONCATENATE(Risque[[#This Row],[Moyens de prévention]],1))","v":""},null,null,null,null,null,{"$f":"IF(ISBLANK(Risque[[#This Row],[Catégorie de risque]]),\"\",CONCATENATE(Risque[[#This Row],[Catégorie de risque]],3))","v":""},null,null,null,{"$f":"IF(ISBLANK(Risque[[#This Row],[Catégorie de risque]]),\"\",CONCATENATE(Risque[[#This Row],[Catégorie de risque]],4))","v":""},null,null,null,null,null,{"$f":"IF(Risque[[#This Row],[Date d''inscription du risque]]<>\"\",YEAR(Risque[[#This Row],[Date d''inscription du risque]]),\"\")","v":""}]
[null,null,{"$f":"IF(ISBLANK(Risque[[#This Row],[Catégorie de risque]]),\"\",CONCATENATE(Risque[[#This Row],[Catégorie de risque]],1))","v":""},null,null,null,null,null,{"$f":"IF(ISBLANK(Risque[[#This Row],[Catégorie de risque]]),\"\",IF(OR(ISNUMBER(SEARCH(\"RZ\",Risque[[#This Row],[Source de danger]]))=TRUE,ISNUMBER(SEARCH(\"RP\",Risque[[#This Row],[Source de danger]]))=TRUE,ISNUMBER(SEARCH(\"RZ\",Risque[[#This Row],[Risques associés]]))=TRUE,ISNUMBER(SEARCH(\"RP\",Risque[[#This Row],[Risques associés]]))=TRUE,ISNUMBER(SEARCH(\"RZ\",Risque[[#This Row],[Précision du risque\n(si liste déroulante présente)]]))=TRUE,ISNUMBER(SEARCH(\"RP\",Risque[[#This Row],[Précision du risque\n(si liste déroulante présente)]]))=TRUE),\"Oui --> Priorité d'action\",\"Non\"))","v":""},null,null,null,null,{"$f":"IF(ISBLANK(Risque[[#This Row],[Catégorie de risque]]),\"\",CONCATENATE(Risque[[#This Row],[Catégorie de risque]],2))","v":""},null,{"$f":"IF(ISBLANK(Risque[[#This Row],[Moyens de prévention]]),\"\",CONCATENATE(Risque[[#This Row],[Moyens de prévention]],1))","v":""},null,null,null,null,null,{"$f":"IF(ISBLANK(Risque[[#This Row],[Catégorie de risque]]),\"\",CONCATENATE(Risque[[#This Row],[Catégorie de risque]],3))","v":""},null,null,null,{"$f":"IF(ISBLANK(Risque[[#This Row],[Catégorie de risque]]),\"\",CONCATENATE(Risque[[#This Row],[Catégorie de risque]],4))","v":""},null,null,null,null,null,{"$f":"IF(Risque[[#This Row],[Date d''inscription du risque]]<>\"\",YEAR(Risque[[#This Row],[Date d''inscription du risque]]),\"\")","v":""}]
[null,null,{"$f":"IF(ISBLANK(Risque[[#This Row],[Catégorie de risque]]),\"\",CONCATENATE(Risque[[#This Row],[Catégorie de risque]],1))","v":""},null,null,null,null,null,{"$f":"IF(ISBLANK(Risque[[#This Row],[Catégorie de risque]]),\"\",IF(OR(ISNUMBER(SEARCH(\"RZ\",Risque[[#This Row],[Source de danger]]))=TRUE,ISNUMBER(SEARCH(\"RP\",Risque[[#This Row],[Source de danger]]))=TRUE,ISNUMBER(SEARCH(\"RZ\",Risque[[#This Row],[Risques associés]]))=TRUE,ISNUMBER(SEARCH(\"RP\",Risque[[#This Row],[Risques associés]]))=TRUE,ISNUMBER(SEARCH(\"RZ\",Risque[[#This Row],[Précision du risque\n(si liste déroulante présente)]]))=TRUE,ISNUMBER(SEARCH(\"RP\",Risque[[#This Row],[Précision du risque\n(si liste déroulante présente)]]))=TRUE),\"Oui --> Priorité d'action\",\"Non\"))","v":""},null,null,null,null,{"$f":"IF(ISBLANK(Risque[[#This Row],[Catégorie de risque]]),\"\",CONCATENATE(Risque[[#This Row],[Catégorie de risque]],2))","v":""},null,{"$f":"IF(ISBLANK(Risque[[#This Row],[Moyens de prévention]]),\"\",CONCATENATE(Risque[[#This Row],[Moyens de prévention]],1))","v":""},null,null,null,null,null,{"$f":"IF(ISBLANK(Risque[[#This Row],[Catégorie de risque]]),\"\",CONCATENATE(Risque[[#This Row],[Catégorie de risque]],3))","v":""},null,null,null,{"$f":"IF(ISBLANK(Risque[[#This Row],[Catégorie de risque]]),\"\",CONCATENATE(Risque[[#This Row],[Catégorie de risque]],4))","v":""},null,null,null,null,null,{"$f":"IF(Risque[[#This Row],[Date d''inscription du risque]]<>\"\",YEAR(Risque[[#This Row],[Date d''inscription du risque]]),\"\")","v":""}]
[null,null,{"$f":"IF(ISBLANK(Risque[[#This Row],[Catégorie de risque]]),\"\",CONCATENATE(Risque[[#This Row],[Catégorie de risque]],1))","v":""},null,null,null,null,null,{"$f":"IF(ISBLANK(Risque[[#This Row],[Catégorie de risque]]),\"\",IF(OR(ISNUMBER(SEARCH(\"RZ\",Risque[[#This Row],[Source de danger]]))=TRUE,ISNUMBER(SEARCH(\"RP\",Risque[[#This Row],[Source de danger]]))=TRUE,ISNUMBER(SEARCH(\"RZ\",Risque[[#This Row],[Risques associés]]))=TRUE,ISNUMBER(SEARCH(\"RP\",Risque[[#This Row],[Risques associés]]))=TRUE,ISNUMBER(SEARCH(\"RZ\",Risque[[#This Row],[Précision du risque\n(si liste déroulante présente)]]))=TRUE,ISNUMBER(SEARCH(\"RP\",Risque[[#This Row],[Précision du risque\n(si liste déroulante présente)]]))=TRUE),\"Oui --> Priorité d'action\",\"Non\"))","v":""},null,null,null,null,{"$f":"IF(ISBLANK(Risque[[#This Row],[Catégorie de risque]]),\"\",CONCATENATE(Risque[[#This Row],[Catégorie de risque]],2))","v":""},null,{"$f":"IF(ISBLANK(Risque[[#This Row],[Moyens de prévention]]),\"\",CONCATENATE(Risque[[#This Row],[Moyens de prévention]],1))","v":""},null,null,null,null,null,{"$f":"IF(ISBLANK(Risque[[#This Row],[Catégorie de risque]]),\"\",CONCATENATE(Risque[[#This Row],[Catégorie de risque]],3))","v":""},null,null,null,{"$f":"IF(ISBLANK(Risque[[#This Row],[Catégorie de risque]]),\"\",CONCATENATE(Risque[[#This Row],[Catégorie de risque]],4))","v":""},null,null,null,null,null,{"$f":"IF(Risque[[#This Row],[Date d''inscription du risque]]<>\"\",YEAR(Risque[[#This Row],[Date d''inscription du risque]]),\"\")","v":""}]
[null,null,{"$f":"IF(ISBLANK(Risque[[#This Row],[Catégorie de risque]]),\"\",CONCATENATE(Risque[[#This Row],[Catégorie de risque]],1))","v":""},null,null,null,null,null,{"$f":"IF(ISBLANK(Risque[[#This Row],[Catégorie de risque]]),\"\",IF(OR(ISNUMBER(SEARCH(\"RZ\",Risque[[#This Row],[Source de danger]]))=TRUE,ISNUMBER(SEARCH(\"RP\",Risque[[#This Row],[Source de danger]]))=TRUE,ISNUMBER(SEARCH(\"RZ\",Risque[[#This Row],[Risques associés]]))=TRUE,ISNUMBER(SEARCH(\"RP\",Risque[[#This Row],[Risques associés]]))=TRUE,ISNUMBER(SEARCH(\"RZ\",Risque[[#This Row],[Précision du risque\n(si liste déroulante présente)]]))=TRUE,ISNUMBER(SEARCH(\"RP\",Risque[[#This Row],[Précision du risque\n(si liste déroulante présente)]]))=TRUE),\"Oui --> Priorité d'action\",\"Non\"))","v":""},null,null,null,null,{"$f":"IF(ISBLANK(Risque[[#This Row],[Catégorie de risque]]),\"\",CONCATENATE(Risque[[#This Row],[Catégorie de risque]],2))","v":""},null,{"$f":"IF(ISBLANK(Risque[[#This Row],[Moyens de prévention]]),\"\",CONCATENATE(Risque[[#This Row],[Moyens de prévention]],1))","v":""},null,null,null,null,null,{"$f":"IF(ISBLANK(Risque[[#This Row],[Catégorie de risque]]),\"\",CONCATENATE(Risque[[#This Row],[Catégorie de risque]],3))","v":""},null,null,null,{"$f":"IF(ISBLANK(Risque[[#This Row],[Catégorie de risque]]),\"\",CONCATENATE(Risque[[#This Row],[Catégorie de risque]],4))","v":""},null,null,null,null,null,{"$f":"IF(Risque[[#This Row],[Date d''inscription du risque]]<>\"\",YEAR(Risque[[#This Row],[Date d''inscription du risque]]),\"\")","v":""}]
[null,null,{"$f":"IF(ISBLANK(Risque[[#This Row],[Catégorie de risque]]),\"\",CONCATENATE(Risque[[#This Row],[Catégorie de risque]],1))","v":""},null,null,null,null,null,{"$f":"IF(ISBLANK(Risque[[#This Row],[Catégorie de risque]]),\"\",IF(OR(ISNUMBER(SEARCH(\"RZ\",Risque[[#This Row],[Source de danger]]))=TRUE,ISNUMBER(SEARCH(\"RP\",Risque[[#This Row],[Source de danger]]))=TRUE,ISNUMBER(SEARCH(\"RZ\",Risque[[#This Row],[Risques associés]]))=TRUE,ISNUMBER(SEARCH(\"RP\",Risque[[#This Row],[Risques associés]]))=TRUE,ISNUMBER(SEARCH(\"RZ\",Risque[[#This Row],[Précision du risque\n(si liste déroulante présente)]]))=TRUE,ISNUMBER(SEARCH(\"RP\",Risque[[#This Row],[Précision du risque\n(si liste déroulante présente)]]))=TRUE),\"Oui --> Priorité d'action\",\"Non\"))","v":""},null,null,null,null,{"$f":"IF(ISBLANK(Risque[[#This Row],[Catégorie de risque]]),\"\",CONCATENATE(Risque[[#This Row],[Catégorie de risque]],2))","v":""},null,{"$f":"IF(ISBLANK(Risque[[#This Row],[Moyens de prévention]]),\"\",CONCATENATE(Risque[[#This Row],[Moyens de prévention]],1))","v":""},null,null,null,null,null,{"$f":"IF(ISBLANK(Risque[[#This Row],[Catégorie de risque]]),\"\",CONCATENATE(Risque[[#This Row],[Catégorie de risque]],3))","v":""},null,null,null,{"$f":"IF(ISBLANK(Risque[[#This Row],[Catégorie de risque]]),\"\",CONCATENATE(Risque[[#This Row],[Catégorie de risque]],4))","v":""},null,null,null,null,null,{"$f":"IF(Risque[[#This Row],[Date d''inscription du risque]]<>\"\",YEAR(Risque[[#This Row],[Date d''inscription du risque]]),\"\")","v":""}]
[null,null,{"$f":"IF(ISBLANK(Risque[[#This Row],[Catégorie de risque]]),\"\",CONCATENATE(Risque[[#This Row],[Catégorie de risque]],1))","v":""},null,null,null,null,null,{"$f":"IF(ISBLANK(Risque[[#This Row],[Catégorie de risque]]),\"\",IF(OR(ISNUMBER(SEARCH(\"RZ\",Risque[[#This Row],[Source de danger]]))=TRUE,ISNUMBER(SEARCH(\"RP\",Risque[[#This Row],[Source de danger]]))=TRUE,ISNUMBER(SEARCH(\"RZ\",Risque[[#This Row],[Risques associés]]))=TRUE,ISNUMBER(SEARCH(\"RP\",Risque[[#This Row],[Risques associés]]))=TRUE,ISNUMBER(SEARCH(\"RZ\",Risque[[#This Row],[Précision du risque\n(si liste déroulante présente)]]))=TRUE,ISNUMBER(SEARCH(\"RP\",Risque[[#This Row],[Précision du risque\n(si liste déroulante présente)]]))=TRUE),\"Oui --> Priorité d'action\",\"Non\"))","v":""},null,null,null,null,{"$f":"IF(ISBLANK(Risque[[#This Row],[Catégorie de risque]]),\"\",CONCATENATE(Risque[[#This Row],[Catégorie de risque]],2))","v":""},null,{"$f":"IF(ISBLANK(Risque[[#This Row],[Moyens de prévention]]),\"\",CONCATENATE(Risque[[#This Row],[Moyens de prévention]],1))","v":""},null,null,null,null,null,{"$f":"IF(ISBLANK(Risque[[#This Row],[Catégorie de risque]]),\"\",CONCATENATE(Risque[[#This Row],[Catégorie de risque]],3))","v":""},null,null,null,{"$f":"IF(ISBLANK(Risque[[#This Row],[Catégorie de risque]]),\"\",CONCATENATE(Risque[[#This Row],[Catégorie de risque]],4))","v":""},null,null,null,null,null,{"$f":"IF(Risque[[#This Row],[Date d''inscription du risque]]<>\"\",YEAR(Risque[[#This Row],[Date d''inscription du risque]]),\"\")","v":""}]
[null,null,{"$f":"IF(ISBLANK(Risque[[#This Row],[Catégorie de risque]]),\"\",CONCATENATE(Risque[[#This Row],[Catégorie de risque]],1))","v":""},null,null,null,null,null,{"$f":"IF(ISBLANK(Risque[[#This Row],[Catégorie de risque]]),\"\",IF(OR(ISNUMBER(SEARCH(\"RZ\",Risque[[#This Row],[Source de danger]]))=TRUE,ISNUMBER(SEARCH(\"RP\",Risque[[#This Row],[Source de danger]]))=TRUE,ISNUMBER(SEARCH(\"RZ\",Risque[[#This Row],[Risques associés]]))=TRUE,ISNUMBER(SEARCH(\"RP\",Risque[[#This Row],[Risques associés]]))=TRUE,ISNUMBER(SEARCH(\"RZ\",Risque[[#This Row],[Précision du risque\n(si liste déroulante présente)]]))=TRUE,ISNUMBER(SEARCH(\"RP\",Risque[[#This Row],[Précision du risque\n(si liste déroulante présente)]]))=TRUE),\"Oui --> Priorité d'action\",\"Non\"))","v":""},null,null,null,null,{"$f":"IF(ISBLANK(Risque[[#This Row],[Catégorie de risque]]),\"\",CONCATENATE(Risque[[#This Row],[Catégorie de risque]],2))","v":""},null,{"$f":"IF(ISBLANK(Risque[[#This Row],[Moyens de prévention]]),\"\",CONCATENATE(Risque[[#This Row],[Moyens de prévention]],1))","v":""},null,null,null,null,null,{"$f":"IF(ISBLANK(Risque[[#This Row],[Catégorie de risque]]),\"\",CONCATENATE(Risque[[#This Row],[Catégorie de risque]],3))","v":""},null,null,null,{"$f":"IF(ISBLANK(Risque[[#This Row],[Catégorie de risque]]),\"\",CONCATENATE(Risque[[#This Row],[Catégorie de risque]],4))","v":""},null,null,null,null,null,{"$f":"IF(Risque[[#This Row],[Date d''inscription du risque]]<>\"\",YEAR(Risque[[#This Row],[Date d''inscription du risque]]),\"\")","v":""}]
[null,null,{"$f":"IF(ISBLANK(Risque[[#This Row],[Catégorie de risque]]),\"\",CONCATENATE(Risque[[#This Row],[Catégorie de risque]],1))","v":""},null,null,null,null,null,{"$f":"IF(ISBLANK(Risque[[#This Row],[Catégorie de risque]]),\"\",IF(OR(ISNUMBER(SEARCH(\"RZ\",Risque[[#This Row],[Source de danger]]))=TRUE,ISNUMBER(SEARCH(\"RP\",Risque[[#This Row],[Source de danger]]))=TRUE,ISNUMBER(SEARCH(\"RZ\",Risque[[#This Row],[Risques associés]]))=TRUE,ISNUMBER(SEARCH(\"RP\",Risque[[#This Row],[Risques associés]]))=TRUE,ISNUMBER(SEARCH(\"RZ\",Risque[[#This Row],[Précision du risque\n(si liste déroulante présente)]]))=TRUE,ISNUMBER(SEARCH(\"RP\",Risque[[#This Row],[Précision du risque\n(si liste déroulante présente)]]))=TRUE),\"Oui --> Priorité d'action\",\"Non\"))","v":""},null,null,null,null,{"$f":"IF(ISBLANK(Risque[[#This Row],[Catégorie de risque]]),\"\",CONCATENATE(Risque[[#This Row],[Catégorie de risque]],2))","v":""},null,{"$f":"IF(ISBLANK(Risque[[#This Row],[Moyens de prévention]]),\"\",CONCATENATE(Risque[[#This Row],[Moyens de prévention]],1))","v":""},null,null,null,null,null,{"$f":"IF(ISBLANK(Risque[[#This Row],[Catégorie de risque]]),\"\",CONCATENATE(Risque[[#This Row],[Catégorie de risque]],3))","v":""},null,null,null,{"$f":"IF(ISBLANK(Risque[[#This Row],[Catégorie de risque]]),\"\",CONCATENATE(Risque[[#This Row],[Catégorie de risque]],4))","v":""},null,null,null,null,null,{"$f":"IF(Risque[[#This Row],[Date d''inscription du risque]]<>\"\",YEAR(Risque[[#This Row],[Date d''inscription du risque]]),\"\")","v":""}]
[null,null,{"$f":"IF(ISBLANK(Risque[[#This Row],[Catégorie de risque]]),\"\",CONCATENATE(Risque[[#This Row],[Catégorie de risque]],1))","v":""},null,null,null,null,null,{"$f":"IF(ISBLANK(Risque[[#This Row],[Catégorie de risque]]),\"\",IF(OR(ISNUMBER(SEARCH(\"RZ\",Risque[[#This Row],[Source de danger]]))=TRUE,ISNUMBER(SEARCH(\"RP\",Risque[[#This Row],[Source de danger]]))=TRUE,ISNUMBER(SEARCH(\"RZ\",Risque[[#This Row],[Risques associés]]))=TRUE,ISNUMBER(SEARCH(\"RP\",Risque[[#This Row],[Risques associés]]))=TRUE,ISNUMBER(SEARCH(\"RZ\",Risque[[#This Row],[Précision du risque\n(si liste déroulante présente)]]))=TRUE,ISNUMBER(SEARCH(\"RP\",Risque[[#This Row],[Précision du risque\n(si liste déroulante présente)]]))=TRUE),\"Oui --> Priorité d'action\",\"Non\"))","v":""},null,null,null,null,{"$f":"IF(ISBLANK(Risque[[#This Row],[Catégorie de risque]]),\"\",CONCATENATE(Risque[[#This Row],[Catégorie de risque]],2))","v":""},null,{"$f":"IF(ISBLANK(Risque[[#This Row],[Moyens de prévention]]),\"\",CONCATENATE(Risque[[#This Row],[Moyens de prévention]],1))","v":""},null,null,null,null,null,{"$f":"IF(ISBLANK(Risque[[#This Row],[Catégorie de risque]]),\"\",CONCATENATE(Risque[[#This Row],[Catégorie de risque]],3))","v":""},null,null,null,{"$f":"IF(ISBLANK(Risque[[#This Row],[Catégorie de risque]]),\"\",CONCATENATE(Risque[[#This Row],[Catégorie de risque]],4))","v":""},null,null,null,null,null,{"$f":"IF(Risque[[#This Row],[Date d''inscription du risque]]<>\"\",YEAR(Risque[[#This Row],[Date d''inscription du risque]]),\"\")","v":""}]
[null,null,{"$f":"IF(ISBLANK(Risque[[#This Row],[Catégorie de risque]]),\"\",CONCATENATE(Risque[[#This Row],[Catégorie de risque]],1))","v":""},null,null,null,null,null,{"$f":"IF(ISBLANK(Risque[[#This Row],[Catégorie de risque]]),\"\",IF(OR(ISNUMBER(SEARCH(\"RZ\",Risque[[#This Row],[Source de danger]]))=TRUE,ISNUMBER(SEARCH(\"RP\",Risque[[#This Row],[Source de danger]]))=TRUE,ISNUMBER(SEARCH(\"RZ\",Risque[[#This Row],[Risques associés]]))=TRUE,ISNUMBER(SEARCH(\"RP\",Risque[[#This Row],[Risques associés]]))=TRUE,ISNUMBER(SEARCH(\"RZ\",Risque[[#This Row],[Précision du risque\n(si liste déroulante présente)]]))=TRUE,ISNUMBER(SEARCH(\"RP\",Risque[[#This Row],[Précision du risque\n(si liste déroulante présente)]]))=TRUE),\"Oui --> Priorité d'action\",\"Non\"))","v":""},null,null,null,null,{"$f":"IF(ISBLANK(Risque[[#This Row],[Catégorie de risque]]),\"\",CONCATENATE(Risque[[#This Row],[Catégorie de risque]],2))","v":""},null,{"$f":"IF(ISBLANK(Risque[[#This Row],[Moyens de prévention]]),\"\",CONCATENATE(Risque[[#This Row],[Moyens de prévention]],1))","v":""},null,null,null,null,null,{"$f":"IF(ISBLANK(Risque[[#This Row],[Catégorie de risque]]),\"\",CONCATENATE(Risque[[#This Row],[Catégorie de risque]],3))","v":""},null,null,null,{"$f":"IF(ISBLANK(Risque[[#This Row],[Catégorie de risque]]),\"\",CONCATENATE(Risque[[#This Row],[Catégorie de risque]],4))","v":""},null,null,null,null,null,{"$f":"IF(Risque[[#This Row],[Date d''inscription du risque]]<>\"\",YEAR(Risque[[#This Row],[Date d''inscription du risque]]),\"\")","v":""}]
[null,null,{"$f":"IF(ISBLANK(Risque[[#This Row],[Catégorie de risque]]),\"\",CONCATENATE(Risque[[#This Row],[Catégorie de risque]],1))","v":""},null,null,null,null,null,{"$f":"IF(ISBLANK(Risque[[#This Row],[Catégorie de risque]]),\"\",IF(OR(ISNUMBER(SEARCH(\"RZ\",Risque[[#This Row],[Source de danger]]))=TRUE,ISNUMBER(SEARCH(\"RP\",Risque[[#This Row],[Source de danger]]))=TRUE,ISNUMBER(SEARCH(\"RZ\",Risque[[#This Row],[Risques associés]]))=TRUE,ISNUMBER(SEARCH(\"RP\",Risque[[#This Row],[Risques associés]]))=TRUE,ISNUMBER(SEARCH(\"RZ\",Risque[[#This Row],[Précision du risque\n(si liste déroulante présente)]]))=TRUE,ISNUMBER(SEARCH(\"RP\",Risque[[#This Row],[Précision du risque\n(si liste déroulante présente)]]))=TRUE),\"Oui --> Priorité d'action\",\"Non\"))","v":""},null,null,null,null,{"$f":"IF(ISBLANK(Risque[[#This Row],[Catégorie de risque]]),\"\",CONCATENATE(Risque[[#This Row],[Catégorie de risque]],2))","v":""},null,{"$f":"IF(ISBLANK(Risque[[#This Row],[Moyens de prévention]]),\"\",CONCATENATE(Risque[[#This Row],[Moyens de prévention]],1))","v":""},null,null,null,null,null,{"$f":"IF(ISBLANK(Risque[[#This Row],[Catégorie de risque]]),\"\",CONCATENATE(Risque[[#This Row],[Catégorie de risque]],3))","v":""},null,null,null,{"$f":"IF(ISBLANK(Risque[[#This Row],[Catégorie de risque]]),\"\",CONCATENATE(Risque[[#This Row],[Catégorie de risque]],4))","v":""},null,null,null,null,null,{"$f":"IF(Risque[[#This Row],[Date d''inscription du risque]]<>\"\",YEAR(Risque[[#This Row],[Date d''inscription du risque]]),\"\")","v":""}]
[null,null,{"$f":"IF(ISBLANK(Risque[[#This Row],[Catégorie de risque]]),\"\",CONCATENATE(Risque[[#This Row],[Catégorie de risque]],1))","v":""},null,null,null,null,null,{"$f":"IF(ISBLANK(Risque[[#This Row],[Catégorie de risque]]),\"\",IF(OR(ISNUMBER(SEARCH(\"RZ\",Risque[[#This Row],[Source de danger]]))=TRUE,ISNUMBER(SEARCH(\"RP\",Risque[[#This Row],[Source de danger]]))=TRUE,ISNUMBER(SEARCH(\"RZ\",Risque[[#This Row],[Risques associés]]))=TRUE,ISNUMBER(SEARCH(\"RP\",Risque[[#This Row],[Risques associés]]))=TRUE,ISNUMBER(SEARCH(\"RZ\",Risque[[#This Row],[Précision du risque\n(si liste déroulante présente)]]))=TRUE,ISNUMBER(SEARCH(\"RP\",Risque[[#This Row],[Précision du risque\n(si liste déroulante présente)]]))=TRUE),\"Oui --> Priorité d'action\",\"Non\"))","v":""},null,null,null,null,{"$f":"IF(ISBLANK(Risque[[#This Row],[Catégorie de risque]]),\"\",CONCATENATE(Risque[[#This Row],[Catégorie de risque]],2))","v":""},null,{"$f":"IF(ISBLANK(Risque[[#This Row],[Moyens de prévention]]),\"\",CONCATENATE(Risque[[#This Row],[Moyens de prévention]],1))","v":""},null,null,null,null,null,{"$f":"IF(ISBLANK(Risque[[#This Row],[Catégorie de risque]]),\"\",CONCATENATE(Risque[[#This Row],[Catégorie de risque]],3))","v":""},null,null,null,{"$f":"IF(ISBLANK(Risque[[#This Row],[Catégorie de risque]]),\"\",CONCATENATE(Risque[[#This Row],[Catégorie de risque]],4))","v":""},null,null,null,null,null,{"$f":"IF(Risque[[#This Row],[Date d''inscription du risque]]<>\"\",YEAR(Risque[[#This Row],[Date d''inscription du risque]]),\"\")","v":""}]
[null,null,{"$f":"IF(ISBLANK(Risque[[#This Row],[Catégorie de risque]]),\"\",CONCATENATE(Risque[[#This Row],[Catégorie de risque]],1))","v":""},null,null,null,null,null,{"$f":"IF(ISBLANK(Risque[[#This Row],[Catégorie de risque]]),\"\",IF(OR(ISNUMBER(SEARCH(\"RZ\",Risque[[#This Row],[Source de danger]]))=TRUE,ISNUMBER(SEARCH(\"RP\",Risque[[#This Row],[Source de danger]]))=TRUE,ISNUMBER(SEARCH(\"RZ\",Risque[[#This Row],[Risques associés]]))=TRUE,ISNUMBER(SEARCH(\"RP\",Risque[[#This Row],[Risques associés]]))=TRUE,ISNUMBER(SEARCH(\"RZ\",Risque[[#This Row],[Précision du risque\n(si liste déroulante présente)]]))=TRUE,ISNUMBER(SEARCH(\"RP\",Risque[[#This Row],[Précision du risque\n(si liste déroulante présente)]]))=TRUE),\"Oui --> Priorité d'action\",\"Non\"))","v":""},null,null,null,null,{"$f":"IF(ISBLANK(Risque[[#This Row],[Catégorie de risque]]),\"\",CONCATENATE(Risque[[#This Row],[Catégorie de risque]],2))","v":""},null,{"$f":"IF(ISBLANK(Risque[[#This Row],[Moyens de prévention]]),\"\",CONCATENATE(Risque[[#This Row],[Moyens de prévention]],1))","v":""},null,null,null,null,null,{"$f":"IF(ISBLANK(Risque[[#This Row],[Catégorie de risque]]),\"\",CONCATENATE(Risque[[#This Row],[Catégorie de risque]],3))","v":""},null,null,null,{"$f":"IF(ISBLANK(Risque[[#This Row],[Catégorie de risque]]),\"\",CONCATENATE(Risque[[#This Row],[Catégorie de risque]],4))","v":""},null,null,null,null,null,{"$f":"IF(Risque[[#This Row],[Date d''inscription du risque]]<>\"\",YEAR(Risque[[#This Row],[Date d''inscription du risque]]),\"\")","v":""}]
[null,null,{"$f":"IF(ISBLANK(Risque[[#This Row],[Catégorie de risque]]),\"\",CONCATENATE(Risque[[#This Row],[Catégorie de risque]],1))","v":""},null,null,null,null,null,{"$f":"IF(ISBLANK(Risque[[#This Row],[Catégorie de risque]]),\"\",IF(OR(ISNUMBER(SEARCH(\"RZ\",Risque[[#This Row],[Source de danger]]))=TRUE,ISNUMBER(SEARCH(\"RP\",Risque[[#This Row],[Source de danger]]))=TRUE,ISNUMBER(SEARCH(\"RZ\",Risque[[#This Row],[Risques associés]]))=TRUE,ISNUMBER(SEARCH(\"RP\",Risque[[#This Row],[Risques associés]]))=TRUE,ISNUMBER(SEARCH(\"RZ\",Risque[[#This Row],[Précision du risque\n(si liste déroulante présente)]]))=TRUE,ISNUMBER(SEARCH(\"RP\",Risque[[#This Row],[Précision du risque\n(si liste déroulante présente)]]))=TRUE),\"Oui --> Priorité d'action\",\"Non\"))","v":""},null,null,null,null,{"$f":"IF(ISBLANK(Risque[[#This Row],[Catégorie de risque]]),\"\",CONCATENATE(Risque[[#This Row],[Catégorie de risque]],2))","v":""},null,{"$f":"IF(ISBLANK(Risque[[#This Row],[Moyens de prévention]]),\"\",CONCATENATE(Risque[[#This Row],[Moyens de prévention]],1))","v":""},null,null,null,null,null,{"$f":"IF(ISBLANK(Risque[[#This Row],[Catégorie de risque]]),\"\",CONCATENATE(Risque[[#This Row],[Catégorie de risque]],3))","v":""},null,null,null,{"$f":"IF(ISBLANK(Risque[[#This Row],[Catégorie de risque]]),\"\",CONCATENATE(Risque[[#This Row],[Catégorie de risque]],4))","v":""},null,null,null,null,null,{"$f":"IF(Risque[[#This Row],[Date d''inscription du risque]]<>\"\",YEAR(Risque[[#This Row],[Date d''inscription du risque]]),\"\")","v":""}]
[null,null,{"$f":"IF(ISBLANK(Risque[[#This Row],[Catégorie de risque]]),\"\",CONCATENATE(Risque[[#This Row],[Catégorie de risque]],1))","v":""},null,null,null,null,null,{"$f":"IF(ISBLANK(Risque[[#This Row],[Catégorie de risque]]),\"\",IF(OR(ISNUMBER(SEARCH(\"RZ\",Risque[[#This Row],[Source de danger]]))=TRUE,ISNUMBER(SEARCH(\"RP\",Risque[[#This Row],[Source de danger]]))=TRUE,ISNUMBER(SEARCH(\"RZ\",Risque[[#This Row],[Risques associés]]))=TRUE,ISNUMBER(SEARCH(\"RP\",Risque[[#This Row],[Risques associés]]))=TRUE,ISNUMBER(SEARCH(\"RZ\",Risque[[#This Row],[Précision du risque\n(si liste déroulante présente)]]))=TRUE,ISNUMBER(SEARCH(\"RP\",Risque[[#This Row],[Précision du risque\n(si liste déroulante présente)]]))=TRUE),\"Oui --> Priorité d'action\",\"Non\"))","v":""},null,null,null,null,{"$f":"IF(ISBLANK(Risque[[#This Row],[Catégorie de risque]]),\"\",CONCATENATE(Risque[[#This Row],[Catégorie de risque]],2))","v":""},null,{"$f":"IF(ISBLANK(Risque[[#This Row],[Moyens de prévention]]),\"\",CONCATENATE(Risque[[#This Row],[Moyens de prévention]],1))","v":""},null,null,null,null,null,{"$f":"IF(ISBLANK(Risque[[#This Row],[Catégorie de risque]]),\"\",CONCATENATE(Risque[[#This Row],[Catégorie de risque]],3))","v":""},null,null,null,{"$f":"IF(ISBLANK(Risque[[#This Row],[Catégorie de risque]]),\"\",CONCATENATE(Risque[[#This Row],[Catégorie de risque]],4))","v":""},null,null,null,null,null,{"$f":"IF(Risque[[#This Row],[Date d''inscription du risque]]<>\"\",YEAR(Risque[[#This Row],[Date d''inscription du risque]]),\"\")","v":""}]
[null,null,{"$f":"IF(ISBLANK(Risque[[#This Row],[Catégorie de risque]]),\"\",CONCATENATE(Risque[[#This Row],[Catégorie de risque]],1))","v":""},null,null,null,null,null,{"$f":"IF(ISBLANK(Risque[[#This Row],[Catégorie de risque]]),\"\",IF(OR(ISNUMBER(SEARCH(\"RZ\",Risque[[#This Row],[Source de danger]]))=TRUE,ISNUMBER(SEARCH(\"RP\",Risque[[#This Row],[Source de danger]]))=TRUE,ISNUMBER(SEARCH(\"RZ\",Risque[[#This Row],[Risques associés]]))=TRUE,ISNUMBER(SEARCH(\"RP\",Risque[[#This Row],[Risques associés]]))=TRUE,ISNUMBER(SEARCH(\"RZ\",Risque[[#This Row],[Précision du risque\n(si liste déroulante présente)]]))=TRUE,ISNUMBER(SEARCH(\"RP\",Risque[[#This Row],[Précision du risque\n(si liste déroulante présente)]]))=TRUE),\"Oui --> Priorité d'action\",\"Non\"))","v":""},null,null,null,null,{"$f":"IF(ISBLANK(Risque[[#This Row],[Catégorie de risque]]),\"\",CONCATENATE(Risque[[#This Row],[Catégorie de risque]],2))","v":""},null,{"$f":"IF(ISBLANK(Risque[[#This Row],[Moyens de prévention]]),\"\",CONCATENATE(Risque[[#This Row],[Moyens de prévention]],1))","v":""},null,null,null,null,null,{"$f":"IF(ISBLANK(Risque[[#This Row],[Catégorie de risque]]),\"\",CONCATENATE(Risque[[#This Row],[Catégorie de risque]],3))","v":""},null,null,null,{"$f":"IF(ISBLANK(Risque[[#This Row],[Catégorie de risque]]),\"\",CONCATENATE(Risque[[#This Row],[Catégorie de risque]],4))","v":""},null,null,null,null,null,{"$f":"IF(Risque[[#This Row],[Date d''inscription du risque]]<>\"\",YEAR(Risque[[#This Row],[Date d''inscription du risque]]),\"\")","v":""}]
[null,null,{"$f":"IF(ISBLANK(Risque[[#This Row],[Catégorie de risque]]),\"\",CONCATENATE(Risque[[#This Row],[Catégorie de risque]],1))","v":""},null,null,null,null,null,{"$f":"IF(ISBLANK(Risque[[#This Row],[Catégorie de risque]]),\"\",IF(OR(ISNUMBER(SEARCH(\"RZ\",Risque[[#This Row],[Source de danger]]))=TRUE,ISNUMBER(SEARCH(\"RP\",Risque[[#This Row],[Source de danger]]))=TRUE,ISNUMBER(SEARCH(\"RZ\",Risque[[#This Row],[Risques associés]]))=TRUE,ISNUMBER(SEARCH(\"RP\",Risque[[#This Row],[Risques associés]]))=TRUE,ISNUMBER(SEARCH(\"RZ\",Risque[[#This Row],[Précision du risque\n(si liste déroulante présente)]]))=TRUE,ISNUMBER(SEARCH(\"RP\",Risque[[#This Row],[Précision du risque\n(si liste déroulante présente)]]))=TRUE),\"Oui --> Priorité d'action\",\"Non\"))","v":""},null,null,null,null,{"$f":"IF(ISBLANK(Risque[[#This Row],[Catégorie de risque]]),\"\",CONCATENATE(Risque[[#This Row],[Catégorie de risque]],2))","v":""},null,{"$f":"IF(ISBLANK(Risque[[#This Row],[Moyens de prévention]]),\"\",CONCATENATE(Risque[[#This Row],[Moyens de prévention]],1))","v":""},null,null,null,null,null,{"$f":"IF(ISBLANK(Risque[[#This Row],[Catégorie de risque]]),\"\",CONCATENATE(Risque[[#This Row],[Catégorie de risque]],3))","v":""},null,null,null,{"$f":"IF(ISBLANK(Risque[[#This Row],[Catégorie de risque]]),\"\",CONCATENATE(Risque[[#This Row],[Catégorie de risque]],4))","v":""},null,null,null,null,null,{"$f":"IF(Risque[[#This Row],[Date d''inscription du risque]]<>\"\",YEAR(Risque[[#This Row],[Date d''inscription du risque]]),\"\")","v":""}]
[null,null,{"$f":"IF(ISBLANK(Risque[[#This Row],[Catégorie de risque]]),\"\",CONCATENATE(Risque[[#This Row],[Catégorie de risque]],1))","v":""},null,null,null,null,null,{"$f":"IF(ISBLANK(Risque[[#This Row],[Catégorie de risque]]),\"\",IF(OR(ISNUMBER(SEARCH(\"RZ\",Risque[[#This Row],[Source de danger]]))=TRUE,ISNUMBER(SEARCH(\"RP\",Risque[[#This Row],[Source de danger]]))=TRUE,ISNUMBER(SEARCH(\"RZ\",Risque[[#This Row],[Risques associés]]))=TRUE,ISNUMBER(SEARCH(\"RP\",Risque[[#This Row],[Risques associés]]))=TRUE,ISNUMBER(SEARCH(\"RZ\",Risque[[#This Row],[Précision du risque\n(si liste déroulante présente)]]))=TRUE,ISNUMBER(SEARCH(\"RP\",Risque[[#This Row],[Précision du risque\n(si liste déroulante présente)]]))=TRUE),\"Oui --> Priorité d'action\",\"Non\"))","v":""},null,null,null,null,{"$f":"IF(ISBLANK(Risque[[#This Row],[Catégorie de risque]]),\"\",CONCATENATE(Risque[[#This Row],[Catégorie de risque]],2))","v":""},null,{"$f":"IF(ISBLANK(Risque[[#This Row],[Moyens de prévention]]),\"\",CONCATENATE(Risque[[#This Row],[Moyens de prévention]],1))","v":""},null,null,null,null,null,{"$f":"IF(ISBLANK(Risque[[#This Row],[Catégorie de risque]]),\"\",CONCATENATE(Risque[[#This Row],[Catégorie de risque]],3))","v":""},null,null,null,{"$f":"IF(ISBLANK(Risque[[#This Row],[Catégorie de risque]]),\"\",CONCATENATE(Risque[[#This Row],[Catégorie de risque]],4))","v":""},null,null,null,null,null,{"$f":"IF(Risque[[#This Row],[Date d''inscription du risque]]<>\"\",YEAR(Risque[[#This Row],[Date d''inscription du risque]]),\"\")","v":""}]
[null,null,{"$f":"IF(ISBLANK(Risque[[#This Row],[Catégorie de risque]]),\"\",CONCATENATE(Risque[[#This Row],[Catégorie de risque]],1))","v":""},null,null,null,null,null,{"$f":"IF(ISBLANK(Risque[[#This Row],[Catégorie de risque]]),\"\",IF(OR(ISNUMBER(SEARCH(\"RZ\",Risque[[#This Row],[Source de danger]]))=TRUE,ISNUMBER(SEARCH(\"RP\",Risque[[#This Row],[Source de danger]]))=TRUE,ISNUMBER(SEARCH(\"RZ\",Risque[[#This Row],[Risques associés]]))=TRUE,ISNUMBER(SEARCH(\"RP\",Risque[[#This Row],[Risques associés]]))=TRUE,ISNUMBER(SEARCH(\"RZ\",Risque[[#This Row],[Précision du risque\n(si liste déroulante présente)]]))=TRUE,ISNUMBER(SEARCH(\"RP\",Risque[[#This Row],[Précision du risque\n(si liste déroulante présente)]]))=TRUE),\"Oui --> Priorité d'action\",\"Non\"))","v":""},null,null,null,null,{"$f":"IF(ISBLANK(Risque[[#This Row],[Catégorie de risque]]),\"\",CONCATENATE(Risque[[#This Row],[Catégorie de risque]],2))","v":""},null,{"$f":"IF(ISBLANK(Risque[[#This Row],[Moyens de prévention]]),\"\",CONCATENATE(Risque[[#This Row],[Moyens de prévention]],1))","v":""},null,null,null,null,null,{"$f":"IF(ISBLANK(Risque[[#This Row],[Catégorie de risque]]),\"\",CONCATENATE(Risque[[#This Row],[Catégorie de risque]],3))","v":""},null,null,null,{"$f":"IF(ISBLANK(Risque[[#This Row],[Catégorie de risque]]),\"\",CONCATENATE(Risque[[#This Row],[Catégorie de risque]],4))","v":""},null,null,null,null,null,{"$f":"IF(Risque[[#This Row],[Date d''inscription du risque]]<>\"\",YEAR(Risque[[#This Row],[Date d''inscription du risque]]),\"\")","v":""}]
[null,null,{"$f":"IF(ISBLANK(Risque[[#This Row],[Catégorie de risque]]),\"\",CONCATENATE(Risque[[#This Row],[Catégorie de risque]],1))","v":""},null,null,null,null,null,{"$f":"IF(ISBLANK(Risque[[#This Row],[Catégorie de risque]]),\"\",IF(OR(ISNUMBER(SEARCH(\"RZ\",Risque[[#This Row],[Source de danger]]))=TRUE,ISNUMBER(SEARCH(\"RP\",Risque[[#This Row],[Source de danger]]))=TRUE,ISNUMBER(SEARCH(\"RZ\",Risque[[#This Row],[Risques associés]]))=TRUE,ISNUMBER(SEARCH(\"RP\",Risque[[#This Row],[Risques associés]]))=TRUE,ISNUMBER(SEARCH(\"RZ\",Risque[[#This Row],[Précision du risque\n(si liste déroulante présente)]]))=TRUE,ISNUMBER(SEARCH(\"RP\",Risque[[#This Row],[Précision du risque\n(si liste déroulante présente)]]))=TRUE),\"Oui --> Priorité d'action\",\"Non\"))","v":""},null,null,null,null,{"$f":"IF(ISBLANK(Risque[[#This Row],[Catégorie de risque]]),\"\",CONCATENATE(Risque[[#This Row],[Catégorie de risque]],2))","v":""},null,{"$f":"IF(ISBLANK(Risque[[#This Row],[Moyens de prévention]]),\"\",CONCATENATE(Risque[[#This Row],[Moyens de prévention]],1))","v":""},null,null,null,null,null,{"$f":"IF(ISBLANK(Risque[[#This Row],[Catégorie de risque]]),\"\",CONCATENATE(Risque[[#This Row],[Catégorie de risque]],3))","v":""},null,null,null,{"$f":"IF(ISBLANK(Risque[[#This Row],[Catégorie de risque]]),\"\",CONCATENATE(Risque[[#This Row],[Catégorie de risque]],4))","v":""},null,null,null,null,null,{"$f":"IF(Risque[[#This Row],[Date d''inscription du risque]]<>\"\",YEAR(Risque[[#This Row],[Date d''inscription du risque]]),\"\")","v":""}]
[null,null,{"$f":"IF(ISBLANK(Risque[[#This Row],[Catégorie de risque]]),\"\",CONCATENATE(Risque[[#This Row],[Catégorie de risque]],1))","v":""},null,null,null,null,null,{"$f":"IF(ISBLANK(Risque[[#This Row],[Catégorie de risque]]),\"\",IF(OR(ISNUMBER(SEARCH(\"RZ\",Risque[[#This Row],[Source de danger]]))=TRUE,ISNUMBER(SEARCH(\"RP\",Risque[[#This Row],[Source de danger]]))=TRUE,ISNUMBER(SEARCH(\"RZ\",Risque[[#This Row],[Risques associés]]))=TRUE,ISNUMBER(SEARCH(\"RP\",Risque[[#This Row],[Risques associés]]))=TRUE,ISNUMBER(SEARCH(\"RZ\",Risque[[#This Row],[Précision du risque\n(si liste déroulante présente)]]))=TRUE,ISNUMBER(SEARCH(\"RP\",Risque[[#This Row],[Précision du risque\n(si liste déroulante présente)]]))=TRUE),\"Oui --> Priorité d'action\",\"Non\"))","v":""},null,null,null,null,{"$f":"IF(ISBLANK(Risque[[#This Row],[Catégorie de risque]]),\"\",CONCATENATE(Risque[[#This Row],[Catégorie de risque]],2))","v":""},null,{"$f":"IF(ISBLANK(Risque[[#This Row],[Moyens de prévention]]),\"\",CONCATENATE(Risque[[#This Row],[Moyens de prévention]],1))","v":""},null,null,null,null,null,{"$f":"IF(ISBLANK(Risque[[#This Row],[Catégorie de risque]]),\"\",CONCATENATE(Risque[[#This Row],[Catégorie de risque]],3))","v":""},null,null,null,{"$f":"IF(ISBLANK(Risque[[#This Row],[Catégorie de risque]]),\"\",CONCATENATE(Risque[[#This Row],[Catégorie de risque]],4))","v":""},null,null,null,null,null,{"$f":"IF(Risque[[#This Row],[Date d''inscription du risque]]<>\"\",YEAR(Risque[[#This Row],[Date d''inscription du risque]]),\"\")","v":""}]
[null,null,{"$f":"IF(ISBLANK(Risque[[#This Row],[Catégorie de risque]]),\"\",CONCATENATE(Risque[[#This Row],[Catégorie de risque]],1))","v":""},null,null,null,null,null,{"$f":"IF(ISBLANK(Risque[[#This Row],[Catégorie de risque]]),\"\",IF(OR(ISNUMBER(SEARCH(\"RZ\",Risque[[#This Row],[Source de danger]]))=TRUE,ISNUMBER(SEARCH(\"RP\",Risque[[#This Row],[Source de danger]]))=TRUE,ISNUMBER(SEARCH(\"RZ\",Risque[[#This Row],[Risques associés]]))=TRUE,ISNUMBER(SEARCH(\"RP\",Risque[[#This Row],[Risques associés]]))=TRUE,ISNUMBER(SEARCH(\"RZ\",Risque[[#This Row],[Précision du risque\n(si liste déroulante présente)]]))=TRUE,ISNUMBER(SEARCH(\"RP\",Risque[[#This Row],[Précision du risque\n(si liste déroulante présente)]]))=TRUE),\"Oui --> Priorité d'action\",\"Non\"))","v":""},null,null,null,null,{"$f":"IF(ISBLANK(Risque[[#This Row],[Catégorie de risque]]),\"\",CONCATENATE(Risque[[#This Row],[Catégorie de risque]],2))","v":""},null,{"$f":"IF(ISBLANK(Risque[[#This Row],[Moyens de prévention]]),\"\",CONCATENATE(Risque[[#This Row],[Moyens de prévention]],1))","v":""},null,null,null,null,null,{"$f":"IF(ISBLANK(Risque[[#This Row],[Catégorie de risque]]),\"\",CONCATENATE(Risque[[#This Row],[Catégorie de risque]],3))","v":""},null,null,null,{"$f":"IF(ISBLANK(Risque[[#This Row],[Catégorie de risque]]),\"\",CONCATENATE(Risque[[#This Row],[Catégorie de risque]],4))","v":""},null,null,null,null,null,{"$f":"IF(Risque[[#This Row],[Date d''inscription du risque]]<>\"\",YEAR(Risque[[#This Row],[Date d''inscription du risque]]),\"\")","v":""}]
[null,null,{"$f":"IF(ISBLANK(Risque[[#This Row],[Catégorie de risque]]),\"\",CONCATENATE(Risque[[#This Row],[Catégorie de risque]],1))","v":""},null,null,null,null,null,{"$f":"IF(ISBLANK(Risque[[#This Row],[Catégorie de risque]]),\"\",IF(OR(ISNUMBER(SEARCH(\"RZ\",Risque[[#This Row],[Source de danger]]))=TRUE,ISNUMBER(SEARCH(\"RP\",Risque[[#This Row],[Source de danger]]))=TRUE,ISNUMBER(SEARCH(\"RZ\",Risque[[#This Row],[Risques associés]]))=TRUE,ISNUMBER(SEARCH(\"RP\",Risque[[#This Row],[Risques associés]]))=TRUE,ISNUMBER(SEARCH(\"RZ\",Risque[[#This Row],[Précision du risque\n(si liste déroulante présente)]]))=TRUE,ISNUMBER(SEARCH(\"RP\",Risque[[#This Row],[Précision du risque\n(si liste déroulante présente)]]))=TRUE),\"Oui --> Priorité d'action\",\"Non\"))","v":""},null,null,null,null,{"$f":"IF(ISBLANK(Risque[[#This Row],[Catégorie de risque]]),\"\",CONCATENATE(Risque[[#This Row],[Catégorie de risque]],2))","v":""},null,{"$f":"IF(ISBLANK(Risque[[#This Row],[Moyens de prévention]]),\"\",CONCATENATE(Risque[[#This Row],[Moyens de prévention]],1))","v":""},null,null,null,null,null,{"$f":"IF(ISBLANK(Risque[[#This Row],[Catégorie de risque]]),\"\",CONCATENATE(Risque[[#This Row],[Catégorie de risque]],3))","v":""},null,null,null,{"$f":"IF(ISBLANK(Risque[[#This Row],[Catégorie de risque]]),\"\",CONCATENATE(Risque[[#This Row],[Catégorie de risque]],4))","v":""},null,null,null,null,null,{"$f":"IF(Risque[[#This Row],[Date d''inscription du risque]]<>\"\",YEAR(Risque[[#This Row],[Date d''inscription du risque]]),\"\")","v":""}]
[null,null,{"$f":"IF(ISBLANK(Risque[[#This Row],[Catégorie de risque]]),\"\",CONCATENATE(Risque[[#This Row],[Catégorie de risque]],1))","v":""},null,null,null,null,null,{"$f":"IF(ISBLANK(Risque[[#This Row],[Catégorie de risque]]),\"\",IF(OR(ISNUMBER(SEARCH(\"RZ\",Risque[[#This Row],[Source de danger]]))=TRUE,ISNUMBER(SEARCH(\"RP\",Risque[[#This Row],[Source de danger]]))=TRUE,ISNUMBER(SEARCH(\"RZ\",Risque[[#This Row],[Risques associés]]))=TRUE,ISNUMBER(SEARCH(\"RP\",Risque[[#This Row],[Risques associés]]))=TRUE,ISNUMBER(SEARCH(\"RZ\",Risque[[#This Row],[Précision du risque\n(si liste déroulante présente)]]))=TRUE,ISNUMBER(SEARCH(\"RP\",Risque[[#This Row],[Précision du risque\n(si liste déroulante présente)]]))=TRUE),\"Oui --> Priorité d'action\",\"Non\"))","v":""},null,null,null,null,{"$f":"IF(ISBLANK(Risque[[#This Row],[Catégorie de risque]]),\"\",CONCATENATE(Risque[[#This Row],[Catégorie de risque]],2))","v":""},null,{"$f":"IF(ISBLANK(Risque[[#This Row],[Moyens de prévention]]),\"\",CONCATENATE(Risque[[#This Row],[Moyens de prévention]],1))","v":""},null,null,null,null,null,{"$f":"IF(ISBLANK(Risque[[#This Row],[Catégorie de risque]]),\"\",CONCATENATE(Risque[[#This Row],[Catégorie de risque]],3))","v":""},null,null,null,{"$f":"IF(ISBLANK(Risque[[#This Row],[Catégorie de risque]]),\"\",CONCATENATE(Risque[[#This Row],[Catégorie de risque]],4))","v":""},null,null,null,null,null,{"$f":"IF(Risque[[#This Row],[Date d''inscription du risque]]<>\"\",YEAR(Risque[[#This Row],[Date d''inscription du risque]]),\"\")","v":""}]
[null,null,{"$f":"IF(ISBLANK(Risque[[#This Row],[Catégorie de risque]]),\"\",CONCATENATE(Risque[[#This Row],[Catégorie de risque]],1))","v":""},null,null,null,null,null,{"$f":"IF(ISBLANK(Risque[[#This Row],[Catégorie de risque]]),\"\",IF(OR(ISNUMBER(SEARCH(\"RZ\",Risque[[#This Row],[Source de danger]]))=TRUE,ISNUMBER(SEARCH(\"RP\",Risque[[#This Row],[Source de danger]]))=TRUE,ISNUMBER(SEARCH(\"RZ\",Risque[[#This Row],[Risques associés]]))=TRUE,ISNUMBER(SEARCH(\"RP\",Risque[[#This Row],[Risques associés]]))=TRUE,ISNUMBER(SEARCH(\"RZ\",Risque[[#This Row],[Précision du risque\n(si liste déroulante présente)]]))=TRUE,ISNUMBER(SEARCH(\"RP\",Risque[[#This Row],[Précision du risque\n(si liste déroulante présente)]]))=TRUE),\"Oui --> Priorité d'action\",\"Non\"))","v":""},null,null,null,null,{"$f":"IF(ISBLANK(Risque[[#This Row],[Catégorie de risque]]),\"\",CONCATENATE(Risque[[#This Row],[Catégorie de risque]],2))","v":""},null,{"$f":"IF(ISBLANK(Risque[[#This Row],[Moyens de prévention]]),\"\",CONCATENATE(Risque[[#This Row],[Moyens de prévention]],1))","v":""},null,null,null,null,null,{"$f":"IF(ISBLANK(Risque[[#This Row],[Catégorie de risque]]),\"\",CONCATENATE(Risque[[#This Row],[Catégorie de risque]],3))","v":""},null,null,null,{"$f":"IF(ISBLANK(Risque[[#This Row],[Catégorie de risque]]),\"\",CONCATENATE(Risque[[#This Row],[Catégorie de risque]],4))","v":""},null,null,null,null,null,{"$f":"IF(Risque[[#This Row],[Date d''inscription du risque]]<>\"\",YEAR(Risque[[#This Row],[Date d''inscription du risque]]),\"\")","v":""}]
[null,null,{"$f":"IF(ISBLANK(Risque[[#This Row],[Catégorie de risque]]),\"\",CONCATENATE(Risque[[#This Row],[Catégorie de risque]],1))","v":""},null,null,null,null,null,{"$f":"IF(ISBLANK(Risque[[#This Row],[Catégorie de risque]]),\"\",IF(OR(ISNUMBER(SEARCH(\"RZ\",Risque[[#This Row],[Source de danger]]))=TRUE,ISNUMBER(SEARCH(\"RP\",Risque[[#This Row],[Source de danger]]))=TRUE,ISNUMBER(SEARCH(\"RZ\",Risque[[#This Row],[Risques associés]]))=TRUE,ISNUMBER(SEARCH(\"RP\",Risque[[#This Row],[Risques associés]]))=TRUE,ISNUMBER(SEARCH(\"RZ\",Risque[[#This Row],[Précision du risque\n(si liste déroulante présente)]]))=TRUE,ISNUMBER(SEARCH(\"RP\",Risque[[#This Row],[Précision du risque\n(si liste déroulante présente)]]))=TRUE),\"Oui --> Priorité d'action\",\"Non\"))","v":""},null,null,null,null,{"$f":"IF(ISBLANK(Risque[[#This Row],[Catégorie de risque]]),\"\",CONCATENATE(Risque[[#This Row],[Catégorie de risque]],2))","v":""},null,{"$f":"IF(ISBLANK(Risque[[#This Row],[Moyens de prévention]]),\"\",CONCATENATE(Risque[[#This Row],[Moyens de prévention]],1))","v":""},null,null,null,null,null,{"$f":"IF(ISBLANK(Risque[[#This Row],[Catégorie de risque]]),\"\",CONCATENATE(Risque[[#This Row],[Catégorie de risque]],3))","v":""},null,null,null,{"$f":"IF(ISBLANK(Risque[[#This Row],[Catégorie de risque]]),\"\",CONCATENATE(Risque[[#This Row],[Catégorie de risque]],4))","v":""},null,null,null,null,null,{"$f":"IF(Risque[[#This Row],[Date d''inscription du risque]]<>\"\",YEAR(Risque[[#This Row],[Date d''inscription du risque]]),\"\")","v":""}]
[null,null,{"$f":"IF(ISBLANK(Risque[[#This Row],[Catégorie de risque]]),\"\",CONCATENATE(Risque[[#This Row],[Catégorie de risque]],1))","v":""},null,null,null,null,null,{"$f":"IF(ISBLANK(Risque[[#This Row],[Catégorie de risque]]),\"\",IF(OR(ISNUMBER(SEARCH(\"RZ\",Risque[[#This Row],[Source de danger]]))=TRUE,ISNUMBER(SEARCH(\"RP\",Risque[[#This Row],[Source de danger]]))=TRUE,ISNUMBER(SEARCH(\"RZ\",Risque[[#This Row],[Risques associés]]))=TRUE,ISNUMBER(SEARCH(\"RP\",Risque[[#This Row],[Risques associés]]))=TRUE,ISNUMBER(SEARCH(\"RZ\",Risque[[#This Row],[Précision du risque\n(si liste déroulante présente)]]))=TRUE,ISNUMBER(SEARCH(\"RP\",Risque[[#This Row],[Précision du risque\n(si liste déroulante présente)]]))=TRUE),\"Oui --> Priorité d'action\",\"Non\"))","v":""},null,null,null,null,{"$f":"IF(ISBLANK(Risque[[#This Row],[Catégorie de risque]]),\"\",CONCATENATE(Risque[[#This Row],[Catégorie de risque]],2))","v":""},null,{"$f":"IF(ISBLANK(Risque[[#This Row],[Moyens de prévention]]),\"\",CONCATENATE(Risque[[#This Row],[Moyens de prévention]],1))","v":""},null,null,null,null,null,{"$f":"IF(ISBLANK(Risque[[#This Row],[Catégorie de risque]]),\"\",CONCATENATE(Risque[[#This Row],[Catégorie de risque]],3))","v":""},null,null,null,{"$f":"IF(ISBLANK(Risque[[#This Row],[Catégorie de risque]]),\"\",CONCATENATE(Risque[[#This Row],[Catégorie de risque]],4))","v":""},null,null,null,null,null,{"$f":"IF(Risque[[#This Row],[Date d''inscription du risque]]<>\"\",YEAR(Risque[[#This Row],[Date d''inscription du risque]]),\"\")","v":""}]
[null,null,{"$f":"IF(ISBLANK(Risque[[#This Row],[Catégorie de risque]]),\"\",CONCATENATE(Risque[[#This Row],[Catégorie de risque]],1))","v":""},null,null,null,null,null,{"$f":"IF(ISBLANK(Risque[[#This Row],[Catégorie de risque]]),\"\",IF(OR(ISNUMBER(SEARCH(\"RZ\",Risque[[#This Row],[Source de danger]]))=TRUE,ISNUMBER(SEARCH(\"RP\",Risque[[#This Row],[Source de danger]]))=TRUE,ISNUMBER(SEARCH(\"RZ\",Risque[[#This Row],[Risques associés]]))=TRUE,ISNUMBER(SEARCH(\"RP\",Risque[[#This Row],[Risques associés]]))=TRUE,ISNUMBER(SEARCH(\"RZ\",Risque[[#This Row],[Précision du risque\n(si liste déroulante présente)]]))=TRUE,ISNUMBER(SEARCH(\"RP\",Risque[[#This Row],[Précision du risque\n(si liste déroulante présente)]]))=TRUE),\"Oui --> Priorité d'action\",\"Non\"))","v":""},null,null,null,null,{"$f":"IF(ISBLANK(Risque[[#This Row],[Catégorie de risque]]),\"\",CONCATENATE(Risque[[#This Row],[Catégorie de risque]],2))","v":""},null,{"$f":"IF(ISBLANK(Risque[[#This Row],[Moyens de prévention]]),\"\",CONCATENATE(Risque[[#This Row],[Moyens de prévention]],1))","v":""},null,null,null,null,null,{"$f":"IF(ISBLANK(Risque[[#This Row],[Catégorie de risque]]),\"\",CONCATENATE(Risque[[#This Row],[Catégorie de risque]],3))","v":""},null,null,null,{"$f":"IF(ISBLANK(Risque[[#This Row],[Catégorie de risque]]),\"\",CONCATENATE(Risque[[#This Row],[Catégorie de risque]],4))","v":""},null,null,null,null,null,{"$f":"IF(Risque[[#This Row],[Date d''inscription du risque]]<>\"\",YEAR(Risque[[#This Row],[Date d''inscription du risque]]),\"\")","v":""}]
[null,null,{"$f":"IF(ISBLANK(Risque[[#This Row],[Catégorie de risque]]),\"\",CONCATENATE(Risque[[#This Row],[Catégorie de risque]],1))","v":""},null,null,null,null,null,{"$f":"IF(ISBLANK(Risque[[#This Row],[Catégorie de risque]]),\"\",IF(OR(ISNUMBER(SEARCH(\"RZ\",Risque[[#This Row],[Source de danger]]))=TRUE,ISNUMBER(SEARCH(\"RP\",Risque[[#This Row],[Source de danger]]))=TRUE,ISNUMBER(SEARCH(\"RZ\",Risque[[#This Row],[Risques associés]]))=TRUE,ISNUMBER(SEARCH(\"RP\",Risque[[#This Row],[Risques associés]]))=TRUE,ISNUMBER(SEARCH(\"RZ\",Risque[[#This Row],[Précision du risque\n(si liste déroulante présente)]]))=TRUE,ISNUMBER(SEARCH(\"RP\",Risque[[#This Row],[Précision du risque\n(si liste déroulante présente)]]))=TRUE),\"Oui --> Priorité d'action\",\"Non\"))","v":""},null,null,null,null,{"$f":"IF(ISBLANK(Risque[[#This Row],[Catégorie de risque]]),\"\",CONCATENATE(Risque[[#This Row],[Catégorie de risque]],2))","v":""},null,{"$f":"IF(ISBLANK(Risque[[#This Row],[Moyens de prévention]]),\"\",CONCATENATE(Risque[[#This Row],[Moyens de prévention]],1))","v":""},null,null,null,null,null,{"$f":"IF(ISBLANK(Risque[[#This Row],[Catégorie de risque]]),\"\",CONCATENATE(Risque[[#This Row],[Catégorie de risque]],3))","v":""},null,null,null,{"$f":"IF(ISBLANK(Risque[[#This Row],[Catégorie de risque]]),\"\",CONCATENATE(Risque[[#This Row],[Catégorie de risque]],4))","v":""},null,null,null,null,null,{"$f":"IF(Risque[[#This Row],[Date d''inscription du risque]]<>\"\",YEAR(Risque[[#This Row],[Date d''inscription du risque]]),\"\")","v":""}]
[null,null,{"$f":"IF(ISBLANK(Risque[[#This Row],[Catégorie de risque]]),\"\",CONCATENATE(Risque[[#This Row],[Catégorie de risque]],1))","v":""},null,null,null,null,null,{"$f":"IF(ISBLANK(Risque[[#This Row],[Catégorie de risque]]),\"\",IF(OR(ISNUMBER(SEARCH(\"RZ\",Risque[[#This Row],[Source de danger]]))=TRUE,ISNUMBER(SEARCH(\"RP\",Risque[[#This Row],[Source de danger]]))=TRUE,ISNUMBER(SEARCH(\"RZ\",Risque[[#This Row],[Risques associés]]))=TRUE,ISNUMBER(SEARCH(\"RP\",Risque[[#This Row],[Risques associés]]))=TRUE,ISNUMBER(SEARCH(\"RZ\",Risque[[#This Row],[Précision du risque\n(si liste déroulante présente)]]))=TRUE,ISNUMBER(SEARCH(\"RP\",Risque[[#This Row],[Précision du risque\n(si liste déroulante présente)]]))=TRUE),\"Oui --> Priorité d'action\",\"Non\"))","v":""},null,null,null,null,{"$f":"IF(ISBLANK(Risque[[#This Row],[Catégorie de risque]]),\"\",CONCATENATE(Risque[[#This Row],[Catégorie de risque]],2))","v":""},null,{"$f":"IF(ISBLANK(Risque[[#This Row],[Moyens de prévention]]),\"\",CONCATENATE(Risque[[#This Row],[Moyens de prévention]],1))","v":""},null,null,null,null,null,{"$f":"IF(ISBLANK(Risque[[#This Row],[Catégorie de risque]]),\"\",CONCATENATE(Risque[[#This Row],[Catégorie de risque]],3))","v":""},null,null,null,{"$f":"IF(ISBLANK(Risque[[#This Row],[Catégorie de risque]]),\"\",CONCATENATE(Risque[[#This Row],[Catégorie de risque]],4))","v":""},null,null,null,null,null,{"$f":"IF(Risque[[#This Row],[Date d''inscription du risque]]<>\"\",YEAR(Risque[[#This Row],[Date d''inscription du risque]]),\"\")","v":""}]
[null,null,{"$f":"IF(ISBLANK(Risque[[#This Row],[Catégorie de risque]]),\"\",CONCATENATE(Risque[[#This Row],[Catégorie de risque]],1))","v":""},null,null,null,null,null,{"$f":"IF(ISBLANK(Risque[[#This Row],[Catégorie de risque]]),\"\",IF(OR(ISNUMBER(SEARCH(\"RZ\",Risque[[#This Row],[Source de danger]]))=TRUE,ISNUMBER(SEARCH(\"RP\",Risque[[#This Row],[Source de danger]]))=TRUE,ISNUMBER(SEARCH(\"RZ\",Risque[[#This Row],[Risques associés]]))=TRUE,ISNUMBER(SEARCH(\"RP\",Risque[[#This Row],[Risques associés]]))=TRUE,ISNUMBER(SEARCH(\"RZ\",Risque[[#This Row],[Précision du risque\n(si liste déroulante présente)]]))=TRUE,ISNUMBER(SEARCH(\"RP\",Risque[[#This Row],[Précision du risque\n(si liste déroulante présente)]]))=TRUE),\"Oui --> Priorité d'action\",\"Non\"))","v":""},null,null,null,null,{"$f":"IF(ISBLANK(Risque[[#This Row],[Catégorie de risque]]),\"\",CONCATENATE(Risque[[#This Row],[Catégorie de risque]],2))","v":""},null,{"$f":"IF(ISBLANK(Risque[[#This Row],[Moyens de prévention]]),\"\",CONCATENATE(Risque[[#This Row],[Moyens de prévention]],1))","v":""},null,null,null,null,null,{"$f":"IF(ISBLANK(Risque[[#This Row],[Catégorie de risque]]),\"\",CONCATENATE(Risque[[#This Row],[Catégorie de risque]],3))","v":""},null,null,null,{"$f":"IF(ISBLANK(Risque[[#This Row],[Catégorie de risque]]),\"\",CONCATENATE(Risque[[#This Row],[Catégorie de risque]],4))","v":""},null,null,null,null,null,{"$f":"IF(Risque[[#This Row],[Date d''inscription du risque]]<>\"\",YEAR(Risque[[#This Row],[Date d''inscription du risque]]),\"\")","v":""}]
[null,null,{"$f":"IF(ISBLANK(Risque[[#This Row],[Catégorie de risque]]),\"\",CONCATENATE(Risque[[#This Row],[Catégorie de risque]],1))","v":""},null,null,null,null,null,{"$f":"IF(ISBLANK(Risque[[#This Row],[Catégorie de risque]]),\"\",IF(OR(ISNUMBER(SEARCH(\"RZ\",Risque[[#This Row],[Source de danger]]))=TRUE,ISNUMBER(SEARCH(\"RP\",Risque[[#This Row],[Source de danger]]))=TRUE,ISNUMBER(SEARCH(\"RZ\",Risque[[#This Row],[Risques associés]]))=TRUE,ISNUMBER(SEARCH(\"RP\",Risque[[#This Row],[Risques associés]]))=TRUE,ISNUMBER(SEARCH(\"RZ\",Risque[[#This Row],[Précision du risque\n(si liste déroulante présente)]]))=TRUE,ISNUMBER(SEARCH(\"RP\",Risque[[#This Row],[Précision du risque\n(si liste déroulante présente)]]))=TRUE),\"Oui --> Priorité d'action\",\"Non\"))","v":""},null,null,null,null,{"$f":"IF(ISBLANK(Risque[[#This Row],[Catégorie de risque]]),\"\",CONCATENATE(Risque[[#This Row],[Catégorie de risque]],2))","v":""},null,{"$f":"IF(ISBLANK(Risque[[#This Row],[Moyens de prévention]]),\"\",CONCATENATE(Risque[[#This Row],[Moyens de prévention]],1))","v":""},null,null,null,null,null,{"$f":"IF(ISBLANK(Risque[[#This Row],[Catégorie de risque]]),\"\",CONCATENATE(Risque[[#This Row],[Catégorie de risque]],3))","v":""},null,null,null,{"$f":"IF(ISBLANK(Risque[[#This Row],[Catégorie de risque]]),\"\",CONCATENATE(Risque[[#This Row],[Catégorie de risque]],4))","v":""},null,null,null,null,null,{"$f":"IF(Risque[[#This Row],[Date d''inscription du risque]]<>\"\",YEAR(Risque[[#This Row],[Date d''inscription du risque]]),\"\")","v":""}]
[null,null,{"$f":"IF(ISBLANK(Risque[[#This Row],[Catégorie de risque]]),\"\",CONCATENATE(Risque[[#This Row],[Catégorie de risque]],1))","v":""},null,null,null,null,null,{"$f":"IF(ISBLANK(Risque[[#This Row],[Catégorie de risque]]),\"\",IF(OR(ISNUMBER(SEARCH(\"RZ\",Risque[[#This Row],[Source de danger]]))=TRUE,ISNUMBER(SEARCH(\"RP\",Risque[[#This Row],[Source de danger]]))=TRUE,ISNUMBER(SEARCH(\"RZ\",Risque[[#This Row],[Risques associés]]))=TRUE,ISNUMBER(SEARCH(\"RP\",Risque[[#This Row],[Risques associés]]))=TRUE,ISNUMBER(SEARCH(\"RZ\",Risque[[#This Row],[Précision du risque\n(si liste déroulante présente)]]))=TRUE,ISNUMBER(SEARCH(\"RP\",Risque[[#This Row],[Précision du risque\n(si liste déroulante présente)]]))=TRUE),\"Oui --> Priorité d'action\",\"Non\"))","v":""},null,null,null,null,{"$f":"IF(ISBLANK(Risque[[#This Row],[Catégorie de risque]]),\"\",CONCATENATE(Risque[[#This Row],[Catégorie de risque]],2))","v":""},null,{"$f":"IF(ISBLANK(Risque[[#This Row],[Moyens de prévention]]),\"\",CONCATENATE(Risque[[#This Row],[Moyens de prévention]],1))","v":""},null,null,null,null,null,{"$f":"IF(ISBLANK(Risque[[#This Row],[Catégorie de risque]]),\"\",CONCATENATE(Risque[[#This Row],[Catégorie de risque]],3))","v":""},null,null,null,{"$f":"IF(ISBLANK(Risque[[#This Row],[Catégorie de risque]]),\"\",CONCATENATE(Risque[[#This Row],[Catégorie de risque]],4))","v":""},null,null,null,null,null,{"$f":"IF(Risque[[#This Row],[Date d''inscription du risque]]<>\"\",YEAR(Risque[[#This Row],[Date d''inscription du risque]]),\"\")","v":""}]
[null,null,{"$f":"IF(ISBLANK(Risque[[#This Row],[Catégorie de risque]]),\"\",CONCATENATE(Risque[[#This Row],[Catégorie de risque]],1))","v":""},null,null,null,null,null,{"$f":"IF(ISBLANK(Risque[[#This Row],[Catégorie de risque]]),\"\",IF(OR(ISNUMBER(SEARCH(\"RZ\",Risque[[#This Row],[Source de danger]]))=TRUE,ISNUMBER(SEARCH(\"RP\",Risque[[#This Row],[Source de danger]]))=TRUE,ISNUMBER(SEARCH(\"RZ\",Risque[[#This Row],[Risques associés]]))=TRUE,ISNUMBER(SEARCH(\"RP\",Risque[[#This Row],[Risques associés]]))=TRUE,ISNUMBER(SEARCH(\"RZ\",Risque[[#This Row],[Précision du risque\n(si liste déroulante présente)]]))=TRUE,ISNUMBER(SEARCH(\"RP\",Risque[[#This Row],[Précision du risque\n(si liste déroulante présente)]]))=TRUE),\"Oui --> Priorité d'action\",\"Non\"))","v":""},null,null,null,null,{"$f":"IF(ISBLANK(Risque[[#This Row],[Catégorie de risque]]),\"\",CONCATENATE(Risque[[#This Row],[Catégorie de risque]],2))","v":""},null,{"$f":"IF(ISBLANK(Risque[[#This Row],[Moyens de prévention]]),\"\",CONCATENATE(Risque[[#This Row],[Moyens de prévention]],1))","v":""},null,null,null,null,null,{"$f":"IF(ISBLANK(Risque[[#This Row],[Catégorie de risque]]),\"\",CONCATENATE(Risque[[#This Row],[Catégorie de risque]],3))","v":""},null,null,null,{"$f":"IF(ISBLANK(Risque[[#This Row],[Catégorie de risque]]),\"\",CONCATENATE(Risque[[#This Row],[Catégorie de risque]],4))","v":""},null,null,null,null,null,{"$f":"IF(Risque[[#This Row],[Date d''inscription du risque]]<>\"\",YEAR(Risque[[#This Row],[Date d''inscription du risque]]),\"\")","v":""}]
[null,null,{"$f":"IF(ISBLANK(Risque[[#This Row],[Catégorie de risque]]),\"\",CONCATENATE(Risque[[#This Row],[Catégorie de risque]],1))","v":""},null,null,null,null,null,{"$f":"IF(ISBLANK(Risque[[#This Row],[Catégorie de risque]]),\"\",IF(OR(ISNUMBER(SEARCH(\"RZ\",Risque[[#This Row],[Source de danger]]))=TRUE,ISNUMBER(SEARCH(\"RP\",Risque[[#This Row],[Source de danger]]))=TRUE,ISNUMBER(SEARCH(\"RZ\",Risque[[#This Row],[Risques associés]]))=TRUE,ISNUMBER(SEARCH(\"RP\",Risque[[#This Row],[Risques associés]]))=TRUE,ISNUMBER(SEARCH(\"RZ\",Risque[[#This Row],[Précision du risque\n(si liste déroulante présente)]]))=TRUE,ISNUMBER(SEARCH(\"RP\",Risque[[#This Row],[Précision du risque\n(si liste déroulante présente)]]))=TRUE),\"Oui --> Priorité d'action\",\"Non\"))","v":""},null,null,null,null,{"$f":"IF(ISBLANK(Risque[[#This Row],[Catégorie de risque]]),\"\",CONCATENATE(Risque[[#This Row],[Catégorie de risque]],2))","v":""},null,{"$f":"IF(ISBLANK(Risque[[#This Row],[Moyens de prévention]]),\"\",CONCATENATE(Risque[[#This Row],[Moyens de prévention]],1))","v":""},null,null,null,null,null,{"$f":"IF(ISBLANK(Risque[[#This Row],[Catégorie de risque]]),\"\",CONCATENATE(Risque[[#This Row],[Catégorie de risque]],3))","v":""},null,null,null,{"$f":"IF(ISBLANK(Risque[[#This Row],[Catégorie de risque]]),\"\",CONCATENATE(Risque[[#This Row],[Catégorie de risque]],4))","v":""},null,null,null,null,null,{"$f":"IF(Risque[[#This Row],[Date d''inscription du risque]]<>\"\",YEAR(Risque[[#This Row],[Date d''inscription du risque]]),\"\")","v":""}]
[null,null,{"$f":"IF(ISBLANK(Risque[[#This Row],[Catégorie de risque]]),\"\",CONCATENATE(Risque[[#This Row],[Catégorie de risque]],1))","v":""},null,null,null,null,null,{"$f":"IF(ISBLANK(Risque[[#This Row],[Catégorie de risque]]),\"\",IF(OR(ISNUMBER(SEARCH(\"RZ\",Risque[[#This Row],[Source de danger]]))=TRUE,ISNUMBER(SEARCH(\"RP\",Risque[[#This Row],[Source de danger]]))=TRUE,ISNUMBER(SEARCH(\"RZ\",Risque[[#This Row],[Risques associés]]))=TRUE,ISNUMBER(SEARCH(\"RP\",Risque[[#This Row],[Risques associés]]))=TRUE,ISNUMBER(SEARCH(\"RZ\",Risque[[#This Row],[Précision du risque\n(si liste déroulante présente)]]))=TRUE,ISNUMBER(SEARCH(\"RP\",Risque[[#This Row],[Précision du risque\n(si liste déroulante présente)]]))=TRUE),\"Oui --> Priorité d'action\",\"Non\"))","v":""},null,null,null,null,{"$f":"IF(ISBLANK(Risque[[#This Row],[Catégorie de risque]]),\"\",CONCATENATE(Risque[[#This Row],[Catégorie de risque]],2))","v":""},null,{"$f":"IF(ISBLANK(Risque[[#This Row],[Moyens de prévention]]),\"\",CONCATENATE(Risque[[#This Row],[Moyens de prévention]],1))","v":""},null,null,null,null,null,{"$f":"IF(ISBLANK(Risque[[#This Row],[Catégorie de risque]]),\"\",CONCATENATE(Risque[[#This Row],[Catégorie de risque]],3))","v":""},null,null,null,{"$f":"IF(ISBLANK(Risque[[#This Row],[Catégorie de risque]]),\"\",CONCATENATE(Risque[[#This Row],[Catégorie de risque]],4))","v":""},null,null,null,null,null,{"$f":"IF(Risque[[#This Row],[Date d''inscription du risque]]<>\"\",YEAR(Risque[[#This Row],[Date d''inscription du risque]]),\"\")","v":""}]
[null,null,{"$f":"IF(ISBLANK(Risque[[#This Row],[Catégorie de risque]]),\"\",CONCATENATE(Risque[[#This Row],[Catégorie de risque]],1))","v":""},null,null,null,null,null,{"$f":"IF(ISBLANK(Risque[[#This Row],[Catégorie de risque]]),\"\",IF(OR(ISNUMBER(SEARCH(\"RZ\",Risque[[#This Row],[Source de danger]]))=TRUE,ISNUMBER(SEARCH(\"RP\",Risque[[#This Row],[Source de danger]]))=TRUE,ISNUMBER(SEARCH(\"RZ\",Risque[[#This Row],[Risques associés]]))=TRUE,ISNUMBER(SEARCH(\"RP\",Risque[[#This Row],[Risques associés]]))=TRUE,ISNUMBER(SEARCH(\"RZ\",Risque[[#This Row],[Précision du risque\n(si liste déroulante présente)]]))=TRUE,ISNUMBER(SEARCH(\"RP\",Risque[[#This Row],[Précision du risque\n(si liste déroulante présente)]]))=TRUE),\"Oui --> Priorité d'action\",\"Non\"))","v":""},null,null,null,null,{"$f":"IF(ISBLANK(Risque[[#This Row],[Catégorie de risque]]),\"\",CONCATENATE(Risque[[#This Row],[Catégorie de risque]],2))","v":""},null,{"$f":"IF(ISBLANK(Risque[[#This Row],[Moyens de prévention]]),\"\",CONCATENATE(Risque[[#This Row],[Moyens de prévention]],1))","v":""},null,null,null,null,null,{"$f":"IF(ISBLANK(Risque[[#This Row],[Catégorie de risque]]),\"\",CONCATENATE(Risque[[#This Row],[Catégorie de risque]],3))","v":""},null,null,null,{"$f":"IF(ISBLANK(Risque[[#This Row],[Catégorie de risque]]),\"\",CONCATENATE(Risque[[#This Row],[Catégorie de risque]],4))","v":""},null,null,null,null,null,{"$f":"IF(Risque[[#This Row],[Date d''inscription du risque]]<>\"\",YEAR(Risque[[#This Row],[Date d''inscription du risque]]),\"\")","v":""}]
[null,null,{"$f":"IF(ISBLANK(Risque[[#This Row],[Catégorie de risque]]),\"\",CONCATENATE(Risque[[#This Row],[Catégorie de risque]],1))","v":""},null,null,null,null,null,{"$f":"IF(ISBLANK(Risque[[#This Row],[Catégorie de risque]]),\"\",IF(OR(ISNUMBER(SEARCH(\"RZ\",Risque[[#This Row],[Source de danger]]))=TRUE,ISNUMBER(SEARCH(\"RP\",Risque[[#This Row],[Source de danger]]))=TRUE,ISNUMBER(SEARCH(\"RZ\",Risque[[#This Row],[Risques associés]]))=TRUE,ISNUMBER(SEARCH(\"RP\",Risque[[#This Row],[Risques associés]]))=TRUE,ISNUMBER(SEARCH(\"RZ\",Risque[[#This Row],[Précision du risque\n(si liste déroulante présente)]]))=TRUE,ISNUMBER(SEARCH(\"RP\",Risque[[#This Row],[Précision du risque\n(si liste déroulante présente)]]))=TRUE),\"Oui --> Priorité d'action\",\"Non\"))","v":""},null,null,null,null,{"$f":"IF(ISBLANK(Risque[[#This Row],[Catégorie de risque]]),\"\",CONCATENATE(Risque[[#This Row],[Catégorie de risque]],2))","v":""},null,{"$f":"IF(ISBLANK(Risque[[#This Row],[Moyens de prévention]]),\"\",CONCATENATE(Risque[[#This Row],[Moyens de prévention]],1))","v":""},null,null,null,null,null,{"$f":"IF(ISBLANK(Risque[[#This Row],[Catégorie de risque]]),\"\",CONCATENATE(Risque[[#This Row],[Catégorie de risque]],3))","v":""},null,null,null,{"$f":"IF(ISBLANK(Risque[[#This Row],[Catégorie de risque]]),\"\",CONCATENATE(Risque[[#This Row],[Catégorie de risque]],4))","v":""},null,null,null,null,null,{"$f":"IF(Risque[[#This Row],[Date d''inscription du risque]]<>\"\",YEAR(Risque[[#This Row],[Date d''inscription du risque]]),\"\")","v":""}]
[null,null,{"$f":"IF(ISBLANK(Risque[[#This Row],[Catégorie de risque]]),\"\",CONCATENATE(Risque[[#This Row],[Catégorie de risque]],1))","v":""},null,null,null,null,null,{"$f":"IF(ISBLANK(Risque[[#This Row],[Catégorie de risque]]),\"\",IF(OR(ISNUMBER(SEARCH(\"RZ\",Risque[[#This Row],[Source de danger]]))=TRUE,ISNUMBER(SEARCH(\"RP\",Risque[[#This Row],[Source de danger]]))=TRUE,ISNUMBER(SEARCH(\"RZ\",Risque[[#This Row],[Risques associés]]))=TRUE,ISNUMBER(SEARCH(\"RP\",Risque[[#This Row],[Risques associés]]))=TRUE,ISNUMBER(SEARCH(\"RZ\",Risque[[#This Row],[Précision du risque\n(si liste déroulante présente)]]))=TRUE,ISNUMBER(SEARCH(\"RP\",Risque[[#This Row],[Précision du risque\n(si liste déroulante présente)]]))=TRUE),\"Oui --> Priorité d'action\",\"Non\"))","v":""},null,null,null,null,{"$f":"IF(ISBLANK(Risque[[#This Row],[Catégorie de risque]]),\"\",CONCATENATE(Risque[[#This Row],[Catégorie de risque]],2))","v":""},null,{"$f":"IF(ISBLANK(Risque[[#This Row],[Moyens de prévention]]),\"\",CONCATENATE(Risque[[#This Row],[Moyens de prévention]],1))","v":""},null,null,null,null,null,{"$f":"IF(ISBLANK(Risque[[#This Row],[Catégorie de risque]]),\"\",CONCATENATE(Risque[[#This Row],[Catégorie de risque]],3))","v":""},null,null,null,{"$f":"IF(ISBLANK(Risque[[#This Row],[Catégorie de risque]]),\"\",CONCATENATE(Risque[[#This Row],[Catégorie de risque]],4))","v":""},null,null,null,null,null,{"$f":"IF(Risque[[#This Row],[Date d''inscription du risque]]<>\"\",YEAR(Risque[[#This Row],[Date d''inscription du risque]]),\"\")","v":""}]
[null,null,{"$f":"IF(ISBLANK(Risque[[#This Row],[Catégorie de risque]]),\"\",CONCATENATE(Risque[[#This Row],[Catégorie de risque]],1))","v":""},null,null,null,null,null,{"$f":"IF(ISBLANK(Risque[[#This Row],[Catégorie de risque]]),\"\",IF(OR(ISNUMBER(SEARCH(\"RZ\",Risque[[#This Row],[Source de danger]]))=TRUE,ISNUMBER(SEARCH(\"RP\",Risque[[#This Row],[Source de danger]]))=TRUE,ISNUMBER(SEARCH(\"RZ\",Risque[[#This Row],[Risques associés]]))=TRUE,ISNUMBER(SEARCH(\"RP\",Risque[[#This Row],[Risques associés]]))=TRUE,ISNUMBER(SEARCH(\"RZ\",Risque[[#This Row],[Précision du risque\n(si liste déroulante présente)]]))=TRUE,ISNUMBER(SEARCH(\"RP\",Risque[[#This Row],[Précision du risque\n(si liste déroulante présente)]]))=TRUE),\"Oui --> Priorité d'action\",\"Non\"))","v":""},null,null,null,null,{"$f":"IF(ISBLANK(Risque[[#This Row],[Catégorie de risque]]),\"\",CONCATENATE(Risque[[#This Row],[Catégorie de risque]],2))","v":""},null,{"$f":"IF(ISBLANK(Risque[[#This Row],[Moyens de prévention]]),\"\",CONCATENATE(Risque[[#This Row],[Moyens de prévention]],1))","v":""},null,null,null,null,null,{"$f":"IF(ISBLANK(Risque[[#This Row],[Catégorie de risque]]),\"\",CONCATENATE(Risque[[#This Row],[Catégorie de risque]],3))","v":""},null,null,null,{"$f":"IF(ISBLANK(Risque[[#This Row],[Catégorie de risque]]),\"\",CONCATENATE(Risque[[#This Row],[Catégorie de risque]],4))","v":""},null,null,null,null,null,{"$f":"IF(Risque[[#This Row],[Date d''inscription du risque]]<>\"\",YEAR(Risque[[#This Row],[Date d''inscription du risque]]),\"\")","v":""}]
[null,null,{"$f":"IF(ISBLANK(Risque[[#This Row],[Catégorie de risque]]),\"\",CONCATENATE(Risque[[#This Row],[Catégorie de risque]],1))","v":""},null,null,null,null,null,{"$f":"IF(ISBLANK(Risque[[#This Row],[Catégorie de risque]]),\"\",IF(OR(ISNUMBER(SEARCH(\"RZ\",Risque[[#This Row],[Source de danger]]))=TRUE,ISNUMBER(SEARCH(\"RP\",Risque[[#This Row],[Source de danger]]))=TRUE,ISNUMBER(SEARCH(\"RZ\",Risque[[#This Row],[Risques associés]]))=TRUE,ISNUMBER(SEARCH(\"RP\",Risque[[#This Row],[Risques associés]]))=TRUE,ISNUMBER(SEARCH(\"RZ\",Risque[[#This Row],[Précision du risque\n(si liste déroulante présente)]]))=TRUE,ISNUMBER(SEARCH(\"RP\",Risque[[#This Row],[Précision du risque\n(si liste déroulante présente)]]))=TRUE),\"Oui --> Priorité d'action\",\"Non\"))","v":""},null,null,null,null,{"$f":"IF(ISBLANK(Risque[[#This Row],[Catégorie de risque]]),\"\",CONCATENATE(Risque[[#This Row],[Catégorie de risque]],2))","v":""},null,{"$f":"IF(ISBLANK(Risque[[#This Row],[Moyens de prévention]]),\"\",CONCATENATE(Risque[[#This Row],[Moyens de prévention]],1))","v":""},null,null,null,null,null,{"$f":"IF(ISBLANK(Risque[[#This Row],[Catégorie de risque]]),\"\",CONCATENATE(Risque[[#This Row],[Catégorie de risque]],3))","v":""},null,null,null,{"$f":"IF(ISBLANK(Risque[[#This Row],[Catégorie de risque]]),\"\",CONCATENATE(Risque[[#This Row],[Catégorie de risque]],4))","v":""},null,null,null,null,null,{"$f":"IF(Risque[[#This Row],[Date d''inscription du risque]]<>\"\",YEAR(Risque[[#This Row],[Date d''inscription du risque]]),\"\")","v":""}]
[null,null,{"$f":"IF(ISBLANK(Risque[[#This Row],[Catégorie de risque]]),\"\",CONCATENATE(Risque[[#This Row],[Catégorie de risque]],1))","v":""},null,null,null,null,null,{"$f":"IF(ISBLANK(Risque[[#This Row],[Catégorie de risque]]),\"\",IF(OR(ISNUMBER(SEARCH(\"RZ\",Risque[[#This Row],[Source de danger]]))=TRUE,ISNUMBER(SEARCH(\"RP\",Risque[[#This Row],[Source de danger]]))=TRUE,ISNUMBER(SEARCH(\"RZ\",Risque[[#This Row],[Risques associés]]))=TRUE,ISNUMBER(SEARCH(\"RP\",Risque[[#This Row],[Risques associés]]))=TRUE,ISNUMBER(SEARCH(\"RZ\",Risque[[#This Row],[Précision du risque\n(si liste déroulante présente)]]))=TRUE,ISNUMBER(SEARCH(\"RP\",Risque[[#This Row],[Précision du risque\n(si liste déroulante présente)]]))=TRUE),\"Oui --> Priorité d'action\",\"Non\"))","v":""},null,null,null,null,{"$f":"IF(ISBLANK(Risque[[#This Row],[Catégorie de risque]]),\"\",CONCATENATE(Risque[[#This Row],[Catégorie de risque]],2))","v":""},null,{"$f":"IF(ISBLANK(Risque[[#This Row],[Moyens de prévention]]),\"\",CONCATENATE(Risque[[#This Row],[Moyens de prévention]],1))","v":""},null,null,null,null,null,{"$f":"IF(ISBLANK(Risque[[#This Row],[Catégorie de risque]]),\"\",CONCATENATE(Risque[[#This Row],[Catégorie de risque]],3))","v":""},null,null,null,{"$f":"IF(ISBLANK(Risque[[#This Row],[Catégorie de risque]]),\"\",CONCATENATE(Risque[[#This Row],[Catégorie de risque]],4))","v":""},null,null,null,null,null,{"$f":"IF(Risque[[#This Row],[Date d''inscription du risque]]<>\"\",YEAR(Risque[[#This Row],[Date d''inscription du risque]]),\"\")","v":""}]
[null,null,{"$f":"IF(ISBLANK(Risque[[#This Row],[Catégorie de risque]]),\"\",CONCATENATE(Risque[[#This Row],[Catégorie de risque]],1))","v":""},null,null,null,null,null,{"$f":"IF(ISBLANK(Risque[[#This Row],[Catégorie de risque]]),\"\",IF(OR(ISNUMBER(SEARCH(\"RZ\",Risque[[#This Row],[Source de danger]]))=TRUE,ISNUMBER(SEARCH(\"RP\",Risque[[#This Row],[Source de danger]]))=TRUE,ISNUMBER(SEARCH(\"RZ\",Risque[[#This Row],[Risques associés]]))=TRUE,ISNUMBER(SEARCH(\"RP\",Risque[[#This Row],[Risques associés]]))=TRUE,ISNUMBER(SEARCH(\"RZ\",Risque[[#This Row],[Précision du risque\n(si liste déroulante présente)]]))=TRUE,ISNUMBER(SEARCH(\"RP\",Risque[[#This Row],[Précision du risque\n(si liste déroulante présente)]]))=TRUE),\"Oui --> Priorité d'action\",\"Non\"))","v":""},null,null,null,null,{"$f":"IF(ISBLANK(Risque[[#This Row],[Catégorie de risque]]),\"\",CONCATENATE(Risque[[#This Row],[Catégorie de risque]],2))","v":""},null,{"$f":"IF(ISBLANK(Risque[[#This Row],[Moyens de prévention]]),\"\",CONCATENATE(Risque[[#This Row],[Moyens de prévention]],1))","v":""},null,null,null,null,null,{"$f":"IF(ISBLANK(Risque[[#This Row],[Catégorie de risque]]),\"\",CONCATENATE(Risque[[#This Row],[Catégorie de risque]],3))","v":""},null,null,null,{"$f":"IF(ISBLANK(Risque[[#This Row],[Catégorie de risque]]),\"\",CONCATENATE(Risque[[#This Row],[Catégorie de risque]],4))","v":""},null,null,null,null,null,{"$f":"IF(Risque[[#This Row],[Date d''inscription du risque]]<>\"\",YEAR(Risque[[#This Row],[Date d''inscription du risque]]),\"\")","v":""}]
[null,null,{"$f":"IF(ISBLANK(Risque[[#This Row],[Catégorie de risque]]),\"\",CONCATENATE(Risque[[#This Row],[Catégorie de risque]],1))","v":""},null,null,null,null,null,{"$f":"IF(ISBLANK(Risque[[#This Row],[Catégorie de risque]]),\"\",IF(OR(ISNUMBER(SEARCH(\"RZ\",Risque[[#This Row],[Source de danger]]))=TRUE,ISNUMBER(SEARCH(\"RP\",Risque[[#This Row],[Source de danger]]))=TRUE,ISNUMBER(SEARCH(\"RZ\",Risque[[#This Row],[Risques associés]]))=TRUE,ISNUMBER(SEARCH(\"RP\",Risque[[#This Row],[Risques associés]]))=TRUE,ISNUMBER(SEARCH(\"RZ\",Risque[[#This Row],[Précision du risque\n(si liste déroulante présente)]]))=TRUE,ISNUMBER(SEARCH(\"RP\",Risque[[#This Row],[Précision du risque\n(si liste déroulante présente)]]))=TRUE),\"Oui --> Priorité d'action\",\"Non\"))","v":""},null,null,null,null,{"$f":"IF(ISBLANK(Risque[[#This Row],[Catégorie de risque]]),\"\",CONCATENATE(Risque[[#This Row],[Catégorie de risque]],2))","v":""},null,{"$f":"IF(ISBLANK(Risque[[#This Row],[Moyens de prévention]]),\"\",CONCATENATE(Risque[[#This Row],[Moyens de prévention]],1))","v":""},null,null,null,null,null,{"$f":"IF(ISBLANK(Risque[[#This Row],[Catégorie de risque]]),\"\",CONCATENATE(Risque[[#This Row],[Catégorie de risque]],3))","v":""},null,null,null,{"$f":"IF(ISBLANK(Risque[[#This Row],[Catégorie de risque]]),\"\",CONCATENATE(Risque[[#This Row],[Catégorie de risque]],4))","v":""},null,null,null,null,null,{"$f":"IF(Risque[[#This Row],[Date d''inscription du risque]]<>\"\",YEAR(Risque[[#This Row],[Date d''inscription du risque]]),\"\")","v":""}]
[null,null,{"$f":"IF(ISBLANK(Risque[[#This Row],[Catégorie de risque]]),\"\",CONCATENATE(Risque[[#This Row],[Catégorie de risque]],1))","v":""},null,null,null,null,null,{"$f":"IF(ISBLANK(Risque[[#This Row],[Catégorie de risque]]),\"\",IF(OR(ISNUMBER(SEARCH(\"RZ\",Risque[[#This Row],[Source de danger]]))=TRUE,ISNUMBER(SEARCH(\"RP\",Risque[[#This Row],[Source de danger]]))=TRUE,ISNUMBER(SEARCH(\"RZ\",Risque[[#This Row],[Risques associés]]))=TRUE,ISNUMBER(SEARCH(\"RP\",Risque[[#This Row],[Risques associés]]))=TRUE,ISNUMBER(SEARCH(\"RZ\",Risque[[#This Row],[Précision du risque\n(si liste déroulante présente)]]))=TRUE,ISNUMBER(SEARCH(\"RP\",Risque[[#This Row],[Précision du risque\n(si liste déroulante présente)]]))=TRUE),\"Oui --> Priorité d'action\",\"Non\"))","v":""},null,null,null,null,{"$f":"IF(ISBLANK(Risque[[#This Row],[Catégorie de risque]]),\"\",CONCATENATE(Risque[[#This Row],[Catégorie de risque]],2))","v":""},null,{"$f":"IF(ISBLANK(Risque[[#This Row],[Moyens de prévention]]),\"\",CONCATENATE(Risque[[#This Row],[Moyens de prévention]],1))","v":""},null,null,null,null,null,{"$f":"IF(ISBLANK(Risque[[#This Row],[Catégorie de risque]]),\"\",CONCATENATE(Risque[[#This Row],[Catégorie de risque]],3))","v":""},null,null,null,{"$f":"IF(ISBLANK(Risque[[#This Row],[Catégorie de risque]]),\"\",CONCATENATE(Risque[[#This Row],[Catégorie de risque]],4))","v":""},null,null,null,null,null,{"$f":"IF(Risque[[#This Row],[Date d''inscription du risque]]<>\"\",YEAR(Risque[[#This Row],[Date d''inscription du risque]]),\"\")","v":""}]
[null,null,{"$f":"IF(ISBLANK(Risque[[#This Row],[Catégorie de risque]]),\"\",CONCATENATE(Risque[[#This Row],[Catégorie de risque]],1))","v":""},null,null,null,null,null,{"$f":"IF(ISBLANK(Risque[[#This Row],[Catégorie de risque]]),\"\",IF(OR(ISNUMBER(SEARCH(\"RZ\",Risque[[#This Row],[Source de danger]]))=TRUE,ISNUMBER(SEARCH(\"RP\",Risque[[#This Row],[Source de danger]]))=TRUE,ISNUMBER(SEARCH(\"RZ\",Risque[[#This Row],[Risques associés]]))=TRUE,ISNUMBER(SEARCH(\"RP\",Risque[[#This Row],[Risques associés]]))=TRUE,ISNUMBER(SEARCH(\"RZ\",Risque[[#This Row],[Précision du risque\n(si liste déroulante présente)]]))=TRUE,ISNUMBER(SEARCH(\"RP\",Risque[[#This Row],[Précision du risque\n(si liste déroulante présente)]]))=TRUE),\"Oui --> Priorité d'action\",\"Non\"))","v":""},null,null,null,null,{"$f":"IF(ISBLANK(Risque[[#This Row],[Catégorie de risque]]),\"\",CONCATENATE(Risque[[#This Row],[Catégorie de risque]],2))","v":""},null,{"$f":"IF(ISBLANK(Risque[[#This Row],[Moyens de prévention]]),\"\",CONCATENATE(Risque[[#This Row],[Moyens de prévention]],1))","v":""},null,null,null,null,null,{"$f":"IF(ISBLANK(Risque[[#This Row],[Catégorie de risque]]),\"\",CONCATENATE(Risque[[#This Row],[Catégorie de risque]],3))","v":""},null,null,null,{"$f":"IF(ISBLANK(Risque[[#This Row],[Catégorie de risque]]),\"\",CONCATENATE(Risque[[#This Row],[Catégorie de risque]],4))","v":""},null,null,null,null,null,{"$f":"IF(Risque[[#This Row],[Date d''inscription du risque]]<>\"\",YEAR(Risque[[#This Row],[Date d''inscription du risque]]),\"\")","v":""}]
[null,null,{"$f":"IF(ISBLANK(Risque[[#This Row],[Catégorie de risque]]),\"\",CONCATENATE(Risque[[#This Row],[Catégorie de risque]],1))","v":""},null,null,null,null,null,{"$f":"IF(ISBLANK(Risque[[#This Row],[Catégorie de risque]]),\"\",IF(OR(ISNUMBER(SEARCH(\"RZ\",Risque[[#This Row],[Source de danger]]))=TRUE,ISNUMBER(SEARCH(\"RP\",Risque[[#This Row],[Source de danger]]))=TRUE,ISNUMBER(SEARCH(\"RZ\",Risque[[#This Row],[Risques associés]]))=TRUE,ISNUMBER(SEARCH(\"RP\",Risque[[#This Row],[Risques associés]]))=TRUE,ISNUMBER(SEARCH(\"RZ\",Risque[[#This Row],[Précision du risque\n(si liste déroulante présente)]]))=TRUE,ISNUMBER(SEARCH(\"RP\",Risque[[#This Row],[Précision du risque\n(si liste déroulante présente)]]))=TRUE),\"Oui --> Priorité d'action\",\"Non\"))","v":""},null,null,null,null,{"$f":"IF(ISBLANK(Risque[[#This Row],[Catégorie de risque]]),\"\",CONCATENATE(Risque[[#This Row],[Catégorie de risque]],2))","v":""},null,{"$f":"IF(ISBLANK(Risque[[#This Row],[Moyens de prévention]]),\"\",CONCATENATE(Risque[[#This Row],[Moyens de prévention]],1))","v":""},null,null,null,null,null,{"$f":"IF(ISBLANK(Risque[[#This Row],[Catégorie de risque]]),\"\",CONCATENATE(Risque[[#This Row],[Catégorie de risque]],3))","v":""},null,null,null,{"$f":"IF(ISBLANK(Risque[[#This Row],[Catégorie de risque]]),\"\",CONCATENATE(Risque[[#This Row],[Catégorie de risque]],4))","v":""},null,null,null,null,null,{"$f":"IF(Risque[[#This Row],[Date d''inscription du risque]]<>\"\",YEAR(Risque[[#This Row],[Date d''inscription du risque]]),\"\")","v":""}]
[null,null,{"$f":"IF(ISBLANK(Risque[[#This Row],[Catégorie de risque]]),\"\",CONCATENATE(Risque[[#This Row],[Catégorie de risque]],1))","v":""},null,null,null,null,null,{"$f":"IF(ISBLANK(Risque[[#This Row],[Catégorie de risque]]),\"\",IF(OR(ISNUMBER(SEARCH(\"RZ\",Risque[[#This Row],[Source de danger]]))=TRUE,ISNUMBER(SEARCH(\"RP\",Risque[[#This Row],[Source de danger]]))=TRUE,ISNUMBER(SEARCH(\"RZ\",Risque[[#This Row],[Risques associés]]))=TRUE,ISNUMBER(SEARCH(\"RP\",Risque[[#This Row],[Risques associés]]))=TRUE,ISNUMBER(SEARCH(\"RZ\",Risque[[#This Row],[Précision du risque\n(si liste déroulante présente)]]))=TRUE,ISNUMBER(SEARCH(\"RP\",Risque[[#This Row],[Précision du risque\n(si liste déroulante présente)]]))=TRUE),\"Oui --> Priorité d'action\",\"Non\"))","v":""},null,null,null,null,{"$f":"IF(ISBLANK(Risque[[#This Row],[Catégorie de risque]]),\"\",CONCATENATE(Risque[[#This Row],[Catégorie de risque]],2))","v":""},null,{"$f":"IF(ISBLANK(Risque[[#This Row],[Moyens de prévention]]),\"\",CONCATENATE(Risque[[#This Row],[Moyens de prévention]],1))","v":""},null,null,null,null,null,{"$f":"IF(ISBLANK(Risque[[#This Row],[Catégorie de risque]]),\"\",CONCATENATE(Risque[[#This Row],[Catégorie de risque]],3))","v":""},null,null,null,{"$f":"IF(ISBLANK(Risque[[#This Row],[Catégorie de risque]]),\"\",CONCATENATE(Risque[[#This Row],[Catégorie de risque]],4))","v":""},null,null,null,null,null,{"$f":"IF(Risque[[#This Row],[Date d''inscription du risque]]<>\"\",YEAR(Risque[[#This Row],[Date d''inscription du risque]]),\"\")","v":""}]
[null,null,{"$f":"IF(ISBLANK(Risque[[#This Row],[Catégorie de risque]]),\"\",CONCATENATE(Risque[[#This Row],[Catégorie de risque]],1))","v":""},null,null,null,null,null,{"$f":"IF(ISBLANK(Risque[[#This Row],[Catégorie de risque]]),\"\",IF(OR(ISNUMBER(SEARCH(\"RZ\",Risque[[#This Row],[Source de danger]]))=TRUE,ISNUMBER(SEARCH(\"RP\",Risque[[#This Row],[Source de danger]]))=TRUE,ISNUMBER(SEARCH(\"RZ\",Risque[[#This Row],[Risques associés]]))=TRUE,ISNUMBER(SEARCH(\"RP\",Risque[[#This Row],[Risques associés]]))=TRUE,ISNUMBER(SEARCH(\"RZ\",Risque[[#This Row],[Précision du risque\n(si liste déroulante présente)]]))=TRUE,ISNUMBER(SEARCH(\"RP\",Risque[[#This Row],[Précision du risque\n(si liste déroulante présente)]]))=TRUE),\"Oui --> Priorité d'action\",\"Non\"))","v":""},null,null,null,null,{"$f":"IF(ISBLANK(Risque[[#This Row],[Catégorie de risque]]),\"\",CONCATENATE(Risque[[#This Row],[Catégorie de risque]],2))","v":""},null,{"$f":"IF(ISBLANK(Risque[[#This Row],[Moyens de prévention]]),\"\",CONCATENATE(Risque[[#This Row],[Moyens de prévention]],1))","v":""},null,null,null,null,null,{"$f":"IF(ISBLANK(Risque[[#This Row],[Catégorie de risque]]),\"\",CONCATENATE(Risque[[#This Row],[Catégorie de risque]],3))","v":""},null,null,null,{"$f":"IF(ISBLANK(Risque[[#This Row],[Catégorie de risque]]),\"\",CONCATENATE(Risque[[#This Row],[Catégorie de risque]],4))","v":""},null,null,null,null,null,{"$f":"IF(Risque[[#This Row],[Date d''inscription du risque]]<>\"\",YEAR(Risque[[#This Row],[Date d''inscription du risque]]),\"\")","v":""}]
[null,null,{"$f":"IF(ISBLANK(Risque[[#This Row],[Catégorie de risque]]),\"\",CONCATENATE(Risque[[#This Row],[Catégorie de risque]],1))","v":""},null,null,null,null,null,{"$f":"IF(ISBLANK(Risque[[#This Row],[Catégorie de risque]]),\"\",IF(OR(ISNUMBER(SEARCH(\"RZ\",Risque[[#This Row],[Source de danger]]))=TRUE,ISNUMBER(SEARCH(\"RP\",Risque[[#This Row],[Source de danger]]))=TRUE,ISNUMBER(SEARCH(\"RZ\",Risque[[#This Row],[Risques associés]]))=TRUE,ISNUMBER(SEARCH(\"RP\",Risque[[#This Row],[Risques associés]]))=TRUE,ISNUMBER(SEARCH(\"RZ\",Risque[[#This Row],[Précision du risque\n(si liste déroulante présente)]]))=TRUE,ISNUMBER(SEARCH(\"RP\",Risque[[#This Row],[Précision du risque\n(si liste déroulante présente)]]))=TRUE),\"Oui --> Priorité d'action\",\"Non\"))","v":""},null,null,null,null,{"$f":"IF(ISBLANK(Risque[[#This Row],[Catégorie de risque]]),\"\",CONCATENATE(Risque[[#This Row],[Catégorie de risque]],2))","v":""},null,{"$f":"IF(ISBLANK(Risque[[#This Row],[Moyens de prévention]]),\"\",CONCATENATE(Risque[[#This Row],[Moyens de prévention]],1))","v":""},null,null,null,null,null,{"$f":"IF(ISBLANK(Risque[[#This Row],[Catégorie de risque]]),\"\",CONCATENATE(Risque[[#This Row],[Catégorie de risque]],3))","v":""},null,null,null,{"$f":"IF(ISBLANK(Risque[[#This Row],[Catégorie de risque]]),\"\",CONCATENATE(Risque[[#This Row],[Catégorie de risque]],4))","v":""},null,null,null,null,null,{"$f":"IF(Risque[[#This Row],[Date d''inscription du risque]]<>\"\",YEAR(Risque[[#This Row],[Date d''inscription du risque]]),\"\")","v":""}]
[null,null,{"$f":"IF(ISBLANK(Risque[[#This Row],[Catégorie de risque]]),\"\",CONCATENATE(Risque[[#This Row],[Catégorie de risque]],1))","v":""},null,null,null,null,null,{"$f":"IF(ISBLANK(Risque[[#This Row],[Catégorie de risque]]),\"\",IF(OR(ISNUMBER(SEARCH(\"RZ\",Risque[[#This Row],[Source de danger]]))=TRUE,ISNUMBER(SEARCH(\"RP\",Risque[[#This Row],[Source de danger]]))=TRUE,ISNUMBER(SEARCH(\"RZ\",Risque[[#This Row],[Risques associés]]))=TRUE,ISNUMBER(SEARCH(\"RP\",Risque[[#This Row],[Risques associés]]))=TRUE,ISNUMBER(SEARCH(\"RZ\",Risque[[#This Row],[Précision du risque\n(si liste déroulante présente)]]))=TRUE,ISNUMBER(SEARCH(\"RP\",Risque[[#This Row],[Précision du risque\n(si liste déroulante présente)]]))=TRUE),\"Oui --> Priorité d'action\",\"Non\"))","v":""},null,null,null,null,{"$f":"IF(ISBLANK(Risque[[#This Row],[Catégorie de risque]]),\"\",CONCATENATE(Risque[[#This Row],[Catégorie de risque]],2))","v":""},null,{"$f":"IF(ISBLANK(Risque[[#This Row],[Moyens de prévention]]),\"\",CONCATENATE(Risque[[#This Row],[Moyens de prévention]],1))","v":""},null,null,null,null,null,{"$f":"IF(ISBLANK(Risque[[#This Row],[Catégorie de risque]]),\"\",CONCATENATE(Risque[[#This Row],[Catégorie de risque]],3))","v":""},null,null,null,{"$f":"IF(ISBLANK(Risque[[#This Row],[Catégorie de risque]]),\"\",CONCATENATE(Risque[[#This Row],[Catégorie de risque]],4))","v":""},null,null,null,null,null,{"$f":"IF(Risque[[#This Row],[Date d''inscription du risque]]<>\"\",YEAR(Risque[[#This Row],[Date d''inscription du risque]]),\"\")","v":""}]
[null,null,{"$f":"IF(ISBLANK(Risque[[#This Row],[Catégorie de risque]]),\"\",CONCATENATE(Risque[[#This Row],[Catégorie de risque]],1))","v":""},null,null,null,null,null,{"$f":"IF(ISBLANK(Risque[[#This Row],[Catégorie de risque]]),\"\",IF(OR(ISNUMBER(SEARCH(\"RZ\",Risque[[#This Row],[Source de danger]]))=TRUE,ISNUMBER(SEARCH(\"RP\",Risque[[#This Row],[Source de danger]]))=TRUE,ISNUMBER(SEARCH(\"RZ\",Risque[[#This Row],[Risques associés]]))=TRUE,ISNUMBER(SEARCH(\"RP\",Risque[[#This Row],[Risques associés]]))=TRUE,ISNUMBER(SEARCH(\"RZ\",Risque[[#This Row],[Précision du risque\n(si liste déroulante présente)]]))=TRUE,ISNUMBER(SEARCH(\"RP\",Risque[[#This Row],[Précision du risque\n(si liste déroulante présente)]]))=TRUE),\"Oui --> Priorité d'action\",\"Non\"))","v":""},null,null,null,null,{"$f":"IF(ISBLANK(Risque[[#This Row],[Catégorie de risque]]),\"\",CONCATENATE(Risque[[#This Row],[Catégorie de risque]],2))","v":""},null,{"$f":"IF(ISBLANK(Risque[[#This Row],[Moyens de prévention]]),\"\",CONCATENATE(Risque[[#This Row],[Moyens de prévention]],1))","v":""},null,null,null,null,null,{"$f":"IF(ISBLANK(Risque[[#This Row],[Catégorie de risque]]),\"\",CONCATENATE(Risque[[#This Row],[Catégorie de risque]],3))","v":""},null,null,null,{"$f":"IF(ISBLANK(Risque[[#This Row],[Catégorie de risque]]),\"\",CONCATENATE(Risque[[#This Row],[Catégorie de risque]],4))","v":""},null,null,null,null,null,{"$f":"IF(Risque[[#This Row],[Date d''inscription du risque]]<>\"\",YEAR(Risque[[#This Row],[Date d''inscription du risque]]),\"\")","v":""}]
[null,null,{"$f":"IF(ISBLANK(Risque[[#This Row],[Catégorie de risque]]),\"\",CONCATENATE(Risque[[#This Row],[Catégorie de risque]],1))","v":""},null,null,null,null,null,{"$f":"IF(ISBLANK(Risque[[#This Row],[Catégorie de risque]]),\"\",IF(OR(ISNUMBER(SEARCH(\"RZ\",Risque[[#This Row],[Source de danger]]))=TRUE,ISNUMBER(SEARCH(\"RP\",Risque[[#This Row],[Source de danger]]))=TRUE,ISNUMBER(SEARCH(\"RZ\",Risque[[#This Row],[Risques associés]]))=TRUE,ISNUMBER(SEARCH(\"RP\",Risque[[#This Row],[Risques associés]]))=TRUE,ISNUMBER(SEARCH(\"RZ\",Risque[[#This Row],[Précision du risque\n(si liste déroulante présente)]]))=TRUE,ISNUMBER(SEARCH(\"RP\",Risque[[#This Row],[Précision du risque\n(si liste déroulante présente)]]))=TRUE),\"Oui --> Priorité d'action\",\"Non\"))","v":""},null,null,null,null,{"$f":"IF(ISBLANK(Risque[[#This Row],[Catégorie de risque]]),\"\",CONCATENATE(Risque[[#This Row],[Catégorie de risque]],2))","v":""},null,{"$f":"IF(ISBLANK(Risque[[#This Row],[Moyens de prévention]]),\"\",CONCATENATE(Risque[[#This Row],[Moyens de prévention]],1))","v":""},null,null,null,null,null,{"$f":"IF(ISBLANK(Risque[[#This Row],[Catégorie de risque]]),\"\",CONCATENATE(Risque[[#This Row],[Catégorie de risque]],3))","v":""},null,null,null,{"$f":"IF(ISBLANK(Risque[[#This Row],[Catégorie de risque]]),\"\",CONCATENATE(Risque[[#This Row],[Catégorie de risque]],4))","v":""},null,null,null,null,null,{"$f":"IF(Risque[[#This Row],[Date d''inscription du risque]]<>\"\",YEAR(Risque[[#This Row],[Date d''inscription du risque]]),\"\")","v":""}]
[null,null,{"$f":"IF(ISBLANK(Risque[[#This Row],[Catégorie de risque]]),\"\",CONCATENATE(Risque[[#This Row],[Catégorie de risque]],1))","v":""},null,null,null,null,null,{"$f":"IF(ISBLANK(Risque[[#This Row],[Catégorie de risque]]),\"\",IF(OR(ISNUMBER(SEARCH(\"RZ\",Risque[[#This Row],[Source de danger]]))=TRUE,ISNUMBER(SEARCH(\"RP\",Risque[[#This Row],[Source de danger]]))=TRUE,ISNUMBER(SEARCH(\"RZ\",Risque[[#This Row],[Risques associés]]))=TRUE,ISNUMBER(SEARCH(\"RP\",Risque[[#This Row],[Risques associés]]))=TRUE,ISNUMBER(SEARCH(\"RZ\",Risque[[#This Row],[Précision du risque\n(si liste déroulante présente)]]))=TRUE,ISNUMBER(SEARCH(\"RP\",Risque[[#This Row],[Précision du risque\n(si liste déroulante présente)]]))=TRUE),\"Oui --> Priorité d'action\",\"Non\"))","v":""},null,null,null,null,{"$f":"IF(ISBLANK(Risque[[#This Row],[Catégorie de risque]]),\"\",CONCATENATE(Risque[[#This Row],[Catégorie de risque]],2))","v":""},null,{"$f":"IF(ISBLANK(Risque[[#This Row],[Moyens de prévention]]),\"\",CONCATENATE(Risque[[#This Row],[Moyens de prévention]],1))","v":""},null,null,null,null,null,{"$f":"IF(ISBLANK(Risque[[#This Row],[Catégorie de risque]]),\"\",CONCATENATE(Risque[[#This Row],[Catégorie de risque]],3))","v":""},null,null,null,{"$f":"IF(ISBLANK(Risque[[#This Row],[Catégorie de risque]]),\"\",CONCATENATE(Risque[[#This Row],[Catégorie de risque]],4))","v":""},null,null,null,null,null,{"$f":"IF(Risque[[#This Row],[Date d''inscription du risque]]<>\"\",YEAR(Risque[[#This Row],[Date d''inscription du risque]]),\"\")","v":""}]
[null,null,{"$f":"IF(ISBLANK(Risque[[#This Row],[Catégorie de risque]]),\"\",CONCATENATE(Risque[[#This Row],[Catégorie de risque]],1))","v":""},null,null,null,null,null,{"$f":"IF(ISBLANK(Risque[[#This Row],[Catégorie de risque]]),\"\",IF(OR(ISNUMBER(SEARCH(\"RZ\",Risque[[#This Row],[Source de danger]]))=TRUE,ISNUMBER(SEARCH(\"RP\",Risque[[#This Row],[Source de danger]]))=TRUE,ISNUMBER(SEARCH(\"RZ\",Risque[[#This Row],[Risques associés]]))=TRUE,ISNUMBER(SEARCH(\"RP\",Risque[[#This Row],[Risques associés]]))=TRUE,ISNUMBER(SEARCH(\"RZ\",Risque[[#This Row],[Précision du risque\n(si liste déroulante présente)]]))=TRUE,ISNUMBER(SEARCH(\"RP\",Risque[[#This Row],[Précision du risque\n(si liste déroulante présente)]]))=TRUE),\"Oui --> Priorité d'action\",\"Non\"))","v":""},null,null,null,null,{"$f":"IF(ISBLANK(Risque[[#This Row],[Catégorie de risque]]),\"\",CONCATENATE(Risque[[#This Row],[Catégorie de risque]],2))","v":""},null,{"$f":"IF(ISBLANK(Risque[[#This Row],[Moyens de prévention]]),\"\",CONCATENATE(Risque[[#This Row],[Moyens de prévention]],1))","v":""},null,null,null,null,null,{"$f":"IF(ISBLANK(Risque[[#This Row],[Catégorie de risque]]),\"\",CONCATENATE(Risque[[#This Row],[Catégorie de risque]],3))","v":""},null,null,null,{"$f":"IF(ISBLANK(Risque[[#This Row],[Catégorie de risque]]),\"\",CONCATENATE(Risque[[#This Row],[Catégorie de risque]],4))","v":""},null,null,null,null,null,{"$f":"IF(Risque[[#This Row],[Date d''inscription du risque]]<>\"\",YEAR(Risque[[#This Row],[Date d''inscription du risque]]),\"\")","v":""}]
[null,null,{"$f":"IF(ISBLANK(Risque[[#This Row],[Catégorie de risque]]),\"\",CONCATENATE(Risque[[#This Row],[Catégorie de risque]],1))","v":""},null,null,null,null,null,{"$f":"IF(ISBLANK(Risque[[#This Row],[Catégorie de risque]]),\"\",IF(OR(ISNUMBER(SEARCH(\"RZ\",Risque[[#This Row],[Source de danger]]))=TRUE,ISNUMBER(SEARCH(\"RP\",Risque[[#This Row],[Source de danger]]))=TRUE,ISNUMBER(SEARCH(\"RZ\",Risque[[#This Row],[Risques associés]]))=TRUE,ISNUMBER(SEARCH(\"RP\",Risque[[#This Row],[Risques associés]]))=TRUE,ISNUMBER(SEARCH(\"RZ\",Risque[[#This Row],[Précision du risque\n(si liste déroulante présente)]]))=TRUE,ISNUMBER(SEARCH(\"RP\",Risque[[#This Row],[Précision du risque\n(si liste déroulante présente)]]))=TRUE),\"Oui --> Priorité d'action\",\"Non\"))","v":""},null,null,null,null,{"$f":"IF(ISBLANK(Risque[[#This Row],[Catégorie de risque]]),\"\",CONCATENATE(Risque[[#This Row],[Catégorie de risque]],2))","v":""},null,{"$f":"IF(ISBLANK(Risque[[#This Row],[Moyens de prévention]]),\"\",CONCATENATE(Risque[[#This Row],[Moyens de prévention]],1))","v":""},null,null,null,null,null,{"$f":"IF(ISBLANK(Risque[[#This Row],[Catégorie de risque]]),\"\",CONCATENATE(Risque[[#This Row],[Catégorie de risque]],3))","v":""},null,null,null,{"$f":"IF(ISBLANK(Risque[[#This Row],[Catégorie de risque]]),\"\",CONCATENATE(Risque[[#This Row],[Catégorie de risque]],4))","v":""},null,null,null,null,null,{"$f":"IF(Risque[[#This Row],[Date d''inscription du risque]]<>\"\",YEAR(Risque[[#This Row],[Date d''inscription du risque]]),\"\")","v":""}]
[null,null,{"$f":"IF(ISBLANK(Risque[[#This Row],[Catégorie de risque]]),\"\",CONCATENATE(Risque[[#This Row],[Catégorie de risque]],1))","v":""},null,null,null,null,null,{"$f":"IF(ISBLANK(Risque[[#This Row],[Catégorie de risque]]),\"\",IF(OR(ISNUMBER(SEARCH(\"RZ\",Risque[[#This Row],[Source de danger]]))=TRUE,ISNUMBER(SEARCH(\"RP\",Risque[[#This Row],[Source de danger]]))=TRUE,ISNUMBER(SEARCH(\"RZ\",Risque[[#This Row],[Risques associés]]))=TRUE,ISNUMBER(SEARCH(\"RP\",Risque[[#This Row],[Risques associés]]))=TRUE,ISNUMBER(SEARCH(\"RZ\",Risque[[#This Row],[Précision du risque\n(si liste déroulante présente)]]))=TRUE,ISNUMBER(SEARCH(\"RP\",Risque[[#This Row],[Précision du risque\n(si liste déroulante présente)]]))=TRUE),\"Oui --> Priorité d'action\",\"Non\"))","v":""},null,null,null,null,{"$f":"IF(ISBLANK(Risque[[#This Row],[Catégorie de risque]]),\"\",CONCATENATE(Risque[[#This Row],[Catégorie de risque]],2))","v":""},null,{"$f":"IF(ISBLANK(Risque[[#This Row],[Moyens de prévention]]),\"\",CONCATENATE(Risque[[#This Row],[Moyens de prévention]],1))","v":""},null,null,null,null,null,{"$f":"IF(ISBLANK(Risque[[#This Row],[Catégorie de risque]]),\"\",CONCATENATE(Risque[[#This Row],[Catégorie de risque]],3))","v":""},null,null,null,{"$f":"IF(ISBLANK(Risque[[#This Row],[Catégorie de risque]]),\"\",CONCATENATE(Risque[[#This Row],[Catégorie de risque]],4))","v":""},null,null,null,null,null,{"$f":"IF(Risque[[#This Row],[Date d''inscription du risque]]<>\"\",YEAR(Risque[[#This Row],[Date d''inscription du risque]]),\"\")","v":""}]
[null,null,{"$f":"IF(ISBLANK(Risque[[#This Row],[Catégorie de risque]]),\"\",CONCATENATE(Risque[[#This Row],[Catégorie de risque]],1))","v":""},null,null,null,null,null,{"$f":"IF(ISBLANK(Risque[[#This Row],[Catégorie de risque]]),\"\",IF(OR(ISNUMBER(SEARCH(\"RZ\",Risque[[#This Row],[Source de danger]]))=TRUE,ISNUMBER(SEARCH(\"RP\",Risque[[#This Row],[Source de danger]]))=TRUE,ISNUMBER(SEARCH(\"RZ\",Risque[[#This Row],[Risques associés]]))=TRUE,ISNUMBER(SEARCH(\"RP\",Risque[[#This Row],[Risques associés]]))=TRUE,ISNUMBER(SEARCH(\"RZ\",Risque[[#This Row],[Précision du risque\n(si liste déroulante présente)]]))=TRUE,ISNUMBER(SEARCH(\"RP\",Risque[[#This Row],[Précision du risque\n(si liste déroulante présente)]]))=TRUE),\"Oui --> Priorité d'action\",\"Non\"))","v":""},null,null,null,null,{"$f":"IF(ISBLANK(Risque[[#This Row],[Catégorie de risque]]),\"\",CONCATENATE(Risque[[#This Row],[Catégorie de risque]],2))","v":""},null,{"$f":"IF(ISBLANK(Risque[[#This Row],[Moyens de prévention]]),\"\",CONCATENATE(Risque[[#This Row],[Moyens de prévention]],1))","v":""},null,null,null,null,null,{"$f":"IF(ISBLANK(Risque[[#This Row],[Catégorie de risque]]),\"\",CONCATENATE(Risque[[#This Row],[Catégorie de risque]],3))","v":""},null,null,null,{"$f":"IF(ISBLANK(Risque[[#This Row],[Catégorie de risque]]),\"\",CONCATENATE(Risque[[#This Row],[Catégorie de risque]],4))","v":""},null,null,null,null,null,{"$f":"IF(Risque[[#This Row],[Date d''inscription du risque]]<>\"\",YEAR(Risque[[#This Row],[Date d''inscription du risque]]),\"\")","v":""}]
[null,null,{"$f":"IF(ISBLANK(Risque[[#This Row],[Catégorie de risque]]),\"\",CONCATENATE(Risque[[#This Row],[Catégorie de risque]],1))","v":""},null,null,null,null,null,{"$f":"IF(ISBLANK(Risque[[#This Row],[Catégorie de risque]]),\"\",IF(OR(ISNUMBER(SEARCH(\"RZ\",Risque[[#This Row],[Source de danger]]))=TRUE,ISNUMBER(SEARCH(\"RP\",Risque[[#This Row],[Source de danger]]))=TRUE,ISNUMBER(SEARCH(\"RZ\",Risque[[#This Row],[Risques associés]]))=TRUE,ISNUMBER(SEARCH(\"RP\",Risque[[#This Row],[Risques associés]]))=TRUE,ISNUMBER(SEARCH(\"RZ\",Risque[[#This Row],[Précision du risque\n(si liste déroulante présente)]]))=TRUE,ISNUMBER(SEARCH(\"RP\",Risque[[#This Row],[Précision du risque\n(si liste déroulante présente)]]))=TRUE),\"Oui --> Priorité d'action\",\"Non\"))","v":""},null,null,null,null,{"$f":"IF(ISBLANK(Risque[[#This Row],[Catégorie de risque]]),\"\",CONCATENATE(Risque[[#This Row],[Catégorie de risque]],2))","v":""},null,{"$f":"IF(ISBLANK(Risque[[#This Row],[Moyens de prévention]]),\"\",CONCATENATE(Risque[[#This Row],[Moyens de prévention]],1))","v":""},null,null,null,null,null,{"$f":"IF(ISBLANK(Risque[[#This Row],[Catégorie de risque]]),\"\",CONCATENATE(Risque[[#This Row],[Catégorie de risque]],3))","v":""},null,null,null,{"$f":"IF(ISBLANK(Risque[[#This Row],[Catégorie de risque]]),\"\",CONCATENATE(Risque[[#This Row],[Catégorie de risque]],4))","v":""},null,null,null,null,null,{"$f":"IF(Risque[[#This Row],[Date d''inscription du risque]]<>\"\",YEAR(Risque[[#This Row],[Date d''inscription du risque]]),\"\")","v":""}]
[null,null,{"$f":"IF(ISBLANK(Risque[[#This Row],[Catégorie de risque]]),\"\",CONCATENATE(Risque[[#This Row],[Catégorie de risque]],1))","v":""},null,null,null,null,null,{"$f":"IF(ISBLANK(Risque[[#This Row],[Catégorie de risque]]),\"\",IF(OR(ISNUMBER(SEARCH(\"RZ\",Risque[[#This Row],[Source de danger]]))=TRUE,ISNUMBER(SEARCH(\"RP\",Risque[[#This Row],[Source de danger]]))=TRUE,ISNUMBER(SEARCH(\"RZ\",Risque[[#This Row],[Risques associés]]))=TRUE,ISNUMBER(SEARCH(\"RP\",Risque[[#This Row],[Risques associés]]))=TRUE,ISNUMBER(SEARCH(\"RZ\",Risque[[#This Row],[Précision du risque\n(si liste déroulante présente)]]))=TRUE,ISNUMBER(SEARCH(\"RP\",Risque[[#This Row],[Précision du risque\n(si liste déroulante présente)]]))=TRUE),\"Oui --> Priorité d'action\",\"Non\"))","v":""},null,null,null,null,{"$f":"IF(ISBLANK(Risque[[#This Row],[Catégorie de risque]]),\"\",CONCATENATE(Risque[[#This Row],[Catégorie de risque]],2))","v":""},null,{"$f":"IF(ISBLANK(Risque[[#This Row],[Moyens de prévention]]),\"\",CONCATENATE(Risque[[#This Row],[Moyens de prévention]],1))","v":""},null,null,null,null,null,{"$f":"IF(ISBLANK(Risque[[#This Row],[Catégorie de risque]]),\"\",CONCATENATE(Risque[[#This Row],[Catégorie de risque]],3))","v":""},null,null,null,{"$f":"IF(ISBLANK(Risque[[#This Row],[Catégorie de risque]]),\"\",CONCATENATE(Risque[[#This Row],[Catégorie de risque]],4))","v":""},null,null,null,null,null,{"$f":"IF(Risque[[#This Row],[Date d''inscription du risque]]<>\"\",YEAR(Risque[[#This Row],[Date d''inscription du risque]]),\"\")","v":""}]
[null,null,{"$f":"IF(ISBLANK(Risque[[#This Row],[Catégorie de risque]]),\"\",CONCATENATE(Risque[[#This Row],[Catégorie de risque]],1))","v":""},null,null,null,null,null,{"$f":"IF(ISBLANK(Risque[[#This Row],[Catégorie de risque]]),\"\",IF(OR(ISNUMBER(SEARCH(\"RZ\",Risque[[#This Row],[Source de danger]]))=TRUE,ISNUMBER(SEARCH(\"RP\",Risque[[#This Row],[Source de danger]]))=TRUE,ISNUMBER(SEARCH(\"RZ\",Risque[[#This Row],[Risques associés]]))=TRUE,ISNUMBER(SEARCH(\"RP\",Risque[[#This Row],[Risques associés]]))=TRUE,ISNUMBER(SEARCH(\"RZ\",Risque[[#This Row],[Précision du risque\n(si liste déroulante présente)]]))=TRUE,ISNUMBER(SEARCH(\"RP\",Risque[[#This Row],[Précision du risque\n(si liste déroulante présente)]]))=TRUE),\"Oui --> Priorité d'action\",\"Non\"))","v":""},null,null,null,null,{"$f":"IF(ISBLANK(Risque[[#This Row],[Catégorie de risque]]),\"\",CONCATENATE(Risque[[#This Row],[Catégorie de risque]],2))","v":""},null,{"$f":"IF(ISBLANK(Risque[[#This Row],[Moyens de prévention]]),\"\",CONCATENATE(Risque[[#This Row],[Moyens de prévention]],1))","v":""},null,null,null,null,null,{"$f":"IF(ISBLANK(Risque[[#This Row],[Catégorie de risque]]),\"\",CONCATENATE(Risque[[#This Row],[Catégorie de risque]],3))","v":""},null,null,null,{"$f":"IF(ISBLANK(Risque[[#This Row],[Catégorie de risque]]),\"\",CONCATENATE(Risque[[#This Row],[Catégorie de risque]],4))","v":""},null,null,null,null,null,{"$f":"IF(Risque[[#This Row],[Date d''inscription du risque]]<>\"\",YEAR(Risque[[#This Row],[Date d''inscription du risque]]),\"\")","v":""}]
[null,null,{"$f":"IF(ISBLANK(Risque[[#This Row],[Catégorie de risque]]),\"\",CONCATENATE(Risque[[#This Row],[Catégorie de risque]],1))","v":""},null,null,null,null,null,{"$f":"IF(ISBLANK(Risque[[#This Row],[Catégorie de risque]]),\"\",IF(OR(ISNUMBER(SEARCH(\"RZ\",Risque[[#This Row],[Source de danger]]))=TRUE,ISNUMBER(SEARCH(\"RP\",Risque[[#This Row],[Source de danger]]))=TRUE,ISNUMBER(SEARCH(\"RZ\",Risque[[#This Row],[Risques associés]]))=TRUE,ISNUMBER(SEARCH(\"RP\",Risque[[#This Row],[Risques associés]]))=TRUE,ISNUMBER(SEARCH(\"RZ\",Risque[[#This Row],[Précision du risque\n(si liste déroulante présente)]]))=TRUE,ISNUMBER(SEARCH(\"RP\",Risque[[#This Row],[Précision du risque\n(si liste déroulante présente)]]))=TRUE),\"Oui --> Priorité d'action\",\"Non\"))","v":""},null,null,null,null,{"$f":"IF(ISBLANK(Risque[[#This Row],[Catégorie de risque]]),\"\",CONCATENATE(Risque[[#This Row],[Catégorie de risque]],2))","v":""},null,{"$f":"IF(ISBLANK(Risque[[#This Row],[Moyens de prévention]]),\"\",CONCATENATE(Risque[[#This Row],[Moyens de prévention]],1))","v":""},null,null,null,null,null,{"$f":"IF(ISBLANK(Risque[[#This Row],[Catégorie de risque]]),\"\",CONCATENATE(Risque[[#This Row],[Catégorie de risque]],3))","v":""},null,null,null,{"$f":"IF(ISBLANK(Risque[[#This Row],[Catégorie de risque]]),\"\",CONCATENATE(Risque[[#This Row],[Catégorie de risque]],4))","v":""},null,null,null,null,null,{"$f":"IF(Risque[[#This Row],[Date d''inscription du risque]]<>\"\",YEAR(Risque[[#This Row],[Date d''inscription du risque]]),\"\")","v":""}]
[null,null,{"$f":"IF(ISBLANK(Risque[[#This Row],[Catégorie de risque]]),\"\",CONCATENATE(Risque[[#This Row],[Catégorie de risque]],1))","v":""},null,null,null,null,null,{"$f":"IF(ISBLANK(Risque[[#This Row],[Catégorie de risque]]),\"\",IF(OR(ISNUMBER(SEARCH(\"RZ\",Risque[[#This Row],[Source de danger]]))=TRUE,ISNUMBER(SEARCH(\"RP\",Risque[[#This Row],[Source de danger]]))=TRUE,ISNUMBER(SEARCH(\"RZ\",Risque[[#This Row],[Risques associés]]))=TRUE,ISNUMBER(SEARCH(\"RP\",Risque[[#This Row],[Risques associés]]))=TRUE,ISNUMBER(SEARCH(\"RZ\",Risque[[#This Row],[Précision du risque\n(si liste déroulante présente)]]))=TRUE,ISNUMBER(SEARCH(\"RP\",Risque[[#This Row],[Précision du risque\n(si liste déroulante présente)]]))=TRUE),\"Oui --> Priorité d'action\",\"Non\"))","v":""},null,null,null,null,{"$f":"IF(ISBLANK(Risque[[#This Row],[Catégorie de risque]]),\"\",CONCATENATE(Risque[[#This Row],[Catégorie de risque]],2))","v":""},null,{"$f":"IF(ISBLANK(Risque[[#This Row],[Moyens de prévention]]),\"\",CONCATENATE(Risque[[#This Row],[Moyens de prévention]],1))","v":""},null,null,null,null,null,{"$f":"IF(ISBLANK(Risque[[#This Row],[Catégorie de risque]]),\"\",CONCATENATE(Risque[[#This Row],[Catégorie de risque]],3))","v":""},null,null,null,{"$f":"IF(ISBLANK(Risque[[#This Row],[Catégorie de risque]]),\"\",CONCATENATE(Risque[[#This Row],[Catégorie de risque]],4))","v":""},null,null,null,null,null,{"$f":"IF(Risque[[#This Row],[Date d''inscription du risque]]<>\"\",YEAR(Risque[[#This Row],[Date d''inscription du risque]]),\"\")","v":""}]
[null,null,{"$f":"IF(ISBLANK(Risque[[#This Row],[Catégorie de risque]]),\"\",CONCATENATE(Risque[[#This Row],[Catégorie de risque]],1))","v":""},null,null,null,null,null,{"$f":"IF(ISBLANK(Risque[[#This Row],[Catégorie de risque]]),\"\",IF(OR(ISNUMBER(SEARCH(\"RZ\",Risque[[#This Row],[Source de danger]]))=TRUE,ISNUMBER(SEARCH(\"RP\",Risque[[#This Row],[Source de danger]]))=TRUE,ISNUMBER(SEARCH(\"RZ\",Risque[[#This Row],[Risques associés]]))=TRUE,ISNUMBER(SEARCH(\"RP\",Risque[[#This Row],[Risques associés]]))=TRUE,ISNUMBER(SEARCH(\"RZ\",Risque[[#This Row],[Précision du risque\n(si liste déroulante présente)]]))=TRUE,ISNUMBER(SEARCH(\"RP\",Risque[[#This Row],[Précision du risque\n(si liste déroulante présente)]]))=TRUE),\"Oui --> Priorité d'action\",\"Non\"))","v":""},null,null,null,null,{"$f":"IF(ISBLANK(Risque[[#This Row],[Catégorie de risque]]),\"\",CONCATENATE(Risque[[#This Row],[Catégorie de risque]],2))","v":""},null,{"$f":"IF(ISBLANK(Risque[[#This Row],[Moyens de prévention]]),\"\",CONCATENATE(Risque[[#This Row],[Moyens de prévention]],1))","v":""},null,null,null,null,null,{"$f":"IF(ISBLANK(Risque[[#This Row],[Catégorie de risque]]),\"\",CONCATENATE(Risque[[#This Row],[Catégorie de risque]],3))","v":""},null,null,null,{"$f":"IF(ISBLANK(Risque[[#This Row],[Catégorie de risque]]),\"\",CONCATENATE(Risque[[#This Row],[Catégorie de risque]],4))","v":""},null,null,null,null,null,{"$f":"IF(Risque[[#This Row],[Date d''inscription du risque]]<>\"\",YEAR(Risque[[#This Row],[Date d''inscription du risque]]),\"\")","v":""}]
[null,null,{"$f":"IF(ISBLANK(Risque[[#This Row],[Catégorie de risque]]),\"\",CONCATENATE(Risque[[#This Row],[Catégorie de risque]],1))","v":""},null,null,null,null,null,{"$f":"IF(ISBLANK(Risque[[#This Row],[Catégorie de risque]]),\"\",IF(OR(ISNUMBER(SEARCH(\"RZ\",Risque[[#This Row],[Source de danger]]))=TRUE,ISNUMBER(SEARCH(\"RP\",Risque[[#This Row],[Source de danger]]))=TRUE,ISNUMBER(SEARCH(\"RZ\",Risque[[#This Row],[Risques associés]]))=TRUE,ISNUMBER(SEARCH(\"RP\",Risque[[#This Row],[Risques associés]]))=TRUE,ISNUMBER(SEARCH(\"RZ\",Risque[[#This Row],[Précision du risque\n(si liste déroulante présente)]]))=TRUE,ISNUMBER(SEARCH(\"RP\",Risque[[#This Row],[Précision du risque\n(si liste déroulante présente)]]))=TRUE),\"Oui --> Priorité d'action\",\"Non\"))","v":""},null,null,null,null,{"$f":"IF(ISBLANK(Risque[[#This Row],[Catégorie de risque]]),\"\",CONCATENATE(Risque[[#This Row],[Catégorie de risque]],2))","v":""},null,{"$f":"IF(ISBLANK(Risque[[#This Row],[Moyens de prévention]]),\"\",CONCATENATE(Risque[[#This Row],[Moyens de prévention]],1))","v":""},null,null,null,null,null,{"$f":"IF(ISBLANK(Risque[[#This Row],[Catégorie de risque]]),\"\",CONCATENATE(Risque[[#This Row],[Catégorie de risque]],3))","v":""},null,null,null,{"$f":"IF(ISBLANK(Risque[[#This Row],[Catégorie de risque]]),\"\",CONCATENATE(Risque[[#This Row],[Catégorie de risque]],4))","v":""},null,null,null,null,null,{"$f":"IF(Risque[[#This Row],[Date d''inscription du risque]]<>\"\",YEAR(Risque[[#This Row],[Date d''inscription du risque]]),\"\")","v":""}]
[null,null,{"$f":"IF(ISBLANK(Risque[[#This Row],[Catégorie de risque]]),\"\",CONCATENATE(Risque[[#This Row],[Catégorie de risque]],1))","v":""},null,null,null,null,null,{"$f":"IF(ISBLANK(Risque[[#This Row],[Catégorie de risque]]),\"\",IF(OR(ISNUMBER(SEARCH(\"RZ\",Risque[[#This Row],[Source de danger]]))=TRUE,ISNUMBER(SEARCH(\"RP\",Risque[[#This Row],[Source de danger]]))=TRUE,ISNUMBER(SEARCH(\"RZ\",Risque[[#This Row],[Risques associés]]))=TRUE,ISNUMBER(SEARCH(\"RP\",Risque[[#This Row],[Risques associés]]))=TRUE,ISNUMBER(SEARCH(\"RZ\",Risque[[#This Row],[Précision du risque\n(si liste déroulante présente)]]))=TRUE,ISNUMBER(SEARCH(\"RP\",Risque[[#This Row],[Précision du risque\n(si liste déroulante présente)]]))=TRUE),\"Oui --> Priorité d'action\",\"Non\"))","v":""},null,null,null,null,{"$f":"IF(ISBLANK(Risque[[#This Row],[Catégorie de risque]]),\"\",CONCATENATE(Risque[[#This Row],[Catégorie de risque]],2))","v":""},null,{"$f":"IF(ISBLANK(Risque[[#This Row],[Moyens de prévention]]),\"\",CONCATENATE(Risque[[#This Row],[Moyens de prévention]],1))","v":""},null,null,null,null,null,{"$f":"IF(ISBLANK(Risque[[#This Row],[Catégorie de risque]]),\"\",CONCATENATE(Risque[[#This Row],[Catégorie de risque]],3))","v":""},null,null,null,{"$f":"IF(ISBLANK(Risque[[#This Row],[Catégorie de risque]]),\"\",CONCATENATE(Risque[[#This Row],[Catégorie de risque]],4))","v":""},null,null,null,null,null,{"$f":"IF(Risque[[#This Row],[Date d''inscription du risque]]<>\"\",YEAR(Risque[[#This Row],[Date d''inscription du risque]]),\"\")","v":""}]
[null,null,{"$f":"IF(ISBLANK(Risque[[#This Row],[Catégorie de risque]]),\"\",CONCATENATE(Risque[[#This Row],[Catégorie de risque]],1))","v":""},null,null,null,null,null,{"$f":"IF(ISBLANK(Risque[[#This Row],[Catégorie de risque]]),\"\",IF(OR(ISNUMBER(SEARCH(\"RZ\",Risque[[#This Row],[Source de danger]]))=TRUE,ISNUMBER(SEARCH(\"RP\",Risque[[#This Row],[Source de danger]]))=TRUE,ISNUMBER(SEARCH(\"RZ\",Risque[[#This Row],[Risques associés]]))=TRUE,ISNUMBER(SEARCH(\"RP\",Risque[[#This Row],[Risques associés]]))=TRUE,ISNUMBER(SEARCH(\"RZ\",Risque[[#This Row],[Précision du risque\n(si liste déroulante présente)]]))=TRUE,ISNUMBER(SEARCH(\"RP\",Risque[[#This Row],[Précision du risque\n(si liste déroulante présente)]]))=TRUE),\"Oui --> Priorité d'action\",\"Non\"))","v":""},null,null,null,null,{"$f":"IF(ISBLANK(Risque[[#This Row],[Catégorie de risque]]),\"\",CONCATENATE(Risque[[#This Row],[Catégorie de risque]],2))","v":""},null,{"$f":"IF(ISBLANK(Risque[[#This Row],[Moyens de prévention]]),\"\",CONCATENATE(Risque[[#This Row],[Moyens de prévention]],1))","v":""},null,null,null,null,null,{"$f":"IF(ISBLANK(Risque[[#This Row],[Catégorie de risque]]),\"\",CONCATENATE(Risque[[#This Row],[Catégorie de risque]],3))","v":""},null,null,null,{"$f":"IF(ISBLANK(Risque[[#This Row],[Catégorie de risque]]),\"\",CONCATENATE(Risque[[#This Row],[Catégorie de risque]],4))","v":""},null,null,null,null,null,{"$f":"IF(Risque[[#This Row],[Date d''inscription du risque]]<>\"\",YEAR(Risque[[#This Row],[Date d''inscription du risque]]),\"\")","v":""}]
[null,null,{"$f":"IF(ISBLANK(Risque[[#This Row],[Catégorie de risque]]),\"\",CONCATENATE(Risque[[#This Row],[Catégorie de risque]],1))","v":""},null,null,null,null,null,{"$f":"IF(ISBLANK(Risque[[#This Row],[Catégorie de risque]]),\"\",IF(OR(ISNUMBER(SEARCH(\"RZ\",Risque[[#This Row],[Source de danger]]))=TRUE,ISNUMBER(SEARCH(\"RP\",Risque[[#This Row],[Source de danger]]))=TRUE,ISNUMBER(SEARCH(\"RZ\",Risque[[#This Row],[Risques associés]]))=TRUE,ISNUMBER(SEARCH(\"RP\",Risque[[#This Row],[Risques associés]]))=TRUE,ISNUMBER(SEARCH(\"RZ\",Risque[[#This Row],[Précision du risque\n(si liste déroulante présente)]]))=TRUE,ISNUMBER(SEARCH(\"RP\",Risque[[#This Row],[Précision du risque\n(si liste déroulante présente)]]))=TRUE),\"Oui --> Priorité d'action\",\"Non\"))","v":""},null,null,null,null,{"$f":"IF(ISBLANK(Risque[[#This Row],[Catégorie de risque]]),\"\",CONCATENATE(Risque[[#This Row],[Catégorie de risque]],2))","v":""},null,{"$f":"IF(ISBLANK(Risque[[#This Row],[Moyens de prévention]]),\"\",CONCATENATE(Risque[[#This Row],[Moyens de prévention]],1))","v":""},null,null,null,null,null,{"$f":"IF(ISBLANK(Risque[[#This Row],[Catégorie de risque]]),\"\",CONCATENATE(Risque[[#This Row],[Catégorie de risque]],3))","v":""},null,null,null,{"$f":"IF(ISBLANK(Risque[[#This Row],[Catégorie de risque]]),\"\",CONCATENATE(Risque[[#This Row],[Catégorie de risque]],4))","v":""},null,null,null,null,null,{"$f":"IF(Risque[[#This Row],[Date d''inscription du risque]]<>\"\",YEAR(Risque[[#This Row],[Date d''inscription du risque]]),\"\")","v":""}]
[null,null,{"$f":"IF(ISBLANK(Risque[[#This Row],[Catégorie de risque]]),\"\",CONCATENATE(Risque[[#This Row],[Catégorie de risque]],1))","v":""},null,null,null,null,null,{"$f":"IF(ISBLANK(Risque[[#This Row],[Catégorie de risque]]),\"\",IF(OR(ISNUMBER(SEARCH(\"RZ\",Risque[[#This Row],[Source de danger]]))=TRUE,ISNUMBER(SEARCH(\"RP\",Risque[[#This Row],[Source de danger]]))=TRUE,ISNUMBER(SEARCH(\"RZ\",Risque[[#This Row],[Risques associés]]))=TRUE,ISNUMBER(SEARCH(\"RP\",Risque[[#This Row],[Risques associés]]))=TRUE,ISNUMBER(SEARCH(\"RZ\",Risque[[#This Row],[Précision du risque\n(si liste déroulante présente)]]))=TRUE,ISNUMBER(SEARCH(\"RP\",Risque[[#This Row],[Précision du risque\n(si liste déroulante présente)]]))=TRUE),\"Oui --> Priorité d'action\",\"Non\"))","v":""},null,null,null,null,{"$f":"IF(ISBLANK(Risque[[#This Row],[Catégorie de risque]]),\"\",CONCATENATE(Risque[[#This Row],[Catégorie de risque]],2))","v":""},null,{"$f":"IF(ISBLANK(Risque[[#This Row],[Moyens de prévention]]),\"\",CONCATENATE(Risque[[#This Row],[Moyens de prévention]],1))","v":""},null,null,null,null,null,{"$f":"IF(ISBLANK(Risque[[#This Row],[Catégorie de risque]]),\"\",CONCATENATE(Risque[[#This Row],[Catégorie de risque]],3))","v":""},null,null,null,{"$f":"IF(ISBLANK(Risque[[#This Row],[Catégorie de risque]]),\"\",CONCATENATE(Risque[[#This Row],[Catégorie de risque]],4))","v":""},null,null,null,null,null,{"$f":"IF(Risque[[#This Row],[Date d''inscription du risque]]<>\"\",YEAR(Risque[[#This Row],[Date d''inscription du risque]]),\"\")","v":""}]
[null,null,{"$f":"IF(ISBLANK(Risque[[#This Row],[Catégorie de risque]]),\"\",CONCATENATE(Risque[[#This Row],[Catégorie de risque]],1))","v":""},null,null,null,null,null,{"$f":"IF(ISBLANK(Risque[[#This Row],[Catégorie de risque]]),\"\",IF(OR(ISNUMBER(SEARCH(\"RZ\",Risque[[#This Row],[Source de danger]]))=TRUE,ISNUMBER(SEARCH(\"RP\",Risque[[#This Row],[Source de danger]]))=TRUE,ISNUMBER(SEARCH(\"RZ\",Risque[[#This Row],[Risques associés]]))=TRUE,ISNUMBER(SEARCH(\"RP\",Risque[[#This Row],[Risques associés]]))=TRUE,ISNUMBER(SEARCH(\"RZ\",Risque[[#This Row],[Précision du risque\n(si liste déroulante présente)]]))=TRUE,ISNUMBER(SEARCH(\"RP\",Risque[[#This Row],[Précision du risque\n(si liste déroulante présente)]]))=TRUE),\"Oui --> Priorité d'action\",\"Non\"))","v":""},null,null,null,null,{"$f":"IF(ISBLANK(Risque[[#This Row],[Catégorie de risque]]),\"\",CONCATENATE(Risque[[#This Row],[Catégorie de risque]],2))","v":""},null,{"$f":"IF(ISBLANK(Risque[[#This Row],[Moyens de prévention]]),\"\",CONCATENATE(Risque[[#This Row],[Moyens de prévention]],1))","v":""},null,null,null,null,null,{"$f":"IF(ISBLANK(Risque[[#This Row],[Catégorie de risque]]),\"\",CONCATENATE(Risque[[#This Row],[Catégorie de risque]],3))","v":""},null,null,null,{"$f":"IF(ISBLANK(Risque[[#This Row],[Catégorie de risque]]),\"\",CONCATENATE(Risque[[#This Row],[Catégorie de risque]],4))","v":""},null,null,null,null,null,{"$f":"IF(Risque[[#This Row],[Date d''inscription du risque]]<>\"\",YEAR(Risque[[#This Row],[Date d''inscription du risque]]),\"\")","v":""}]
[null,null,{"$f":"IF(ISBLANK(Risque[[#This Row],[Catégorie de risque]]),\"\",CONCATENATE(Risque[[#This Row],[Catégorie de risque]],1))","v":""},null,null,null,null,null,{"$f":"IF(ISBLANK(Risque[[#This Row],[Catégorie de risque]]),\"\",IF(OR(ISNUMBER(SEARCH(\"RZ\",Risque[[#This Row],[Source de danger]]))=TRUE,ISNUMBER(SEARCH(\"RP\",Risque[[#This Row],[Source de danger]]))=TRUE,ISNUMBER(SEARCH(\"RZ\",Risque[[#This Row],[Risques associés]]))=TRUE,ISNUMBER(SEARCH(\"RP\",Risque[[#This Row],[Risques associés]]))=TRUE,ISNUMBER(SEARCH(\"RZ\",Risque[[#This Row],[Précision du risque\n(si liste déroulante présente)]]))=TRUE,ISNUMBER(SEARCH(\"RP\",Risque[[#This Row],[Précision du risque\n(si liste déroulante présente)]]))=TRUE),\"Oui --> Priorité d'action\",\"Non\"))","v":""},null,null,null,null,{"$f":"IF(ISBLANK(Risque[[#This Row],[Catégorie de risque]]),\"\",CONCATENATE(Risque[[#This Row],[Catégorie de risque]],2))","v":""},null,{"$f":"IF(ISBLANK(Risque[[#This Row],[Moyens de prévention]]),\"\",CONCATENATE(Risque[[#This Row],[Moyens de prévention]],1))","v":""},null,null,null,null,null,{"$f":"IF(ISBLANK(Risque[[#This Row],[Catégorie de risque]]),\"\",CONCATENATE(Risque[[#This Row],[Catégorie de risque]],3))","v":""},null,null,null,{"$f":"IF(ISBLANK(Risque[[#This Row],[Catégorie de risque]]),\"\",CONCATENATE(Risque[[#This Row],[Catégorie de risque]],4))","v":""},null,null,null,null,null,{"$f":"IF(Risque[[#This Row],[Date d''inscription du risque]]<>\"\",YEAR(Risque[[#This Row],[Date d''inscription du risque]]),\"\")","v":""}]
[null,null,{"$f":"IF(ISBLANK(Risque[[#This Row],[Catégorie de risque]]),\"\",CONCATENATE(Risque[[#This Row],[Catégorie de risque]],1))","v":""},null,null,null,null,null,{"$f":"IF(ISBLANK(Risque[[#This Row],[Catégorie de risque]]),\"\",IF(OR(ISNUMBER(SEARCH(\"RZ\",Risque[[#This Row],[Source de danger]]))=TRUE,ISNUMBER(SEARCH(\"RP\",Risque[[#This Row],[Source de danger]]))=TRUE,ISNUMBER(SEARCH(\"RZ\",Risque[[#This Row],[Risques associés]]))=TRUE,ISNUMBER(SEARCH(\"RP\",Risque[[#This Row],[Risques associés]]))=TRUE,ISNUMBER(SEARCH(\"RZ\",Risque[[#This Row],[Précision du risque\n(si liste déroulante présente)]]))=TRUE,ISNUMBER(SEARCH(\"RP\",Risque[[#This Row],[Précision du risque\n(si liste déroulante présente)]]))=TRUE),\"Oui --> Priorité d'action\",\"Non\"))","v":""},null,null,null,null,{"$f":"IF(ISBLANK(Risque[[#This Row],[Catégorie de risque]]),\"\",CONCATENATE(Risque[[#This Row],[Catégorie de risque]],2))","v":""},null,{"$f":"IF(ISBLANK(Risque[[#This Row],[Moyens de prévention]]),\"\",CONCATENATE(Risque[[#This Row],[Moyens de prévention]],1))","v":""},null,null,null,null,null,{"$f":"IF(ISBLANK(Risque[[#This Row],[Catégorie de risque]]),\"\",CONCATENATE(Risque[[#This Row],[Catégorie de risque]],3))","v":""},null,null,null,{"$f":"IF(ISBLANK(Risque[[#This Row],[Catégorie de risque]]),\"\",CONCATENATE(Risque[[#This Row],[Catégorie de risque]],4))","v":""},null,null,null,null,null,{"$f":"IF(Risque[[#This Row],[Date d''inscription du risque]]<>\"\",YEAR(Risque[[#This Row],[Date d''inscription du risque]]),\"\")","v":""}]
[null,null,{"$f":"IF(ISBLANK(Risque[[#This Row],[Catégorie de risque]]),\"\",CONCATENATE(Risque[[#This Row],[Catégorie de risque]],1))","v":""},null,null,null,null,null,{"$f":"IF(ISBLANK(Risque[[#This Row],[Catégorie de risque]]),\"\",IF(OR(ISNUMBER(SEARCH(\"RZ\",Risque[[#This Row],[Source de danger]]))=TRUE,ISNUMBER(SEARCH(\"RP\",Risque[[#This Row],[Source de danger]]))=TRUE,ISNUMBER(SEARCH(\"RZ\",Risque[[#This Row],[Risques associés]]))=TRUE,ISNUMBER(SEARCH(\"RP\",Risque[[#This Row],[Risques associés]]))=TRUE,ISNUMBER(SEARCH(\"RZ\",Risque[[#This Row],[Précision du risque\n(si liste déroulante présente)]]))=TRUE,ISNUMBER(SEARCH(\"RP\",Risque[[#This Row],[Précision du risque\n(si liste déroulante présente)]]))=TRUE),\"Oui --> Priorité d'action\",\"Non\"))","v":""},null,null,null,null,{"$f":"IF(ISBLANK(Risque[[#This Row],[Catégorie de risque]]),\"\",CONCATENATE(Risque[[#This Row],[Catégorie de risque]],2))","v":""},null,{"$f":"IF(ISBLANK(Risque[[#This Row],[Moyens de prévention]]),\"\",CONCATENATE(Risque[[#This Row],[Moyens de prévention]],1))","v":""},null,null,null,null,null,{"$f":"IF(ISBLANK(Risque[[#This Row],[Catégorie de risque]]),\"\",CONCATENATE(Risque[[#This Row],[Catégorie de risque]],3))","v":""},null,null,null,{"$f":"IF(ISBLANK(Risque[[#This Row],[Catégorie de risque]]),\"\",CONCATENATE(Risque[[#This Row],[Catégorie de risque]],4))","v":""},null,null,null,null,null,{"$f":"IF(Risque[[#This Row],[Date d''inscription du risque]]<>\"\",YEAR(Risque[[#This Row],[Date d''inscription du risque]]),\"\")","v":""}]
[null,null,{"$f":"IF(ISBLANK(Risque[[#This Row],[Catégorie de risque]]),\"\",CONCATENATE(Risque[[#This Row],[Catégorie de risque]],1))","v":""},null,null,null,null,null,{"$f":"IF(ISBLANK(Risque[[#This Row],[Catégorie de risque]]),\"\",IF(OR(ISNUMBER(SEARCH(\"RZ\",Risque[[#This Row],[Source de danger]]))=TRUE,ISNUMBER(SEARCH(\"RP\",Risque[[#This Row],[Source de danger]]))=TRUE,ISNUMBER(SEARCH(\"RZ\",Risque[[#This Row],[Risques associés]]))=TRUE,ISNUMBER(SEARCH(\"RP\",Risque[[#This Row],[Risques associés]]))=TRUE,ISNUMBER(SEARCH(\"RZ\",Risque[[#This Row],[Précision du risque\n(si liste déroulante présente)]]))=TRUE,ISNUMBER(SEARCH(\"RP\",Risque[[#This Row],[Précision du risque\n(si liste déroulante présente)]]))=TRUE),\"Oui --> Priorité d'action\",\"Non\"))","v":""},null,null,null,null,{"$f":"IF(ISBLANK(Risque[[#This Row],[Catégorie de risque]]),\"\",CONCATENATE(Risque[[#This Row],[Catégorie de risque]],2))","v":""},null,{"$f":"IF(ISBLANK(Risque[[#This Row],[Moyens de prévention]]),\"\",CONCATENATE(Risque[[#This Row],[Moyens de prévention]],1))","v":""},null,null,null,null,null,{"$f":"IF(ISBLANK(Risque[[#This Row],[Catégorie de risque]]),\"\",CONCATENATE(Risque[[#This Row],[Catégorie de risque]],3))","v":""},null,null,null,{"$f":"IF(ISBLANK(Risque[[#This Row],[Catégorie de risque]]),\"\",CONCATENATE(Risque[[#This Row],[Catégorie de risque]],4))","v":""},null,null,null,null,null,{"$f":"IF(Risque[[#This Row],[Date d''inscription du risque]]<>\"\",YEAR(Risque[[#This Row],[Date d''inscription du risque]]),\"\")","v":""}]
[null,null,{"$f":"IF(ISBLANK(Risque[[#This Row],[Catégorie de risque]]),\"\",CONCATENATE(Risque[[#This Row],[Catégorie de risque]],1))","v":""},null,null,null,null,null,{"$f":"IF(ISBLANK(Risque[[#This Row],[Catégorie de risque]]),\"\",IF(OR(ISNUMBER(SEARCH(\"RZ\",Risque[[#This Row],[Source de danger]]))=TRUE,ISNUMBER(SEARCH(\"RP\",Risque[[#This Row],[Source de danger]]))=TRUE,ISNUMBER(SEARCH(\"RZ\",Risque[[#This Row],[Risques associés]]))=TRUE,ISNUMBER(SEARCH(\"RP\",Risque[[#This Row],[Risques associés]]))=TRUE,ISNUMBER(SEARCH(\"RZ\",Risque[[#This Row],[Précision du risque\n(si liste déroulante présente)]]))=TRUE,ISNUMBER(SEARCH(\"RP\",Risque[[#This Row],[Précision du risque\n(si liste déroulante présente)]]))=TRUE),\"Oui --> Priorité d'action\",\"Non\"))","v":""},null,null,null,null,{"$f":"IF(ISBLANK(Risque[[#This Row],[Catégorie de risque]]),\"\",CONCATENATE(Risque[[#This Row],[Catégorie de risque]],2))","v":""},null,{"$f":"IF(ISBLANK(Risque[[#This Row],[Moyens de prévention]]),\"\",CONCATENATE(Risque[[#This Row],[Moyens de prévention]],1))","v":""},null,null,null,null,null,{"$f":"IF(ISBLANK(Risque[[#This Row],[Catégorie de risque]]),\"\",CONCATENATE(Risque[[#This Row],[Catégorie de risque]],3))","v":""},null,null,null,{"$f":"IF(ISBLANK(Risque[[#This Row],[Catégorie de risque]]),\"\",CONCATENATE(Risque[[#This Row],[Catégorie de risque]],4))","v":""},null,null,null,null,null,{"$f":"IF(Risque[[#This Row],[Date d''inscription du risque]]<>\"\",YEAR(Risque[[#This Row],[Date d''inscription du risque]]),\"\")","v":""}]
[null,null,{"$f":"IF(ISBLANK(Risque[[#This Row],[Catégorie de risque]]),\"\",CONCATENATE(Risque[[#This Row],[Catégorie de risque]],1))","v":""},null,null,null,null,null,{"$f":"IF(ISBLANK(Risque[[#This Row],[Catégorie de risque]]),\"\",IF(OR(ISNUMBER(SEARCH(\"RZ\",Risque[[#This Row],[Source de danger]]))=TRUE,ISNUMBER(SEARCH(\"RP\",Risque[[#This Row],[Source de danger]]))=TRUE,ISNUMBER(SEARCH(\"RZ\",Risque[[#This Row],[Risques associés]]))=TRUE,ISNUMBER(SEARCH(\"RP\",Risque[[#This Row],[Risques associés]]))=TRUE,ISNUMBER(SEARCH(\"RZ\",Risque[[#This Row],[Précision du risque\n(si liste déroulante présente)]]))=TRUE,ISNUMBER(SEARCH(\"RP\",Risque[[#This Row],[Précision du risque\n(si liste déroulante présente)]]))=TRUE),\"Oui --> Priorité d'action\",\"Non\"))","v":""},null,null,null,null,{"$f":"IF(ISBLANK(Risque[[#This Row],[Catégorie de risque]]),\"\",CONCATENATE(Risque[[#This Row],[Catégorie de risque]],2))","v":""},null,{"$f":"IF(ISBLANK(Risque[[#This Row],[Moyens de prévention]]),\"\",CONCATENATE(Risque[[#This Row],[Moyens de prévention]],1))","v":""},null,null,null,null,null,{"$f":"IF(ISBLANK(Risque[[#This Row],[Catégorie de risque]]),\"\",CONCATENATE(Risque[[#This Row],[Catégorie de risque]],3))","v":""},null,null,null,{"$f":"IF(ISBLANK(Risque[[#This Row],[Catégorie de risque]]),\"\",CONCATENATE(Risque[[#This Row],[Catégorie de risque]],4))","v":""},null,null,null,null,null,{"$f":"IF(Risque[[#This Row],[Date d''inscription du risque]]<>\"\",YEAR(Risque[[#This Row],[Date d''inscription du risque]]),\"\")","v":""}]
[null,null,{"$f":"IF(ISBLANK(Risque[[#This Row],[Catégorie de risque]]),\"\",CONCATENATE(Risque[[#This Row],[Catégorie de risque]],1))","v":""},null,null,null,null,null,{"$f":"IF(ISBLANK(Risque[[#This Row],[Catégorie de risque]]),\"\",IF(OR(ISNUMBER(SEARCH(\"RZ\",Risque[[#This Row],[Source de danger]]))=TRUE,ISNUMBER(SEARCH(\"RP\",Risque[[#This Row],[Source de danger]]))=TRUE,ISNUMBER(SEARCH(\"RZ\",Risque[[#This Row],[Risques associés]]))=TRUE,ISNUMBER(SEARCH(\"RP\",Risque[[#This Row],[Risques associés]]))=TRUE,ISNUMBER(SEARCH(\"RZ\",Risque[[#This Row],[Précision du risque\n(si liste déroulante présente)]]))=TRUE,ISNUMBER(SEARCH(\"RP\",Risque[[#This Row],[Précision du risque\n(si liste déroulante présente)]]))=TRUE),\"Oui --> Priorité d'action\",\"Non\"))","v":""},null,null,null,null,{"$f":"IF(ISBLANK(Risque[[#This Row],[Catégorie de risque]]),\"\",CONCATENATE(Risque[[#This Row],[Catégorie de risque]],2))","v":""},null,{"$f":"IF(ISBLANK(Risque[[#This Row],[Moyens de prévention]]),\"\",CONCATENATE(Risque[[#This Row],[Moyens de prévention]],1))","v":""},null,null,null,null,null,{"$f":"IF(ISBLANK(Risque[[#This Row],[Catégorie de risque]]),\"\",CONCATENATE(Risque[[#This Row],[Catégorie de risque]],3))","v":""},null,null,null,{"$f":"IF(ISBLANK(Risque[[#This Row],[Catégorie de risque]]),\"\",CONCATENATE(Risque[[#This Row],[Catégorie de risque]],4))","v":""},null,null,null,null,null,{"$f":"IF(Risque[[#This Row],[Date d''inscription du risque]]<>\"\",YEAR(Risque[[#This Row],[Date d''inscription du risque]]),\"\")","v":""}]
[null,null,{"$f":"IF(ISBLANK(Risque[[#This Row],[Catégorie de risque]]),\"\",CONCATENATE(Risque[[#This Row],[Catégorie de risque]],1))","v":""},null,null,null,null,null,{"$f":"IF(ISBLANK(Risque[[#This Row],[Catégorie de risque]]),\"\",IF(OR(ISNUMBER(SEARCH(\"RZ\",Risque[[#This Row],[Source de danger]]))=TRUE,ISNUMBER(SEARCH(\"RP\",Risque[[#This Row],[Source de danger]]))=TRUE,ISNUMBER(SEARCH(\"RZ\",Risque[[#This Row],[Risques associés]]))=TRUE,ISNUMBER(SEARCH(\"RP\",Risque[[#This Row],[Risques associés]]))=TRUE,ISNUMBER(SEARCH(\"RZ\",Risque[[#This Row],[Précision du risque\n(si liste déroulante présente)]]))=TRUE,ISNUMBER(SEARCH(\"RP\",Risque[[#This Row],[Précision du risque\n(si liste déroulante présente)]]))=TRUE),\"Oui --> Priorité d'action\",\"Non\"))","v":""},null,null,null,null,{"$f":"IF(ISBLANK(Risque[[#This Row],[Catégorie de risque]]),\"\",CONCATENATE(Risque[[#This Row],[Catégorie de risque]],2))","v":""},null,{"$f":"IF(ISBLANK(Risque[[#This Row],[Moyens de prévention]]),\"\",CONCATENATE(Risque[[#This Row],[Moyens de prévention]],1))","v":""},null,null,null,null,null,{"$f":"IF(ISBLANK(Risque[[#This Row],[Catégorie de risque]]),\"\",CONCATENATE(Risque[[#This Row],[Catégorie de risque]],3))","v":""},null,null,null,{"$f":"IF(ISBLANK(Risque[[#This Row],[Catégorie de risque]]),\"\",CONCATENATE(Risque[[#This Row],[Catégorie de risque]],4))","v":""},null,null,null,null,null,{"$f":"IF(Risque[[#This Row],[Date d''inscription du risque]]<>\"\",YEAR(Risque[[#This Row],[Date d''inscription du risque]]),\"\")","v":""}]
[null,null,{"$f":"IF(ISBLANK(Risque[[#This Row],[Catégorie de risque]]),\"\",CONCATENATE(Risque[[#This Row],[Catégorie de risque]],1))","v":""},null,null,null,null,null,{"$f":"IF(ISBLANK(Risque[[#This Row],[Catégorie de risque]]),\"\",IF(OR(ISNUMBER(SEARCH(\"RZ\",Risque[[#This Row],[Source de danger]]))=TRUE,ISNUMBER(SEARCH(\"RP\",Risque[[#This Row],[Source de danger]]))=TRUE,ISNUMBER(SEARCH(\"RZ\",Risque[[#This Row],[Risques associés]]))=TRUE,ISNUMBER(SEARCH(\"RP\",Risque[[#This Row],[Risques associés]]))=TRUE,ISNUMBER(SEARCH(\"RZ\",Risque[[#This Row],[Précision du risque\n(si liste déroulante présente)]]))=TRUE,ISNUMBER(SEARCH(\"RP\",Risque[[#This Row],[Précision du risque\n(si liste déroulante présente)]]))=TRUE),\"Oui --> Priorité d'action\",\"Non\"))","v":""},null,null,null,null,{"$f":"IF(ISBLANK(Risque[[#This Row],[Catégorie de risque]]),\"\",CONCATENATE(Risque[[#This Row],[Catégorie de risque]],2))","v":""},null,{"$f":"IF(ISBLANK(Risque[[#This Row],[Moyens de prévention]]),\"\",CONCATENATE(Risque[[#This Row],[Moyens de prévention]],1))","v":""},null,null,null,null,null,{"$f":"IF(ISBLANK(Risque[[#This Row],[Catégorie de risque]]),\"\",CONCATENATE(Risque[[#This Row],[Catégorie de risque]],3))","v":""},null,null,null,{"$f":"IF(ISBLANK(Risque[[#This Row],[Catégorie de risque]]),\"\",CONCATENATE(Risque[[#This Row],[Catégorie de risque]],4))","v":""},null,null,null,null,null,{"$f":"IF(Risque[[#This Row],[Date d''inscription du risque]]<>\"\",YEAR(Risque[[#This Row],[Date d''inscription du risque]]),\"\")","v":""}]
[null,null,{"$f":"IF(ISBLANK(Risque[[#This Row],[Catégorie de risque]]),\"\",CONCATENATE(Risque[[#This Row],[Catégorie de risque]],1))","v":""},null,null,null,null,null,{"$f":"IF(ISBLANK(Risque[[#This Row],[Catégorie de risque]]),\"\",IF(OR(ISNUMBER(SEARCH(\"RZ\",Risque[[#This Row],[Source de danger]]))=TRUE,ISNUMBER(SEARCH(\"RP\",Risque[[#This Row],[Source de danger]]))=TRUE,ISNUMBER(SEARCH(\"RZ\",Risque[[#This Row],[Risques associés]]))=TRUE,ISNUMBER(SEARCH(\"RP\",Risque[[#This Row],[Risques associés]]))=TRUE,ISNUMBER(SEARCH(\"RZ\",Risque[[#This Row],[Précision du risque\n(si liste déroulante présente)]]))=TRUE,ISNUMBER(SEARCH(\"RP\",Risque[[#This Row],[Précision du risque\n(si liste déroulante présente)]]))=TRUE),\"Oui --> Priorité d'action\",\"Non\"))","v":""},null,null,null,null,{"$f":"IF(ISBLANK(Risque[[#This Row],[Catégorie de risque]]),\"\",CONCATENATE(Risque[[#This Row],[Catégorie de risque]],2))","v":""},null,{"$f":"IF(ISBLANK(Risque[[#This Row],[Moyens de prévention]]),\"\",CONCATENATE(Risque[[#This Row],[Moyens de prévention]],1))","v":""},null,null,null,null,null,{"$f":"IF(ISBLANK(Risque[[#This Row],[Catégorie de risque]]),\"\",CONCATENATE(Risque[[#This Row],[Catégorie de risque]],3))","v":""},null,null,null,{"$f":"IF(ISBLANK(Risque[[#This Row],[Catégorie de risque]]),\"\",CONCATENATE(Risque[[#This Row],[Catégorie de risque]],4))","v":""},null,null,null,null,null,{"$f":"IF(Risque[[#This Row],[Date d''inscription du risque]]<>\"\",YEAR(Risque[[#This Row],[Date d''inscription du risque]]),\"\")","v":""}]
[null,null,{"$f":"IF(ISBLANK(Risque[[#This Row],[Catégorie de risque]]),\"\",CONCATENATE(Risque[[#This Row],[Catégorie de risque]],1))","v":""},null,null,null,null,null,{"$f":"IF(ISBLANK(Risque[[#This Row],[Catégorie de risque]]),\"\",IF(OR(ISNUMBER(SEARCH(\"RZ\",Risque[[#This Row],[Source de danger]]))=TRUE,ISNUMBER(SEARCH(\"RP\",Risque[[#This Row],[Source de danger]]))=TRUE,ISNUMBER(SEARCH(\"RZ\",Risque[[#This Row],[Risques associés]]))=TRUE,ISNUMBER(SEARCH(\"RP\",Risque[[#This Row],[Risques associés]]))=TRUE,ISNUMBER(SEARCH(\"RZ\",Risque[[#This Row],[Précision du risque\n(si liste déroulante présente)]]))=TRUE,ISNUMBER(SEARCH(\"RP\",Risque[[#This Row],[Précision du risque\n(si liste déroulante présente)]]))=TRUE),\"Oui --> Priorité d'action\",\"Non\"))","v":""},null,null,null,null,{"$f":"IF(ISBLANK(Risque[[#This Row],[Catégorie de risque]]),\"\",CONCATENATE(Risque[[#This Row],[Catégorie de risque]],2))","v":""},null,{"$f":"IF(ISBLANK(Risque[[#This Row],[Moyens de prévention]]),\"\",CONCATENATE(Risque[[#This Row],[Moyens de prévention]],1))","v":""},null,null,null,null,null,{"$f":"IF(ISBLANK(Risque[[#This Row],[Catégorie de risque]]),\"\",CONCATENATE(Risque[[#This Row],[Catégorie de risque]],3))","v":""},null,null,null,{"$f":"IF(ISBLANK(Risque[[#This Row],[Catégorie de risque]]),\"\",CONCATENATE(Risque[[#This Row],[Catégorie de risque]],4))","v":""},null,null,null,null,null,{"$f":"IF(Risque[[#This Row],[Date d''inscription du risque]]<>\"\",YEAR(Risque[[#This Row],[Date d''inscription du risque]]),\"\")","v":""}]
[null,null,{"$f":"IF(ISBLANK(Risque[[#This Row],[Catégorie de risque]]),\"\",CONCATENATE(Risque[[#This Row],[Catégorie de risque]],1))","v":""},null,null,null,null,null,{"$f":"IF(ISBLANK(Risque[[#This Row],[Catégorie de risque]]),\"\",IF(OR(ISNUMBER(SEARCH(\"RZ\",Risque[[#This Row],[Source de danger]]))=TRUE,ISNUMBER(SEARCH(\"RP\",Risque[[#This Row],[Source de danger]]))=TRUE,ISNUMBER(SEARCH(\"RZ\",Risque[[#This Row],[Risques associés]]))=TRUE,ISNUMBER(SEARCH(\"RP\",Risque[[#This Row],[Risques associés]]))=TRUE,ISNUMBER(SEARCH(\"RZ\",Risque[[#This Row],[Précision du risque\n(si liste déroulante présente)]]))=TRUE,ISNUMBER(SEARCH(\"RP\",Risque[[#This Row],[Précision du risque\n(si liste déroulante présente)]]))=TRUE),\"Oui --> Priorité d'action\",\"Non\"))","v":""},null,null,null,null,{"$f":"IF(ISBLANK(Risque[[#This Row],[Catégorie de risque]]),\"\",CONCATENATE(Risque[[#This Row],[Catégorie de risque]],2))","v":""},null,{"$f":"IF(ISBLANK(Risque[[#This Row],[Moyens de prévention]]),\"\",CONCATENATE(Risque[[#This Row],[Moyens de prévention]],1))","v":""},null,null,null,null,null,{"$f":"IF(ISBLANK(Risque[[#This Row],[Catégorie de risque]]),\"\",CONCATENATE(Risque[[#This Row],[Catégorie de risque]],3))","v":""},null,null,null,{"$f":"IF(ISBLANK(Risque[[#This Row],[Catégorie de risque]]),\"\",CONCATENATE(Risque[[#This Row],[Catégorie de risque]],4))","v":""},null,null,null,null,null,{"$f":"IF(Risque[[#This Row],[Date d''inscription du risque]]<>\"\",YEAR(Risque[[#This Row],[Date d''inscription du risque]]),\"\")","v":""}]
[null,null,{"$f":"IF(ISBLANK(Risque[[#This Row],[Catégorie de risque]]),\"\",CONCATENATE(Risque[[#This Row],[Catégorie de risque]],1))","v":""},null,null,null,null,null,{"$f":"IF(ISBLANK(Risque[[#This Row],[Catégorie de risque]]),\"\",IF(OR(ISNUMBER(SEARCH(\"RZ\",Risque[[#This Row],[Source de danger]]))=TRUE,ISNUMBER(SEARCH(\"RP\",Risque[[#This Row],[Source de danger]]))=TRUE,ISNUMBER(SEARCH(\"RZ\",Risque[[#This Row],[Risques associés]]))=TRUE,ISNUMBER(SEARCH(\"RP\",Risque[[#This Row],[Risques associés]]))=TRUE,ISNUMBER(SEARCH(\"RZ\",Risque[[#This Row],[Précision du risque\n(si liste déroulante présente)]]))=TRUE,ISNUMBER(SEARCH(\"RP\",Risque[[#This Row],[Précision du risque\n(si liste déroulante présente)]]))=TRUE),\"Oui --> Priorité d'action\",\"Non\"))","v":""},null,null,null,null,{"$f":"IF(ISBLANK(Risque[[#This Row],[Catégorie de risque]]),\"\",CONCATENATE(Risque[[#This Row],[Catégorie de risque]],2))","v":""},null,{"$f":"IF(ISBLANK(Risque[[#This Row],[Moyens de prévention]]),\"\",CONCATENATE(Risque[[#This Row],[Moyens de prévention]],1))","v":""},null,null,null,null,null,{"$f":"IF(ISBLANK(Risque[[#This Row],[Catégorie de risque]]),\"\",CONCATENATE(Risque[[#This Row],[Catégorie de risque]],3))","v":""},null,null,null,{"$f":"IF(ISBLANK(Risque[[#This Row],[Catégorie de risque]]),\"\",CONCATENATE(Risque[[#This Row],[Catégorie de risque]],4))","v":""},null,null,null,null,null,{"$f":"IF(Risque[[#This Row],[Date d''inscription du risque]]<>\"\",YEAR(Risque[[#This Row],[Date d''inscription du risque]]),\"\")","v":""}]
[null,null,{"$f":"IF(ISBLANK(Risque[[#This Row],[Catégorie de risque]]),\"\",CONCATENATE(Risque[[#This Row],[Catégorie de risque]],1))","v":""},null,null,null,null,null,{"$f":"IF(ISBLANK(Risque[[#This Row],[Catégorie de risque]]),\"\",IF(OR(ISNUMBER(SEARCH(\"RZ\",Risque[[#This Row],[Source de danger]]))=TRUE,ISNUMBER(SEARCH(\"RP\",Risque[[#This Row],[Source de danger]]))=TRUE,ISNUMBER(SEARCH(\"RZ\",Risque[[#This Row],[Risques associés]]))=TRUE,ISNUMBER(SEARCH(\"RP\",Risque[[#This Row],[Risques associés]]))=TRUE,ISNUMBER(SEARCH(\"RZ\",Risque[[#This Row],[Précision du risque\n(si liste déroulante présente)]]))=TRUE,ISNUMBER(SEARCH(\"RP\",Risque[[#This Row],[Précision du risque\n(si liste déroulante présente)]]))=TRUE),\"Oui --> Priorité d'action\",\"Non\"))","v":""},null,null,null,null,{"$f":"IF(ISBLANK(Risque[[#This Row],[Catégorie de risque]]),\"\",CONCATENATE(Risque[[#This Row],[Catégorie de risque]],2))","v":""},null,{"$f":"IF(ISBLANK(Risque[[#This Row],[Moyens de prévention]]),\"\",CONCATENATE(Risque[[#This Row],[Moyens de prévention]],1))","v":""},null,null,null,null,null,{"$f":"IF(ISBLANK(Risque[[#This Row],[Catégorie de risque]]),\"\",CONCATENATE(Risque[[#This Row],[Catégorie de risque]],3))","v":""},null,null,null,{"$f":"IF(ISBLANK(Risque[[#This Row],[Catégorie de risque]]),\"\",CONCATENATE(Risque[[#This Row],[Catégorie de risque]],4))","v":""},null,null,null,null,null,{"$f":"IF(Risque[[#This Row],[Date d''inscription du risque]]<>\"\",YEAR(Risque[[#This Row],[Date d''inscription du risque]]),\"\")","v":""}]
[null,null,{"$f":"IF(ISBLANK(Risque[[#This Row],[Catégorie de risque]]),\"\",CONCATENATE(Risque[[#This Row],[Catégorie de risque]],1))","v":""},null,null,null,null,null,{"$f":"IF(ISBLANK(Risque[[#This Row],[Catégorie de risque]]),\"\",IF(OR(ISNUMBER(SEARCH(\"RZ\",Risque[[#This Row],[Source de danger]]))=TRUE,ISNUMBER(SEARCH(\"RP\",Risque[[#This Row],[Source de danger]]))=TRUE,ISNUMBER(SEARCH(\"RZ\",Risque[[#This Row],[Risques associés]]))=TRUE,ISNUMBER(SEARCH(\"RP\",Risque[[#This Row],[Risques associés]]))=TRUE,ISNUMBER(SEARCH(\"RZ\",Risque[[#This Row],[Précision du risque\n(si liste déroulante présente)]]))=TRUE,ISNUMBER(SEARCH(\"RP\",Risque[[#This Row],[Précision du risque\n(si liste déroulante présente)]]))=TRUE),\"Oui --> Priorité d'action\",\"Non\"))","v":""},null,null,null,null,{"$f":"IF(ISBLANK(Risque[[#This Row],[Catégorie de risque]]),\"\",CONCATENATE(Risque[[#This Row],[Catégorie de risque]],2))","v":""},null,{"$f":"IF(ISBLANK(Risque[[#This Row],[Moyens de prévention]]),\"\",CONCATENATE(Risque[[#This Row],[Moyens de prévention]],1))","v":""},null,null,null,null,null,{"$f":"IF(ISBLANK(Risque[[#This Row],[Catégorie de risque]]),\"\",CONCATENATE(Risque[[#This Row],[Catégorie de risque]],3))","v":""},null,null,null,{"$f":"IF(ISBLANK(Risque[[#This Row],[Catégorie de risque]]),\"\",CONCATENATE(Risque[[#This Row],[Catégorie de risque]],4))","v":""},null,null,null,null,null,{"$f":"IF(Risque[[#This Row],[Date d''inscription du risque]]<>\"\",YEAR(Risque[[#This Row],[Date d''inscription du risque]]),\"\")","v":""}]
[null,null,{"$f":"IF(ISBLANK(Risque[[#This Row],[Catégorie de risque]]),\"\",CONCATENATE(Risque[[#This Row],[Catégorie de risque]],1))","v":""},null,null,null,null,null,{"$f":"IF(ISBLANK(Risque[[#This Row],[Catégorie de risque]]),\"\",IF(OR(ISNUMBER(SEARCH(\"RZ\",Risque[[#This Row],[Source de danger]]))=TRUE,ISNUMBER(SEARCH(\"RP\",Risque[[#This Row],[Source de danger]]))=TRUE,ISNUMBER(SEARCH(\"RZ\",Risque[[#This Row],[Risques associés]]))=TRUE,ISNUMBER(SEARCH(\"RP\",Risque[[#This Row],[Risques associés]]))=TRUE,ISNUMBER(SEARCH(\"RZ\",Risque[[#This Row],[Précision du risque\n(si liste déroulante présente)]]))=TRUE,ISNUMBER(SEARCH(\"RP\",Risque[[#This Row],[Précision du risque\n(si liste déroulante présente)]]))=TRUE),\"Oui --> Priorité d'action\",\"Non\"))","v":""},null,null,null,null,{"$f":"IF(ISBLANK(Risque[[#This Row],[Catégorie de risque]]),\"\",CONCATENATE(Risque[[#This Row],[Catégorie de risque]],2))","v":""},null,{"$f":"IF(ISBLANK(Risque[[#This Row],[Moyens de prévention]]),\"\",CONCATENATE(Risque[[#This Row],[Moyens de prévention]],1))","v":""},null,null,null,null,null,{"$f":"IF(ISBLANK(Risque[[#This Row],[Catégorie de risque]]),\"\",CONCATENATE(Risque[[#This Row],[Catégorie de risque]],3))","v":""},null,null,null,{"$f":"IF(ISBLANK(Risque[[#This Row],[Catégorie de risque]]),\"\",CONCATENATE(Risque[[#This Row],[Catégorie de risque]],4))","v":""},null,null,null,null,null,{"$f":"IF(Risque[[#This Row],[Date d''inscription du risque]]<>\"\",YEAR(Risque[[#This Row],[Date d''inscription du risque]]),\"\")","v":""}]
[null,null,{"$f":"IF(ISBLANK(Risque[[#This Row],[Catégorie de risque]]),\"\",CONCATENATE(Risque[[#This Row],[Catégorie de risque]],1))","v":""},null,null,null,null,null,{"$f":"IF(ISBLANK(Risque[[#This Row],[Catégorie de risque]]),\"\",IF(OR(ISNUMBER(SEARCH(\"RZ\",Risque[[#This Row],[Source de danger]]))=TRUE,ISNUMBER(SEARCH(\"RP\",Risque[[#This Row],[Source de danger]]))=TRUE,ISNUMBER(SEARCH(\"RZ\",Risque[[#This Row],[Risques associés]]))=TRUE,ISNUMBER(SEARCH(\"RP\",Risque[[#This Row],[Risques associés]]))=TRUE,ISNUMBER(SEARCH(\"RZ\",Risque[[#This Row],[Précision du risque\n(si liste déroulante présente)]]))=TRUE,ISNUMBER(SEARCH(\"RP\",Risque[[#This Row],[Précision du risque\n(si liste déroulante présente)]]))=TRUE),\"Oui --> Priorité d'action\",\"Non\"))","v":""},null,null,null,null,{"$f":"IF(ISBLANK(Risque[[#This Row],[Catégorie de risque]]),\"\",CONCATENATE(Risque[[#This Row],[Catégorie de risque]],2))","v":""},null,{"$f":"IF(ISBLANK(Risque[[#This Row],[Moyens de prévention]]),\"\",CONCATENATE(Risque[[#This Row],[Moyens de prévention]],1))","v":""},null,null,null,null,null,{"$f":"IF(ISBLANK(Risque[[#This Row],[Catégorie de risque]]),\"\",CONCATENATE(Risque[[#This Row],[Catégorie de risque]],3))","v":""},null,null,null,{"$f":"IF(ISBLANK(Risque[[#This Row],[Catégorie de risque]]),\"\",CONCATENATE(Risque[[#This Row],[Catégorie de risque]],4))","v":""},null,null,null,null,null,{"$f":"IF(Risque[[#This Row],[Date d''inscription du risque]]<>\"\",YEAR(Risque[[#This Row],[Date d''inscription du risque]]),\"\")","v":""}]
[null,null,{"$f":"IF(ISBLANK(Risque[[#This Row],[Catégorie de risque]]),\"\",CONCATENATE(Risque[[#This Row],[Catégorie de risque]],1))","v":""},null,null,null,null,null,{"$f":"IF(ISBLANK(Risque[[#This Row],[Catégorie de risque]]),\"\",IF(OR(ISNUMBER(SEARCH(\"RZ\",Risque[[#This Row],[Source de danger]]))=TRUE,ISNUMBER(SEARCH(\"RP\",Risque[[#This Row],[Source de danger]]))=TRUE,ISNUMBER(SEARCH(\"RZ\",Risque[[#This Row],[Risques associés]]))=TRUE,ISNUMBER(SEARCH(\"RP\",Risque[[#This Row],[Risques associés]]))=TRUE,ISNUMBER(SEARCH(\"RZ\",Risque[[#This Row],[Précision du risque\n(si liste déroulante présente)]]))=TRUE,ISNUMBER(SEARCH(\"RP\",Risque[[#This Row],[Précision du risque\n(si liste déroulante présente)]]))=TRUE),\"Oui --> Priorité d'action\",\"Non\"))","v":""},null,null,null,null,{"$f":"IF(ISBLANK(Risque[[#This Row],[Catégorie de risque]]),\"\",CONCATENATE(Risque[[#This Row],[Catégorie de risque]],2))","v":""},null,{"$f":"IF(ISBLANK(Risque[[#This Row],[Moyens de prévention]]),\"\",CONCATENATE(Risque[[#This Row],[Moyens de prévention]],1))","v":""},null,null,null,null,null,{"$f":"IF(ISBLANK(Risque[[#This Row],[Catégorie de risque]]),\"\",CONCATENATE(Risque[[#This Row],[Catégorie de risque]],3))","v":""},null,null,null,{"$f":"IF(ISBLANK(Risque[[#This Row],[Catégorie de risque]]),\"\",CONCATENATE(Risque[[#This Row],[Catégorie de risque]],4))","v":""},null,null,null,null,null,{"$f":"IF(Risque[[#This Row],[Date d''inscription du risque]]<>\"\",YEAR(Risque[[#This Row],[Date d''inscription du risque]]),\"\")","v":""}]
[null,null,{"$f":"IF(ISBLANK(Risque[[#This Row],[Catégorie de risque]]),\"\",CONCATENATE(Risque[[#This Row],[Catégorie de risque]],1))","v":""},null,null,null,null,null,{"$f":"IF(ISBLANK(Risque[[#This Row],[Catégorie de risque]]),\"\",IF(OR(ISNUMBER(SEARCH(\"RZ\",Risque[[#This Row],[Source de danger]]))=TRUE,ISNUMBER(SEARCH(\"RP\",Risque[[#This Row],[Source de danger]]))=TRUE,ISNUMBER(SEARCH(\"RZ\",Risque[[#This Row],[Risques associés]]))=TRUE,ISNUMBER(SEARCH(\"RP\",Risque[[#This Row],[Risques associés]]))=TRUE,ISNUMBER(SEARCH(\"RZ\",Risque[[#This Row],[Précision du risque\n(si liste déroulante présente)]]))=TRUE,ISNUMBER(SEARCH(\"RP\",Risque[[#This Row],[Précision du risque\n(si liste déroulante présente)]]))=TRUE),\"Oui --> Priorité d'action\",\"Non\"))","v":""},null,null,null,null,{"$f":"IF(ISBLANK(Risque[[#This Row],[Catégorie de risque]]),\"\",CONCATENATE(Risque[[#This Row],[Catégorie de risque]],2))","v":""},null,{"$f":"IF(ISBLANK(Risque[[#This Row],[Moyens de prévention]]),\"\",CONCATENATE(Risque[[#This Row],[Moyens de prévention]],1))","v":""},null,null,null,null,null,{"$f":"IF(ISBLANK(Risque[[#This Row],[Catégorie de risque]]),\"\",CONCATENATE(Risque[[#This Row],[Catégorie de risque]],3))","v":""},null,null,null,{"$f":"IF(ISBLANK(Risque[[#This Row],[Catégorie de risque]]),\"\",CONCATENATE(Risque[[#This Row],[Catégorie de risque]],4))","v":""},null,null,null,null,null,{"$f":"IF(Risque[[#This Row],[Date d''inscription du risque]]<>\"\",YEAR(Risque[[#This Row],[Date d''inscription du risque]]),\"\")","v":""}]
[null,null,{"$f":"IF(ISBLANK(Risque[[#This Row],[Catégorie de risque]]),\"\",CONCATENATE(Risque[[#This Row],[Catégorie de risque]],1))","v":""},null,null,null,null,null,{"$f":"IF(ISBLANK(Risque[[#This Row],[Catégorie de risque]]),\"\",IF(OR(ISNUMBER(SEARCH(\"RZ\",Risque[[#This Row],[Source de danger]]))=TRUE,ISNUMBER(SEARCH(\"RP\",Risque[[#This Row],[Source de danger]]))=TRUE,ISNUMBER(SEARCH(\"RZ\",Risque[[#This Row],[Risques associés]]))=TRUE,ISNUMBER(SEARCH(\"RP\",Risque[[#This Row],[Risques associés]]))=TRUE,ISNUMBER(SEARCH(\"RZ\",Risque[[#This Row],[Précision du risque\n(si liste déroulante présente)]]))=TRUE,ISNUMBER(SEARCH(\"RP\",Risque[[#This Row],[Précision du risque\n(si liste déroulante présente)]]))=TRUE),\"Oui --> Priorité d'action\",\"Non\"))","v":""},null,null,null,null,{"$f":"IF(ISBLANK(Risque[[#This Row],[Catégorie de risque]]),\"\",CONCATENATE(Risque[[#This Row],[Catégorie de risque]],2))","v":""},null,{"$f":"IF(ISBLANK(Risque[[#This Row],[Moyens de prévention]]),\"\",CONCATENATE(Risque[[#This Row],[Moyens de prévention]],1))","v":""},null,null,null,null,null,{"$f":"IF(ISBLANK(Risque[[#This Row],[Catégorie de risque]]),\"\",CONCATENATE(Risque[[#This Row],[Catégorie de risque]],3))","v":""},null,null,null,{"$f":"IF(ISBLANK(Risque[[#This Row],[Catégorie de risque]]),\"\",CONCATENATE(Risque[[#This Row],[Catégorie de risque]],4))","v":""},null,null,null,null,null,{"$f":"IF(Risque[[#This Row],[Date d''inscription du risque]]<>\"\",YEAR(Risque[[#This Row],[Date d''inscription du risque]]),\"\")","v":""}]
[null,null,{"$f":"IF(ISBLANK(Risque[[#This Row],[Catégorie de risque]]),\"\",CONCATENATE(Risque[[#This Row],[Catégorie de risque]],1))","v":""},null,null,null,null,null,{"$f":"IF(ISBLANK(Risque[[#This Row],[Catégorie de risque]]),\"\",IF(OR(ISNUMBER(SEARCH(\"RZ\",Risque[[#This Row],[Source de danger]]))=TRUE,ISNUMBER(SEARCH(\"RP\",Risque[[#This Row],[Source de danger]]))=TRUE,ISNUMBER(SEARCH(\"RZ\",Risque[[#This Row],[Risques associés]]))=TRUE,ISNUMBER(SEARCH(\"RP\",Risque[[#This Row],[Risques associés]]))=TRUE,ISNUMBER(SEARCH(\"RZ\",Risque[[#This Row],[Précision du risque\n(si liste déroulante présente)]]))=TRUE,ISNUMBER(SEARCH(\"RP\",Risque[[#This Row],[Précision du risque\n(si liste déroulante présente)]]))=TRUE),\"Oui --> Priorité d'action\",\"Non\"))","v":""},null,null,null,null,{"$f":"IF(ISBLANK(Risque[[#This Row],[Catégorie de risque]]),\"\",CONCATENATE(Risque[[#This Row],[Catégorie de risque]],2))","v":""},null,{"$f":"IF(ISBLANK(Risque[[#This Row],[Moyens de prévention]]),\"\",CONCATENATE(Risque[[#This Row],[Moyens de prévention]],1))","v":""},null,null,null,null,null,{"$f":"IF(ISBLANK(Risque[[#This Row],[Catégorie de risque]]),\"\",CONCATENATE(Risque[[#This Row],[Catégorie de risque]],3))","v":""},null,null,null,{"$f":"IF(ISBLANK(Risque[[#This Row],[Catégorie de risque]]),\"\",CONCATENATE(Risque[[#This Row],[Catégorie de risque]],4))","v":""},null,null,null,null,null,{"$f":"IF(Risque[[#This Row],[Date d''inscription du risque]]<>\"\",YEAR(Risque[[#This Row],[Date d''inscription du risque]]),\"\")","v":""}]
[null,null,{"$f":"IF(ISBLANK(Risque[[#This Row],[Catégorie de risque]]),\"\",CONCATENATE(Risque[[#This Row],[Catégorie de risque]],1))","v":""},null,null,null,null,null,{"$f":"IF(ISBLANK(Risque[[#This Row],[Catégorie de risque]]),\"\",IF(OR(ISNUMBER(SEARCH(\"RZ\",Risque[[#This Row],[Source de danger]]))=TRUE,ISNUMBER(SEARCH(\"RP\",Risque[[#This Row],[Source de danger]]))=TRUE,ISNUMBER(SEARCH(\"RZ\",Risque[[#This Row],[Risques associés]]))=TRUE,ISNUMBER(SEARCH(\"RP\",Risque[[#This Row],[Risques associés]]))=TRUE,ISNUMBER(SEARCH(\"RZ\",Risque[[#This Row],[Précision du risque\n(si liste déroulante présente)]]))=TRUE,ISNUMBER(SEARCH(\"RP\",Risque[[#This Row],[Précision du risque\n(si liste déroulante présente)]]))=TRUE),\"Oui --> Priorité d'action\",\"Non\"))","v":""},null,null,null,null,{"$f":"IF(ISBLANK(Risque[[#This Row],[Catégorie de risque]]),\"\",CONCATENATE(Risque[[#This Row],[Catégorie de risque]],2))","v":""},null,{"$f":"IF(ISBLANK(Risque[[#This Row],[Moyens de prévention]]),\"\",CONCATENATE(Risque[[#This Row],[Moyens de prévention]],1))","v":""},null,null,null,null,null,{"$f":"IF(ISBLANK(Risque[[#This Row],[Catégorie de risque]]),\"\",CONCATENATE(Risque[[#This Row],[Catégorie de risque]],3))","v":""},null,null,null,{"$f":"IF(ISBLANK(Risque[[#This Row],[Catégorie de risque]]),\"\",CONCATENATE(Risque[[#This Row],[Catégorie de risque]],4))","v":""},null,null,null,null,null,{"$f":"IF(Risque[[#This Row],[Date d''inscription du risque]]<>\"\",YEAR(Risque[[#This Row],[Date d''inscription du risque]]),\"\")","v":""}]
[null,null,{"$f":"IF(ISBLANK(Risque[[#This Row],[Catégorie de risque]]),\"\",CONCATENATE(Risque[[#This Row],[Catégorie de risque]],1))","v":""},null,null,null,null,null,{"$f":"IF(ISBLANK(Risque[[#This Row],[Catégorie de risque]]),\"\",IF(OR(ISNUMBER(SEARCH(\"RZ\",Risque[[#This Row],[Source de danger]]))=TRUE,ISNUMBER(SEARCH(\"RP\",Risque[[#This Row],[Source de danger]]))=TRUE,ISNUMBER(SEARCH(\"RZ\",Risque[[#This Row],[Risques associés]]))=TRUE,ISNUMBER(SEARCH(\"RP\",Risque[[#This Row],[Risques associés]]))=TRUE,ISNUMBER(SEARCH(\"RZ\",Risque[[#This Row],[Précision du risque\n(si liste déroulante présente)]]))=TRUE,ISNUMBER(SEARCH(\"RP\",Risque[[#This Row],[Précision du risque\n(si liste déroulante présente)]]))=TRUE),\"Oui --> Priorité d'action\",\"Non\"))","v":""},null,null,null,null,{"$f":"IF(ISBLANK(Risque[[#This Row],[Catégorie de risque]]),\"\",CONCATENATE(Risque[[#This Row],[Catégorie de risque]],2))","v":""},null,{"$f":"IF(ISBLANK(Risque[[#This Row],[Moyens de prévention]]),\"\",CONCATENATE(Risque[[#This Row],[Moyens de prévention]],1))","v":""},null,null,null,null,null,{"$f":"IF(ISBLANK(Risque[[#This Row],[Catégorie de risque]]),\"\",CONCATENATE(Risque[[#This Row],[Catégorie de risque]],3))","v":""},null,null,null,{"$f":"IF(ISBLANK(Risque[[#This Row],[Catégorie de risque]]),\"\",CONCATENATE(Risque[[#This Row],[Catégorie de risque]],4))","v":""},null,null,null,null,null,{"$f":"IF(Risque[[#This Row],[Date d''inscription du risque]]<>\"\",YEAR(Risque[[#This Row],[Date d''inscription du risque]]),\"\")","v":""}]
[null,null,{"$f":"IF(ISBLANK(Risque[[#This Row],[Catégorie de risque]]),\"\",CONCATENATE(Risque[[#This Row],[Catégorie de risque]],1))","v":""},null,null,null,null,null,{"$f":"IF(ISBLANK(Risque[[#This Row],[Catégorie de risque]]),\"\",IF(OR(ISNUMBER(SEARCH(\"RZ\",Risque[[#This Row],[Source de danger]]))=TRUE,ISNUMBER(SEARCH(\"RP\",Risque[[#This Row],[Source de danger]]))=TRUE,ISNUMBER(SEARCH(\"RZ\",Risque[[#This Row],[Risques associés]]))=TRUE,ISNUMBER(SEARCH(\"RP\",Risque[[#This Row],[Risques associés]]))=TRUE,ISNUMBER(SEARCH(\"RZ\",Risque[[#This Row],[Précision du risque\n(si liste déroulante présente)]]))=TRUE,ISNUMBER(SEARCH(\"RP\",Risque[[#This Row],[Précision du risque\n(si liste déroulante présente)]]))=TRUE),\"Oui --> Priorité d'action\",\"Non\"))","v":""},null,null,null,null,{"$f":"IF(ISBLANK(Risque[[#This Row],[Catégorie de risque]]),\"\",CONCATENATE(Risque[[#This Row],[Catégorie de risque]],2))","v":""},null,{"$f":"IF(ISBLANK(Risque[[#This Row],[Moyens de prévention]]),\"\",CONCATENATE(Risque[[#This Row],[Moyens de prévention]],1))","v":""},null,null,null,null,null,{"$f":"IF(ISBLANK(Risque[[#This Row],[Catégorie de risque]]),\"\",CONCATENATE(Risque[[#This Row],[Catégorie de risque]],3))","v":""},null,null,null,{"$f":"IF(ISBLANK(Risque[[#This Row],[Catégorie de risque]]),\"\",CONCATENATE(Risque[[#This Row],[Catégorie de risque]],4))","v":""},null,null,null,null,null,{"$f":"IF(Risque[[#This Row],[Date d''inscription du risque]]<>\"\",YEAR(Risque[[#This Row],[Date d''inscription du risque]]),\"\")","v":""}]
[null,null,{"$f":"IF(ISBLANK(Risque[[#This Row],[Catégorie de risque]]),\"\",CONCATENATE(Risque[[#This Row],[Catégorie de risque]],1))","v":""},null,null,null,null,null,{"$f":"IF(ISBLANK(Risque[[#This Row],[Catégorie de risque]]),\"\",IF(OR(ISNUMBER(SEARCH(\"RZ\",Risque[[#This Row],[Source de danger]]))=TRUE,ISNUMBER(SEARCH(\"RP\",Risque[[#This Row],[Source de danger]]))=TRUE,ISNUMBER(SEARCH(\"RZ\",Risque[[#This Row],[Risques associés]]))=TRUE,ISNUMBER(SEARCH(\"RP\",Risque[[#This Row],[Risques associés]]))=TRUE,ISNUMBER(SEARCH(\"RZ\",Risque[[#This Row],[Précision du risque\n(si liste déroulante présente)]]))=TRUE,ISNUMBER(SEARCH(\"RP\",Risque[[#This Row],[Précision du risque\n(si liste déroulante présente)]]))=TRUE),\"Oui --> Priorité d'action\",\"Non\"))","v":""},null,null,null,null,{"$f":"IF(ISBLANK(Risque[[#This Row],[Catégorie de risque]]),\"\",CONCATENATE(Risque[[#This Row],[Catégorie de risque]],2))","v":""},null,{"$f":"IF(ISBLANK(Risque[[#This Row],[Moyens de prévention]]),\"\",CONCATENATE(Risque[[#This Row],[Moyens de prévention]],1))","v":""},null,null,null,null,null,{"$f":"IF(ISBLANK(Risque[[#This Row],[Catégorie de risque]]),\"\",CONCATENATE(Risque[[#This Row],[Catégorie de risque]],3))","v":""},null,null,null,{"$f":"IF(ISBLANK(Risque[[#This Row],[Catégorie de risque]]),\"\",CONCATENATE(Risque[[#This Row],[Catégorie de risque]],4))","v":""},null,null,null,null,null,{"$f":"IF(Risque[[#This Row],[Date d''inscription du risque]]<>\"\",YEAR(Risque[[#This Row],[Date d''inscription du risque]]),\"\")","v":""}]
[null,null,{"$f":"IF(ISBLANK(Risque[[#This Row],[Catégorie de risque]]),\"\",CONCATENATE(Risque[[#This Row],[Catégorie de risque]],1))","v":""},null,null,null,null,null,{"$f":"IF(ISBLANK(Risque[[#This Row],[Catégorie de risque]]),\"\",IF(OR(ISNUMBER(SEARCH(\"RZ\",Risque[[#This Row],[Source de danger]]))=TRUE,ISNUMBER(SEARCH(\"RP\",Risque[[#This Row],[Source de danger]]))=TRUE,ISNUMBER(SEARCH(\"RZ\",Risque[[#This Row],[Risques associés]]))=TRUE,ISNUMBER(SEARCH(\"RP\",Risque[[#This Row],[Risques associés]]))=TRUE,ISNUMBER(SEARCH(\"RZ\",Risque[[#This Row],[Précision du risque\n(si liste déroulante présente)]]))=TRUE,ISNUMBER(SEARCH(\"RP\",Risque[[#This Row],[Précision du risque\n(si liste déroulante présente)]]))=TRUE),\"Oui --> Priorité d'action\",\"Non\"))","v":""},null,null,null,null,{"$f":"IF(ISBLANK(Risque[[#This Row],[Catégorie de risque]]),\"\",CONCATENATE(Risque[[#This Row],[Catégorie de risque]],2))","v":""},null,{"$f":"IF(ISBLANK(Risque[[#This Row],[Moyens de prévention]]),\"\",CONCATENATE(Risque[[#This Row],[Moyens de prévention]],1))","v":""},null,null,null,null,null,{"$f":"IF(ISBLANK(Risque[[#This Row],[Catégorie de risque]]),\"\",CONCATENATE(Risque[[#This Row],[Catégorie de risque]],3))","v":""},null,null,null,{"$f":"IF(ISBLANK(Risque[[#This Row],[Catégorie de risque]]),\"\",CONCATENATE(Risque[[#This Row],[Catégorie de risque]],4))","v":""},null,null,null,null,null,{"$f":"IF(Risque[[#This Row],[Date d''inscription du risque]]<>\"\",YEAR(Risque[[#This Row],[Date d''inscription du risque]]),\"\")","v":""}]
[null,null,{"$f":"IF(ISBLANK(Risque[[#This Row],[Catégorie de risque]]),\"\",CONCATENATE(Risque[[#This Row],[Catégorie de risque]],1))","v":""},null,null,null,null,null,{"$f":"IF(ISBLANK(Risque[[#This Row],[Catégorie de risque]]),\"\",IF(OR(ISNUMBER(SEARCH(\"RZ\",Risque[[#This Row],[Source de danger]]))=TRUE,ISNUMBER(SEARCH(\"RP\",Risque[[#This Row],[Source de danger]]))=TRUE,ISNUMBER(SEARCH(\"RZ\",Risque[[#This Row],[Risques associés]]))=TRUE,ISNUMBER(SEARCH(\"RP\",Risque[[#This Row],[Risques associés]]))=TRUE,ISNUMBER(SEARCH(\"RZ\",Risque[[#This Row],[Précision du risque\n(si liste déroulante présente)]]))=TRUE,ISNUMBER(SEARCH(\"RP\",Risque[[#This Row],[Précision du risque\n(si liste déroulante présente)]]))=TRUE),\"Oui --> Priorité d'action\",\"Non\"))","v":""},null,null,null,null,{"$f":"IF(ISBLANK(Risque[[#This Row],[Catégorie de risque]]),\"\",CONCATENATE(Risque[[#This Row],[Catégorie de risque]],2))","v":""},null,{"$f":"IF(ISBLANK(Risque[[#This Row],[Moyens de prévention]]),\"\",CONCATENATE(Risque[[#This Row],[Moyens de prévention]],1))","v":""},null,null,null,null,null,{"$f":"IF(ISBLANK(Risque[[#This Row],[Catégorie de risque]]),\"\",CONCATENATE(Risque[[#This Row],[Catégorie de risque]],3))","v":""},null,null,null,{"$f":"IF(ISBLANK(Risque[[#This Row],[Catégorie de risque]]),\"\",CONCATENATE(Risque[[#This Row],[Catégorie de risque]],4))","v":""},null,null,null,null,null,{"$f":"IF(Risque[[#This Row],[Date d''inscription du risque]]<>\"\",YEAR(Risque[[#This Row],[Date d''inscription du risque]]),\"\")","v":""}]
[null,null,{"$f":"IF(ISBLANK(Risque[[#This Row],[Catégorie de risque]]),\"\",CONCATENATE(Risque[[#This Row],[Catégorie de risque]],1))","v":""},null,null,null,null,null,{"$f":"IF(ISBLANK(Risque[[#This Row],[Catégorie de risque]]),\"\",IF(OR(ISNUMBER(SEARCH(\"RZ\",Risque[[#This Row],[Source de danger]]))=TRUE,ISNUMBER(SEARCH(\"RP\",Risque[[#This Row],[Source de danger]]))=TRUE,ISNUMBER(SEARCH(\"RZ\",Risque[[#This Row],[Risques associés]]))=TRUE,ISNUMBER(SEARCH(\"RP\",Risque[[#This Row],[Risques associés]]))=TRUE,ISNUMBER(SEARCH(\"RZ\",Risque[[#This Row],[Précision du risque\n(si liste déroulante présente)]]))=TRUE,ISNUMBER(SEARCH(\"RP\",Risque[[#This Row],[Précision du risque\n(si liste déroulante présente)]]))=TRUE),\"Oui --> Priorité d'action\",\"Non\"))","v":""},null,null,null,null,{"$f":"IF(ISBLANK(Risque[[#This Row],[Catégorie de risque]]),\"\",CONCATENATE(Risque[[#This Row],[Catégorie de risque]],2))","v":""},null,{"$f":"IF(ISBLANK(Risque[[#This Row],[Moyens de prévention]]),\"\",CONCATENATE(Risque[[#This Row],[Moyens de prévention]],1))","v":""},null,null,null,null,null,{"$f":"IF(ISBLANK(Risque[[#This Row],[Catégorie de risque]]),\"\",CONCATENATE(Risque[[#This Row],[Catégorie de risque]],3))","v":""},null,null,null,{"$f":"IF(ISBLANK(Risque[[#This Row],[Catégorie de risque]]),\"\",CONCATENATE(Risque[[#This Row],[Catégorie de risque]],4))","v":""},null,null,null,null,null,{"$f":"IF(Risque[[#This Row],[Date d''inscription du risque]]<>\"\",YEAR(Risque[[#This Row],[Date d''inscription du risque]]),\"\")","v":""}]
[null,null,{"$f":"IF(ISBLANK(Risque[[#This Row],[Catégorie de risque]]),\"\",CONCATENATE(Risque[[#This Row],[Catégorie de risque]],1))","v":""},null,null,null,null,null,{"$f":"IF(ISBLANK(Risque[[#This Row],[Catégorie de risque]]),\"\",IF(OR(ISNUMBER(SEARCH(\"RZ\",Risque[[#This Row],[Source de danger]]))=TRUE,ISNUMBER(SEARCH(\"RP\",Risque[[#This Row],[Source de danger]]))=TRUE,ISNUMBER(SEARCH(\"RZ\",Risque[[#This Row],[Risques associés]]))=TRUE,ISNUMBER(SEARCH(\"RP\",Risque[[#This Row],[Risques associés]]))=TRUE,ISNUMBER(SEARCH(\"RZ\",Risque[[#This Row],[Précision du risque\n(si liste déroulante présente)]]))=TRUE,ISNUMBER(SEARCH(\"RP\",Risque[[#This Row],[Précision du risque\n(si liste déroulante présente)]]))=TRUE),\"Oui --> Priorité d'action\",\"Non\"))","v":""},null,null,null,null,{"$f":"IF(ISBLANK(Risque[[#This Row],[Catégorie de risque]]),\"\",CONCATENATE(Risque[[#This Row],[Catégorie de risque]],2))","v":""},null,{"$f":"IF(ISBLANK(Risque[[#This Row],[Moyens de prévention]]),\"\",CONCATENATE(Risque[[#This Row],[Moyens de prévention]],1))","v":""},null,null,null,null,null,{"$f":"IF(ISBLANK(Risque[[#This Row],[Catégorie de risque]]),\"\",CONCATENATE(Risque[[#This Row],[Catégorie de risque]],3))","v":""},null,null,null,{"$f":"IF(ISBLANK(Risque[[#This Row],[Catégorie de risque]]),\"\",CONCATENATE(Risque[[#This Row],[Catégorie de risque]],4))","v":""},null,null,null,null,null,{"$f":"IF(Risque[[#This Row],[Date d''inscription du risque]]<>\"\",YEAR(Risque[[#This Row],[Date d''inscription du risque]]),\"\")","v":""}]
[null,null,{"$f":"IF(ISBLANK(Risque[[#This Row],[Catégorie de risque]]),\"\",CONCATENATE(Risque[[#This Row],[Catégorie de risque]],1))","v":""},null,null,null,null,null,{"$f":"IF(ISBLANK(Risque[[#This Row],[Catégorie de risque]]),\"\",IF(OR(ISNUMBER(SEARCH(\"RZ\",Risque[[#This Row],[Source de danger]]))=TRUE,ISNUMBER(SEARCH(\"RP\",Risque[[#This Row],[Source de danger]]))=TRUE,ISNUMBER(SEARCH(\"RZ\",Risque[[#This Row],[Risques associés]]))=TRUE,ISNUMBER(SEARCH(\"RP\",Risque[[#This Row],[Risques associés]]))=TRUE,ISNUMBER(SEARCH(\"RZ\",Risque[[#This Row],[Précision du risque\n(si liste déroulante présente)]]))=TRUE,ISNUMBER(SEARCH(\"RP\",Risque[[#This Row],[Précision du risque\n(si liste déroulante présente)]]))=TRUE),\"Oui --> Priorité d'action\",\"Non\"))","v":""},null,null,null,null,{"$f":"IF(ISBLANK(Risque[[#This Row],[Catégorie de risque]]),\"\",CONCATENATE(Risque[[#This Row],[Catégorie de risque]],2))","v":""},null,{"$f":"IF(ISBLANK(Risque[[#This Row],[Moyens de prévention]]),\"\",CONCATENATE(Risque[[#This Row],[Moyens de prévention]],1))","v":""},null,null,null,null,null,{"$f":"IF(ISBLANK(Risque[[#This Row],[Catégorie de risque]]),\"\",CONCATENATE(Risque[[#This Row],[Catégorie de risque]],3))","v":""},null,null,null,{"$f":"IF(ISBLANK(Risque[[#This Row],[Catégorie de risque]]),\"\",CONCATENATE(Risque[[#This Row],[Catégorie de risque]],4))","v":""},null,null,null,null,null,{"$f":"IF(Risque[[#This Row],[Date d''inscription du risque]]<>\"\",YEAR(Risque[[#This Row],[Date d''inscription du risque]]),\"\")","v":""}]
[null,null,{"$f":"IF(ISBLANK(Risque[[#This Row],[Catégorie de risque]]),\"\",CONCATENATE(Risque[[#This Row],[Catégorie de risque]],1))","v":""},null,null,null,null,null,{"$f":"IF(ISBLANK(Risque[[#This Row],[Catégorie de risque]]),\"\",IF(OR(ISNUMBER(SEARCH(\"RZ\",Risque[[#This Row],[Source de danger]]))=TRUE,ISNUMBER(SEARCH(\"RP\",Risque[[#This Row],[Source de danger]]))=TRUE,ISNUMBER(SEARCH(\"RZ\",Risque[[#This Row],[Risques associés]]))=TRUE,ISNUMBER(SEARCH(\"RP\",Risque[[#This Row],[Risques associés]]))=TRUE,ISNUMBER(SEARCH(\"RZ\",Risque[[#This Row],[Précision du risque\n(si liste déroulante présente)]]))=TRUE,ISNUMBER(SEARCH(\"RP\",Risque[[#This Row],[Précision du risque\n(si liste déroulante présente)]]))=TRUE),\"Oui --> Priorité d'action\",\"Non\"))","v":""},null,null,null,null,{"$f":"IF(ISBLANK(Risque[[#This Row],[Catégorie de risque]]),\"\",CONCATENATE(Risque[[#This Row],[Catégorie de risque]],2))","v":""},null,{"$f":"IF(ISBLANK(Risque[[#This Row],[Moyens de prévention]]),\"\",CONCATENATE(Risque[[#This Row],[Moyens de prévention]],1))","v":""},null,null,null,null,null,{"$f":"IF(ISBLANK(Risque[[#This Row],[Catégorie de risque]]),\"\",CONCATENATE(Risque[[#This Row],[Catégorie de risque]],3))","v":""},null,null,null,{"$f":"IF(ISBLANK(Risque[[#This Row],[Catégorie de risque]]),\"\",CONCATENATE(Risque[[#This Row],[Catégorie de risque]],4))","v":""},null,null,null,null,null,{"$f":"IF(Risque[[#This Row],[Date d''inscription du risque]]<>\"\",YEAR(Risque[[#This Row],[Date d''inscription du risque]]),\"\")","v":""}]
[null,null,{"$f":"IF(ISBLANK(Risque[[#This Row],[Catégorie de risque]]),\"\",CONCATENATE(Risque[[#This Row],[Catégorie de risque]],1))","v":""},null,null,null,null,null,{"$f":"IF(ISBLANK(Risque[[#This Row],[Catégorie de risque]]),\"\",IF(OR(ISNUMBER(SEARCH(\"RZ\",Risque[[#This Row],[Source de danger]]))=TRUE,ISNUMBER(SEARCH(\"RP\",Risque[[#This Row],[Source de danger]]))=TRUE,ISNUMBER(SEARCH(\"RZ\",Risque[[#This Row],[Risques associés]]))=TRUE,ISNUMBER(SEARCH(\"RP\",Risque[[#This Row],[Risques associés]]))=TRUE,ISNUMBER(SEARCH(\"RZ\",Risque[[#This Row],[Précision du risque\n(si liste déroulante présente)]]))=TRUE,ISNUMBER(SEARCH(\"RP\",Risque[[#This Row],[Précision du risque\n(si liste déroulante présente)]]))=TRUE),\"Oui --> Priorité d'action\",\"Non\"))","v":""},null,null,null,null,{"$f":"IF(ISBLANK(Risque[[#This Row],[Catégorie de risque]]),\"\",CONCATENATE(Risque[[#This Row],[Catégorie de risque]],2))","v":""},null,{"$f":"IF(ISBLANK(Risque[[#This Row],[Moyens de prévention]]),\"\",CONCATENATE(Risque[[#This Row],[Moyens de prévention]],1))","v":""},null,null,null,null,null,{"$f":"IF(ISBLANK(Risque[[#This Row],[Catégorie de risque]]),\"\",CONCATENATE(Risque[[#This Row],[Catégorie de risque]],3))","v":""},null,null,null,{"$f":"IF(ISBLANK(Risque[[#This Row],[Catégorie de risque]]),\"\",CONCATENATE(Risque[[#This Row],[Catégorie de risque]],4))","v":""},null,null,null,null,null,{"$f":"IF(Risque[[#This Row],[Date d''inscription du risque]]<>\"\",YEAR(Risque[[#This Row],[Date d''inscription du risque]]),\"\")","v":""}]
[null,null,{"$f":"IF(ISBLANK(Risque[[#This Row],[Catégorie de risque]]),\"\",CONCATENATE(Risque[[#This Row],[Catégorie de risque]],1))","v":""},null,null,null,null,null,{"$f":"IF(ISBLANK(Risque[[#This Row],[Catégorie de risque]]),\"\",IF(OR(ISNUMBER(SEARCH(\"RZ\",Risque[[#This Row],[Source de danger]]))=TRUE,ISNUMBER(SEARCH(\"RP\",Risque[[#This Row],[Source de danger]]))=TRUE,ISNUMBER(SEARCH(\"RZ\",Risque[[#This Row],[Risques associés]]))=TRUE,ISNUMBER(SEARCH(\"RP\",Risque[[#This Row],[Risques associés]]))=TRUE,ISNUMBER(SEARCH(\"RZ\",Risque[[#This Row],[Précision du risque\n(si liste déroulante présente)]]))=TRUE,ISNUMBER(SEARCH(\"RP\",Risque[[#This Row],[Précision du risque\n(si liste déroulante présente)]]))=TRUE),\"Oui --> Priorité d'action\",\"Non\"))","v":""},null,null,null,null,{"$f":"IF(ISBLANK(Risque[[#This Row],[Catégorie de risque]]),\"\",CONCATENATE(Risque[[#This Row],[Catégorie de risque]],2))","v":""},null,{"$f":"IF(ISBLANK(Risque[[#This Row],[Moyens de prévention]]),\"\",CONCATENATE(Risque[[#This Row],[Moyens de prévention]],1))","v":""},null,null,null,null,null,{"$f":"IF(ISBLANK(Risque[[#This Row],[Catégorie de risque]]),\"\",CONCATENATE(Risque[[#This Row],[Catégorie de risque]],3))","v":""},null,null,null,{"$f":"IF(ISBLANK(Risque[[#This Row],[Catégorie de risque]]),\"\",CONCATENATE(Risque[[#This Row],[Catégorie de risque]],4))","v":""},null,null,null,null,null,{"$f":"IF(Risque[[#This Row],[Date d''inscription du risque]]<>\"\",YEAR(Risque[[#This Row],[Date d''inscription du risque]]),\"\")","v":""}]
[null,null,{"$f":"IF(ISBLANK(Risque[[#This Row],[Catégorie de risque]]),\"\",CONCATENATE(Risque[[#This Row],[Catégorie de risque]],1))","v":""},null,null,null,null,null,{"$f":"IF(ISBLANK(Risque[[#This Row],[Catégorie de risque]]),\"\",IF(OR(ISNUMBER(SEARCH(\"RZ\",Risque[[#This Row],[Source de danger]]))=TRUE,ISNUMBER(SEARCH(\"RP\",Risque[[#This Row],[Source de danger]]))=TRUE,ISNUMBER(SEARCH(\"RZ\",Risque[[#This Row],[Risques associés]]))=TRUE,ISNUMBER(SEARCH(\"RP\",Risque[[#This Row],[Risques associés]]))=TRUE,ISNUMBER(SEARCH(\"RZ\",Risque[[#This Row],[Précision du risque\n(si liste déroulante présente)]]))=TRUE,ISNUMBER(SEARCH(\"RP\",Risque[[#This Row],[Précision du risque\n(si liste déroulante présente)]]))=TRUE),\"Oui --> Priorité d'action\",\"Non\"))","v":""},null,null,null,null,{"$f":"IF(ISBLANK(Risque[[#This Row],[Catégorie de risque]]),\"\",CONCATENATE(Risque[[#This Row],[Catégorie de risque]],2))","v":""},null,{"$f":"IF(ISBLANK(Risque[[#This Row],[Moyens de prévention]]),\"\",CONCATENATE(Risque[[#This Row],[Moyens de prévention]],1))","v":""},null,null,null,null,null,{"$f":"IF(ISBLANK(Risque[[#This Row],[Catégorie de risque]]),\"\",CONCATENATE(Risque[[#This Row],[Catégorie de risque]],3))","v":""},null,null,null,{"$f":"IF(ISBLANK(Risque[[#This Row],[Catégorie de risque]]),\"\",CONCATENATE(Risque[[#This Row],[Catégorie de risque]],4))","v":""},null,null,null,null,null,{"$f":"IF(Risque[[#This Row],[Date d''inscription du risque]]<>\"\",YEAR(Risque[[#This Row],[Date d''inscription du risque]]),\"\")","v":""}]
[null,null,{"$f":"IF(ISBLANK(Risque[[#This Row],[Catégorie de risque]]),\"\",CONCATENATE(Risque[[#This Row],[Catégorie de risque]],1))","v":""},null,null,null,null,null,{"$f":"IF(ISBLANK(Risque[[#This Row],[Catégorie de risque]]),\"\",IF(OR(ISNUMBER(SEARCH(\"RZ\",Risque[[#This Row],[Source de danger]]))=TRUE,ISNUMBER(SEARCH(\"RP\",Risque[[#This Row],[Source de danger]]))=TRUE,ISNUMBER(SEARCH(\"RZ\",Risque[[#This Row],[Risques associés]]))=TRUE,ISNUMBER(SEARCH(\"RP\",Risque[[#This Row],[Risques associés]]))=TRUE,ISNUMBER(SEARCH(\"RZ\",Risque[[#This Row],[Précision du risque\n(si liste déroulante présente)]]))=TRUE,ISNUMBER(SEARCH(\"RP\",Risque[[#This Row],[Précision du risque\n(si liste déroulante présente)]]))=TRUE),\"Oui --> Priorité d'action\",\"Non\"))","v":""},null,null,null,null,{"$f":"IF(ISBLANK(Risque[[#This Row],[Catégorie de risque]]),\"\",CONCATENATE(Risque[[#This Row],[Catégorie de risque]],2))","v":""},null,{"$f":"IF(ISBLANK(Risque[[#This Row],[Moyens de prévention]]),\"\",CONCATENATE(Risque[[#This Row],[Moyens de prévention]],1))","v":""},null,null,null,null,null,{"$f":"IF(ISBLANK(Risque[[#This Row],[Catégorie de risque]]),\"\",CONCATENATE(Risque[[#This Row],[Catégorie de risque]],3))","v":""},null,null,null,{"$f":"IF(ISBLANK(Risque[[#This Row],[Catégorie de risque]]),\"\",CONCATENATE(Risque[[#This Row],[Catégorie de risque]],4))","v":""},null,null,null,null,null,{"$f":"IF(Risque[[#This Row],[Date d''inscription du risque]]<>\"\",YEAR(Risque[[#This Row],[Date d''inscription du risque]]),\"\")","v":""}]
[null,null,{"$f":"IF(ISBLANK(Risque[[#This Row],[Catégorie de risque]]),\"\",CONCATENATE(Risque[[#This Row],[Catégorie de risque]],1))","v":""},null,null,null,null,null,{"$f":"IF(ISBLANK(Risque[[#This Row],[Catégorie de risque]]),\"\",IF(OR(ISNUMBER(SEARCH(\"RZ\",Risque[[#This Row],[Source de danger]]))=TRUE,ISNUMBER(SEARCH(\"RP\",Risque[[#This Row],[Source de danger]]))=TRUE,ISNUMBER(SEARCH(\"RZ\",Risque[[#This Row],[Risques associés]]))=TRUE,ISNUMBER(SEARCH(\"RP\",Risque[[#This Row],[Risques associés]]))=TRUE,ISNUMBER(SEARCH(\"RZ\",Risque[[#This Row],[Précision du risque\n(si liste déroulante présente)]]))=TRUE,ISNUMBER(SEARCH(\"RP\",Risque[[#This Row],[Précision du risque\n(si liste déroulante présente)]]))=TRUE),\"Oui --> Priorité d'action\",\"Non\"))","v":""},null,null,null,null,{"$f":"IF(ISBLANK(Risque[[#This Row],[Catégorie de risque]]),\"\",CONCATENATE(Risque[[#This Row],[Catégorie de risque]],2))","v":""},null,{"$f":"IF(ISBLANK(Risque[[#This Row],[Moyens de prévention]]),\"\",CONCATENATE(Risque[[#This Row],[Moyens de prévention]],1))","v":""},null,null,null,null,null,{"$f":"IF(ISBLANK(Risque[[#This Row],[Catégorie de risque]]),\"\",CONCATENATE(Risque[[#This Row],[Catégorie de risque]],3))","v":""},null,null,null,{"$f":"IF(ISBLANK(Risque[[#This Row],[Catégorie de risque]]),\"\",CONCATENATE(Risque[[#This Row],[Catégorie de risque]],4))","v":""},null,null,null,null,null,{"$f":"IF(Risque[[#This Row],[Date d''inscription du risque]]<>\"\",YEAR(Risque[[#This Row],[Date d''inscription du risque]]),\"\")","v":""}]
[null,null,{"$f":"IF(ISBLANK(Risque[[#This Row],[Catégorie de risque]]),\"\",CONCATENATE(Risque[[#This Row],[Catégorie de risque]],1))","v":""},null,null,null,null,null,{"$f":"IF(ISBLANK(Risque[[#This Row],[Catégorie de risque]]),\"\",IF(OR(ISNUMBER(SEARCH(\"RZ\",Risque[[#This Row],[Source de danger]]))=TRUE,ISNUMBER(SEARCH(\"RP\",Risque[[#This Row],[Source de danger]]))=TRUE,ISNUMBER(SEARCH(\"RZ\",Risque[[#This Row],[Risques associés]]))=TRUE,ISNUMBER(SEARCH(\"RP\",Risque[[#This Row],[Risques associés]]))=TRUE,ISNUMBER(SEARCH(\"RZ\",Risque[[#This Row],[Précision du risque\n(si liste déroulante présente)]]))=TRUE,ISNUMBER(SEARCH(\"RP\",Risque[[#This Row],[Précision du risque\n(si liste déroulante présente)]]))=TRUE),\"Oui --> Priorité d'action\",\"Non\"))","v":""},null,null,null,null,{"$f":"IF(ISBLANK(Risque[[#This Row],[Catégorie de risque]]),\"\",CONCATENATE(Risque[[#This Row],[Catégorie de risque]],2))","v":""},null,{"$f":"IF(ISBLANK(Risque[[#This Row],[Moyens de prévention]]),\"\",CONCATENATE(Risque[[#This Row],[Moyens de prévention]],1))","v":""},null,null,null,null,null,{"$f":"IF(ISBLANK(Risque[[#This Row],[Catégorie de risque]]),\"\",CONCATENATE(Risque[[#This Row],[Catégorie de risque]],3))","v":""},null,null,null,{"$f":"IF(ISBLANK(Risque[[#This Row],[Catégorie de risque]]),\"\",CONCATENATE(Risque[[#This Row],[Catégorie de risque]],4))","v":""},null,null,null,null,null,{"$f":"IF(Risque[[#This Row],[Date d''inscription du risque]]<>\"\",YEAR(Risque[[#This Row],[Date d''inscription du risque]]),\"\")","v":""}]
[null,null,{"$f":"IF(ISBLANK(Risque[[#This Row],[Catégorie de risque]]),\"\",CONCATENATE(Risque[[#This Row],[Catégorie de risque]],1))","v":""},null,null,null,null,null,{"$f":"IF(ISBLANK(Risque[[#This Row],[Catégorie de risque]]),\"\",IF(OR(ISNUMBER(SEARCH(\"RZ\",Risque[[#This Row],[Source de danger]]))=TRUE,ISNUMBER(SEARCH(\"RP\",Risque[[#This Row],[Source de danger]]))=TRUE,ISNUMBER(SEARCH(\"RZ\",Risque[[#This Row],[Risques associés]]))=TRUE,ISNUMBER(SEARCH(\"RP\",Risque[[#This Row],[Risques associés]]))=TRUE,ISNUMBER(SEARCH(\"RZ\",Risque[[#This Row],[Précision du risque\n(si liste déroulante présente)]]))=TRUE,ISNUMBER(SEARCH(\"RP\",Risque[[#This Row],[Précision du risque\n(si liste déroulante présente)]]))=TRUE),\"Oui --> Priorité d'action\",\"Non\"))","v":""},null,null,null,null,{"$f":"IF(ISBLANK(Risque[[#This Row],[Catégorie de risque]]),\"\",CONCATENATE(Risque[[#This Row],[Catégorie de risque]],2))","v":""},null,{"$f":"IF(ISBLANK(Risque[[#This Row],[Moyens de prévention]]),\"\",CONCATENATE(Risque[[#This Row],[Moyens de prévention]],1))","v":""},null,null,null,null,null,{"$f":"IF(ISBLANK(Risque[[#This Row],[Catégorie de risque]]),\"\",CONCATENATE(Risque[[#This Row],[Catégorie de risque]],3))","v":""},null,null,null,{"$f":"IF(ISBLANK(Risque[[#This Row],[Catégorie de risque]]),\"\",CONCATENATE(Risque[[#This Row],[Catégorie de risque]],4))","v":""},null,null,null,null,null,{"$f":"IF(Risque[[#This Row],[Date d''inscription du risque]]<>\"\",YEAR(Risque[[#This Row],[Date d''inscription du risque]]),\"\")","v":""}]
[null,null,{"$f":"IF(ISBLANK(Risque[[#This Row],[Catégorie de risque]]),\"\",CONCATENATE(Risque[[#This Row],[Catégorie de risque]],1))","v":""},null,null,null,null,null,{"$f":"IF(ISBLANK(Risque[[#This Row],[Catégorie de risque]]),\"\",IF(OR(ISNUMBER(SEARCH(\"RZ\",Risque[[#This Row],[Source de danger]]))=TRUE,ISNUMBER(SEARCH(\"RP\",Risque[[#This Row],[Source de danger]]))=TRUE,ISNUMBER(SEARCH(\"RZ\",Risque[[#This Row],[Risques associés]]))=TRUE,ISNUMBER(SEARCH(\"RP\",Risque[[#This Row],[Risques associés]]))=TRUE,ISNUMBER(SEARCH(\"RZ\",Risque[[#This Row],[Précision du risque\n(si liste déroulante présente)]]))=TRUE,ISNUMBER(SEARCH(\"RP\",Risque[[#This Row],[Précision du risque\n(si liste déroulante présente)]]))=TRUE),\"Oui --> Priorité d'action\",\"Non\"))","v":""},null,null,null,null,{"$f":"IF(ISBLANK(Risque[[#This Row],[Catégorie de risque]]),\"\",CONCATENATE(Risque[[#This Row],[Catégorie de risque]],2))","v":""},null,{"$f":"IF(ISBLANK(Risque[[#This Row],[Moyens de prévention]]),\"\",CONCATENATE(Risque[[#This Row],[Moyens de prévention]],1))","v":""},null,null,null,null,null,{"$f":"IF(ISBLANK(Risque[[#This Row],[Catégorie de risque]]),\"\",CONCATENATE(Risque[[#This Row],[Catégorie de risque]],3))","v":""},null,null,null,{"$f":"IF(ISBLANK(Risque[[#This Row],[Catégorie de risque]]),\"\",CONCATENATE(Risque[[#This Row],[Catégorie de risque]],4))","v":""},null,null,null,null,null,{"$f":"IF(Risque[[#This Row],[Date d''inscription du risque]]<>\"\",YEAR(Risque[[#This Row],[Date d''inscription du risque]]),\"\")","v":""}]
[null,null,{"$f":"IF(ISBLANK(Risque[[#This Row],[Catégorie de risque]]),\"\",CONCATENATE(Risque[[#This Row],[Catégorie de risque]],1))","v":""},null,null,null,null,null,{"$f":"IF(ISBLANK(Risque[[#This Row],[Catégorie de risque]]),\"\",IF(OR(ISNUMBER(SEARCH(\"RZ\",Risque[[#This Row],[Source de danger]]))=TRUE,ISNUMBER(SEARCH(\"RP\",Risque[[#This Row],[Source de danger]]))=TRUE,ISNUMBER(SEARCH(\"RZ\",Risque[[#This Row],[Risques associés]]))=TRUE,ISNUMBER(SEARCH(\"RP\",Risque[[#This Row],[Risques associés]]))=TRUE,ISNUMBER(SEARCH(\"RZ\",Risque[[#This Row],[Précision du risque\n(si liste déroulante présente)]]))=TRUE,ISNUMBER(SEARCH(\"RP\",Risque[[#This Row],[Précision du risque\n(si liste déroulante présente)]]))=TRUE),\"Oui --> Priorité d'action\",\"Non\"))","v":""},null,null,null,null,{"$f":"IF(ISBLANK(Risque[[#This Row],[Catégorie de risque]]),\"\",CONCATENATE(Risque[[#This Row],[Catégorie de risque]],2))","v":""},null,{"$f":"IF(ISBLANK(Risque[[#This Row],[Moyens de prévention]]),\"\",CONCATENATE(Risque[[#This Row],[Moyens de prévention]],1))","v":""},null,null,null,null,null,{"$f":"IF(ISBLANK(Risque[[#This Row],[Catégorie de risque]]),\"\",CONCATENATE(Risque[[#This Row],[Catégorie de risque]],3))","v":""},null,null,null,{"$f":"IF(ISBLANK(Risque[[#This Row],[Catégorie de risque]]),\"\",CONCATENATE(Risque[[#This Row],[Catégorie de risque]],4))","v":""},null,null,null,null,null,{"$f":"IF(Risque[[#This Row],[Date d''inscription du risque]]<>\"\",YEAR(Risque[[#This Row],[Date d''inscription du risque]]),\"\")","v":""}]
[null,null,{"$f":"IF(ISBLANK(Risque[[#This Row],[Catégorie de risque]]),\"\",CONCATENATE(Risque[[#This Row],[Catégorie de risque]],1))","v":""},null,null,null,null,null,{"$f":"IF(ISBLANK(Risque[[#This Row],[Catégorie de risque]]),\"\",IF(OR(ISNUMBER(SEARCH(\"RZ\",Risque[[#This Row],[Source de danger]]))=TRUE,ISNUMBER(SEARCH(\"RP\",Risque[[#This Row],[Source de danger]]))=TRUE,ISNUMBER(SEARCH(\"RZ\",Risque[[#This Row],[Risques associés]]))=TRUE,ISNUMBER(SEARCH(\"RP\",Risque[[#This Row],[Risques associés]]))=TRUE,ISNUMBER(SEARCH(\"RZ\",Risque[[#This Row],[Précision du risque\n(si liste déroulante présente)]]))=TRUE,ISNUMBER(SEARCH(\"RP\",Risque[[#This Row],[Précision du risque\n(si liste déroulante présente)]]))=TRUE),\"Oui --> Priorité d'action\",\"Non\"))","v":""},null,null,null,null,{"$f":"IF(ISBLANK(Risque[[#This Row],[Catégorie de risque]]),\"\",CONCATENATE(Risque[[#This Row],[Catégorie de risque]],2))","v":""},null,{"$f":"IF(ISBLANK(Risque[[#This Row],[Moyens de prévention]]),\"\",CONCATENATE(Risque[[#This Row],[Moyens de prévention]],1))","v":""},null,null,null,null,null,{"$f":"IF(ISBLANK(Risque[[#This Row],[Catégorie de risque]]),\"\",CONCATENATE(Risque[[#This Row],[Catégorie de risque]],3))","v":""},null,null,null,{"$f":"IF(ISBLANK(Risque[[#This Row],[Catégorie de risque]]),\"\",CONCATENATE(Risque[[#This Row],[Catégorie de risque]],4))","v":""},null,null,null,null,null,{"$f":"IF(Risque[[#This Row],[Date d''inscription du risque]]<>\"\",YEAR(Risque[[#This Row],[Date d''inscription du risque]]),\"\")","v":""}]
[null,null,{"$f":"IF(ISBLANK(Risque[[#This Row],[Catégorie de risque]]),\"\",CONCATENATE(Risque[[#This Row],[Catégorie de risque]],1))","v":""},null,null,null,null,null,{"$f":"IF(ISBLANK(Risque[[#This Row],[Catégorie de risque]]),\"\",IF(OR(ISNUMBER(SEARCH(\"RZ\",Risque[[#This Row],[Source de danger]]))=TRUE,ISNUMBER(SEARCH(\"RP\",Risque[[#This Row],[Source de danger]]))=TRUE,ISNUMBER(SEARCH(\"RZ\",Risque[[#This Row],[Risques associés]]))=TRUE,ISNUMBER(SEARCH(\"RP\",Risque[[#This Row],[Risques associés]]))=TRUE,ISNUMBER(SEARCH(\"RZ\",Risque[[#This Row],[Précision du risque\n(si liste déroulante présente)]]))=TRUE,ISNUMBER(SEARCH(\"RP\",Risque[[#This Row],[Précision du risque\n(si liste déroulante présente)]]))=TRUE),\"Oui --> Priorité d'action\",\"Non\"))","v":""},null,null,null,null,{"$f":"IF(ISBLANK(Risque[[#This Row],[Catégorie de risque]]),\"\",CONCATENATE(Risque[[#This Row],[Catégorie de risque]],2))","v":""},null,{"$f":"IF(ISBLANK(Risque[[#This Row],[Moyens de prévention]]),\"\",CONCATENATE(Risque[[#This Row],[Moyens de prévention]],1))","v":""},null,null,null,null,null,{"$f":"IF(ISBLANK(Risque[[#This Row],[Catégorie de risque]]),\"\",CONCATENATE(Risque[[#This Row],[Catégorie de risque]],3))","v":""},null,null,null,{"$f":"IF(ISBLANK(Risque[[#This Row],[Catégorie de risque]]),\"\",CONCATENATE(Risque[[#This Row],[Catégorie de risque]],4))","v":""},null,null,null,null,null,{"$f":"IF(Risque[[#This Row],[Date d''inscription du risque]]<>\"\",YEAR(Risque[[#This Row],[Date d''inscription du risque]]),\"\")","v":""}]
[null,null,{"$f":"IF(ISBLANK(Risque[[#This Row],[Catégorie de risque]]),\"\",CONCATENATE(Risque[[#This Row],[Catégorie de risque]],1))","v":""},null,null,null,null,null,{"$f":"IF(ISBLANK(Risque[[#This Row],[Catégorie de risque]]),\"\",IF(OR(ISNUMBER(SEARCH(\"RZ\",Risque[[#This Row],[Source de danger]]))=TRUE,ISNUMBER(SEARCH(\"RP\",Risque[[#This Row],[Source de danger]]))=TRUE,ISNUMBER(SEARCH(\"RZ\",Risque[[#This Row],[Risques associés]]))=TRUE,ISNUMBER(SEARCH(\"RP\",Risque[[#This Row],[Risques associés]]))=TRUE,ISNUMBER(SEARCH(\"RZ\",Risque[[#This Row],[Précision du risque\n(si liste déroulante présente)]]))=TRUE,ISNUMBER(SEARCH(\"RP\",Risque[[#This Row],[Précision du risque\n(si liste déroulante présente)]]))=TRUE),\"Oui --> Priorité d'action\",\"Non\"))","v":""},null,null,null,null,{"$f":"IF(ISBLANK(Risque[[#This Row],[Catégorie de risque]]),\"\",CONCATENATE(Risque[[#This Row],[Catégorie de risque]],2))","v":""},null,{"$f":"IF(ISBLANK(Risque[[#This Row],[Moyens de prévention]]),\"\",CONCATENATE(Risque[[#This Row],[Moyens de prévention]],1))","v":""},null,null,null,null,null,{"$f":"IF(ISBLANK(Risque[[#This Row],[Catégorie de risque]]),\"\",CONCATENATE(Risque[[#This Row],[Catégorie de risque]],3))","v":""},null,null,null,{"$f":"IF(ISBLANK(Risque[[#This Row],[Catégorie de risque]]),\"\",CONCATENATE(Risque[[#This Row],[Catégorie de risque]],4))","v":""},null,null,null,null,null,{"$f":"IF(Risque[[#This Row],[Date d''inscription du risque]]<>\"\",YEAR(Risque[[#This Row],[Date d''inscription du risque]]),\"\")","v":""}]
[null,null,{"$f":"IF(ISBLANK(Risque[[#This Row],[Catégorie de risque]]),\"\",CONCATENATE(Risque[[#This Row],[Catégorie de risque]],1))","v":""},null,null,null,null,null,{"$f":"IF(ISBLANK(Risque[[#This Row],[Catégorie de risque]]),\"\",IF(OR(ISNUMBER(SEARCH(\"RZ\",Risque[[#This Row],[Source de danger]]))=TRUE,ISNUMBER(SEARCH(\"RP\",Risque[[#This Row],[Source de danger]]))=TRUE,ISNUMBER(SEARCH(\"RZ\",Risque[[#This Row],[Risques associés]]))=TRUE,ISNUMBER(SEARCH(\"RP\",Risque[[#This Row],[Risques associés]]))=TRUE,ISNUMBER(SEARCH(\"RZ\",Risque[[#This Row],[Précision du risque\n(si liste déroulante présente)]]))=TRUE,ISNUMBER(SEARCH(\"RP\",Risque[[#This Row],[Précision du risque\n(si liste déroulante présente)]]))=TRUE),\"Oui --> Priorité d'action\",\"Non\"))","v":""},null,null,null,null,{"$f":"IF(ISBLANK(Risque[[#This Row],[Catégorie de risque]]),\"\",CONCATENATE(Risque[[#This Row],[Catégorie de risque]],2))","v":""},null,{"$f":"IF(ISBLANK(Risque[[#This Row],[Moyens de prévention]]),\"\",CONCATENATE(Risque[[#This Row],[Moyens de prévention]],1))","v":""},null,null,null,null,null,{"$f":"IF(ISBLANK(Risque[[#This Row],[Catégorie de risque]]),\"\",CONCATENATE(Risque[[#This Row],[Catégorie de risque]],3))","v":""},null,null,null,{"$f":"IF(ISBLANK(Risque[[#This Row],[Catégorie de risque]]),\"\",CONCATENATE(Risque[[#This Row],[Catégorie de risque]],4))","v":""},null,null,null,null,null,{"$f":"IF(Risque[[#This Row],[Date d''inscription du risque]]<>\"\",YEAR(Risque[[#This Row],[Date d''inscription du risque]]),\"\")","v":""}]
[null,null,{"$f":"IF(ISBLANK(Risque[[#This Row],[Catégorie de risque]]),\"\",CONCATENATE(Risque[[#This Row],[Catégorie de risque]],1))","v":""},null,null,null,null,null,{"$f":"IF(ISBLANK(Risque[[#This Row],[Catégorie de risque]]),\"\",IF(OR(ISNUMBER(SEARCH(\"RZ\",Risque[[#This Row],[Source de danger]]))=TRUE,ISNUMBER(SEARCH(\"RP\",Risque[[#This Row],[Source de danger]]))=TRUE,ISNUMBER(SEARCH(\"RZ\",Risque[[#This Row],[Risques associés]]))=TRUE,ISNUMBER(SEARCH(\"RP\",Risque[[#This Row],[Risques associés]]))=TRUE,ISNUMBER(SEARCH(\"RZ\",Risque[[#This Row],[Précision du risque\n(si liste déroulante présente)]]))=TRUE,ISNUMBER(SEARCH(\"RP\",Risque[[#This Row],[Précision du risque\n(si liste déroulante présente)]]))=TRUE),\"Oui --> Priorité d'action\",\"Non\"))","v":""},null,null,null,null,{"$f":"IF(ISBLANK(Risque[[#This Row],[Catégorie de risque]]),\"\",CONCATENATE(Risque[[#This Row],[Catégorie de risque]],2))","v":""},null,{"$f":"IF(ISBLANK(Risque[[#This Row],[Moyens de prévention]]),\"\",CONCATENATE(Risque[[#This Row],[Moyens de prévention]],1))","v":""},null,null,null,null,null,{"$f":"IF(ISBLANK(Risque[[#This Row],[Catégorie de risque]]),\"\",CONCATENATE(Risque[[#This Row],[Catégorie de risque]],3))","v":""},null,null,null,{"$f":"IF(ISBLANK(Risque[[#This Row],[Catégorie de risque]]),\"\",CONCATENATE(Risque[[#This Row],[Catégorie de risque]],4))","v":""},null,null,null,null,null,{"$f":"IF(Risque[[#This Row],[Date d''inscription du risque]]<>\"\",YEAR(Risque[[#This Row],[Date d''inscription du risque]]),\"\")","v":""}]
[null,null,{"$f":"IF(ISBLANK(Risque[[#This Row],[Catégorie de risque]]),\"\",CONCATENATE(Risque[[#This Row],[Catégorie de risque]],1))","v":""},null,null,null,null,null,{"$f":"IF(ISBLANK(Risque[[#This Row],[Catégorie de risque]]),\"\",IF(OR(ISNUMBER(SEARCH(\"RZ\",Risque[[#This Row],[Source de danger]]))=TRUE,ISNUMBER(SEARCH(\"RP\",Risque[[#This Row],[Source de danger]]))=TRUE,ISNUMBER(SEARCH(\"RZ\",Risque[[#This Row],[Risques associés]]))=TRUE,ISNUMBER(SEARCH(\"RP\",Risque[[#This Row],[Risques associés]]))=TRUE,ISNUMBER(SEARCH(\"RZ\",Risque[[#This Row],[Précision du risque\n(si liste déroulante présente)]]))=TRUE,ISNUMBER(SEARCH(\"RP\",Risque[[#This Row],[Précision du risque\n(si liste déroulante présente)]]))=TRUE),\"Oui --> Priorité d'action\",\"Non\"))","v":""},null,null,null,null,{"$f":"IF(ISBLANK(Risque[[#This Row],[Catégorie de risque]]),\"\",CONCATENATE(Risque[[#This Row],[Catégorie de risque]],2))","v":""},null,{"$f":"IF(ISBLANK(Risque[[#This Row],[Moyens de prévention]]),\"\",CONCATENATE(Risque[[#This Row],[Moyens de prévention]],1))","v":""},null,null,null,null,null,{"$f":"IF(ISBLANK(Risque[[#This Row],[Catégorie de risque]]),\"\",CONCATENATE(Risque[[#This Row],[Catégorie de risque]],3))","v":""},null,null,null,{"$f":"IF(ISBLANK(Risque[[#This Row],[Catégorie de risque]]),\"\",CONCATENATE(Risque[[#This Row],[Catégorie de risque]],4))","v":""},null,null,null,null,null,{"$f":"IF(Risque[[#This Row],[Date d''inscription du risque]]<>\"\",YEAR(Risque[[#This Row],[Date d''inscription du risque]]),\"\")","v":""}]
[null,null,{"$f":"IF(ISBLANK(Risque[[#This Row],[Catégorie de risque]]),\"\",CONCATENATE(Risque[[#This Row],[Catégorie de risque]],1))","v":""},null,null,null,null,null,{"$f":"IF(ISBLANK(Risque[[#This Row],[Catégorie de risque]]),\"\",IF(OR(ISNUMBER(SEARCH(\"RZ\",Risque[[#This Row],[Source de danger]]))=TRUE,ISNUMBER(SEARCH(\"RP\",Risque[[#This Row],[Source de danger]]))=TRUE,ISNUMBER(SEARCH(\"RZ\",Risque[[#This Row],[Risques associés]]))=TRUE,ISNUMBER(SEARCH(\"RP\",Risque[[#This Row],[Risques associés]]))=TRUE,ISNUMBER(SEARCH(\"RZ\",Risque[[#This Row],[Précision du risque\n(si liste déroulante présente)]]))=TRUE,ISNUMBER(SEARCH(\"RP\",Risque[[#This Row],[Précision du risque\n(si liste déroulante présente)]]))=TRUE),\"Oui --> Priorité d'action\",\"Non\"))","v":""},null,null,null,null,{"$f":"IF(ISBLANK(Risque[[#This Row],[Catégorie de risque]]),\"\",CONCATENATE(Risque[[#This Row],[Catégorie de risque]],2))","v":""},null,{"$f":"IF(ISBLANK(Risque[[#This Row],[Moyens de prévention]]),\"\",CONCATENATE(Risque[[#This Row],[Moyens de prévention]],1))","v":""},null,null,null,null,null,{"$f":"IF(ISBLANK(Risque[[#This Row],[Catégorie de risque]]),\"\",CONCATENATE(Risque[[#This Row],[Catégorie de risque]],3))","v":""},null,null,null,{"$f":"IF(ISBLANK(Risque[[#This Row],[Catégorie de risque]]),\"\",CONCATENATE(Risque[[#This Row],[Catégorie de risque]],4))","v":""},null,null,null,null,null,{"$f":"IF(Risque[[#This Row],[Date d''inscription du risque]]<>\"\",YEAR(Risque[[#This Row],[Date d''inscription du risque]]),\"\")","v":""}]
[null,null,{"$f":"IF(ISBLANK(Risque[[#This Row],[Catégorie de risque]]),\"\",CONCATENATE(Risque[[#This Row],[Catégorie de risque]],1))","v":""},null,null,null,null,null,{"$f":"IF(ISBLANK(Risque[[#This Row],[Catégorie de risque]]),\"\",IF(OR(ISNUMBER(SEARCH(\"RZ\",Risque[[#This Row],[Source de danger]]))=TRUE,ISNUMBER(SEARCH(\"RP\",Risque[[#This Row],[Source de danger]]))=TRUE,ISNUMBER(SEARCH(\"RZ\",Risque[[#This Row],[Risques associés]]))=TRUE,ISNUMBER(SEARCH(\"RP\",Risque[[#This Row],[Risques associés]]))=TRUE,ISNUMBER(SEARCH(\"RZ\",Risque[[#This Row],[Précision du risque\n(si liste déroulante présente)]]))=TRUE,ISNUMBER(SEARCH(\"RP\",Risque[[#This Row],[Précision du risque\n(si liste déroulante présente)]]))=TRUE),\"Oui --> Priorité d'action\",\"Non\"))","v":""},null,null,null,null,{"$f":"IF(ISBLANK(Risque[[#This Row],[Catégorie de risque]]),\"\",CONCATENATE(Risque[[#This Row],[Catégorie de risque]],2))","v":""},null,{"$f":"IF(ISBLANK(Risque[[#This Row],[Moyens de prévention]]),\"\",CONCATENATE(Risque[[#This Row],[Moyens de prévention]],1))","v":""},null,null,null,null,null,{"$f":"IF(ISBLANK(Risque[[#This Row],[Catégorie de risque]]),\"\",CONCATENATE(Risque[[#This Row],[Catégorie de risque]],3))","v":""},null,null,null,{"$f":"IF(ISBLANK(Risque[[#This Row],[Catégorie de risque]]),\"\",CONCATENATE(Risque[[#This Row],[Catégorie de risque]],4))","v":""},null,null,null,null,null,{"$f":"IF(Risque[[#This Row],[Date d''inscription du risque]]<>\"\",YEAR(Risque[[#This Row],[Date d''inscription du risque]]),\"\")","v":""}]
[null,null,{"$f":"IF(ISBLANK(Risque[[#This Row],[Catégorie de risque]]),\"\",CONCATENATE(Risque[[#This Row],[Catégorie de risque]],1))","v":""},null,null,null,null,null,{"$f":"IF(ISBLANK(Risque[[#This Row],[Catégorie de risque]]),\"\",IF(OR(ISNUMBER(SEARCH(\"RZ\",Risque[[#This Row],[Source de danger]]))=TRUE,ISNUMBER(SEARCH(\"RP\",Risque[[#This Row],[Source de danger]]))=TRUE,ISNUMBER(SEARCH(\"RZ\",Risque[[#This Row],[Risques associés]]))=TRUE,ISNUMBER(SEARCH(\"RP\",Risque[[#This Row],[Risques associés]]))=TRUE,ISNUMBER(SEARCH(\"RZ\",Risque[[#This Row],[Précision du risque\n(si liste déroulante présente)]]))=TRUE,ISNUMBER(SEARCH(\"RP\",Risque[[#This Row],[Précision du risque\n(si liste déroulante présente)]]))=TRUE),\"Oui --> Priorité d'action\",\"Non\"))","v":""},null,null,null,null,{"$f":"IF(ISBLANK(Risque[[#This Row],[Catégorie de risque]]),\"\",CONCATENATE(Risque[[#This Row],[Catégorie de risque]],2))","v":""},null,{"$f":"IF(ISBLANK(Risque[[#This Row],[Moyens de prévention]]),\"\",CONCATENATE(Risque[[#This Row],[Moyens de prévention]],1))","v":""},null,null,null,null,null,{"$f":"IF(ISBLANK(Risque[[#This Row],[Catégorie de risque]]),\"\",CONCATENATE(Risque[[#This Row],[Catégorie de risque]],3))","v":""},null,null,null,{"$f":"IF(ISBLANK(Risque[[#This Row],[Catégorie de risque]]),\"\",CONCATENATE(Risque[[#This Row],[Catégorie de risque]],4))","v":""},null,null,null,null,null,{"$f":"IF(Risque[[#This Row],[Date d''inscription du risque]]<>\"\",YEAR(Risque[[#This Row],[Date d''inscription du risque]]),\"\")","v":""}]
[null,null,{"$f":"IF(ISBLANK(Risque[[#This Row],[Catégorie de risque]]),\"\",CONCATENATE(Risque[[#This Row],[Catégorie de risque]],1))","v":""},null,null,null,null,null,{"$f":"IF(ISBLANK(Risque[[#This Row],[Catégorie de risque]]),\"\",IF(OR(ISNUMBER(SEARCH(\"RZ\",Risque[[#This Row],[Source de danger]]))=TRUE,ISNUMBER(SEARCH(\"RP\",Risque[[#This Row],[Source de danger]]))=TRUE,ISNUMBER(SEARCH(\"RZ\",Risque[[#This Row],[Risques associés]]))=TRUE,ISNUMBER(SEARCH(\"RP\",Risque[[#This Row],[Risques associés]]))=TRUE,ISNUMBER(SEARCH(\"RZ\",Risque[[#This Row],[Précision du risque\n(si liste déroulante présente)]]))=TRUE,ISNUMBER(SEARCH(\"RP\",Risque[[#This Row],[Précision du risque\n(si liste déroulante présente)]]))=TRUE),\"Oui --> Priorité d'action\",\"Non\"))","v":""},null,null,null,null,{"$f":"IF(ISBLANK(Risque[[#This Row],[Catégorie de risque]]),\"\",CONCATENATE(Risque[[#This Row],[Catégorie de risque]],2))","v":""},null,{"$f":"IF(ISBLANK(Risque[[#This Row],[Moyens de prévention]]),\"\",CONCATENATE(Risque[[#This Row],[Moyens de prévention]],1))","v":""},null,null,null,null,null,{"$f":"IF(ISBLANK(Risque[[#This Row],[Catégorie de risque]]),\"\",CONCATENATE(Risque[[#This Row],[Catégorie de risque]],3))","v":""},null,null,null,{"$f":"IF(ISBLANK(Risque[[#This Row],[Catégorie de risque]]),\"\",CONCATENATE(Risque[[#This Row],[Catégorie de risque]],4))","v":""},null,null,null,null,null,{"$f":"IF(Risque[[#This Row],[Date d''inscription du risque]]<>\"\",YEAR(Risque[[#This Row],[Date d''inscription du risque]]),\"\")","v":""}]
[null,null,{"$f":"IF(ISBLANK(Risque[[#This Row],[Catégorie de risque]]),\"\",CONCATENATE(Risque[[#This Row],[Catégorie de risque]],1))","v":""},null,null,null,null,null,{"$f":"IF(ISBLANK(Risque[[#This Row],[Catégorie de risque]]),\"\",IF(OR(ISNUMBER(SEARCH(\"RZ\",Risque[[#This Row],[Source de danger]]))=TRUE,ISNUMBER(SEARCH(\"RP\",Risque[[#This Row],[Source de danger]]))=TRUE,ISNUMBER(SEARCH(\"RZ\",Risque[[#This Row],[Risques associés]]))=TRUE,ISNUMBER(SEARCH(\"RP\",Risque[[#This Row],[Risques associés]]))=TRUE,ISNUMBER(SEARCH(\"RZ\",Risque[[#This Row],[Précision du risque\n(si liste déroulante présente)]]))=TRUE,ISNUMBER(SEARCH(\"RP\",Risque[[#This Row],[Précision du risque\n(si liste déroulante présente)]]))=TRUE),\"Oui --> Priorité d'action\",\"Non\"))","v":""},null,null,null,null,{"$f":"IF(ISBLANK(Risque[[#This Row],[Catégorie de risque]]),\"\",CONCATENATE(Risque[[#This Row],[Catégorie de risque]],2))","v":""},null,{"$f":"IF(ISBLANK(Risque[[#This Row],[Moyens de prévention]]),\"\",CONCATENATE(Risque[[#This Row],[Moyens de prévention]],1))","v":""},null,null,null,null,null,{"$f":"IF(ISBLANK(Risque[[#This Row],[Catégorie de risque]]),\"\",CONCATENATE(Risque[[#This Row],[Catégorie de risque]],3))","v":""},null,null,null,{"$f":"IF(ISBLANK(Risque[[#This Row],[Catégorie de risque]]),\"\",CONCATENATE(Risque[[#This Row],[Catégorie de risque]],4))","v":""},null,null,null,null,null,{"$f":"IF(Risque[[#This Row],[Date d''inscription du risque]]<>\"\",YEAR(Risque[[#This Row],[Date d''inscription du risque]]),\"\")","v":""}]
[null,null,{"$f":"IF(ISBLANK(Risque[[#This Row],[Catégorie de risque]]),\"\",CONCATENATE(Risque[[#This Row],[Catégorie de risque]],1))","v":""},null,null,null,null,null,{"$f":"IF(ISBLANK(Risque[[#This Row],[Catégorie de risque]]),\"\",IF(OR(ISNUMBER(SEARCH(\"RZ\",Risque[[#This Row],[Source de danger]]))=TRUE,ISNUMBER(SEARCH(\"RP\",Risque[[#This Row],[Source de danger]]))=TRUE,ISNUMBER(SEARCH(\"RZ\",Risque[[#This Row],[Risques associés]]))=TRUE,ISNUMBER(SEARCH(\"RP\",Risque[[#This Row],[Risques associés]]))=TRUE,ISNUMBER(SEARCH(\"RZ\",Risque[[#This Row],[Précision du risque\n(si liste déroulante présente)]]))=TRUE,ISNUMBER(SEARCH(\"RP\",Risque[[#This Row],[Précision du risque\n(si liste déroulante présente)]]))=TRUE),\"Oui --> Priorité d'action\",\"Non\"))","v":""},null,null,null,null,{"$f":"IF(ISBLANK(Risque[[#This Row],[Catégorie de risque]]),\"\",CONCATENATE(Risque[[#This Row],[Catégorie de risque]],2))","v":""},null,{"$f":"IF(ISBLANK(Risque[[#This Row],[Moyens de prévention]]),\"\",CONCATENATE(Risque[[#This Row],[Moyens de prévention]],1))","v":""},null,null,null,null,null,{"$f":"IF(ISBLANK(Risque[[#This Row],[Catégorie de risque]]),\"\",CONCATENATE(Risque[[#This Row],[Catégorie de risque]],3))","v":""},null,null,null,{"$f":"IF(ISBLANK(Risque[[#This Row],[Catégorie de risque]]),\"\",CONCATENATE(Risque[[#This Row],[Catégorie de risque]],4))","v":""},null,null,null,null,null,{"$f":"IF(Risque[[#This Row],[Date d''inscription du risque]]<>\"\",YEAR(Risque[[#This Row],[Date d''inscription du risque]]),\"\")","v":""}]
[null,null,{"$f":"IF(ISBLANK(Risque[[#This Row],[Catégorie de risque]]),\"\",CONCATENATE(Risque[[#This Row],[Catégorie de risque]],1))","v":""},null,null,null,null,null,{"$f":"IF(ISBLANK(Risque[[#This Row],[Catégorie de risque]]),\"\",IF(OR(ISNUMBER(SEARCH(\"RZ\",Risque[[#This Row],[Source de danger]]))=TRUE,ISNUMBER(SEARCH(\"RP\",Risque[[#This Row],[Source de danger]]))=TRUE,ISNUMBER(SEARCH(\"RZ\",Risque[[#This Row],[Risques associés]]))=TRUE,ISNUMBER(SEARCH(\"RP\",Risque[[#This Row],[Risques associés]]))=TRUE,ISNUMBER(SEARCH(\"RZ\",Risque[[#This Row],[Précision du risque\n(si liste déroulante présente)]]))=TRUE,ISNUMBER(SEARCH(\"RP\",Risque[[#This Row],[Précision du risque\n(si liste déroulante présente)]]))=TRUE),\"Oui --> Priorité d'action\",\"Non\"))","v":""},null,null,null,null,{"$f":"IF(ISBLANK(Risque[[#This Row],[Catégorie de risque]]),\"\",CONCATENATE(Risque[[#This Row],[Catégorie de risque]],2))","v":""},null,{"$f":"IF(ISBLANK(Risque[[#This Row],[Moyens de prévention]]),\"\",CONCATENATE(Risque[[#This Row],[Moyens de prévention]],1))","v":""},null,null,null,null,null,{"$f":"IF(ISBLANK(Risque[[#This Row],[Catégorie de risque]]),\"\",CONCATENATE(Risque[[#This Row],[Catégorie de risque]],3))","v":""},null,null,null,{"$f":"IF(ISBLANK(Risque[[#This Row],[Catégorie de risque]]),\"\",CONCATENATE(Risque[[#This Row],[Catégorie de risque]],4))","v":""},null,null,null,null,null,{"$f":"IF(Risque[[#This Row],[Date d''inscription du risque]]<>\"\",YEAR(Risque[[#This Row],[Date d''inscription du risque]]),\"\")","v":""}]
[null,null,{"$f":"IF(ISBLANK(Risque[[#This Row],[Catégorie de risque]]),\"\",CONCATENATE(Risque[[#This Row],[Catégorie de risque]],1))","v":""},null,null,null,null,null,{"$f":"IF(ISBLANK(Risque[[#This Row],[Catégorie de risque]]),\"\",IF(OR(ISNUMBER(SEARCH(\"RZ\",Risque[[#This Row],[Source de danger]]))=TRUE,ISNUMBER(SEARCH(\"RP\",Risque[[#This Row],[Source de danger]]))=TRUE,ISNUMBER(SEARCH(\"RZ\",Risque[[#This Row],[Risques associés]]))=TRUE,ISNUMBER(SEARCH(\"RP\",Risque[[#This Row],[Risques associés]]))=TRUE,ISNUMBER(SEARCH(\"RZ\",Risque[[#This Row],[Précision du risque\n(si liste déroulante présente)]]))=TRUE,ISNUMBER(SEARCH(\"RP\",Risque[[#This Row],[Précision du risque\n(si liste déroulante présente)]]))=TRUE),\"Oui --> Priorité d'action\",\"Non\"))","v":""},null,null,null,null,{"$f":"IF(ISBLANK(Risque[[#This Row],[Catégorie de risque]]),\"\",CONCATENATE(Risque[[#This Row],[Catégorie de risque]],2))","v":""},null,{"$f":"IF(ISBLANK(Risque[[#This Row],[Moyens de prévention]]),\"\",CONCATENATE(Risque[[#This Row],[Moyens de prévention]],1))","v":""},null,null,null,null,null,{"$f":"IF(ISBLANK(Risque[[#This Row],[Catégorie de risque]]),\"\",CONCATENATE(Risque[[#This Row],[Catégorie de risque]],3))","v":""},null,null,null,{"$f":"IF(ISBLANK(Risque[[#This Row],[Catégorie de risque]]),\"\",CONCATENATE(Risque[[#This Row],[Catégorie de risque]],4))","v":""},null,null,null,null,null,{"$f":"IF(Risque[[#This Row],[Date d''inscription du risque]]<>\"\",YEAR(Risque[[#This Row],[Date d''inscription du risque]]),\"\")","v":""}]
[null,null,{"$f":"IF(ISBLANK(Risque[[#This Row],[Catégorie de risque]]),\"\",CONCATENATE(Risque[[#This Row],[Catégorie de risque]],1))","v":""},null,null,null,null,null,{"$f":"IF(ISBLANK(Risque[[#This Row],[Catégorie de risque]]),\"\",IF(OR(ISNUMBER(SEARCH(\"RZ\",Risque[[#This Row],[Source de danger]]))=TRUE,ISNUMBER(SEARCH(\"RP\",Risque[[#This Row],[Source de danger]]))=TRUE,ISNUMBER(SEARCH(\"RZ\",Risque[[#This Row],[Risques associés]]))=TRUE,ISNUMBER(SEARCH(\"RP\",Risque[[#This Row],[Risques associés]]))=TRUE,ISNUMBER(SEARCH(\"RZ\",Risque[[#This Row],[Précision du risque\n(si liste déroulante présente)]]))=TRUE,ISNUMBER(SEARCH(\"RP\",Risque[[#This Row],[Précision du risque\n(si liste déroulante présente)]]))=TRUE),\"Oui --> Priorité d'action\",\"Non\"))","v":""},null,null,null,null,{"$f":"IF(ISBLANK(Risque[[#This Row],[Catégorie de risque]]),\"\",CONCATENATE(Risque[[#This Row],[Catégorie de risque]],2))","v":""},null,{"$f":"IF(ISBLANK(Risque[[#This Row],[Moyens de prévention]]),\"\",CONCATENATE(Risque[[#This Row],[Moyens de prévention]],1))","v":""},null,null,null,null,null,{"$f":"IF(ISBLANK(Risque[[#This Row],[Catégorie de risque]]),\"\",CONCATENATE(Risque[[#This Row],[Catégorie de risque]],3))","v":""},null,null,null,{"$f":"IF(ISBLANK(Risque[[#This Row],[Catégorie de risque]]),\"\",CONCATENATE(Risque[[#This Row],[Catégorie de risque]],4))","v":""},null,null,null,null,null,{"$f":"IF(Risque[[#This Row],[Date d''inscription du risque]]<>\"\",YEAR(Risque[[#This Row],[Date d''inscription du risque]]),\"\")","v":""}]
[null,null,{"$f":"IF(ISBLANK(Risque[[#This Row],[Catégorie de risque]]),\"\",CONCATENATE(Risque[[#This Row],[Catégorie de risque]],1))","v":""},null,null,null,null,null,{"$f":"IF(ISBLANK(Risque[[#This Row],[Catégorie de risque]]),\"\",IF(OR(ISNUMBER(SEARCH(\"RZ\",Risque[[#This Row],[Source de danger]]))=TRUE,ISNUMBER(SEARCH(\"RP\",Risque[[#This Row],[Source de danger]]))=TRUE,ISNUMBER(SEARCH(\"RZ\",Risque[[#This Row],[Risques associés]]))=TRUE,ISNUMBER(SEARCH(\"RP\",Risque[[#This Row],[Risques associés]]))=TRUE,ISNUMBER(SEARCH(\"RZ\",Risque[[#This Row],[Précision du risque\n(si liste déroulante présente)]]))=TRUE,ISNUMBER(SEARCH(\"RP\",Risque[[#This Row],[Précision du risque\n(si liste déroulante présente)]]))=TRUE),\"Oui --> Priorité d'action\",\"Non\"))","v":""},null,null,null,null,{"$f":"IF(ISBLANK(Risque[[#This Row],[Catégorie de risque]]),\"\",CONCATENATE(Risque[[#This Row],[Catégorie de risque]],2))","v":""},null,{"$f":"IF(ISBLANK(Risque[[#This Row],[Moyens de prévention]]),\"\",CONCATENATE(Risque[[#This Row],[Moyens de prévention]],1))","v":""},null,null,null,null,null,{"$f":"IF(ISBLANK(Risque[[#This Row],[Catégorie de risque]]),\"\",CONCATENATE(Risque[[#This Row],[Catégorie de risque]],3))","v":""},null,null,null,{"$f":"IF(ISBLANK(Risque[[#This Row],[Catégorie de risque]]),\"\",CONCATENATE(Risque[[#This Row],[Catégorie de risque]],4))","v":""},null,null,null,null,null,{"$f":"IF(Risque[[#This Row],[Date d''inscription du risque]]<>\"\",YEAR(Risque[[#This Row],[Date d''inscription du risque]]),\"\")","v":""}]
[null,null,{"$f":"IF(ISBLANK(Risque[[#This Row],[Catégorie de risque]]),\"\",CONCATENATE(Risque[[#This Row],[Catégorie de risque]],1))","v":""},null,null,null,null,null,{"$f":"IF(ISBLANK(Risque[[#This Row],[Catégorie de risque]]),\"\",IF(OR(ISNUMBER(SEARCH(\"RZ\",Risque[[#This Row],[Source de danger]]))=TRUE,ISNUMBER(SEARCH(\"RP\",Risque[[#This Row],[Source de danger]]))=TRUE,ISNUMBER(SEARCH(\"RZ\",Risque[[#This Row],[Risques associés]]))=TRUE,ISNUMBER(SEARCH(\"RP\",Risque[[#This Row],[Risques associés]]))=TRUE,ISNUMBER(SEARCH(\"RZ\",Risque[[#This Row],[Précision du risque\n(si liste déroulante présente)]]))=TRUE,ISNUMBER(SEARCH(\"RP\",Risque[[#This Row],[Précision du risque\n(si liste déroulante présente)]]))=TRUE),\"Oui --> Priorité d'action\",\"Non\"))","v":""},null,null,null,null,{"$f":"IF(ISBLANK(Risque[[#This Row],[Catégorie de risque]]),\"\",CONCATENATE(Risque[[#This Row],[Catégorie de risque]],2))","v":""},null,{"$f":"IF(ISBLANK(Risque[[#This Row],[Moyens de prévention]]),\"\",CONCATENATE(Risque[[#This Row],[Moyens de prévention]],1))","v":""},null,null,null,null,null,{"$f":"IF(ISBLANK(Risque[[#This Row],[Catégorie de risque]]),\"\",CONCATENATE(Risque[[#This Row],[Catégorie de risque]],3))","v":""},null,null,null,{"$f":"IF(ISBLANK(Risque[[#This Row],[Catégorie de risque]]),\"\",CONCATENATE(Risque[[#This Row],[Catégorie de risque]],4))","v":""},null,null,null,null,null,{"$f":"IF(Risque[[#This Row],[Date d''inscription du risque]]<>\"\",YEAR(Risque[[#This Row],[Date d''inscription du risque]]),\"\")","v":""}]
[null,null,{"$f":"IF(ISBLANK(Risque[[#This Row],[Catégorie de risque]]),\"\",CONCATENATE(Risque[[#This Row],[Catégorie de risque]],1))","v":""},null,null,null,null,null,{"$f":"IF(ISBLANK(Risque[[#This Row],[Catégorie de risque]]),\"\",IF(OR(ISNUMBER(SEARCH(\"RZ\",Risque[[#This Row],[Source de danger]]))=TRUE,ISNUMBER(SEARCH(\"RP\",Risque[[#This Row],[Source de danger]]))=TRUE,ISNUMBER(SEARCH(\"RZ\",Risque[[#This Row],[Risques associés]]))=TRUE,ISNUMBER(SEARCH(\"RP\",Risque[[#This Row],[Risques associés]]))=TRUE,ISNUMBER(SEARCH(\"RZ\",Risque[[#This Row],[Précision du risque\n(si liste déroulante présente)]]))=TRUE,ISNUMBER(SEARCH(\"RP\",Risque[[#This Row],[Précision du risque\n(si liste déroulante présente)]]))=TRUE),\"Oui --> Priorité d'action\",\"Non\"))","v":""},null,null,null,null,{"$f":"IF(ISBLANK(Risque[[#This Row],[Catégorie de risque]]),\"\",CONCATENATE(Risque[[#This Row],[Catégorie de risque]],2))","v":""},null,{"$f":"IF(ISBLANK(Risque[[#This Row],[Moyens de prévention]]),\"\",CONCATENATE(Risque[[#This Row],[Moyens de prévention]],1))","v":""},null,null,null,null,null,{"$f":"IF(ISBLANK(Risque[[#This Row],[Catégorie de risque]]),\"\",CONCATENATE(Risque[[#This Row],[Catégorie de risque]],3))","v":""},null,null,null,{"$f":"IF(ISBLANK(Risque[[#This Row],[Catégorie de risque]]),\"\",CONCATENATE(Risque[[#This Row],[Catégorie de risque]],4))","v":""},null,null,null,null,null,{"$f":"IF(Risque[[#This Row],[Date d''inscription du risque]]<>\"\",YEAR(Risque[[#This Row],[Date d''inscription du risque]]),\"\")","v":""}]
[null,null,{"$f":"IF(ISBLANK(Risque[[#This Row],[Catégorie de risque]]),\"\",CONCATENATE(Risque[[#This Row],[Catégorie de risque]],1))","v":""},null,null,null,null,null,{"$f":"IF(ISBLANK(Risque[[#This Row],[Catégorie de risque]]),\"\",IF(OR(ISNUMBER(SEARCH(\"RZ\",Risque[[#This Row],[Source de danger]]))=TRUE,ISNUMBER(SEARCH(\"RP\",Risque[[#This Row],[Source de danger]]))=TRUE,ISNUMBER(SEARCH(\"RZ\",Risque[[#This Row],[Risques associés]]))=TRUE,ISNUMBER(SEARCH(\"RP\",Risque[[#This Row],[Risques associés]]))=TRUE,ISNUMBER(SEARCH(\"RZ\",Risque[[#This Row],[Précision du risque\n(si liste déroulante présente)]]))=TRUE,ISNUMBER(SEARCH(\"RP\",Risque[[#This Row],[Précision du risque\n(si liste déroulante présente)]]))=TRUE),\"Oui --> Priorité d'action\",\"Non\"))","v":""},null,null,null,null,{"$f":"IF(ISBLANK(Risque[[#This Row],[Catégorie de risque]]),\"\",CONCATENATE(Risque[[#This Row],[Catégorie de risque]],2))","v":""},null,{"$f":"IF(ISBLANK(Risque[[#This Row],[Moyens de prévention]]),\"\",CONCATENATE(Risque[[#This Row],[Moyens de prévention]],1))","v":""},null,null,null,null,null,{"$f":"IF(ISBLANK(Risque[[#This Row],[Catégorie de risque]]),\"\",CONCATENATE(Risque[[#This Row],[Catégorie de risque]],3))","v":""},null,null,null,{"$f":"IF(ISBLANK(Risque[[#This Row],[Catégorie de risque]]),\"\",CONCATENATE(Risque[[#This Row],[Catégorie de risque]],4))","v":""},null,null,null,null,null,{"$f":"IF(Risque[[#This Row],[Date d''inscription du risque]]<>\"\",YEAR(Risque[[#This Row],[Date d''inscription du risque]]),\"\")","v":""}]
[null,null,{"$f":"IF(ISBLANK(Risque[[#This Row],[Catégorie de risque]]),\"\",CONCATENATE(Risque[[#This Row],[Catégorie de risque]],1))","v":""},null,null,null,null,null,{"$f":"IF(ISBLANK(Risque[[#This Row],[Catégorie de risque]]),\"\",IF(OR(ISNUMBER(SEARCH(\"RZ\",Risque[[#This Row],[Source de danger]]))=TRUE,ISNUMBER(SEARCH(\"RP\",Risque[[#This Row],[Source de danger]]))=TRUE,ISNUMBER(SEARCH(\"RZ\",Risque[[#This Row],[Risques associés]]))=TRUE,ISNUMBER(SEARCH(\"RP\",Risque[[#This Row],[Risques associés]]))=TRUE,ISNUMBER(SEARCH(\"RZ\",Risque[[#This Row],[Précision du risque\n(si liste déroulante présente)]]))=TRUE,ISNUMBER(SEARCH(\"RP\",Risque[[#This Row],[Précision du risque\n(si liste déroulante présente)]]))=TRUE),\"Oui --> Priorité d'action\",\"Non\"))","v":""},null,null,null,null,{"$f":"IF(ISBLANK(Risque[[#This Row],[Catégorie de risque]]),\"\",CONCATENATE(Risque[[#This Row],[Catégorie de risque]],2))","v":""},null,{"$f":"IF(ISBLANK(Risque[[#This Row],[Moyens de prévention]]),\"\",CONCATENATE(Risque[[#This Row],[Moyens de prévention]],1))","v":""},null,null,null,null,null,{"$f":"IF(ISBLANK(Risque[[#This Row],[Catégorie de risque]]),\"\",CONCATENATE(Risque[[#This Row],[Catégorie de risque]],3))","v":""},null,null,null,{"$f":"IF(ISBLANK(Risque[[#This Row],[Catégorie de risque]]),\"\",CONCATENATE(Risque[[#This Row],[Catégorie de risque]],4))","v":""},null,null,null,null,null,{"$f":"IF(Risque[[#This Row],[Date d''inscription du risque]]<>\"\",YEAR(Risque[[#This Row],[Date d''inscription du risque]]),\"\")","v":""}]
[null,null,{"$f":"IF(ISBLANK(Risque[[#This Row],[Catégorie de risque]]),\"\",CONCATENATE(Risque[[#This Row],[Catégorie de risque]],1))","v":""},null,null,null,null,null,{"$f":"IF(ISBLANK(Risque[[#This Row],[Catégorie de risque]]),\"\",IF(OR(ISNUMBER(SEARCH(\"RZ\",Risque[[#This Row],[Source de danger]]))=TRUE,ISNUMBER(SEARCH(\"RP\",Risque[[#This Row],[Source de danger]]))=TRUE,ISNUMBER(SEARCH(\"RZ\",Risque[[#This Row],[Risques associés]]))=TRUE,ISNUMBER(SEARCH(\"RP\",Risque[[#This Row],[Risques associés]]))=TRUE,ISNUMBER(SEARCH(\"RZ\",Risque[[#This Row],[Précision du risque\n(si liste déroulante présente)]]))=TRUE,ISNUMBER(SEARCH(\"RP\",Risque[[#This Row],[Précision du risque\n(si liste déroulante présente)]]))=TRUE),\"Oui --> Priorité d'action\",\"Non\"))","v":""},null,null,null,null,{"$f":"IF(ISBLANK(Risque[[#This Row],[Catégorie de risque]]),\"\",CONCATENATE(Risque[[#This Row],[Catégorie de risque]],2))","v":""},null,{"$f":"IF(ISBLANK(Risque[[#This Row],[Moyens de prévention]]),\"\",CONCATENATE(Risque[[#This Row],[Moyens de prévention]],1))","v":""},null,null,null,null,null,{"$f":"IF(ISBLANK(Risque[[#This Row],[Catégorie de risque]]),\"\",CONCATENATE(Risque[[#This Row],[Catégorie de risque]],3))","v":""},null,null,null,{"$f":"IF(ISBLANK(Risque[[#This Row],[Catégorie de risque]]),\"\",CONCATENATE(Risque[[#This Row],[Catégorie de risque]],4))","v":""},null,null,null,null,null,{"$f":"IF(Risque[[#This Row],[Date d''inscription du risque]]<>\"\",YEAR(Risque[[#This Row],[Date d''inscription du risque]]),\"\")","v":""}]
[null,null,{"$f":"IF(ISBLANK(Risque[[#This Row],[Catégorie de risque]]),\"\",CONCATENATE(Risque[[#This Row],[Catégorie de risque]],1))","v":""},null,null,null,null,null,{"$f":"IF(ISBLANK(Risque[[#This Row],[Catégorie de risque]]),\"\",IF(OR(ISNUMBER(SEARCH(\"RZ\",Risque[[#This Row],[Source de danger]]))=TRUE,ISNUMBER(SEARCH(\"RP\",Risque[[#This Row],[Source de danger]]))=TRUE,ISNUMBER(SEARCH(\"RZ\",Risque[[#This Row],[Risques associés]]))=TRUE,ISNUMBER(SEARCH(\"RP\",Risque[[#This Row],[Risques associés]]))=TRUE,ISNUMBER(SEARCH(\"RZ\",Risque[[#This Row],[Précision du risque\n(si liste déroulante présente)]]))=TRUE,ISNUMBER(SEARCH(\"RP\",Risque[[#This Row],[Précision du risque\n(si liste déroulante présente)]]))=TRUE),\"Oui --> Priorité d'action\",\"Non\"))","v":""},null,null,null,null,{"$f":"IF(ISBLANK(Risque[[#This Row],[Catégorie de risque]]),\"\",CONCATENATE(Risque[[#This Row],[Catégorie de risque]],2))","v":""},null,{"$f":"IF(ISBLANK(Risque[[#This Row],[Moyens de prévention]]),\"\",CONCATENATE(Risque[[#This Row],[Moyens de prévention]],1))","v":""},null,null,null,null,null,{"$f":"IF(ISBLANK(Risque[[#This Row],[Catégorie de risque]]),\"\",CONCATENATE(Risque[[#This Row],[Catégorie de risque]],3))","v":""},null,null,null,{"$f":"IF(ISBLANK(Risque[[#This Row],[Catégorie de risque]]),\"\",CONCATENATE(Risque[[#This Row],[Catégorie de risque]],4))","v":""},null,null,null,null,null,{"$f":"IF(Risque[[#This Row],[Date d''inscription du risque]]<>\"\",YEAR(Risque[[#This Row],[Date d''inscription du risque]]),\"\")","v":""}]
[null,null,{"$f":"IF(ISBLANK(Risque[[#This Row],[Catégorie de risque]]),\"\",CONCATENATE(Risque[[#This Row],[Catégorie de risque]],1))","v":""},null,null,null,null,null,{"$f":"IF(ISBLANK(Risque[[#This Row],[Catégorie de risque]]),\"\",IF(OR(ISNUMBER(SEARCH(\"RZ\",Risque[[#This Row],[Source de danger]]))=TRUE,ISNUMBER(SEARCH(\"RP\",Risque[[#This Row],[Source de danger]]))=TRUE,ISNUMBER(SEARCH(\"RZ\",Risque[[#This Row],[Risques associés]]))=TRUE,ISNUMBER(SEARCH(\"RP\",Risque[[#This Row],[Risques associés]]))=TRUE,ISNUMBER(SEARCH(\"RZ\",Risque[[#This Row],[Précision du risque\n(si liste déroulante présente)]]))=TRUE,ISNUMBER(SEARCH(\"RP\",Risque[[#This Row],[Précision du risque\n(si liste déroulante présente)]]))=TRUE),\"Oui --> Priorité d'action\",\"Non\"))","v":""},null,null,null,null,{"$f":"IF(ISBLANK(Risque[[#This Row],[Catégorie de risque]]),\"\",CONCATENATE(Risque[[#This Row],[Catégorie de risque]],2))","v":""},null,{"$f":"IF(ISBLANK(Risque[[#This Row],[Moyens de prévention]]),\"\",CONCATENATE(Risque[[#This Row],[Moyens de prévention]],1))","v":""},null,null,null,null,null,{"$f":"IF(ISBLANK(Risque[[#This Row],[Catégorie de risque]]),\"\",CONCATENATE(Risque[[#This Row],[Catégorie de risque]],3))","v":""},null,null,null,{"$f":"IF(ISBLANK(Risque[[#This Row],[Catégorie de risque]]),\"\",CONCATENATE(Risque[[#This Row],[Catégorie de risque]],4))","v":""},null,null,null,null,null,{"$f":"IF(Risque[[#This Row],[Date d''inscription du risque]]<>\"\",YEAR(Risque[[#This Row],[Date d''inscription du risque]]),\"\")","v":""}]
[null,null,{"$f":"IF(ISBLANK(Risque[[#This Row],[Catégorie de risque]]),\"\",CONCATENATE(Risque[[#This Row],[Catégorie de risque]],1))","v":""},null,null,null,null,null,{"$f":"IF(ISBLANK(Risque[[#This Row],[Catégorie de risque]]),\"\",IF(OR(ISNUMBER(SEARCH(\"RZ\",Risque[[#This Row],[Source de danger]]))=TRUE,ISNUMBER(SEARCH(\"RP\",Risque[[#This Row],[Source de danger]]))=TRUE,ISNUMBER(SEARCH(\"RZ\",Risque[[#This Row],[Risques associés]]))=TRUE,ISNUMBER(SEARCH(\"RP\",Risque[[#This Row],[Risques associés]]))=TRUE,ISNUMBER(SEARCH(\"RZ\",Risque[[#This Row],[Précision du risque\n(si liste déroulante présente)]]))=TRUE,ISNUMBER(SEARCH(\"RP\",Risque[[#This Row],[Précision du risque\n(si liste déroulante présente)]]))=TRUE),\"Oui --> Priorité d'action\",\"Non\"))","v":""},null,null,null,null,{"$f":"IF(ISBLANK(Risque[[#This Row],[Catégorie de risque]]),\"\",CONCATENATE(Risque[[#This Row],[Catégorie de risque]],2))","v":""},null,{"$f":"IF(ISBLANK(Risque[[#This Row],[Moyens de prévention]]),\"\",CONCATENATE(Risque[[#This Row],[Moyens de prévention]],1))","v":""},null,null,null,null,null,{"$f":"IF(ISBLANK(Risque[[#This Row],[Catégorie de risque]]),\"\",CONCATENATE(Risque[[#This Row],[Catégorie de risque]],3))","v":""},null,null,null,{"$f":"IF(ISBLANK(Risque[[#This Row],[Catégorie de risque]]),\"\",CONCATENATE(Risque[[#This Row],[Catégorie de risque]],4))","v":""},null,null,null,null,null,{"$f":"IF(Risque[[#This Row],[Date d''inscription du risque]]<>\"\",YEAR(Risque[[#This Row],[Date d''inscription du risque]]),\"\")","v":""}]
[null,null,{"$f":"IF(ISBLANK(Risque[[#This Row],[Catégorie de risque]]),\"\",CONCATENATE(Risque[[#This Row],[Catégorie de risque]],1))","v":""},null,null,null,null,null,{"$f":"IF(ISBLANK(Risque[[#This Row],[Catégorie de risque]]),\"\",IF(OR(ISNUMBER(SEARCH(\"RZ\",Risque[[#This Row],[Source de danger]]))=TRUE,ISNUMBER(SEARCH(\"RP\",Risque[[#This Row],[Source de danger]]))=TRUE,ISNUMBER(SEARCH(\"RZ\",Risque[[#This Row],[Risques associés]]))=TRUE,ISNUMBER(SEARCH(\"RP\",Risque[[#This Row],[Risques associés]]))=TRUE,ISNUMBER(SEARCH(\"RZ\",Risque[[#This Row],[Précision du risque\n(si liste déroulante présente)]]))=TRUE,ISNUMBER(SEARCH(\"RP\",Risque[[#This Row],[Précision du risque\n(si liste déroulante présente)]]))=TRUE),\"Oui --> Priorité d'action\",\"Non\"))","v":""},null,null,null,null,{"$f":"IF(ISBLANK(Risque[[#This Row],[Catégorie de risque]]),\"\",CONCATENATE(Risque[[#This Row],[Catégorie de risque]],2))","v":""},null,{"$f":"IF(ISBLANK(Risque[[#This Row],[Moyens de prévention]]),\"\",CONCATENATE(Risque[[#This Row],[Moyens de prévention]],1))","v":""},null,null,null,null,null,{"$f":"IF(ISBLANK(Risque[[#This Row],[Catégorie de risque]]),\"\",CONCATENATE(Risque[[#This Row],[Catégorie de risque]],3))","v":""},null,null,null,{"$f":"IF(ISBLANK(Risque[[#This Row],[Catégorie de risque]]),\"\",CONCATENATE(Risque[[#This Row],[Catégorie de risque]],4))","v":""},null,null,null,null,null,{"$f":"IF(Risque[[#This Row],[Date d''inscription du risque]]<>\"\",YEAR(Risque[[#This Row],[Date d''inscription du risque]]),\"\")","v":""}]
[null,null,{"$f":"IF(ISBLANK(Risque[[#This Row],[Catégorie de risque]]),\"\",CONCATENATE(Risque[[#This Row],[Catégorie de risque]],1))","v":""},null,null,null,null,null,{"$f":"IF(ISBLANK(Risque[[#This Row],[Catégorie de risque]]),\"\",IF(OR(ISNUMBER(SEARCH(\"RZ\",Risque[[#This Row],[Source de danger]]))=TRUE,ISNUMBER(SEARCH(\"RP\",Risque[[#This Row],[Source de danger]]))=TRUE,ISNUMBER(SEARCH(\"RZ\",Risque[[#This Row],[Risques associés]]))=TRUE,ISNUMBER(SEARCH(\"RP\",Risque[[#This Row],[Risques associés]]))=TRUE,ISNUMBER(SEARCH(\"RZ\",Risque[[#This Row],[Précision du risque\n(si liste déroulante présente)]]))=TRUE,ISNUMBER(SEARCH(\"RP\",Risque[[#This Row],[Précision du risque\n(si liste déroulante présente)]]))=TRUE),\"Oui --> Priorité d'action\",\"Non\"))","v":""},null,null,null,null,{"$f":"IF(ISBLANK(Risque[[#This Row],[Catégorie de risque]]),\"\",CONCATENATE(Risque[[#This Row],[Catégorie de risque]],2))","v":""},null,{"$f":"IF(ISBLANK(Risque[[#This Row],[Moyens de prévention]]),\"\",CONCATENATE(Risque[[#This Row],[Moyens de prévention]],1))","v":""},null,null,null,null,null,{"$f":"IF(ISBLANK(Risque[[#This Row],[Catégorie de risque]]),\"\",CONCATENATE(Risque[[#This Row],[Catégorie de risque]],3))","v":""},null,null,null,{"$f":"IF(ISBLANK(Risque[[#This Row],[Catégorie de risque]]),\"\",CONCATENATE(Risque[[#This Row],[Catégorie de risque]],4))","v":""},null,null,null,null,null,{"$f":"IF(Risque[[#This Row],[Date d''inscription du risque]]<>\"\",YEAR(Risque[[#This Row],[Date d''inscription du risque]]),\"\")","v":""}]
[null,null,{"$f":"IF(ISBLANK(Risque[[#This Row],[Catégorie de risque]]),\"\",CONCATENATE(Risque[[#This Row],[Catégorie de risque]],1))","v":""},null,null,null,null,null,{"$f":"IF(ISBLANK(Risque[[#This Row],[Catégorie de risque]]),\"\",IF(OR(ISNUMBER(SEARCH(\"RZ\",Risque[[#This Row],[Source de danger]]))=TRUE,ISNUMBER(SEARCH(\"RP\",Risque[[#This Row],[Source de danger]]))=TRUE,ISNUMBER(SEARCH(\"RZ\",Risque[[#This Row],[Risques associés]]))=TRUE,ISNUMBER(SEARCH(\"RP\",Risque[[#This Row],[Risques associés]]))=TRUE,ISNUMBER(SEARCH(\"RZ\",Risque[[#This Row],[Précision du risque\n(si liste déroulante présente)]]))=TRUE,ISNUMBER(SEARCH(\"RP\",Risque[[#This Row],[Précision du risque\n(si liste déroulante présente)]]))=TRUE),\"Oui --> Priorité d'action\",\"Non\"))","v":""},null,null,null,null,{"$f":"IF(ISBLANK(Risque[[#This Row],[Catégorie de risque]]),\"\",CONCATENATE(Risque[[#This Row],[Catégorie de risque]],2))","v":""},null,{"$f":"IF(ISBLANK(Risque[[#This Row],[Moyens de prévention]]),\"\",CONCATENATE(Risque[[#This Row],[Moyens de prévention]],1))","v":""},null,null,null,null,null,{"$f":"IF(ISBLANK(Risque[[#This Row],[Catégorie de risque]]),\"\",CONCATENATE(Risque[[#This Row],[Catégorie de risque]],3))","v":""},null,null,null,{"$f":"IF(ISBLANK(Risque[[#This Row],[Catégorie de risque]]),\"\",CONCATENATE(Risque[[#This Row],[Catégorie de risque]],4))","v":""},null,null,null,null,null,{"$f":"IF(Risque[[#This Row],[Date d''inscription du risque]]<>\"\",YEAR(Risque[[#This Row],[Date d''inscription du risque]]),\"\")","v":""}]
[null,null,{"$f":"IF(ISBLANK(Risque[[#This Row],[Catégorie de risque]]),\"\",CONCATENATE(Risque[[#This Row],[Catégorie de risque]],1))","v":""},null,null,null,null,null,{"$f":"IF(ISBLANK(Risque[[#This Row],[Catégorie de risque]]),\"\",IF(OR(ISNUMBER(SEARCH(\"RZ\",Risque[[#This Row],[Source de danger]]))=TRUE,ISNUMBER(SEARCH(\"RP\",Risque[[#This Row],[Source de danger]]))=TRUE,ISNUMBER(SEARCH(\"RZ\",Risque[[#This Row],[Risques associés]]))=TRUE,ISNUMBER(SEARCH(\"RP\",Risque[[#This Row],[Risques associés]]))=TRUE,ISNUMBER(SEARCH(\"RZ\",Risque[[#This Row],[Précision du risque\n(si liste déroulante présente)]]))=TRUE,ISNUMBER(SEARCH(\"RP\",Risque[[#This Row],[Précision du risque\n(si liste déroulante présente)]]))=TRUE),\"Oui --> Priorité d'action\",\"Non\"))","v":""},null,null,null,null,{"$f":"IF(ISBLANK(Risque[[#This Row],[Catégorie de risque]]),\"\",CONCATENATE(Risque[[#This Row],[Catégorie de risque]],2))","v":""},null,{"$f":"IF(ISBLANK(Risque[[#This Row],[Moyens de prévention]]),\"\",CONCATENATE(Risque[[#This Row],[Moyens de prévention]],1))","v":""},null,null,null,null,null,{"$f":"IF(ISBLANK(Risque[[#This Row],[Catégorie de risque]]),\"\",CONCATENATE(Risque[[#This Row],[Catégorie de risque]],3))","v":""},null,null,null,{"$f":"IF(ISBLANK(Risque[[#This Row],[Catégorie de risque]]),\"\",CONCATENATE(Risque[[#This Row],[Catégorie de risque]],4))","v":""},null,null,null,null,null,{"$f":"IF(Risque[[#This Row],[Date d''inscription du risque]]<>\"\",YEAR(Risque[[#This Row],[Date d''inscription du risque]]),\"\")","v":""}]
[null,null,{"$f":"IF(ISBLANK(Risque[[#This Row],[Catégorie de risque]]),\"\",CONCATENATE(Risque[[#This Row],[Catégorie de risque]],1))","v":""},null,null,null,null,null,{"$f":"IF(ISBLANK(Risque[[#This Row],[Catégorie de risque]]),\"\",IF(OR(ISNUMBER(SEARCH(\"RZ\",Risque[[#This Row],[Source de danger]]))=TRUE,ISNUMBER(SEARCH(\"RP\",Risque[[#This Row],[Source de danger]]))=TRUE,ISNUMBER(SEARCH(\"RZ\",Risque[[#This Row],[Risques associés]]))=TRUE,ISNUMBER(SEARCH(\"RP\",Risque[[#This Row],[Risques associés]]))=TRUE,ISNUMBER(SEARCH(\"RZ\",Risque[[#This Row],[Précision du risque\n(si liste déroulante présente)]]))=TRUE,ISNUMBER(SEARCH(\"RP\",Risque[[#This Row],[Précision du risque\n(si liste déroulante présente)]]))=TRUE),\"Oui --> Priorité d'action\",\"Non\"))","v":""},null,null,null,null,{"$f":"IF(ISBLANK(Risque[[#This Row],[Catégorie de risque]]),\"\",CONCATENATE(Risque[[#This Row],[Catégorie de risque]],2))","v":""},null,{"$f":"IF(ISBLANK(Risque[[#This Row],[Moyens de prévention]]),\"\",CONCATENATE(Risque[[#This Row],[Moyens de prévention]],1))","v":""},null,null,null,null,null,{"$f":"IF(ISBLANK(Risque[[#This Row],[Catégorie de risque]]),\"\",CONCATENATE(Risque[[#This Row],[Catégorie de risque]],3))","v":""},null,null,null,{"$f":"IF(ISBLANK(Risque[[#This Row],[Catégorie de risque]]),\"\",CONCATENATE(Risque[[#This Row],[Catégorie de risque]],4))","v":""},null,null,null,null,null,{"$f":"IF(Risque[[#This Row],[Date d''inscription du risque]]<>\"\",YEAR(Risque[[#This Row],[Date d''inscription du risque]]),\"\")","v":""}]
[null,null,{"$f":"IF(ISBLANK(Risque[[#This Row],[Catégorie de risque]]),\"\",CONCATENATE(Risque[[#This Row],[Catégorie de risque]],1))","v":""},null,null,null,null,null,{"$f":"IF(ISBLANK(Risque[[#This Row],[Catégorie de risque]]),\"\",IF(OR(ISNUMBER(SEARCH(\"RZ\",Risque[[#This Row],[Source de danger]]))=TRUE,ISNUMBER(SEARCH(\"RP\",Risque[[#This Row],[Source de danger]]))=TRUE,ISNUMBER(SEARCH(\"RZ\",Risque[[#This Row],[Risques associés]]))=TRUE,ISNUMBER(SEARCH(\"RP\",Risque[[#This Row],[Risques associés]]))=TRUE,ISNUMBER(SEARCH(\"RZ\",Risque[[#This Row],[Précision du risque\n(si liste déroulante présente)]]))=TRUE,ISNUMBER(SEARCH(\"RP\",Risque[[#This Row],[Précision du risque\n(si liste déroulante présente)]]))=TRUE),\"Oui --> Priorité d'action\",\"Non\"))","v":""},null,null,null,null,{"$f":"IF(ISBLANK(Risque[[#This Row],[Catégorie de risque]]),\"\",CONCATENATE(Risque[[#This Row],[Catégorie de risque]],2))","v":""},null,{"$f":"IF(ISBLANK(Risque[[#This Row],[Moyens de prévention]]),\"\",CONCATENATE(Risque[[#This Row],[Moyens de prévention]],1))","v":""},null,null,null,null,null,{"$f":"IF(ISBLANK(Risque[[#This Row],[Catégorie de risque]]),\"\",CONCATENATE(Risque[[#This Row],[Catégorie de risque]],3))","v":""},null,null,null,{"$f":"IF(ISBLANK(Risque[[#This Row],[Catégorie de risque]]),\"\",CONCATENATE(Risque[[#This Row],[Catégorie de risque]],4))","v":""},null,null,null,null,null,{"$f":"IF(Risque[[#This Row],[Date d''inscription du risque]]<>\"\",YEAR(Risque[[#This Row],[Date d''inscription du risque]]),\"\")","v":""}]
[null,null,{"$f":"IF(ISBLANK(Risque[[#This Row],[Catégorie de risque]]),\"\",CONCATENATE(Risque[[#This Row],[Catégorie de risque]],1))","v":""},null,null,null,null,null,{"$f":"IF(ISBLANK(Risque[[#This Row],[Catégorie de risque]]),\"\",IF(OR(ISNUMBER(SEARCH(\"RZ\",Risque[[#This Row],[Source de danger]]))=TRUE,ISNUMBER(SEARCH(\"RP\",Risque[[#This Row],[Source de danger]]))=TRUE,ISNUMBER(SEARCH(\"RZ\",Risque[[#This Row],[Risques associés]]))=TRUE,ISNUMBER(SEARCH(\"RP\",Risque[[#This Row],[Risques associés]]))=TRUE,ISNUMBER(SEARCH(\"RZ\",Risque[[#This Row],[Précision du risque\n(si liste déroulante présente)]]))=TRUE,ISNUMBER(SEARCH(\"RP\",Risque[[#This Row],[Précision du risque\n(si liste déroulante présente)]]))=TRUE),\"Oui --> Priorité d'action\",\"Non\"))","v":""},null,null,null,null,{"$f":"IF(ISBLANK(Risque[[#This Row],[Catégorie de risque]]),\"\",CONCATENATE(Risque[[#This Row],[Catégorie de risque]],2))","v":""},null,{"$f":"IF(ISBLANK(Risque[[#This Row],[Moyens de prévention]]),\"\",CONCATENATE(Risque[[#This Row],[Moyens de prévention]],1))","v":""},null,null,null,null,null,{"$f":"IF(ISBLANK(Risque[[#This Row],[Catégorie de risque]]),\"\",CONCATENATE(Risque[[#This Row],[Catégorie de risque]],3))","v":""},null,null,null,{"$f":"IF(ISBLANK(Risque[[#This Row],[Catégorie de risque]]),\"\",CONCATENATE(Risque[[#This Row],[Catégorie de risque]],4))","v":""},null,null,null,null,null,{"$f":"IF(Risque[[#This Row],[Date d''inscription du risque]]<>\"\",YEAR(Risque[[#This Row],[Date d''inscription du risque]]),\"\")","v":""}]
[null,null,{"$f":"IF(ISBLANK(Risque[[#This Row],[Catégorie de risque]]),\"\",CONCATENATE(Risque[[#This Row],[Catégorie de risque]],1))","v":""},null,null,null,null,null,{"$f":"IF(ISBLANK(Risque[[#This Row],[Catégorie de risque]]),\"\",IF(OR(ISNUMBER(SEARCH(\"RZ\",Risque[[#This Row],[Source de danger]]))=TRUE,ISNUMBER(SEARCH(\"RP\",Risque[[#This Row],[Source de danger]]))=TRUE,ISNUMBER(SEARCH(\"RZ\",Risque[[#This Row],[Risques associés]]))=TRUE,ISNUMBER(SEARCH(\"RP\",Risque[[#This Row],[Risques associés]]))=TRUE,ISNUMBER(SEARCH(\"RZ\",Risque[[#This Row],[Précision du risque\n(si liste déroulante présente)]]))=TRUE,ISNUMBER(SEARCH(\"RP\",Risque[[#This Row],[Précision du risque\n(si liste déroulante présente)]]))=TRUE),\"Oui --> Priorité d'action\",\"Non\"))","v":""},null,null,null,null,{"$f":"IF(ISBLANK(Risque[[#This Row],[Catégorie de risque]]),\"\",CONCATENATE(Risque[[#This Row],[Catégorie de risque]],2))","v":""},null,{"$f":"IF(ISBLANK(Risque[[#This Row],[Moyens de prévention]]),\"\",CONCATENATE(Risque[[#This Row],[Moyens de prévention]],1))","v":""},null,null,null,null,null,{"$f":"IF(ISBLANK(Risque[[#This Row],[Catégorie de risque]]),\"\",CONCATENATE(Risque[[#This Row],[Catégorie de risque]],3))","v":""},null,null,null,{"$f":"IF(ISBLANK(Risque[[#This Row],[Catégorie de risque]]),\"\",CONCATENATE(Risque[[#This Row],[Catégorie de risque]],4))","v":""},null,null,null,null,null,{"$f":"IF(Risque[[#This Row],[Date d''inscription du risque]]<>\"\",YEAR(Risque[[#This Row],[Date d''inscription du risque]]),\"\")","v":""}]
[null,null,{"$f":"IF(ISBLANK(Risque[[#This Row],[Catégorie de risque]]),\"\",CONCATENATE(Risque[[#This Row],[Catégorie de risque]],1))","v":""},null,null,null,null,null,{"$f":"IF(ISBLANK(Risque[[#This Row],[Catégorie de risque]]),\"\",IF(OR(ISNUMBER(SEARCH(\"RZ\",Risque[[#This Row],[Source de danger]]))=TRUE,ISNUMBER(SEARCH(\"RP\",Risque[[#This Row],[Source de danger]]))=TRUE,ISNUMBER(SEARCH(\"RZ\",Risque[[#This Row],[Risques associés]]))=TRUE,ISNUMBER(SEARCH(\"RP\",Risque[[#This Row],[Risques associés]]))=TRUE,ISNUMBER(SEARCH(\"RZ\",Risque[[#This Row],[Précision du risque\n(si liste déroulante présente)]]))=TRUE,ISNUMBER(SEARCH(\"RP\",Risque[[#This Row],[Précision du risque\n(si liste déroulante présente)]]))=TRUE),\"Oui --> Priorité d'action\",\"Non\"))","v":""},null,null,null,null,{"$f":"IF(ISBLANK(Risque[[#This Row],[Catégorie de risque]]),\"\",CONCATENATE(Risque[[#This Row],[Catégorie de risque]],2))","v":""},null,{"$f":"IF(ISBLANK(Risque[[#This Row],[Moyens de prévention]]),\"\",CONCATENATE(Risque[[#This Row],[Moyens de prévention]],1))","v":""},null,null,null,null,null,{"$f":"IF(ISBLANK(Risque[[#This Row],[Catégorie de risque]]),\"\",CONCATENATE(Risque[[#This Row],[Catégorie de risque]],3))","v":""},null,null,null,{"$f":"IF(ISBLANK(Risque[[#This Row],[Catégorie de risque]]),\"\",CONCATENATE(Risque[[#This Row],[Catégorie de risque]],4))","v":""},null,null,null,null,null,{"$f":"IF(Risque[[#This Row],[Date d''inscription du risque]]<>\"\",YEAR(Risque[[#This Row],[Date d''inscription du risque]]),\"\")","v":""}]
[null,null,{"$f":"IF(ISBLANK(Risque[[#This Row],[Catégorie de risque]]),\"\",CONCATENATE(Risque[[#This Row],[Catégorie de risque]],1))","v":""},null,null,null,null,null,{"$f":"IF(ISBLANK(Risque[[#This Row],[Catégorie de risque]]),\"\",IF(OR(ISNUMBER(SEARCH(\"RZ\",Risque[[#This Row],[Source de danger]]))=TRUE,ISNUMBER(SEARCH(\"RP\",Risque[[#This Row],[Source de danger]]))=TRUE,ISNUMBER(SEARCH(\"RZ\",Risque[[#This Row],[Risques associés]]))=TRUE,ISNUMBER(SEARCH(\"RP\",Risque[[#This Row],[Risques associés]]))=TRUE,ISNUMBER(SEARCH(\"RZ\",Risque[[#This Row],[Précision du risque\n(si liste déroulante présente)]]))=TRUE,ISNUMBER(SEARCH(\"RP\",Risque[[#This Row],[Précision du risque\n(si liste déroulante présente)]]))=TRUE),\"Oui --> Priorité d'action\",\"Non\"))","v":""},null,null,null,null,{"$f":"IF(ISBLANK(Risque[[#This Row],[Catégorie de risque]]),\"\",CONCATENATE(Risque[[#This Row],[Catégorie de risque]],2))","v":""},null,{"$f":"IF(ISBLANK(Risque[[#This Row],[Moyens de prévention]]),\"\",CONCATENATE(Risque[[#This Row],[Moyens de prévention]],1))","v":""},null,null,null,null,null,{"$f":"IF(ISBLANK(Risque[[#This Row],[Catégorie de risque]]),\"\",CONCATENATE(Risque[[#This Row],[Catégorie de risque]],3))","v":""},null,null,null,{"$f":"IF(ISBLANK(Risque[[#This Row],[Catégorie de risque]]),\"\",CONCATENATE(Risque[[#This Row],[Catégorie de risque]],4))","v":""},null,null,null,null,null,{"$f":"IF(Risque[[#This Row],[Date d''inscription du risque]]<>\"\",YEAR(Risque[[#This Row],[Date d''inscription du risque]]),\"\")","v":""}]
[null,null,{"$f":"IF(ISBLANK(Risque[[#This Row],[Catégorie de risque]]),\"\",CONCATENATE(Risque[[#This Row],[Catégorie de risque]],1))","v":""},null,null,null,null,null,{"$f":"IF(ISBLANK(Risque[[#This Row],[Catégorie de risque]]),\"\",IF(OR(ISNUMBER(SEARCH(\"RZ\",Risque[[#This Row],[Source de danger]]))=TRUE,ISNUMBER(SEARCH(\"RP\",Risque[[#This Row],[Source de danger]]))=TRUE,ISNUMBER(SEARCH(\"RZ\",Risque[[#This Row],[Risques associés]]))=TRUE,ISNUMBER(SEARCH(\"RP\",Risque[[#This Row],[Risques associés]]))=TRUE,ISNUMBER(SEARCH(\"RZ\",Risque[[#This Row],[Précision du risque\n(si liste déroulante présente)]]))=TRUE,ISNUMBER(SEARCH(\"RP\",Risque[[#This Row],[Précision du risque\n(si liste déroulante présente)]]))=TRUE),\"Oui --> Priorité d'action\",\"Non\"))","v":""},null,null,null,null,{"$f":"IF(ISBLANK(Risque[[#This Row],[Catégorie de risque]]),\"\",CONCATENATE(Risque[[#This Row],[Catégorie de risque]],2))","v":""},null,{"$f":"IF(ISBLANK(Risque[[#This Row],[Moyens de prévention]]),\"\",CONCATENATE(Risque[[#This Row],[Moyens de prévention]],1))","v":""},null,null,null,null,null,{"$f":"IF(ISBLANK(Risque[[#This Row],[Catégorie de risque]]),\"\",CONCATENATE(Risque[[#This Row],[Catégorie de risque]],3))","v":""},null,null,null,{"$f":"IF(ISBLANK(Risque[[#This Row],[Catégorie de risque]]),\"\",CONCATENATE(Risque[[#This Row],[Catégorie de risque]],4))","v":""},null,null,null,null,null,{"$f":"IF(Risque[[#This Row],[Date d''inscription du risque]]<>\"\",YEAR(Risque[[#This Row],[Date d''inscription du risque]]),\"\")","v":""}]
[null,null,{"$f":"IF(ISBLANK(Risque[[#This Row],[Catégorie de risque]]),\"\",CONCATENATE(Risque[[#This Row],[Catégorie de risque]],1))","v":""},null,null,null,null,null,{"$f":"IF(ISBLANK(Risque[[#This Row],[Catégorie de risque]]),\"\",IF(OR(ISNUMBER(SEARCH(\"RZ\",Risque[[#This Row],[Source de danger]]))=TRUE,ISNUMBER(SEARCH(\"RP\",Risque[[#This Row],[Source de danger]]))=TRUE,ISNUMBER(SEARCH(\"RZ\",Risque[[#This Row],[Risques associés]]))=TRUE,ISNUMBER(SEARCH(\"RP\",Risque[[#This Row],[Risques associés]]))=TRUE,ISNUMBER(SEARCH(\"RZ\",Risque[[#This Row],[Précision du risque\n(si liste déroulante présente)]]))=TRUE,ISNUMBER(SEARCH(\"RP\",Risque[[#This Row],[Précision du risque\n(si liste déroulante présente)]]))=TRUE),\"Oui --> Priorité d'action\",\"Non\"))","v":""},null,null,null,null,{"$f":"IF(ISBLANK(Risque[[#This Row],[Catégorie de risque]]),\"\",CONCATENATE(Risque[[#This Row],[Catégorie de risque]],2))","v":""},null,{"$f":"IF(ISBLANK(Risque[[#This Row],[Moyens de prévention]]),\"\",CONCATENATE(Risque[[#This Row],[Moyens de prévention]],1))","v":""},null,null,null,null,null,{"$f":"IF(ISBLANK(Risque[[#This Row],[Catégorie de risque]]),\"\",CONCATENATE(Risque[[#This Row],[Catégorie de risque]],3))","v":""},null,null,null,{"$f":"IF(ISBLANK(Risque[[#This Row],[Catégorie de risque]]),\"\",CONCATENATE(Risque[[#This Row],[Catégorie de risque]],4))","v":""},null,null,null,null,null,{"$f":"IF(Risque[[#This Row],[Date d''inscription du risque]]<>\"\",YEAR(Risque[[#This Row],[Date d''inscription du risque]]),\"\")","v":""}]
[null,null,{"$f":"IF(ISBLANK(Risque[[#This Row],[Catégorie de risque]]),\"\",CONCATENATE(Risque[[#This Row],[Catégorie de risque]],1))","v":""},null,null,null,null,null,{"$f":"IF(ISBLANK(Risque[[#This Row],[Catégorie de risque]]),\"\",IF(OR(ISNUMBER(SEARCH(\"RZ\",Risque[[#This Row],[Source de danger]]))=TRUE,ISNUMBER(SEARCH(\"RP\",Risque[[#This Row],[Source de danger]]))=TRUE,ISNUMBER(SEARCH(\"RZ\",Risque[[#This Row],[Risques associés]]))=TRUE,ISNUMBER(SEARCH(\"RP\",Risque[[#This Row],[Risques associés]]))=TRUE,ISNUMBER(SEARCH(\"RZ\",Risque[[#This Row],[Précision du risque\n(si liste déroulante présente)]]))=TRUE,ISNUMBER(SEARCH(\"RP\",Risque[[#This Row],[Précision du risque\n(si liste déroulante présente)]]))=TRUE),\"Oui --> Priorité d'action\",\"Non\"))","v":""},null,null,null,null,{"$f":"IF(ISBLANK(Risque[[#This Row],[Catégorie de risque]]),\"\",CONCATENATE(Risque[[#This Row],[Catégorie de risque]],2))","v":""},null,{"$f":"IF(ISBLANK(Risque[[#This Row],[Moyens de prévention]]),\"\",CONCATENATE(Risque[[#This Row],[Moyens de prévention]],1))","v":""},null,null,null,null,null,{"$f":"IF(ISBLANK(Risque[[#This Row],[Catégorie de risque]]),\"\",CONCATENATE(Risque[[#This Row],[Catégorie de risque]],3))","v":""},null,null,null,{"$f":"IF(ISBLANK(Risque[[#This Row],[Catégorie de risque]]),\"\",CONCATENATE(Risque[[#This Row],[Catégorie de risque]],4))","v":""},null,null,null,null,null,{"$f":"IF(Risque[[#This Row],[Date d''inscription du risque]]<>\"\",YEAR(Risque[[#This Row],[Date d''inscription du risque]]),\"\")","v":""}]
[null,null,{"$f":"IF(ISBLANK(Risque[[#This Row],[Catégorie de risque]]),\"\",CONCATENATE(Risque[[#This Row],[Catégorie de risque]],1))","v":""},null,null,null,null,null,{"$f":"IF(ISBLANK(Risque[[#This Row],[Catégorie de risque]]),\"\",IF(OR(ISNUMBER(SEARCH(\"RZ\",Risque[[#This Row],[Source de danger]]))=TRUE,ISNUMBER(SEARCH(\"RP\",Risque[[#This Row],[Source de danger]]))=TRUE,ISNUMBER(SEARCH(\"RZ\",Risque[[#This Row],[Risques associés]]))=TRUE,ISNUMBER(SEARCH(\"RP\",Risque[[#This Row],[Risques associés]]))=TRUE,ISNUMBER(SEARCH(\"RZ\",Risque[[#This Row],[Précision du risque\n(si liste déroulante présente)]]))=TRUE,ISNUMBER(SEARCH(\"RP\",Risque[[#This Row],[Précision du risque\n(si liste déroulante présente)]]))=TRUE),\"Oui --> Priorité d'action\",\"Non\"))","v":""},null,null,null,null,{"$f":"IF(ISBLANK(Risque[[#This Row],[Catégorie de risque]]),\"\",CONCATENATE(Risque[[#This Row],[Catégorie de risque]],2))","v":""},null,{"$f":"IF(ISBLANK(Risque[[#This Row],[Moyens de prévention]]),\"\",CONCATENATE(Risque[[#This Row],[Moyens de prévention]],1))","v":""},null,null,null,null,null,{"$f":"IF(ISBLANK(Risque[[#This Row],[Catégorie de risque]]),\"\",CONCATENATE(Risque[[#This Row],[Catégorie de risque]],3))","v":""},null,null,null,{"$f":"IF(ISBLANK(Risque[[#This Row],[Catégorie de risque]]),\"\",CONCATENATE(Risque[[#This Row],[Catégorie de risque]],4))","v":""},null,null,null,null,null,{"$f":"IF(Risque[[#This Row],[Date d''inscription du risque]]<>\"\",YEAR(Risque[[#This Row],[Date d''inscription du risque]]),\"\")","v":""}]
[null,null,{"$f":"IF(ISBLANK(Risque[[#This Row],[Catégorie de risque]]),\"\",CONCATENATE(Risque[[#This Row],[Catégorie de risque]],1))","v":""},null,null,null,null,null,{"$f":"IF(ISBLANK(Risque[[#This Row],[Catégorie de risque]]),\"\",IF(OR(ISNUMBER(SEARCH(\"RZ\",Risque[[#This Row],[Source de danger]]))=TRUE,ISNUMBER(SEARCH(\"RP\",Risque[[#This Row],[Source de danger]]))=TRUE,ISNUMBER(SEARCH(\"RZ\",Risque[[#This Row],[Risques associés]]))=TRUE,ISNUMBER(SEARCH(\"RP\",Risque[[#This Row],[Risques associés]]))=TRUE,ISNUMBER(SEARCH(\"RZ\",Risque[[#This Row],[Précision du risque\n(si liste déroulante présente)]]))=TRUE,ISNUMBER(SEARCH(\"RP\",Risque[[#This Row],[Précision du risque\n(si liste déroulante présente)]]))=TRUE),\"Oui --> Priorité d'action\",\"Non\"))","v":""},null,null,null,null,{"$f":"IF(ISBLANK(Risque[[#This Row],[Catégorie de risque]]),\"\",CONCATENATE(Risque[[#This Row],[Catégorie de risque]],2))","v":""},null,{"$f":"IF(ISBLANK(Risque[[#This Row],[Moyens de prévention]]),\"\",CONCATENATE(Risque[[#This Row],[Moyens de prévention]],1))","v":""},null,null,null,null,null,{"$f":"IF(ISBLANK(Risque[[#This Row],[Catégorie de risque]]),\"\",CONCATENATE(Risque[[#This Row],[Catégorie de risque]],3))","v":""},null,null,null,{"$f":"IF(ISBLANK(Risque[[#This Row],[Catégorie de risque]]),\"\",CONCATENATE(Risque[[#This Row],[Catégorie de risque]],4))","v":""},null,null,null,null,null,{"$f":"IF(Risque[[#This Row],[Date d''inscription du risque]]<>\"\",YEAR(Risque[[#This Row],[Date d''inscription du risque]]),\"\")","v":""}]
[null,null,{"$f":"IF(ISBLANK(Risque[[#This Row],[Catégorie de risque]]),\"\",CONCATENATE(Risque[[#This Row],[Catégorie de risque]],1))","v":""},null,null,null,null,null,{"$f":"IF(ISBLANK(Risque[[#This Row],[Catégorie de risque]]),\"\",IF(OR(ISNUMBER(SEARCH(\"RZ\",Risque[[#This Row],[Source de danger]]))=TRUE,ISNUMBER(SEARCH(\"RP\",Risque[[#This Row],[Source de danger]]))=TRUE,ISNUMBER(SEARCH(\"RZ\",Risque[[#This Row],[Risques associés]]))=TRUE,ISNUMBER(SEARCH(\"RP\",Risque[[#This Row],[Risques associés]]))=TRUE,ISNUMBER(SEARCH(\"RZ\",Risque[[#This Row],[Précision du risque\n(si liste déroulante présente)]]))=TRUE,ISNUMBER(SEARCH(\"RP\",Risque[[#This Row],[Précision du risque\n(si liste déroulante présente)]]))=TRUE),\"Oui --> Priorité d'action\",\"Non\"))","v":""},null,null,null,null,{"$f":"IF(ISBLANK(Risque[[#This Row],[Catégorie de risque]]),\"\",CONCATENATE(Risque[[#This Row],[Catégorie de risque]],2))","v":""},null,{"$f":"IF(ISBLANK(Risque[[#This Row],[Moyens de prévention]]),\"\",CONCATENATE(Risque[[#This Row],[Moyens de prévention]],1))","v":""},null,null,null,null,null,{"$f":"IF(ISBLANK(Risque[[#This Row],[Catégorie de risque]]),\"\",CONCATENATE(Risque[[#This Row],[Catégorie de risque]],3))","v":""},null,null,null,{"$f":"IF(ISBLANK(Risque[[#This Row],[Catégorie de risque]]),\"\",CONCATENATE(Risque[[#This Row],[Catégorie de risque]],4))","v":""},null,null,null,null,null,{"$f":"IF(Risque[[#This Row],[Date d''inscription du risque]]<>\"\",YEAR(Risque[[#This Row],[Date d''inscription du risque]]),\"\")","v":""}]
[null,null,{"$f":"IF(ISBLANK(Risque[[#This Row],[Catégorie de risque]]),\"\",CONCATENATE(Risque[[#This Row],[Catégorie de risque]],1))","v":""},null,null,null,null,null,{"$f":"IF(ISBLANK(Risque[[#This Row],[Catégorie de risque]]),\"\",IF(OR(ISNUMBER(SEARCH(\"RZ\",Risque[[#This Row],[Source de danger]]))=TRUE,ISNUMBER(SEARCH(\"RP\",Risque[[#This Row],[Source de danger]]))=TRUE,ISNUMBER(SEARCH(\"RZ\",Risque[[#This Row],[Risques associés]]))=TRUE,ISNUMBER(SEARCH(\"RP\",Risque[[#This Row],[Risques associés]]))=TRUE,ISNUMBER(SEARCH(\"RZ\",Risque[[#This Row],[Précision du risque\n(si liste déroulante présente)]]))=TRUE,ISNUMBER(SEARCH(\"RP\",Risque[[#This Row],[Précision du risque\n(si liste déroulante présente)]]))=TRUE),\"Oui --> Priorité d'action\",\"Non\"))","v":""},null,null,null,null,{"$f":"IF(ISBLANK(Risque[[#This Row],[Catégorie de risque]]),\"\",CONCATENATE(Risque[[#This Row],[Catégorie de risque]],2))","v":""},null,{"$f":"IF(ISBLANK(Risque[[#This Row],[Moyens de prévention]]),\"\",CONCATENATE(Risque[[#This Row],[Moyens de prévention]],1))","v":""},null,null,null,null,null,{"$f":"IF(ISBLANK(Risque[[#This Row],[Catégorie de risque]]),\"\",CONCATENATE(Risque[[#This Row],[Catégorie de risque]],3))","v":""},null,null,null,{"$f":"IF(ISBLANK(Risque[[#This Row],[Catégorie de risque]]),\"\",CONCATENATE(Risque[[#This Row],[Catégorie de risque]],4))","v":""},null,null,null,null,null,{"$f":"IF(Risque[[#This Row],[Date d''inscription du risque]]<>\"\",YEAR(Risque[[#This Row],[Date d''inscription du risque]]),\"\")","v":""}]
[null,null,{"$f":"IF(ISBLANK(Risque[[#This Row],[Catégorie de risque]]),\"\",CONCATENATE(Risque[[#This Row],[Catégorie de risque]],1))","v":""},null,null,null,null,null,{"$f":"IF(ISBLANK(Risque[[#This Row],[Catégorie de risque]]),\"\",IF(OR(ISNUMBER(SEARCH(\"RZ\",Risque[[#This Row],[Source de danger]]))=TRUE,ISNUMBER(SEARCH(\"RP\",Risque[[#This Row],[Source de danger]]))=TRUE,ISNUMBER(SEARCH(\"RZ\",Risque[[#This Row],[Risques associés]]))=TRUE,ISNUMBER(SEARCH(\"RP\",Risque[[#This Row],[Risques associés]]))=TRUE,ISNUMBER(SEARCH(\"RZ\",Risque[[#This Row],[Précision du risque\n(si liste déroulante présente)]]))=TRUE,ISNUMBER(SEARCH(\"RP\",Risque[[#This Row],[Précision du risque\n(si liste déroulante présente)]]))=TRUE),\"Oui --> Priorité d'action\",\"Non\"))","v":""},null,null,null,null,{"$f":"IF(ISBLANK(Risque[[#This Row],[Catégorie de risque]]),\"\",CONCATENATE(Risque[[#This Row],[Catégorie de risque]],2))","v":""},null,{"$f":"IF(ISBLANK(Risque[[#This Row],[Moyens de prévention]]),\"\",CONCATENATE(Risque[[#This Row],[Moyens de prévention]],1))","v":""},null,null,null,null,null,{"$f":"IF(ISBLANK(Risque[[#This Row],[Catégorie de risque]]),\"\",CONCATENATE(Risque[[#This Row],[Catégorie de risque]],3))","v":""},null,null,null,{"$f":"IF(ISBLANK(Risque[[#This Row],[Catégorie de risque]]),\"\",CONCATENATE(Risque[[#This Row],[Catégorie de risque]],4))","v":""},null,null,null,null,null,{"$f":"IF(Risque[[#This Row],[Date d''inscription du risque]]<>\"\",YEAR(Risque[[#This Row],[Date d''inscription du risque]]),\"\")","v":""}]
[null,null,{"$f":"IF(ISBLANK(Risque[[#This Row],[Catégorie de risque]]),\"\",CONCATENATE(Risque[[#This Row],[Catégorie de risque]],1))","v":""},null,null,null,null,null,{"$f":"IF(ISBLANK(Risque[[#This Row],[Catégorie de risque]]),\"\",IF(OR(ISNUMBER(SEARCH(\"RZ\",Risque[[#This Row],[Source de danger]]))=TRUE,ISNUMBER(SEARCH(\"RP\",Risque[[#This Row],[Source de danger]]))=TRUE,ISNUMBER(SEARCH(\"RZ\",Risque[[#This Row],[Risques associés]]))=TRUE,ISNUMBER(SEARCH(\"RP\",Risque[[#This Row],[Risques associés]]))=TRUE,ISNUMBER(SEARCH(\"RZ\",Risque[[#This Row],[Précision du risque\n(si liste déroulante présente)]]))=TRUE,ISNUMBER(SEARCH(\"RP\",Risque[[#This Row],[Précision du risque\n(si liste déroulante présente)]]))=TRUE),\"Oui --> Priorité d'action\",\"Non\"))","v":""},null,null,null,null,{"$f":"IF(ISBLANK(Risque[[#This Row],[Catégorie de risque]]),\"\",CONCATENATE(Risque[[#This Row],[Catégorie de risque]],2))","v":""},null,{"$f":"IF(ISBLANK(Risque[[#This Row],[Moyens de prévention]]),\"\",CONCATENATE(Risque[[#This Row],[Moyens de prévention]],1))","v":""},null,null,null,null,null,{"$f":"IF(ISBLANK(Risque[[#This Row],[Catégorie de risque]]),\"\",CONCATENATE(Risque[[#This Row],[Catégorie de risque]],3))","v":""},null,null,null,{"$f":"IF(ISBLANK(Risque[[#This Row],[Catégorie de risque]]),\"\",CONCATENATE(Risque[[#This Row],[Catégorie de risque]],4))","v":""},null,null,null,null,null,{"$f":"IF(Risque[[#This Row],[Date d''inscription du risque]]<>\"\",YEAR(Risque[[#This Row],[Date d''inscription du risque]]),\"\")","v":""}]
[null,null,{"$f":"IF(ISBLANK(Risque[[#This Row],[Catégorie de risque]]),\"\",CONCATENATE(Risque[[#This Row],[Catégorie de risque]],1))","v":""},null,null,null,null,null,{"$f":"IF(ISBLANK(Risque[[#This Row],[Catégorie de risque]]),\"\",IF(OR(ISNUMBER(SEARCH(\"RZ\",Risque[[#This Row],[Source de danger]]))=TRUE,ISNUMBER(SEARCH(\"RP\",Risque[[#This Row],[Source de danger]]))=TRUE,ISNUMBER(SEARCH(\"RZ\",Risque[[#This Row],[Risques associés]]))=TRUE,ISNUMBER(SEARCH(\"RP\",Risque[[#This Row],[Risques associés]]))=TRUE,ISNUMBER(SEARCH(\"RZ\",Risque[[#This Row],[Précision du risque\n(si liste déroulante présente)]]))=TRUE,ISNUMBER(SEARCH(\"RP\",Risque[[#This Row],[Précision du risque\n(si liste déroulante présente)]]))=TRUE),\"Oui --> Priorité d'action\",\"Non\"))","v":""},null,null,null,null,{"$f":"IF(ISBLANK(Risque[[#This Row],[Catégorie de risque]]),\"\",CONCATENATE(Risque[[#This Row],[Catégorie de risque]],2))","v":""},null,{"$f":"IF(ISBLANK(Risque[[#This Row],[Moyens de prévention]]),\"\",CONCATENATE(Risque[[#This Row],[Moyens de prévention]],1))","v":""},null,null,null,null,null,{"$f":"IF(ISBLANK(Risque[[#This Row],[Catégorie de risque]]),\"\",CONCATENATE(Risque[[#This Row],[Catégorie de risque]],3))","v":""},null,null,null,{"$f":"IF(ISBLANK(Risque[[#This Row],[Catégorie de risque]]),\"\",CONCATENATE(Risque[[#This Row],[Catégorie de risque]],4))","v":""},null,null,null,null,null,{"$f":"IF(Risque[[#This Row],[Date d''inscription du risque]]<>\"\",YEAR(Risque[[#This Row],[Date d''inscription du risque]]),\"\")","v":""}]
[null,null,{"$f":"IF(ISBLANK(Risque[[#This Row],[Catégorie de risque]]),\"\",CONCATENATE(Risque[[#This Row],[Catégorie de risque]],1))","v":""},null,null,null,null,null,{"$f":"IF(ISBLANK(Risque[[#This Row],[Catégorie de risque]]),\"\",IF(OR(ISNUMBER(SEARCH(\"RZ\",Risque[[#This Row],[Source de danger]]))=TRUE,ISNUMBER(SEARCH(\"RP\",Risque[[#This Row],[Source de danger]]))=TRUE,ISNUMBER(SEARCH(\"RZ\",Risque[[#This Row],[Risques associés]]))=TRUE,ISNUMBER(SEARCH(\"RP\",Risque[[#This Row],[Risques associés]]))=TRUE,ISNUMBER(SEARCH(\"RZ\",Risque[[#This Row],[Précision du risque\n(si liste déroulante présente)]]))=TRUE,ISNUMBER(SEARCH(\"RP\",Risque[[#This Row],[Précision du risque\n(si liste déroulante présente)]]))=TRUE),\"Oui --> Priorité d'action\",\"Non\"))","v":""},null,null,null,null,{"$f":"IF(ISBLANK(Risque[[#This Row],[Catégorie de risque]]),\"\",CONCATENATE(Risque[[#This Row],[Catégorie de risque]],2))","v":""},null,{"$f":"IF(ISBLANK(Risque[[#This Row],[Moyens de prévention]]),\"\",CONCATENATE(Risque[[#This Row],[Moyens de prévention]],1))","v":""},null,null,null,null,null,{"$f":"IF(ISBLANK(Risque[[#This Row],[Catégorie de risque]]),\"\",CONCATENATE(Risque[[#This Row],[Catégorie de risque]],3))","v":""},null,null,null,{"$f":"IF(ISBLANK(Risque[[#This Row],[Catégorie de risque]]),\"\",CONCATENATE(Risque[[#This Row],[Catégorie de risque]],4))","v":""},null,null,null,null,null,{"$f":"IF(Risque[[#This Row],[Date d''inscription du risque]]<>\"\",YEAR(Risque[[#This Row],[Date d''inscription du risque]]),\"\")","v":""}]
[null,null,{"$f":"IF(ISBLANK(Risque[[#This Row],[Catégorie de risque]]),\"\",CONCATENATE(Risque[[#This Row],[Catégorie de risque]],1))","v":""},null,null,null,null,null,{"$f":"IF(ISBLANK(Risque[[#This Row],[Catégorie de risque]]),\"\",IF(OR(ISNUMBER(SEARCH(\"RZ\",Risque[[#This Row],[Source de danger]]))=TRUE,ISNUMBER(SEARCH(\"RP\",Risque[[#This Row],[Source de danger]]))=TRUE,ISNUMBER(SEARCH(\"RZ\",Risque[[#This Row],[Risques associés]]))=TRUE,ISNUMBER(SEARCH(\"RP\",Risque[[#This Row],[Risques associés]]))=TRUE,ISNUMBER(SEARCH(\"RZ\",Risque[[#This Row],[Précision du risque\n(si liste déroulante présente)]]))=TRUE,ISNUMBER(SEARCH(\"RP\",Risque[[#This Row],[Précision du risque\n(si liste déroulante présente)]]))=TRUE),\"Oui --> Priorité d'action\",\"Non\"))","v":""},null,null,null,null,{"$f":"IF(ISBLANK(Risque[[#This Row],[Catégorie de risque]]),\"\",CONCATENATE(Risque[[#This Row],[Catégorie de risque]],2))","v":""},null,{"$f":"IF(ISBLANK(Risque[[#This Row],[Moyens de prévention]]),\"\",CONCATENATE(Risque[[#This Row],[Moyens de prévention]],1))","v":""},null,null,null,null,null,{"$f":"IF(ISBLANK(Risque[[#This Row],[Catégorie de risque]]),\"\",CONCATENATE(Risque[[#This Row],[Catégorie de risque]],3))","v":""},null,null,null,{"$f":"IF(ISBLANK(Risque[[#This Row],[Catégorie de risque]]),\"\",CONCATENATE(Risque[[#This Row],[Catégorie de risque]],4))","v":""},null,null,null,null,null,{"$f":"IF(Risque[[#This Row],[Date d''inscription du risque]]<>\"\",YEAR(Risque[[#This Row],[Date d''inscription du risque]]),\"\")","v":""}]
[null,null,{"$f":"IF(ISBLANK(Risque[[#This Row],[Catégorie de risque]]),\"\",CONCATENATE(Risque[[#This Row],[Catégorie de risque]],1))","v":""},null,null,null,null,null,{"$f":"IF(ISBLANK(Risque[[#This Row],[Catégorie de risque]]),\"\",IF(OR(ISNUMBER(SEARCH(\"RZ\",Risque[[#This Row],[Source de danger]]))=TRUE,ISNUMBER(SEARCH(\"RP\",Risque[[#This Row],[Source de danger]]))=TRUE,ISNUMBER(SEARCH(\"RZ\",Risque[[#This Row],[Risques associés]]))=TRUE,ISNUMBER(SEARCH(\"RP\",Risque[[#This Row],[Risques associés]]))=TRUE,ISNUMBER(SEARCH(\"RZ\",Risque[[#This Row],[Précision du risque\n(si liste déroulante présente)]]))=TRUE,ISNUMBER(SEARCH(\"RP\",Risque[[#This Row],[Précision du risque\n(si liste déroulante présente)]]))=TRUE),\"Oui --> Priorité d'action\",\"Non\"))","v":""},null,null,null,null,{"$f":"IF(ISBLANK(Risque[[#This Row],[Catégorie de risque]]),\"\",CONCATENATE(Risque[[#This Row],[Catégorie de risque]],2))","v":""},null,{"$f":"IF(ISBLANK(Risque[[#This Row],[Moyens de prévention]]),\"\",CONCATENATE(Risque[[#This Row],[Moyens de prévention]],1))","v":""},null,null,null,null,null,{"$f":"IF(ISBLANK(Risque[[#This Row],[Catégorie de risque]]),\"\",CONCATENATE(Risque[[#This Row],[Catégorie de risque]],3))","v":""},null,null,null,{"$f":"IF(ISBLANK(Risque[[#This Row],[Catégorie de risque]]),\"\",CONCATENATE(Risque[[#This Row],[Catégorie de risque]],4))","v":""},null,null,null,null,null,{"$f":"IF(Risque[[#This Row],[Date d''inscription du risque]]<>\"\",YEAR(Risque[[#This Row],[Date d''inscription du risque]]),\"\")","v":""}]
[null,null,{"$f":"IF(ISBLANK(Risque[[#This Row],[Catégorie de risque]]),\"\",CONCATENATE(Risque[[#This Row],[Catégorie de risque]],1))","v":""},null,null,null,null,null,{"$f":"IF(ISBLANK(Risque[[#This Row],[Catégorie de risque]]),\"\",IF(OR(ISNUMBER(SEARCH(\"RZ\",Risque[[#This Row],[Source de danger]]))=TRUE,ISNUMBER(SEARCH(\"RP\",Risque[[#This Row],[Source de danger]]))=TRUE,ISNUMBER(SEARCH(\"RZ\",Risque[[#This Row],[Risques associés]]))=TRUE,ISNUMBER(SEARCH(\"RP\",Risque[[#This Row],[Risques associés]]))=TRUE,ISNUMBER(SEARCH(\"RZ\",Risque[[#This Row],[Précision du risque\n(si liste déroulante présente)]]))=TRUE,ISNUMBER(SEARCH(\"RP\",Risque[[#This Row],[Précision du risque\n(si liste déroulante présente)]]))=TRUE),\"Oui --> Priorité d'action\",\"Non\"))","v":""},null,null,null,null,{"$f":"IF(ISBLANK(Risque[[#This Row],[Catégorie de risque]]),\"\",CONCATENATE(Risque[[#This Row],[Catégorie de risque]],2))","v":""},null,{"$f":"IF(ISBLANK(Risque[[#This Row],[Moyens de prévention]]),\"\",CONCATENATE(Risque[[#This Row],[Moyens de prévention]],1))","v":""},null,null,null,null,null,{"$f":"IF(ISBLANK(Risque[[#This Row],[Catégorie de risque]]),\"\",CONCATENATE(Risque[[#This Row],[Catégorie de risque]],3))","v":""},null,null,null,{"$f":"IF(ISBLANK(Risque[[#This Row],[Catégorie de risque]]),\"\",CONCATENATE(Risque[[#This Row],[Catégorie de risque]],4))","v":""},null,null,null,null,null,{"$f":"IF(Risque[[#This Row],[Date d''inscription du risque]]<>\"\",YEAR(Risque[[#This Row],[Date d''inscription du risque]]),\"\")","v":""}]
[null,null,{"$f":"IF(ISBLANK(Risque[[#This Row],[Catégorie de risque]]),\"\",CONCATENATE(Risque[[#This Row],[Catégorie de risque]],1))","v":""},null,null,null,null,null,{"$f":"IF(ISBLANK(Risque[[#This Row],[Catégorie de risque]]),\"\",IF(OR(ISNUMBER(SEARCH(\"RZ\",Risque[[#This Row],[Source de danger]]))=TRUE,ISNUMBER(SEARCH(\"RP\",Risque[[#This Row],[Source de danger]]))=TRUE,ISNUMBER(SEARCH(\"RZ\",Risque[[#This Row],[Risques associés]]))=TRUE,ISNUMBER(SEARCH(\"RP\",Risque[[#This Row],[Risques associés]]))=TRUE,ISNUMBER(SEARCH(\"RZ\",Risque[[#This Row],[Précision du risque\n(si liste déroulante présente)]]))=TRUE,ISNUMBER(SEARCH(\"RP\",Risque[[#This Row],[Précision du risque\n(si liste déroulante présente)]]))=TRUE),\"Oui --> Priorité d'action\",\"Non\"))","v":""},null,null,null,null,{"$f":"IF(ISBLANK(Risque[[#This Row],[Catégorie de risque]]),\"\",CONCATENATE(Risque[[#This Row],[Catégorie de risque]],2))","v":""},null,{"$f":"IF(ISBLANK(Risque[[#This Row],[Moyens de prévention]]),\"\",CONCATENATE(Risque[[#This Row],[Moyens de prévention]],1))","v":""},null,null,null,null,null,{"$f":"IF(ISBLANK(Risque[[#This Row],[Catégorie de risque]]),\"\",CONCATENATE(Risque[[#This Row],[Catégorie de risque]],3))","v":""},null,null,null,{"$f":"IF(ISBLANK(Risque[[#This Row],[Catégorie de risque]]),\"\",CONCATENATE(Risque[[#This Row],[Catégorie de risque]],4))","v":""},null,null,null,null,null,{"$f":"IF(Risque[[#This Row],[Date d''inscription du risque]]<>\"\",YEAR(Risque[[#This Row],[Date d''inscription du risque]]),\"\")","v":""}]
[null,null,{"$f":"IF(ISBLANK(Risque[[#This Row],[Catégorie de risque]]),\"\",CONCATENATE(Risque[[#This Row],[Catégorie de risque]],1))","v":""},null,null,null,null,null,{"$f":"IF(ISBLANK(Risque[[#This Row],[Catégorie de risque]]),\"\",IF(OR(ISNUMBER(SEARCH(\"RZ\",Risque[[#This Row],[Source de danger]]))=TRUE,ISNUMBER(SEARCH(\"RP\",Risque[[#This Row],[Source de danger]]))=TRUE,ISNUMBER(SEARCH(\"RZ\",Risque[[#This Row],[Risques associés]]))=TRUE,ISNUMBER(SEARCH(\"RP\",Risque[[#This Row],[Risques associés]]))=TRUE,ISNUMBER(SEARCH(\"RZ\",Risque[[#This Row],[Précision du risque\n(si liste déroulante présente)]]))=TRUE,ISNUMBER(SEARCH(\"RP\",Risque[[#This Row],[Précision du risque\n(si liste déroulante présente)]]))=TRUE),\"Oui --> Priorité d'action\",\"Non\"))","v":""},null,null,null,null,{"$f":"IF(ISBLANK(Risque[[#This Row],[Catégorie de risque]]),\"\",CONCATENATE(Risque[[#This Row],[Catégorie de risque]],2))","v":""},null,{"$f":"IF(ISBLANK(Risque[[#This Row],[Moyens de prévention]]),\"\",CONCATENATE(Risque[[#This Row],[Moyens de prévention]],1))","v":""},null,null,null,null,null,{"$f":"IF(ISBLANK(Risque[[#This Row],[Catégorie de risque]]),\"\",CONCATENATE(Risque[[#This Row],[Catégorie de risque]],3))","v":""},null,null,null,{"$f":"IF(ISBLANK(Risque[[#This Row],[Catégorie de risque]]),\"\",CONCATENATE(Risque[[#This Row],[Catégorie de risque]],4))","v":""},null,null,null,null,null,{"$f":"IF(Risque[[#This Row],[Date d''inscription du risque]]<>\"\",YEAR(Risque[[#This Row],[Date d''inscription du risque]]),\"\")","v":""}]
[null,null,{"$f":"IF(ISBLANK(Risque[[#This Row],[Catégorie de risque]]),\"\",CONCATENATE(Risque[[#This Row],[Catégorie de risque]],1))","v":""},null,null,null,null,null,{"$f":"IF(ISBLANK(Risque[[#This Row],[Catégorie de risque]]),\"\",IF(OR(ISNUMBER(SEARCH(\"RZ\",Risque[[#This Row],[Source de danger]]))=TRUE,ISNUMBER(SEARCH(\"RP\",Risque[[#This Row],[Source de danger]]))=TRUE,ISNUMBER(SEARCH(\"RZ\",Risque[[#This Row],[Risques associés]]))=TRUE,ISNUMBER(SEARCH(\"RP\",Risque[[#This Row],[Risques associés]]))=TRUE,ISNUMBER(SEARCH(\"RZ\",Risque[[#This Row],[Précision du risque\n(si liste déroulante présente)]]))=TRUE,ISNUMBER(SEARCH(\"RP\",Risque[[#This Row],[Précision du risque\n(si liste déroulante présente)]]))=TRUE),\"Oui --> Priorité d'action\",\"Non\"))","v":""},null,null,null,null,{"$f":"IF(ISBLANK(Risque[[#This Row],[Catégorie de risque]]),\"\",CONCATENATE(Risque[[#This Row],[Catégorie de risque]],2))","v":""},null,{"$f":"IF(ISBLANK(Risque[[#This Row],[Moyens de prévention]]),\"\",CONCATENATE(Risque[[#This Row],[Moyens de prévention]],1))","v":""},null,null,null,null,null,{"$f":"IF(ISBLANK(Risque[[#This Row],[Catégorie de risque]]),\"\",CONCATENATE(Risque[[#This Row],[Catégorie de risque]],3))","v":""},null,null,null,{"$f":"IF(ISBLANK(Risque[[#This Row],[Catégorie de risque]]),\"\",CONCATENATE(Risque[[#This Row],[Catégorie de risque]],4))","v":""},null,null,null,null,null,{"$f":"IF(Risque[[#This Row],[Date d''inscription du risque]]<>\"\",YEAR(Risque[[#This Row],[Date d''inscription du risque]]),\"\")","v":""}]
[null,null,{"$f":"IF(ISBLANK(Risque[[#This Row],[Catégorie de risque]]),\"\",CONCATENATE(Risque[[#This Row],[Catégorie de risque]],1))","v":""},null,null,null,null,null,{"$f":"IF(ISBLANK(Risque[[#This Row],[Catégorie de risque]]),\"\",IF(OR(ISNUMBER(SEARCH(\"RZ\",Risque[[#This Row],[Source de danger]]))=TRUE,ISNUMBER(SEARCH(\"RP\",Risque[[#This Row],[Source de danger]]))=TRUE,ISNUMBER(SEARCH(\"RZ\",Risque[[#This Row],[Risques associés]]))=TRUE,ISNUMBER(SEARCH(\"RP\",Risque[[#This Row],[Risques associés]]))=TRUE,ISNUMBER(SEARCH(\"RZ\",Risque[[#This Row],[Précision du risque\n(si liste déroulante présente)]]))=TRUE,ISNUMBER(SEARCH(\"RP\",Risque[[#This Row],[Précision du risque\n(si liste déroulante présente)]]))=TRUE),\"Oui --> Priorité d'action\",\"Non\"))","v":""},null,null,null,null,{"$f":"IF(ISBLANK(Risque[[#This Row],[Catégorie de risque]]),\"\",CONCATENATE(Risque[[#This Row],[Catégorie de risque]],2))","v":""},null,{"$f":"IF(ISBLANK(Risque[[#This Row],[Moyens de prévention]]),\"\",CONCATENATE(Risque[[#This Row],[Moyens de prévention]],1))","v":""},null,null,null,null,null,{"$f":"IF(ISBLANK(Risque[[#This Row],[Catégorie de risque]]),\"\",CONCATENATE(Risque[[#This Row],[Catégorie de risque]],3))","v":""},null,null,null,{"$f":"IF(ISBLANK(Risque[[#This Row],[Catégorie de risque]]),\"\",CONCATENATE(Risque[[#This Row],[Catégorie de risque]],4))","v":""},null,null,null,null,null,{"$f":"IF(Risque[[#This Row],[Date d''inscription du risque]]<>\"\",YEAR(Risque[[#This Row],[Date d''inscription du risque]]),\"\")","v":""}]
[null,null,{"$f":"IF(ISBLANK(Risque[[#This Row],[Catégorie de risque]]),\"\",CONCATENATE(Risque[[#This Row],[Catégorie de risque]],1))","v":""},null,null,null,null,null,{"$f":"IF(ISBLANK(Risque[[#This Row],[Catégorie de risque]]),\"\",IF(OR(ISNUMBER(SEARCH(\"RZ\",Risque[[#This Row],[Source de danger]]))=TRUE,ISNUMBER(SEARCH(\"RP\",Risque[[#This Row],[Source de danger]]))=TRUE,ISNUMBER(SEARCH(\"RZ\",Risque[[#This Row],[Risques associés]]))=TRUE,ISNUMBER(SEARCH(\"RP\",Risque[[#This Row],[Risques associés]]))=TRUE,ISNUMBER(SEARCH(\"RZ\",Risque[[#This Row],[Précision du risque\n(si liste déroulante présente)]]))=TRUE,ISNUMBER(SEARCH(\"RP\",Risque[[#This Row],[Précision du risque\n(si liste déroulante présente)]]))=TRUE),\"Oui --> Priorité d'action\",\"Non\"))","v":""},null,null,null,null,{"$f":"IF(ISBLANK(Risque[[#This Row],[Catégorie de risque]]),\"\",CONCATENATE(Risque[[#This Row],[Catégorie de risque]],2))","v":""},null,{"$f":"IF(ISBLANK(Risque[[#This Row],[Moyens de prévention]]),\"\",CONCATENATE(Risque[[#This Row],[Moyens de prévention]],1))","v":""},null,null,null,null,null,{"$f":"IF(ISBLANK(Risque[[#This Row],[Catégorie de risque]]),\"\",CONCATENATE(Risque[[#This Row],[Catégorie de risque]],3))","v":""},null,null,null,{"$f":"IF(ISBLANK(Risque[[#This Row],[Catégorie de risque]]),\"\",CONCATENATE(Risque[[#This Row],[Catégorie de risque]],4))","v":""},null,null,null,null,null,{"$f":"IF(Risque[[#This Row],[Date d''inscription du risque]]<>\"\",YEAR(Risque[[#This Row],[Date d''inscription du risque]]),\"\")","v":""}]
[null,null,{"$f":"IF(ISBLANK(Risque[[#This Row],[Catégorie de risque]]),\"\",CONCATENATE(Risque[[#This Row],[Catégorie de risque]],1))","v":""},null,null,null,null,null,{"$f":"IF(ISBLANK(Risque[[#This Row],[Catégorie de risque]]),\"\",IF(OR(ISNUMBER(SEARCH(\"RZ\",Risque[[#This Row],[Source de danger]]))=TRUE,ISNUMBER(SEARCH(\"RP\",Risque[[#This Row],[Source de danger]]))=TRUE,ISNUMBER(SEARCH(\"RZ\",Risque[[#This Row],[Risques associés]]))=TRUE,ISNUMBER(SEARCH(\"RP\",Risque[[#This Row],[Risques associés]]))=TRUE,ISNUMBER(SEARCH(\"RZ\",Risque[[#This Row],[Précision du risque\n(si liste déroulante présente)]]))=TRUE,ISNUMBER(SEARCH(\"RP\",Risque[[#This Row],[Précision du risque\n(si liste déroulante présente)]]))=TRUE),\"Oui --> Priorité d'action\",\"Non\"))","v":""},null,null,null,null,{"$f":"IF(ISBLANK(Risque[[#This Row],[Catégorie de risque]]),\"\",CONCATENATE(Risque[[#This Row],[Catégorie de risque]],2))","v":""},null,{"$f":"IF(ISBLANK(Risque[[#This Row],[Moyens de prévention]]),\"\",CONCATENATE(Risque[[#This Row],[Moyens de prévention]],1))","v":""},null,null,null,null,null,{"$f":"IF(ISBLANK(Risque[[#This Row],[Catégorie de risque]]),\"\",CONCATENATE(Risque[[#This Row],[Catégorie de risque]],3))","v":""},null,null,null,{"$f":"IF(ISBLANK(Risque[[#This Row],[Catégorie de risque]]),\"\",CONCATENATE(Risque[[#This Row],[Catégorie de risque]],4))","v":""},null,null,null,null,null,{"$f":"IF(Risque[[#This Row],[Date d''inscription du risque]]<>\"\",YEAR(Risque[[#This Row],[Date d''inscription du risque]]),\"\")","v":""}]
[null,null,{"$f":"IF(ISBLANK(Risque[[#This Row],[Catégorie de risque]]),\"\",CONCATENATE(Risque[[#This Row],[Catégorie de risque]],1))","v":""},null,null,null,null,null,{"$f":"IF(ISBLANK(Risque[[#This Row],[Catégorie de risque]]),\"\",IF(OR(ISNUMBER(SEARCH(\"RZ\",Risque[[#This Row],[Source de danger]]))=TRUE,ISNUMBER(SEARCH(\"RP\",Risque[[#This Row],[Source de danger]]))=TRUE,ISNUMBER(SEARCH(\"RZ\",Risque[[#This Row],[Risques associés]]))=TRUE,ISNUMBER(SEARCH(\"RP\",Risque[[#This Row],[Risques associés]]))=TRUE,ISNUMBER(SEARCH(\"RZ\",Risque[[#This Row],[Précision du risque\n(si liste déroulante présente)]]))=TRUE,ISNUMBER(SEARCH(\"RP\",Risque[[#This Row],[Précision du risque\n(si liste déroulante présente)]]))=TRUE),\"Oui --> Priorité d'action\",\"Non\"))","v":""},null,null,null,null,{"$f":"IF(ISBLANK(Risque[[#This Row],[Catégorie de risque]]),\"\",CONCATENATE(Risque[[#This Row],[Catégorie de risque]],2))","v":""},null,{"$f":"IF(ISBLANK(Risque[[#This Row],[Moyens de prévention]]),\"\",CONCATENATE(Risque[[#This Row],[Moyens de prévention]],1))","v":""},null,null,null,null,null,{"$f":"IF(ISBLANK(Risque[[#This Row],[Catégorie de risque]]),\"\",CONCATENATE(Risque[[#This Row],[Catégorie de risque]],3))","v":""},null,null,null,{"$f":"IF(ISBLANK(Risque[[#This Row],[Catégorie de risque]]),\"\",CONCATENATE(Risque[[#This Row],[Catégorie de risque]],4))","v":""},null,null,null,null,null,{"$f":"IF(Risque[[#This Row],[Date d''inscription du risque]]<>\"\",YEAR(Risque[[#This Row],[Date d''inscription du risque]]),\"\")","v":""}]
[null,null,{"$f":"IF(ISBLANK(Risque[[#This Row],[Catégorie de risque]]),\"\",CONCATENATE(Risque[[#This Row],[Catégorie de risque]],1))","v":""},null,null,null,null,null,{"$f":"IF(ISBLANK(Risque[[#This Row],[Catégorie de risque]]),\"\",IF(OR(ISNUMBER(SEARCH(\"RZ\",Risque[[#This Row],[Source de danger]]))=TRUE,ISNUMBER(SEARCH(\"RP\",Risque[[#This Row],[Source de danger]]))=TRUE,ISNUMBER(SEARCH(\"RZ\",Risque[[#This Row],[Risques associés]]))=TRUE,ISNUMBER(SEARCH(\"RP\",Risque[[#This Row],[Risques associés]]))=TRUE,ISNUMBER(SEARCH(\"RZ\",Risque[[#This Row],[Précision du risque\n(si liste déroulante présente)]]))=TRUE,ISNUMBER(SEARCH(\"RP\",Risque[[#This Row],[Précision du risque\n(si liste déroulante présente)]]))=TRUE),\"Oui --> Priorité d'action\",\"Non\"))","v":""},null,null,null,null,{"$f":"IF(ISBLANK(Risque[[#This Row],[Catégorie de risque]]),\"\",CONCATENATE(Risque[[#This Row],[Catégorie de risque]],2))","v":""},null,{"$f":"IF(ISBLANK(Risque[[#This Row],[Moyens de prévention]]),\"\",CONCATENATE(Risque[[#This Row],[Moyens de prévention]],1))","v":""},null,null,null,null,null,{"$f":"IF(ISBLANK(Risque[[#This Row],[Catégorie de risque]]),\"\",CONCATENATE(Risque[[#This Row],[Catégorie de risque]],3))","v":""},null,null,null,{"$f":"IF(ISBLANK(Risque[[#This Row],[Catégorie de risque]]),\"\",CONCATENATE(Risque[[#This Row],[Catégorie de risque]],4))","v":""},null,null,null,null,null,{"$f":"IF(Risque[[#This Row],[Date d''inscription du risque]]<>\"\",YEAR(Risque[[#This Row],[Date d''inscription du risque]]),\"\")","v":""}]
[null,null,{"$f":"IF(ISBLANK(Risque[[#This Row],[Catégorie de risque]]),\"\",CONCATENATE(Risque[[#This Row],[Catégorie de risque]],1))","v":""},null,null,null,null,null,{"$f":"IF(ISBLANK(Risque[[#This Row],[Catégorie de risque]]),\"\",IF(OR(ISNUMBER(SEARCH(\"RZ\",Risque[[#This Row],[Source de danger]]))=TRUE,ISNUMBER(SEARCH(\"RP\",Risque[[#This Row],[Source de danger]]))=TRUE,ISNUMBER(SEARCH(\"RZ\",Risque[[#This Row],[Risques associés]]))=TRUE,ISNUMBER(SEARCH(\"RP\",Risque[[#This Row],[Risques associés]]))=TRUE,ISNUMBER(SEARCH(\"RZ\",Risque[[#This Row],[Précision du risque\n(si liste déroulante présente)]]))=TRUE,ISNUMBER(SEARCH(\"RP\",Risque[[#This Row],[Précision du risque\n(si liste déroulante présente)]]))=TRUE),\"Oui --> Priorité d'action\",\"Non\"))","v":""},null,null,null,null,{"$f":"IF(ISBLANK(Risque[[#This Row],[Catégorie de risque]]),\"\",CONCATENATE(Risque[[#This Row],[Catégorie de risque]],2))","v":""},null,{"$f":"IF(ISBLANK(Risque[[#This Row],[Moyens de prévention]]),\"\",CONCATENATE(Risque[[#This Row],[Moyens de prévention]],1))","v":""},null,null,null,null,null,{"$f":"IF(ISBLANK(Risque[[#This Row],[Catégorie de risque]]),\"\",CONCATENATE(Risque[[#This Row],[Catégorie de risque]],3))","v":""},null,null,null,{"$f":"IF(ISBLANK(Risque[[#This Row],[Catégorie de risque]]),\"\",CONCATENATE(Risque[[#This Row],[Catégorie de risque]],4))","v":""},null,null,null,null,null,{"$f":"IF(Risque[[#This Row],[Date d''inscription du risque]]<>\"\",YEAR(Risque[[#This Row],[Date d''inscription du risque]]),\"\")","v":""}]
[null,null,{"$f":"IF(ISBLANK(Risque[[#This Row],[Catégorie de risque]]),\"\",CONCATENATE(Risque[[#This Row],[Catégorie de risque]],1))","v":""},null,null,null,null,null,{"$f":"IF(ISBLANK(Risque[[#This Row],[Catégorie de risque]]),\"\",IF(OR(ISNUMBER(SEARCH(\"RZ\",Risque[[#This Row],[Source de danger]]))=TRUE,ISNUMBER(SEARCH(\"RP\",Risque[[#This Row],[Source de danger]]))=TRUE,ISNUMBER(SEARCH(\"RZ\",Risque[[#This Row],[Risques associés]]))=TRUE,ISNUMBER(SEARCH(\"RP\",Risque[[#This Row],[Risques associés]]))=TRUE,ISNUMBER(SEARCH(\"RZ\",Risque[[#This Row],[Précision du risque\n(si liste déroulante présente)]]))=TRUE,ISNUMBER(SEARCH(\"RP\",Risque[[#This Row],[Précision du risque\n(si liste déroulante présente)]]))=TRUE),\"Oui --> Priorité d'action\",\"Non\"))","v":""},null,null,null,null,{"$f":"IF(ISBLANK(Risque[[#This Row],[Catégorie de risque]]),\"\",CONCATENATE(Risque[[#This Row],[Catégorie de risque]],2))","v":""},null,{"$f":"IF(ISBLANK(Risque[[#This Row],[Moyens de prévention]]),\"\",CONCATENATE(Risque[[#This Row],[Moyens de prévention]],1))","v":""},null,null,null,null,null,{"$f":"IF(ISBLANK(Risque[[#This Row],[Catégorie de risque]]),\"\",CONCATENATE(Risque[[#This Row],[Catégorie de risque]],3))","v":""},null,null,null,{"$f":"IF(ISBLANK(Risque[[#This Row],[Catégorie de risque]]),\"\",CONCATENATE(Risque[[#This Row],[Catégorie de risque]],4))","v":""},null,null,null,null,null,{"$f":"IF(Risque[[#This Row],[Date d''inscription du risque]]<>\"\",YEAR(Risque[[#This Row],[Date d''inscription du risque]]),\"\")","v":""}]
[null,null,{"$f":"IF(ISBLANK(Risque[[#This Row],[Catégorie de risque]]),\"\",CONCATENATE(Risque[[#This Row],[Catégorie de risque]],1))","v":""},null,null,null,null,null,{"$f":"IF(ISBLANK(Risque[[#This Row],[Catégorie de risque]]),\"\",IF(OR(ISNUMBER(SEARCH(\"RZ\",Risque[[#This Row],[Source de danger]]))=TRUE,ISNUMBER(SEARCH(\"RP\",Risque[[#This Row],[Source de danger]]))=TRUE,ISNUMBER(SEARCH(\"RZ\",Risque[[#This Row],[Risques associés]]))=TRUE,ISNUMBER(SEARCH(\"RP\",Risque[[#This Row],[Risques associés]]))=TRUE,ISNUMBER(SEARCH(\"RZ\",Risque[[#This Row],[Précision du risque\n(si liste déroulante présente)]]))=TRUE,ISNUMBER(SEARCH(\"RP\",Risque[[#This Row],[Précision du risque\n(si liste déroulante présente)]]))=TRUE),\"Oui --> Priorité d'action\",\"Non\"))","v":""},null,null,null,null,{"$f":"IF(ISBLANK(Risque[[#This Row],[Catégorie de risque]]),\"\",CONCATENATE(Risque[[#This Row],[Catégorie de risque]],2))","v":""},null,{"$f":"IF(ISBLANK(Risque[[#This Row],[Moyens de prévention]]),\"\",CONCATENATE(Risque[[#This Row],[Moyens de prévention]],1))","v":""},null,null,null,null,null,{"$f":"IF(ISBLANK(Risque[[#This Row],[Catégorie de risque]]),\"\",CONCATENATE(Risque[[#This Row],[Catégorie de risque]],3))","v":""},null,null,null,{"$f":"IF(ISBLANK(Risque[[#This Row],[Catégorie de risque]]),\"\",CONCATENATE(Risque[[#This Row],[Catégorie de risque]],4))","v":""},null,null,null,null,null,{"$f":"IF(Risque[[#This Row],[Date d''inscription du risque]]<>\"\",YEAR(Risque[[#This Row],[Date d''inscription du risque]]),\"\")","v":""}]
[null,null,{"$f":"IF(ISBLANK(Risque[[#This Row],[Catégorie de risque]]),\"\",CONCATENATE(Risque[[#This Row],[Catégorie de risque]],1))","v":""},null,null,null,null,null,{"$f":"IF(ISBLANK(Risque[[#This Row],[Catégorie de risque]]),\"\",IF(OR(ISNUMBER(SEARCH(\"RZ\",Risque[[#This Row],[Source de danger]]))=TRUE,ISNUMBER(SEARCH(\"RP\",Risque[[#This Row],[Source de danger]]))=TRUE,ISNUMBER(SEARCH(\"RZ\",Risque[[#This Row],[Risques associés]]))=TRUE,ISNUMBER(SEARCH(\"RP\",Risque[[#This Row],[Risques associés]]))=TRUE,ISNUMBER(SEARCH(\"RZ\",Risque[[#This Row],[Précision du risque\n(si liste déroulante présente)]]))=TRUE,ISNUMBER(SEARCH(\"RP\",Risque[[#This Row],[Précision du risque\n(si liste déroulante présente)]]))=TRUE),\"Oui --> Priorité d'action\",\"Non\"))","v":""},null,null,null,null,{"$f":"IF(ISBLANK(Risque[[#This Row],[Catégorie de risque]]),\"\",CONCATENATE(Risque[[#This Row],[Catégorie de risque]],2))","v":""},null,{"$f":"IF(ISBLANK(Risque[[#This Row],[Moyens de prévention]]),\"\",CONCATENATE(Risque[[#This Row],[Moyens de prévention]],1))","v":""},null,null,null,null,null,{"$f":"IF(ISBLANK(Risque[[#This Row],[Catégorie de risque]]),\"\",CONCATENATE(Risque[[#This Row],[Catégorie de risque]],3))","v":""},null,null,null,{"$f":"IF(ISBLANK(Risque[[#This Row],[Catégorie de risque]]),\"\",CONCATENATE(Risque[[#This Row],[Catégorie de risque]],4))","v":""},null,null,null,null,null,{"$f":"IF(Risque[[#This Row],[Date d''inscription du risque]]<>\"\",YEAR(Risque[[#This Row],[Date d''inscription du risque]]),\"\")","v":""}]
[null,null,{"$f":"IF(ISBLANK(Risque[[#This Row],[Catégorie de risque]]),\"\",CONCATENATE(Risque[[#This Row],[Catégorie de risque]],1))","v":""},null,null,null,null,null,{"$f":"IF(ISBLANK(Risque[[#This Row],[Catégorie de risque]]),\"\",IF(OR(ISNUMBER(SEARCH(\"RZ\",Risque[[#This Row],[Source de danger]]))=TRUE,ISNUMBER(SEARCH(\"RP\",Risque[[#This Row],[Source de danger]]))=TRUE,ISNUMBER(SEARCH(\"RZ\",Risque[[#This Row],[Risques associés]]))=TRUE,ISNUMBER(SEARCH(\"RP\",Risque[[#This Row],[Risques associés]]))=TRUE,ISNUMBER(SEARCH(\"RZ\",Risque[[#This Row],[Précision du risque\n(si liste déroulante présente)]]))=TRUE,ISNUMBER(SEARCH(\"RP\",Risque[[#This Row],[Précision du risque\n(si liste déroulante présente)]]))=TRUE),\"Oui --> Priorité d'action\",\"Non\"))","v":""},null,null,null,null,{"$f":"IF(ISBLANK(Risque[[#This Row],[Catégorie de risque]]),\"\",CONCATENATE(Risque[[#This Row],[Catégorie de risque]],2))","v":""},null,{"$f":"IF(ISBLANK(Risque[[#This Row],[Moyens de prévention]]),\"\",CONCATENATE(Risque[[#This Row],[Moyens de prévention]],1))","v":""},null,null,null,null,null,{"$f":"IF(ISBLANK(Risque[[#This Row],[Catégorie de risque]]),\"\",CONCATENATE(Risque[[#This Row],[Catégorie de risque]],3))","v":""},null,null,null,{"$f":"IF(ISBLANK(Risque[[#This Row],[Catégorie de risque]]),\"\",CONCATENATE(Risque[[#This Row],[Catégorie de risque]],4))","v":""},null,null,null,null,null,{"$f":"IF(Risque[[#This Row],[Date d''inscription du risque]]<>\"\",YEAR(Risque[[#This Row],[Date d''inscription du risque]]),\"\")","v":""}]
[null,null,{"$f":"IF(ISBLANK(Risque[[#This Row],[Catégorie de risque]]),\"\",CONCATENATE(Risque[[#This Row],[Catégorie de risque]],1))","v":""},null,null,null,null,null,{"$f":"IF(ISBLANK(Risque[[#This Row],[Catégorie de risque]]),\"\",IF(OR(ISNUMBER(SEARCH(\"RZ\",Risque[[#This Row],[Source de danger]]))=TRUE,ISNUMBER(SEARCH(\"RP\",Risque[[#This Row],[Source de danger]]))=TRUE,ISNUMBER(SEARCH(\"RZ\",Risque[[#This Row],[Risques associés]]))=TRUE,ISNUMBER(SEARCH(\"RP\",Risque[[#This Row],[Risques associés]]))=TRUE,ISNUMBER(SEARCH(\"RZ\",Risque[[#This Row],[Précision du risque\n(si liste déroulante présente)]]))=TRUE,ISNUMBER(SEARCH(\"RP\",Risque[[#This Row],[Précision du risque\n(si liste déroulante présente)]]))=TRUE),\"Oui --> Priorité d'action\",\"Non\"))","v":""},null,null,null,null,{"$f":"IF(ISBLANK(Risque[[#This Row],[Catégorie de risque]]),\"\",CONCATENATE(Risque[[#This Row],[Catégorie de risque]],2))","v":""},null,{"$f":"IF(ISBLANK(Risque[[#This Row],[Moyens de prévention]]),\"\",CONCATENATE(Risque[[#This Row],[Moyens de prévention]],1))","v":""},null,null,null,null,null,{"$f":"IF(ISBLANK(Risque[[#This Row],[Catégorie de risque]]),\"\",CONCATENATE(Risque[[#This Row],[Catégorie de risque]],3))","v":""},null,null,null,{"$f":"IF(ISBLANK(Risque[[#This Row],[Catégorie de risque]]),\"\",CONCATENATE(Risque[[#This Row],[Catégorie de risque]],4))","v":""},null,null,null,null,null,{"$f":"IF(Risque[[#This Row],[Date d''inscription du risque]]<>\"\",YEAR(Risque[[#This Row],[Date d''inscription du risque]]),\"\")","v":""}]
[null,null,{"$f":"IF(ISBLANK(Risque[[#This Row],[Catégorie de risque]]),\"\",CONCATENATE(Risque[[#This Row],[Catégorie de risque]],1))","v":""},null,null,null,null,null,{"$f":"IF(ISBLANK(Risque[[#This Row],[Catégorie de risque]]),\"\",IF(OR(ISNUMBER(SEARCH(\"RZ\",Risque[[#This Row],[Source de danger]]))=TRUE,ISNUMBER(SEARCH(\"RP\",Risque[[#This Row],[Source de danger]]))=TRUE,ISNUMBER(SEARCH(\"RZ\",Risque[[#This Row],[Risques associés]]))=TRUE,ISNUMBER(SEARCH(\"RP\",Risque[[#This Row],[Risques associés]]))=TRUE,ISNUMBER(SEARCH(\"RZ\",Risque[[#This Row],[Précision du risque\n(si liste déroulante présente)]]))=TRUE,ISNUMBER(SEARCH(\"RP\",Risque[[#This Row],[Précision du risque\n(si liste déroulante présente)]]))=TRUE),\"Oui --> Priorité d'action\",\"Non\"))","v":""},null,null,null,null,{"$f":"IF(ISBLANK(Risque[[#This Row],[Catégorie de risque]]),\"\",CONCATENATE(Risque[[#This Row],[Catégorie de risque]],2))","v":""},null,{"$f":"IF(ISBLANK(Risque[[#This Row],[Moyens de prévention]]),\"\",CONCATENATE(Risque[[#This Row],[Moyens de prévention]],1))","v":""},null,null,null,null,null,{"$f":"IF(ISBLANK(Risque[[#This Row],[Catégorie de risque]]),\"\",CONCATENATE(Risque[[#This Row],[Catégorie de risque]],3))","v":""},null,null,null,{"$f":"IF(ISBLANK(Risque[[#This Row],[Catégorie de risque]]),\"\",CONCATENATE(Risque[[#This Row],[Catégorie de risque]],4))","v":""},null,null,null,null,null,{"$f":"IF(Risque[[#This Row],[Date d''inscription du risque]]<>\"\",YEAR(Risque[[#This Row],[Date d''inscription du risque]]),\"\")","v":""}]
[null,null,{"$f":"IF(ISBLANK(Risque[[#This Row],[Catégorie de risque]]),\"\",CONCATENATE(Risque[[#This Row],[Catégorie de risque]],1))","v":""},null,null,null,null,null,{"$f":"IF(ISBLANK(Risque[[#This Row],[Catégorie de risque]]),\"\",IF(OR(ISNUMBER(SEARCH(\"RZ\",Risque[[#This Row],[Source de danger]]))=TRUE,ISNUMBER(SEARCH(\"RP\",Risque[[#This Row],[Source de danger]]))=TRUE,ISNUMBER(SEARCH(\"RZ\",Risque[[#This Row],[Risques associés]]))=TRUE,ISNUMBER(SEARCH(\"RP\",Risque[[#This Row],[Risques associés]]))=TRUE,ISNUMBER(SEARCH(\"RZ\",Risque[[#This Row],[Précision du risque\n(si liste déroulante présente)]]))=TRUE,ISNUMBER(SEARCH(\"RP\",Risque[[#This Row],[Précision du risque\n(si liste déroulante présente)]]))=TRUE),\"Oui --> Priorité d'action\",\"Non\"))","v":""},null,null,null,null,{"$f":"IF(ISBLANK(Risque[[#This Row],[Catégorie de risque]]),\"\",CONCATENATE(Risque[[#This Row],[Catégorie de risque]],2))","v":""},null,{"$f":"IF(ISBLANK(Risque[[#This Row],[Moyens de prévention]]),\"\",CONCATENATE(Risque[[#This Row],[Moyens de prévention]],1))","v":""},null,null,null,null,null,{"$f":"IF(ISBLANK(Risque[[#This Row],[Catégorie de risque]]),\"\",CONCATENATE(Risque[[#This Row],[Catégorie de risque]],3))","v":""},null,null,null,{"$f":"IF(ISBLANK(Risque[[#This Row],[Catégorie de risque]]),\"\",CONCATENATE(Risque[[#This Row],[Catégorie de risque]],4))","v":""},null,null,null,null,null,{"$f":"IF(Risque[[#This Row],[Date d''inscription du risque]]<>\"\",YEAR(Risque[[#This Row],[Date d''inscription du risque]]),\"\")","v":""}]
[null,null,{"$f":"IF(ISBLANK(Risque[[#This Row],[Catégorie de risque]]),\"\",CONCATENATE(Risque[[#This Row],[Catégorie de risque]],1))","v":""},null,null,null,null,null,{"$f":"IF(ISBLANK(Risque[[#This Row],[Catégorie de risque]]),\"\",IF(OR(ISNUMBER(SEARCH(\"RZ\",Risque[[#This Row],[Source de danger]]))=TRUE,ISNUMBER(SEARCH(\"RP\",Risque[[#This Row],[Source de danger]]))=TRUE,ISNUMBER(SEARCH(\"RZ\",Risque[[#This Row],[Risques associés]]))=TRUE,ISNUMBER(SEARCH(\"RP\",Risque[[#This Row],[Risques associés]]))=TRUE,ISNUMBER(SEARCH(\"RZ\",Risque[[#This Row],[Précision du risque\n(si liste déroulante présente)]]))=TRUE,ISNUMBER(SEARCH(\"RP\",Risque[[#This Row],[Précision du risque\n(si liste déroulante présente)]]))=TRUE),\"Oui --> Priorité d'action\",\"Non\"))","v":""},null,null,null,null,{"$f":"IF(ISBLANK(Risque[[#This Row],[Catégorie de risque]]),\"\",CONCATENATE(Risque[[#This Row],[Catégorie de risque]],2))","v":""},null,{"$f":"IF(ISBLANK(Risque[[#This Row],[Moyens de prévention]]),\"\",CONCATENATE(Risque[[#This Row],[Moyens de prévention]],1))","v":""},null,null,null,null,null,{"$f":"IF(ISBLANK(Risque[[#This Row],[Catégorie de risque]]),\"\",CONCATENATE(Risque[[#This Row],[Catégorie de risque]],3))","v":""},null,null,null,{"$f":"IF(ISBLANK(Risque[[#This Row],[Catégorie de risque]]),\"\",CONCATENATE(Risque[[#This Row],[Catégorie de risque]],4))","v":""},null,null,null,null,null,{"$f":"IF(Risque[[#This Row],[Date d''inscription du risque]]<>\"\",YEAR(Risque[[#This Row],[Date d''inscription du risque]]),\"\")","v":""}]
[null,null,{"$f":"IF(ISBLANK(Risque[[#This Row],[Catégorie de risque]]),\"\",CONCATENATE(Risque[[#This Row],[Catégorie de risque]],1))","v":""},null,null,null,null,null,{"$f":"IF(ISBLANK(Risque[[#This Row],[Catégorie de risque]]),\"\",IF(OR(ISNUMBER(SEARCH(\"RZ\",Risque[[#This Row],[Source de danger]]))=TRUE,ISNUMBER(SEARCH(\"RP\",Risque[[#This Row],[Source de danger]]))=TRUE,ISNUMBER(SEARCH(\"RZ\",Risque[[#This Row],[Risques associés]]))=TRUE,ISNUMBER(SEARCH(\"RP\",Risque[[#This Row],[Risques associés]]))=TRUE,ISNUMBER(SEARCH(\"RZ\",Risque[[#This Row],[Précision du risque\n(si liste déroulante présente)]]))=TRUE,ISNUMBER(SEARCH(\"RP\",Risque[[#This Row],[Précision du risque\n(si liste déroulante présente)]]))=TRUE),\"Oui --> Priorité d'action\",\"Non\"))","v":""},null,null,null,null,{"$f":"IF(ISBLANK(Risque[[#This Row],[Catégorie de risque]]),\"\",CONCATENATE(Risque[[#This Row],[Catégorie de risque]],2))","v":""},null,{"$f":"IF(ISBLANK(Risque[[#This Row],[Moyens de prévention]]),\"\",CONCATENATE(Risque[[#This Row],[Moyens de prévention]],1))","v":""},null,null,null,null,null,{"$f":"IF(ISBLANK(Risque[[#This Row],[Catégorie de risque]]),\"\",CONCATENATE(Risque[[#This Row],[Catégorie de risque]],3))","v":""},null,null,null,{"$f":"IF(ISBLANK(Risque[[#This Row],[Catégorie de risque]]),\"\",CONCATENATE(Risque[[#This Row],[Catégorie de risque]],4))","v":""},null,null,null,null,null,{"$f":"IF(Risque[[#This Row],[Date d''inscription du risque]]<>\"\",YEAR(Risque[[#This Row],[Date d''inscription du risque]]),\"\")","v":""}]
[null,null,{"$f":"IF(ISBLANK(Risque[[#This Row],[Catégorie de risque]]),\"\",CONCATENATE(Risque[[#This Row],[Catégorie de risque]],1))","v":""},null,null,null,null,null,{"$f":"IF(ISBLANK(Risque[[#This Row],[Catégorie de risque]]),\"\",IF(OR(ISNUMBER(SEARCH(\"RZ\",Risque[[#This Row],[Source de danger]]))=TRUE,ISNUMBER(SEARCH(\"RP\",Risque[[#This Row],[Source de danger]]))=TRUE,ISNUMBER(SEARCH(\"RZ\",Risque[[#This Row],[Risques associés]]))=TRUE,ISNUMBER(SEARCH(\"RP\",Risque[[#This Row],[Risques associés]]))=TRUE,ISNUMBER(SEARCH(\"RZ\",Risque[[#This Row],[Précision du risque\n(si liste déroulante présente)]]))=TRUE,ISNUMBER(SEARCH(\"RP\",Risque[[#This Row],[Précision du risque\n(si liste déroulante présente)]]))=TRUE),\"Oui --> Priorité d'action\",\"Non\"))","v":""},null,null,null,null,{"$f":"IF(ISBLANK(Risque[[#This Row],[Catégorie de risque]]),\"\",CONCATENATE(Risque[[#This Row],[Catégorie de risque]],2))","v":""},null,{"$f":"IF(ISBLANK(Risque[[#This Row],[Moyens de prévention]]),\"\",CONCATENATE(Risque[[#This Row],[Moyens de prévention]],1))","v":""},null,null,null,null,null,{"$f":"IF(ISBLANK(Risque[[#This Row],[Catégorie de risque]]),\"\",CONCATENATE(Risque[[#This Row],[Catégorie de risque]],3))","v":""},null,null,null,{"$f":"IF(ISBLANK(Risque[[#This Row],[Catégorie de risque]]),\"\",CONCATENATE(Risque[[#This Row],[Catégorie de risque]],4))","v":""},null,null,null,null,null,{"$f":"IF(Risque[[#This Row],[Date d''inscription du risque]]<>\"\",YEAR(Risque[[#This Row],[Date d''inscription du risque]]),\"\")","v":""}]
[null,null,{"$f":"IF(ISBLANK(Risque[[#This Row],[Catégorie de risque]]),\"\",CONCATENATE(Risque[[#This Row],[Catégorie de risque]],1))","v":""},null,null,null,null,null,{"$f":"IF(ISBLANK(Risque[[#This Row],[Catégorie de risque]]),\"\",IF(OR(ISNUMBER(SEARCH(\"RZ\",Risque[[#This Row],[Source de danger]]))=TRUE,ISNUMBER(SEARCH(\"RP\",Risque[[#This Row],[Source de danger]]))=TRUE,ISNUMBER(SEARCH(\"RZ\",Risque[[#This Row],[Risques associés]]))=TRUE,ISNUMBER(SEARCH(\"RP\",Risque[[#This Row],[Risques associés]]))=TRUE,ISNUMBER(SEARCH(\"RZ\",Risque[[#This Row],[Précision du risque\n(si liste déroulante présente)]]))=TRUE,ISNUMBER(SEARCH(\"RP\",Risque[[#This Row],[Précision du risque\n(si liste déroulante présente)]]))=TRUE),\"Oui --> Priorité d'action\",\"Non\"))","v":""},null,null,null,null,{"$f":"IF(ISBLANK(Risque[[#This Row],[Catégorie de risque]]),\"\",CONCATENATE(Risque[[#This Row],[Catégorie de risque]],2))","v":""},null,{"$f":"IF(ISBLANK(Risque[[#This Row],[Moyens de prévention]]),\"\",CONCATENATE(Risque[[#This Row],[Moyens de prévention]],1))","v":""},null,null,null,null,null,{"$f":"IF(ISBLANK(Risque[[#This Row],[Catégorie de risque]]),\"\",CONCATENATE(Risque[[#This Row],[Catégorie de risque]],3))","v":""},null,null,null,{"$f":"IF(ISBLANK(Risque[[#This Row],[Catégorie de risque]]),\"\",CONCATENATE(Risque[[#This Row],[Catégorie de risque]],4))","v":""},null,null,null,null,null,{"$f":"IF(Risque[[#This Row],[Date d''inscription du risque]]<>\"\",YEAR(Risque[[#This Row],[Date d''inscription du risque]]),\"\")","v":""}]
[null,null,{"$f":"IF(ISBLANK(Risque[[#This Row],[Catégorie de risque]]),\"\",CONCATENATE(Risque[[#This Row],[Catégorie de risque]],1))","v":""},null,null,null,null,null,{"$f":"IF(ISBLANK(Risque[[#This Row],[Catégorie de risque]]),\"\",IF(OR(ISNUMBER(SEARCH(\"RZ\",Risque[[#This Row],[Source de danger]]))=TRUE,ISNUMBER(SEARCH(\"RP\",Risque[[#This Row],[Source de danger]]))=TRUE,ISNUMBER(SEARCH(\"RZ\",Risque[[#This Row],[Risques associés]]))=TRUE,ISNUMBER(SEARCH(\"RP\",Risque[[#This Row],[Risques associés]]))=TRUE,ISNUMBER(SEARCH(\"RZ\",Risque[[#This Row],[Précision du risque\n(si liste déroulante présente)]]))=TRUE,ISNUMBER(SEARCH(\"RP\",Risque[[#This Row],[Précision du risque\n(si liste déroulante présente)]]))=TRUE),\"Oui --> Priorité d'action\",\"Non\"))","v":""},null,null,null,null,{"$f":"IF(ISBLANK(Risque[[#This Row],[Catégorie de risque]]),\"\",CONCATENATE(Risque[[#This Row],[Catégorie de risque]],2))","v":""},null,{"$f":"IF(ISBLANK(Risque[[#This Row],[Moyens de prévention]]),\"\",CONCATENATE(Risque[[#This Row],[Moyens de prévention]],1))","v":""},null,null,null,null,null,{"$f":"IF(ISBLANK(Risque[[#This Row],[Catégorie de risque]]),\"\",CONCATENATE(Risque[[#This Row],[Catégorie de risque]],3))","v":""},null,null,null,{"$f":"IF(ISBLANK(Risque[[#This Row],[Catégorie de risque]]),\"\",CONCATENATE(Risque[[#This Row],[Catégorie de risque]],4))","v":""},null,null,null,null,null,{"$f":"IF(Risque[[#This Row],[Date d''inscription du risque]]<>\"\",YEAR(Risque[[#This Row],[Date d''inscription du risque]]),\"\")","v":""}]
[null,null,{"$f":"IF(ISBLANK(Risque[[#This Row],[Catégorie de risque]]),\"\",CONCATENATE(Risque[[#This Row],[Catégorie de risque]],1))","v":""},null,null,null,null,null,{"$f":"IF(ISBLANK(Risque[[#This Row],[Catégorie de risque]]),\"\",IF(OR(ISNUMBER(SEARCH(\"RZ\",Risque[[#This Row],[Source de danger]]))=TRUE,ISNUMBER(SEARCH(\"RP\",Risque[[#This Row],[Source de danger]]))=TRUE,ISNUMBER(SEARCH(\"RZ\",Risque[[#This Row],[Risques associés]]))=TRUE,ISNUMBER(SEARCH(\"RP\",Risque[[#This Row],[Risques associés]]))=TRUE,ISNUMBER(SEARCH(\"RZ\",Risque[[#This Row],[Précision du risque\n(si liste déroulante présente)]]))=TRUE,ISNUMBER(SEARCH(\"RP\",Risque[[#This Row],[Précision du risque\n(si liste déroulante présente)]]))=TRUE),\"Oui --> Priorité d'action\",\"Non\"))","v":""},null,null,null,null,{"$f":"IF(ISBLANK(Risque[[#This Row],[Catégorie de risque]]),\"\",CONCATENATE(Risque[[#This Row],[Catégorie de risque]],2))","v":""},null,{"$f":"IF(ISBLANK(Risque[[#This Row],[Moyens de prévention]]),\"\",CONCATENATE(Risque[[#This Row],[Moyens de prévention]],1))","v":""},null,null,null,null,null,{"$f":"IF(ISBLANK(Risque[[#This Row],[Catégorie de risque]]),\"\",CONCATENATE(Risque[[#This Row],[Catégorie de risque]],3))","v":""},null,null,null,{"$f":"IF(ISBLANK(Risque[[#This Row],[Catégorie de risque]]),\"\",CONCATENATE(Risque[[#This Row],[Catégorie de risque]],4))","v":""},null,null,null,null,null,{"$f":"IF(Risque[[#This Row],[Date d''inscription du risque]]<>\"\",YEAR(Risque[[#This Row],[Date d''inscription du risque]]),\"\")","v":""}]
[null,null,{"$f":"IF(ISBLANK(Risque[[#This Row],[Catégorie de risque]]),\"\",CONCATENATE(Risque[[#This Row],[Catégorie de risque]],1))","v":""},null,null,null,null,null,{"$f":"IF(ISBLANK(Risque[[#This Row],[Catégorie de risque]]),\"\",IF(OR(ISNUMBER(SEARCH(\"RZ\",Risque[[#This Row],[Source de danger]]))=TRUE,ISNUMBER(SEARCH(\"RP\",Risque[[#This Row],[Source de danger]]))=TRUE,ISNUMBER(SEARCH(\"RZ\",Risque[[#This Row],[Risques associés]]))=TRUE,ISNUMBER(SEARCH(\"RP\",Risque[[#This Row],[Risques associés]]))=TRUE,ISNUMBER(SEARCH(\"RZ\",Risque[[#This Row],[Précision du risque\n(si liste déroulante présente)]]))=TRUE,ISNUMBER(SEARCH(\"RP\",Risque[[#This Row],[Précision du risque\n(si liste déroulante présente)]]))=TRUE),\"Oui --> Priorité d'action\",\"Non\"))","v":""},null,null,null,null,{"$f":"IF(ISBLANK(Risque[[#This Row],[Catégorie de risque]]),\"\",CONCATENATE(Risque[[#This Row],[Catégorie de risque]],2))","v":""},null,{"$f":"IF(ISBLANK(Risque[[#This Row],[Moyens de prévention]]),\"\",CONCATENATE(Risque[[#This Row],[Moyens de prévention]],1))","v":""},null,null,null,null,null,{"$f":"IF(ISBLANK(Risque[[#This Row],[Catégorie de risque]]),\"\",CONCATENATE(Risque[[#This Row],[Catégorie de risque]],3))","v":""},null,null,null,{"$f":"IF(ISBLANK(Risque[[#This Row],[Catégorie de risque]]),\"\",CONCATENATE(Risque[[#This Row],[Catégorie de risque]],4))","v":""},null,null,null,null,null,{"$f":"IF(Risque[[#This Row],[Date d''inscription du risque]]<>\"\",YEAR(Risque[[#This Row],[Date d''inscription du risque]]),\"\")","v":""}]
[null,null,{"$f":"IF(ISBLANK(Risque[[#This Row],[Catégorie de risque]]),\"\",CONCATENATE(Risque[[#This Row],[Catégorie de risque]],1))","v":""},null,null,null,null,null,{"$f":"IF(ISBLANK(Risque[[#This Row],[Catégorie de risque]]),\"\",IF(OR(ISNUMBER(SEARCH(\"RZ\",Risque[[#This Row],[Source de danger]]))=TRUE,ISNUMBER(SEARCH(\"RP\",Risque[[#This Row],[Source de danger]]))=TRUE,ISNUMBER(SEARCH(\"RZ\",Risque[[#This Row],[Risques associés]]))=TRUE,ISNUMBER(SEARCH(\"RP\",Risque[[#This Row],[Risques associés]]))=TRUE,ISNUMBER(SEARCH(\"RZ\",Risque[[#This Row],[Précision du risque\n(si liste déroulante présente)]]))=TRUE,ISNUMBER(SEARCH(\"RP\",Risque[[#This Row],[Précision du risque\n(si liste déroulante présente)]]))=TRUE),\"Oui --> Priorité d'action\",\"Non\"))","v":""},null,null,null,null,{"$f":"IF(ISBLANK(Risque[[#This Row],[Catégorie de risque]]),\"\",CONCATENATE(Risque[[#This Row],[Catégorie de risque]],2))","v":""},null,{"$f":"IF(ISBLANK(Risque[[#This Row],[Moyens de prévention]]),\"\",CONCATENATE(Risque[[#This Row],[Moyens de prévention]],1))","v":""},null,null,null,null,null,{"$f":"IF(ISBLANK(Risque[[#This Row],[Catégorie de risque]]),\"\",CONCATENATE(Risque[[#This Row],[Catégorie de risque]],3))","v":""},null,null,null,{"$f":"IF(ISBLANK(Risque[[#This Row],[Catégorie de risque]]),\"\",CONCATENATE(Risque[[#This Row],[Catégorie de risque]],4))","v":""},null,null,null,null,null,{"$f":"IF(Risque[[#This Row],[Date d''inscription du risque]]<>\"\",YEAR(Risque[[#This Row],[Date d''inscription du risque]]),\"\")","v":""}]
[null,null,{"$f":"IF(ISBLANK(Risque[[#This Row],[Catégorie de risque]]),\"\",CONCATENATE(Risque[[#This Row],[Catégorie de risque]],1))","v":""},null,null,null,null,null,{"$f":"IF(ISBLANK(Risque[[#This Row],[Catégorie de risque]]),\"\",IF(OR(ISNUMBER(SEARCH(\"RZ\",Risque[[#This Row],[Source de danger]]))=TRUE,ISNUMBER(SEARCH(\"RP\",Risque[[#This Row],[Source de danger]]))=TRUE,ISNUMBER(SEARCH(\"RZ\",Risque[[#This Row],[Risques associés]]))=TRUE,ISNUMBER(SEARCH(\"RP\",Risque[[#This Row],[Risques associés]]))=TRUE,ISNUMBER(SEARCH(\"RZ\",Risque[[#This Row],[Précision du risque\n(si liste déroulante présente)]]))=TRUE,ISNUMBER(SEARCH(\"RP\",Risque[[#This Row],[Précision du risque\n(si liste déroulante présente)]]))=TRUE),\"Oui --> Priorité d'action\",\"Non\"))","v":""},null,null,null,null,{"$f":"IF(ISBLANK(Risque[[#This Row],[Catégorie de risque]]),\"\",CONCATENATE(Risque[[#This Row],[Catégorie de risque]],2))","v":""},null,{"$f":"IF(ISBLANK(Risque[[#This Row],[Moyens de prévention]]),\"\",CONCATENATE(Risque[[#This Row],[Moyens de prévention]],1))","v":""},null,null,null,null,null,{"$f":"IF(ISBLANK(Risque[[#This Row],[Catégorie de risque]]),\"\",CONCATENATE(Risque[[#This Row],[Catégorie de risque]],3))","v":""},null,null,null,{"$f":"IF(ISBLANK(Risque[[#This Row],[Catégorie de risque]]),\"\",CONCATENATE(Risque[[#This Row],[Catégorie de risque]],4))","v":""},null,null,null,null,null,{"$f":"IF(Risque[[#This Row],[Date d''inscription du risque]]<>\"\",YEAR(Risque[[#This Row],[Date d''inscription du risque]]),\"\")","v":""}]
[null,null,{"$f":"IF(ISBLANK(Risque[[#This Row],[Catégorie de risque]]),\"\",CONCATENATE(Risque[[#This Row],[Catégorie de risque]],1))","v":""},null,null,null,null,null,{"$f":"IF(ISBLANK(Risque[[#This Row],[Catégorie de risque]]),\"\",IF(OR(ISNUMBER(SEARCH(\"RZ\",Risque[[#This Row],[Source de danger]]))=TRUE,ISNUMBER(SEARCH(\"RP\",Risque[[#This Row],[Source de danger]]))=TRUE,ISNUMBER(SEARCH(\"RZ\",Risque[[#This Row],[Risques associés]]))=TRUE,ISNUMBER(SEARCH(\"RP\",Risque[[#This Row],[Risques associés]]))=TRUE,ISNUMBER(SEARCH(\"RZ\",Risque[[#This Row],[Précision du risque\n(si liste déroulante présente)]]))=TRUE,ISNUMBER(SEARCH(\"RP\",Risque[[#This Row],[Précision du risque\n(si liste déroulante présente)]]))=TRUE),\"Oui --> Priorité d'action\",\"Non\"))","v":""},null,null,null,null,{"$f":"IF(ISBLANK(Risque[[#This Row],[Catégorie de risque]]),\"\",CONCATENATE(Risque[[#This Row],[Catégorie de risque]],2))","v":""},null,{"$f":"IF(ISBLANK(Risque[[#This Row],[Moyens de prévention]]),\"\",CONCATENATE(Risque[[#This Row],[Moyens de prévention]],1))","v":""},null,null,null,null,null,{"$f":"IF(ISBLANK(Risque[[#This Row],[Catégorie de risque]]),\"\",CONCATENATE(Risque[[#This Row],[Catégorie de risque]],3))","v":""},null,null,null,{"$f":"IF(ISBLANK(Risque[[#This Row],[Catégorie de risque]]),\"\",CONCATENATE(Risque[[#This Row],[Catégorie de risque]],4))","v":""},null,null,null,null,null,{"$f":"IF(Risque[[#This Row],[Date d''inscription du risque]]<>\"\",YEAR(Risque[[#This Row],[Date d''inscription du risque]]),\"\")","v":""}]
[null,null,{"$f":"IF(ISBLANK(Risque[[#This Row],[Catégorie de risque]]),\"\",CONCATENATE(Risque[[#This Row],[Catégorie de risque]],1))","v":""},null,null,null,null,null,{"$f":"IF(ISBLANK(Risque[[#This Row],[Catégorie de risque]]),\"\",IF(OR(ISNUMBER(SEARCH(\"RZ\",Risque[[#This Row],[Source de danger]]))=TRUE,ISNUMBER(SEARCH(\"RP\",Risque[[#This Row],[Source de danger]]))=TRUE,ISNUMBER(SEARCH(\"RZ\",Risque[[#This Row],[Risques associés]]))=TRUE,ISNUMBER(SEARCH(\"RP\",Risque[[#This Row],[Risques associés]]))=TRUE,ISNUMBER(SEARCH(\"RZ\",Risque[[#This Row],[Précision du risque\n(si liste déroulante présente)]]))=TRUE,ISNUMBER(SEARCH(\"RP\",Risque[[#This Row],[Précision du risque\n(si liste déroulante présente)]]))=TRUE),\"Oui --> Priorité d'action\",\"Non\"))","v":""},null,null,null,null,{"$f":"IF(ISBLANK(Risque[[#This Row],[Catégorie de risque]]),\"\",CONCATENATE(Risque[[#This Row],[Catégorie de risque]],2))","v":""},null,{"$f":"IF(ISBLANK(Risque[[#This Row],[Moyens de prévention]]),\"\",CONCATENATE(Risque[[#This Row],[Moyens de prévention]],1))","v":""},null,null,null,null,null,{"$f":"IF(ISBLANK(Risque[[#This Row],[Catégorie de risque]]),\"\",CONCATENATE(Risque[[#This Row],[Catégorie de risque]],3))","v":""},null,null,null,{"$f":"IF(ISBLANK(Risque[[#This Row],[Catégorie de risque]]),\"\",CONCATENATE(Risque[[#This Row],[Catégorie de risque]],4))","v":""},null,null,null,null,null,{"$f":"IF(Risque[[#This Row],[Date d''inscription du risque]]<>\"\",YEAR(Risque[[#This Row],[Date d''inscription du risque]]),\"\")","v":""}]
[null,null,{"$f":"IF(ISBLANK(Risque[[#This Row],[Catégorie de risque]]),\"\",CONCATENATE(Risque[[#This Row],[Catégorie de risque]],1))","v":""},null,null,null,null,null,{"$f":"IF(ISBLANK(Risque[[#This Row],[Catégorie de risque]]),\"\",IF(OR(ISNUMBER(SEARCH(\"RZ\",Risque[[#This Row],[Source de danger]]))=TRUE,ISNUMBER(SEARCH(\"RP\",Risque[[#This Row],[Source de danger]]))=TRUE,ISNUMBER(SEARCH(\"RZ\",Risque[[#This Row],[Risques associés]]))=TRUE,ISNUMBER(SEARCH(\"RP\",Risque[[#This Row],[Risques associés]]))=TRUE,ISNUMBER(SEARCH(\"RZ\",Risque[[#This Row],[Précision du risque\n(si liste déroulante présente)]]))=TRUE,ISNUMBER(SEARCH(\"RP\",Risque[[#This Row],[Précision du risque\n(si liste déroulante présente)]]))=TRUE),\"Oui --> Priorité d'action\",\"Non\"))","v":""},null,null,null,null,{"$f":"IF(ISBLANK(Risque[[#This Row],[Catégorie de risque]]),\"\",CONCATENATE(Risque[[#This Row],[Catégorie de risque]],2))","v":""},null,{"$f":"IF(ISBLANK(Risque[[#This Row],[Moyens de prévention]]),\"\",CONCATENATE(Risque[[#This Row],[Moyens de prévention]],1))","v":""},null,null,null,null,null,{"$f":"IF(ISBLANK(Risque[[#This Row],[Catégorie de risque]]),\"\",CONCATENATE(Risque[[#This Row],[Catégorie de risque]],3))","v":""},null,null,null,{"$f":"IF(ISBLANK(Risque[[#This Row],[Catégorie de risque]]),\"\",CONCATENATE(Risque[[#This Row],[Catégorie de risque]],4))","v":""},null,null,null,null,null,{"$f":"IF(Risque[[#This Row],[Date d''inscription du risque]]<>\"\",YEAR(Risque[[#This Row],[Date d''inscription du risque]]),\"\")","v":""}]
[null,null,{"$f":"IF(ISBLANK(Risque[[#This Row],[Catégorie de risque]]),\"\",CONCATENATE(Risque[[#This Row],[Catégorie de risque]],1))","v":""},null,null,null,null,null,{"$f":"IF(ISBLANK(Risque[[#This Row],[Catégorie de risque]]),\"\",IF(OR(ISNUMBER(SEARCH(\"RZ\",Risque[[#This Row],[Source de danger]]))=TRUE,ISNUMBER(SEARCH(\"RP\",Risque[[#This Row],[Source de danger]]))=TRUE,ISNUMBER(SEARCH(\"RZ\",Risque[[#This Row],[Risques associés]]))=TRUE,ISNUMBER(SEARCH(\"RP\",Risque[[#This Row],[Risques associés]]))=TRUE,ISNUMBER(SEARCH(\"RZ\",Risque[[#This Row],[Précision du risque\n(si liste déroulante présente)]]))=TRUE,ISNUMBER(SEARCH(\"RP\",Risque[[#This Row],[Précision du risque\n(si liste déroulante présente)]]))=TRUE),\"Oui --> Priorité d'action\",\"Non\"))","v":""},null,null,null,null,{"$f":"IF(ISBLANK(Risque[[#This Row],[Catégorie de risque]]),\"\",CONCATENATE(Risque[[#This Row],[Catégorie de risque]],2))","v":""},null,{"$f":"IF(ISBLANK(Risque[[#This Row],[Moyens de prévention]]),\"\",CONCATENATE(Risque[[#This Row],[Moyens de prévention]],1))","v":""},null,null,null,null,null,{"$f":"IF(ISBLANK(Risque[[#This Row],[Catégorie de risque]]),\"\",CONCATENATE(Risque[[#This Row],[Catégorie de risque]],3))","v":""},null,null,null,{"$f":"IF(ISBLANK(Risque[[#This Row],[Catégorie de risque]]),\"\",CONCATENATE(Risque[[#This Row],[Catégorie de risque]],4))","v":""},null,null,null,null,null,{"$f":"IF(Risque[[#This Row],[Date d''inscription du risque]]<>\"\",YEAR(Risque[[#This Row],[Date d''inscription du risque]]),\"\")","v":""}]
[null,null,{"$f":"IF(ISBLANK(Risque[[#This Row],[Catégorie de risque]]),\"\",CONCATENATE(Risque[[#This Row],[Catégorie de risque]],1))","v":""},null,null,null,null,null,{"$f":"IF(ISBLANK(Risque[[#This Row],[Catégorie de risque]]),\"\",IF(OR(ISNUMBER(SEARCH(\"RZ\",Risque[[#This Row],[Source de danger]]))=TRUE,ISNUMBER(SEARCH(\"RP\",Risque[[#This Row],[Source de danger]]))=TRUE,ISNUMBER(SEARCH(\"RZ\",Risque[[#This Row],[Risques associés]]))=TRUE,ISNUMBER(SEARCH(\"RP\",Risque[[#This Row],[Risques associés]]))=TRUE,ISNUMBER(SEARCH(\"RZ\",Risque[[#This Row],[Précision du risque\n(si liste déroulante présente)]]))=TRUE,ISNUMBER(SEARCH(\"RP\",Risque[[#This Row],[Précision du risque\n(si liste déroulante présente)]]))=TRUE),\"Oui --> Priorité d'action\",\"Non\"))","v":""},null,null,null,null,{"$f":"IF(ISBLANK(Risque[[#This Row],[Catégorie de risque]]),\"\",CONCATENATE(Risque[[#This Row],[Catégorie de risque]],2))","v":""},null,{"$f":"IF(ISBLANK(Risque[[#This Row],[Moyens de prévention]]),\"\",CONCATENATE(Risque[[#This Row],[Moyens de prévention]],1))","v":""},null,null,null,null,null,{"$f":"IF(ISBLANK(Risque[[#This Row],[Catégorie de risque]]),\"\",CONCATENATE(Risque[[#This Row],[Catégorie de risque]],3))","v":""},null,null,null,{"$f":"IF(ISBLANK(Risque[[#This Row],[Catégorie de risque]]),\"\",CONCATENATE(Risque[[#This Row],[Catégorie de risque]],4))","v":""},null,null,null,null,null,{"$f":"IF(Risque[[#This Row],[Date d''inscription du risque]]<>\"\",YEAR(Risque[[#This Row],[Date d''inscription du risque]]),\"\")","v":""}]
[null,null,{"$f":"IF(ISBLANK(Risque[[#This Row],[Catégorie de risque]]),\"\",CONCATENATE(Risque[[#This Row],[Catégorie de risque]],1))","v":""},null,null,null,null,null,{"$f":"IF(ISBLANK(Risque[[#This Row],[Catégorie de risque]]),\"\",IF(OR(ISNUMBER(SEARCH(\"RZ\",Risque[[#This Row],[Source de danger]]))=TRUE,ISNUMBER(SEARCH(\"RP\",Risque[[#This Row],[Source de danger]]))=TRUE,ISNUMBER(SEARCH(\"RZ\",Risque[[#This Row],[Risques associés]]))=TRUE,ISNUMBER(SEARCH(\"RP\",Risque[[#This Row],[Risques associés]]))=TRUE,ISNUMBER(SEARCH(\"RZ\",Risque[[#This Row],[Précision du risque\n(si liste déroulante présente)]]))=TRUE,ISNUMBER(SEARCH(\"RP\",Risque[[#This Row],[Précision du risque\n(si liste déroulante présente)]]))=TRUE),\"Oui --> Priorité d'action\",\"Non\"))","v":""},null,null,null,null,{"$f":"IF(ISBLANK(Risque[[#This Row],[Catégorie de risque]]),\"\",CONCATENATE(Risque[[#This Row],[Catégorie de risque]],2))","v":""},null,{"$f":"IF(ISBLANK(Risque[[#This Row],[Moyens de prévention]]),\"\",CONCATENATE(Risque[[#This Row],[Moyens de prévention]],1))","v":""},null,null,null,null,null,{"$f":"IF(ISBLANK(Risque[[#This Row],[Catégorie de risque]]),\"\",CONCATENATE(Risque[[#This Row],[Catégorie de risque]],3))","v":""},null,null,null,{"$f":"IF(ISBLANK(Risque[[#This Row],[Catégorie de risque]]),\"\",CONCATENATE(Risque[[#This Row],[Catégorie de risque]],4))","v":""},null,null,null,null,null,{"$f":"IF(Risque[[#This Row],[Date d''inscription du risque]]<>\"\",YEAR(Risque[[#This Row],[Date d''inscription du risque]]),\"\")","v":""}]
[null,null,{"$f":"IF(ISBLANK(Risque[[#This Row],[Catégorie de risque]]),\"\",CONCATENATE(Risque[[#This Row],[Catégorie de risque]],1))","v":""},null,null,null,null,null,{"$f":"IF(ISBLANK(Risque[[#This Row],[Catégorie de risque]]),\"\",IF(OR(ISNUMBER(SEARCH(\"RZ\",Risque[[#This Row],[Source de danger]]))=TRUE,ISNUMBER(SEARCH(\"RP\",Risque[[#This Row],[Source de danger]]))=TRUE,ISNUMBER(SEARCH(\"RZ\",Risque[[#This Row],[Risques associés]]))=TRUE,ISNUMBER(SEARCH(\"RP\",Risque[[#This Row],[Risques associés]]))=TRUE,ISNUMBER(SEARCH(\"RZ\",Risque[[#This Row],[Précision du risque\n(si liste déroulante présente)]]))=TRUE,ISNUMBER(SEARCH(\"RP\",Risque[[#This Row],[Précision du risque\n(si liste déroulante présente)]]))=TRUE),\"Oui --> Priorité d'action\",\"Non\"))","v":""},null,null,null,null,{"$f":"IF(ISBLANK(Risque[[#This Row],[Catégorie de risque]]),\"\",CONCATENATE(Risque[[#This Row],[Catégorie de risque]],2))","v":""},null,{"$f":"IF(ISBLANK(Risque[[#This Row],[Moyens de prévention]]),\"\",CONCATENATE(Risque[[#This Row],[Moyens de prévention]],1))","v":""},null,null,null,null,null,{"$f":"IF(ISBLANK(Risque[[#This Row],[Catégorie de risque]]),\"\",CONCATENATE(Risque[[#This Row],[Catégorie de risque]],3))","v":""},null,null,null,{"$f":"IF(ISBLANK(Risque[[#This Row],[Catégorie de risque]]),\"\",CONCATENATE(Risque[[#This Row],[Catégorie de risque]],4))","v":""},null,null,null,null,null,{"$f":"IF(Risque[[#This Row],[Date d''inscription du risque]]<>\"\",YEAR(Risque[[#This Row],[Date d''inscription du risque]]),\"\")","v":""}]
[null,null,{"$f":"IF(ISBLANK(Risque[[#This Row],[Catégorie de risque]]),\"\",CONCATENATE(Risque[[#This Row],[Catégorie de risque]],1))","v":""},null,null,null,null,null,{"$f":"IF(ISBLANK(Risque[[#This Row],[Catégorie de risque]]),\"\",IF(OR(ISNUMBER(SEARCH(\"RZ\",Risque[[#This Row],[Source de danger]]))=TRUE,ISNUMBER(SEARCH(\"RP\",Risque[[#This Row],[Source de danger]]))=TRUE,ISNUMBER(SEARCH(\"RZ\",Risque[[#This Row],[Risques associés]]))=TRUE,ISNUMBER(SEARCH(\"RP\",Risque[[#This Row],[Risques associés]]))=TRUE,ISNUMBER(SEARCH(\"RZ\",Risque[[#This Row],[Précision du risque\n(si liste déroulante présente)]]))=TRUE,ISNUMBER(SEARCH(\"RP\",Risque[[#This Row],[Précision du risque\n(si liste déroulante présente)]]))=TRUE),\"Oui --> Priorité d'action\",\"Non\"))","v":""},null,null,null,null,{"$f":"IF(ISBLANK(Risque[[#This Row],[Catégorie de risque]]),\"\",CONCATENATE(Risque[[#This Row],[Catégorie de risque]],2))","v":""},null,{"$f":"IF(ISBLANK(Risque[[#This Row],[Moyens de prévention]]),\"\",CONCATENATE(Risque[[#This Row],[Moyens de prévention]],1))","v":""},null,null,null,null,null,{"$f":"IF(ISBLANK(Risque[[#This Row],[Catégorie de risque]]),\"\",CONCATENATE(Risque[[#This Row],[Catégorie de risque]],3))","v":""},null,null,null,{"$f":"IF(ISBLANK(Risque[[#This Row],[Catégorie de risque]]),\"\",CONCATENATE(Risque[[#This Row],[Catégorie de risque]],4))","v":""},null,null,null,null,null,{"$f":"IF(Risque[[#This Row],[Date d''inscription du risque]]<>\"\",YEAR(Risque[[#This Row],[Date d''inscription du risque]]),\"\")","v":""}]
[null,null,{"$f":"IF(ISBLANK(Risque[[#This Row],[Catégorie de risque]]),\"\",CONCATENATE(Risque[[#This Row],[Catégorie de risque]],1))","v":""},null,null,null,null,null,{"$f":"IF(ISBLANK(Risque[[#This Row],[Catégorie de risque]]),\"\",IF(OR(ISNUMBER(SEARCH(\"RZ\",Risque[[#This Row],[Source de danger]]))=TRUE,ISNUMBER(SEARCH(\"RP\",Risque[[#This Row],[Source de danger]]))=TRUE,ISNUMBER(SEARCH(\"RZ\",Risque[[#This Row],[Risques associés]]))=TRUE,ISNUMBER(SEARCH(\"RP\",Risque[[#This Row],[Risques associés]]))=TRUE,ISNUMBER(SEARCH(\"RZ\",Risque[[#This Row],[Précision du risque\n(si liste déroulante présente)]]))=TRUE,ISNUMBER(SEARCH(\"RP\",Risque[[#This Row],[Précision du risque\n(si liste déroulante présente)]]))=TRUE),\"Oui --> Priorité d'action\",\"Non\"))","v":""},null,null,null,null,{"$f":"IF(ISBLANK(Risque[[#This Row],[Catégorie de risque]]),\"\",CONCATENATE(Risque[[#This Row],[Catégorie de risque]],2))","v":""},null,{"$f":"IF(ISBLANK(Risque[[#This Row],[Moyens de prévention]]),\"\",CONCATENATE(Risque[[#This Row],[Moyens de prévention]],1))","v":""},null,null,null,null,null,{"$f":"IF(ISBLANK(Risque[[#This Row],[Catégorie de risque]]),\"\",CONCATENATE(Risque[[#This Row],[Catégorie de risque]],3))","v":""},null,null,null,{"$f":"IF(ISBLANK(Risque[[#This Row],[Catégorie de risque]]),\"\",CONCATENATE(Risque[[#This Row],[Catégorie de risque]],4))","v":""},null,null,null,null,null,{"$f":"IF(Risque[[#This Row],[Date d''inscription du risque]]<>\"\",YEAR(Risque[[#This Row],[Date d''inscription du risque]]),\"\")","v":""}]
[null,null,{"$f":"IF(ISBLANK(Risque[[#This Row],[Catégorie de risque]]),\"\",CONCATENATE(Risque[[#This Row],[Catégorie de risque]],1))","v":""},null,null,null,null,null,{"$f":"IF(ISBLANK(Risque[[#This Row],[Catégorie de risque]]),\"\",IF(OR(ISNUMBER(SEARCH(\"RZ\",Risque[[#This Row],[Source de danger]]))=TRUE,ISNUMBER(SEARCH(\"RP\",Risque[[#This Row],[Source de danger]]))=TRUE,ISNUMBER(SEARCH(\"RZ\",Risque[[#This Row],[Risques associés]]))=TRUE,ISNUMBER(SEARCH(\"RP\",Risque[[#This Row],[Risques associés]]))=TRUE,ISNUMBER(SEARCH(\"RZ\",Risque[[#This Row],[Précision du risque\n(si liste déroulante présente)]]))=TRUE,ISNUMBER(SEARCH(\"RP\",Risque[[#This Row],[Précision du risque\n(si liste déroulante présente)]]))=TRUE),\"Oui --> Priorité d'action\",\"Non\"))","v":""},null,null,null,null,{"$f":"IF(ISBLANK(Risque[[#This Row],[Catégorie de risque]]),\"\",CONCATENATE(Risque[[#This Row],[Catégorie de risque]],2))","v":""},null,{"$f":"IF(ISBLANK(Risque[[#This Row],[Moyens de prévention]]),\"\",CONCATENATE(Risque[[#This Row],[Moyens de prévention]],1))","v":""},null,null,null,null,null,{"$f":"IF(ISBLANK(Risque[[#This Row],[Catégorie de risque]]),\"\",CONCATENATE(Risque[[#This Row],[Catégorie de risque]],3))","v":""},null,null,null,{"$f":"IF(ISBLANK(Risque[[#This Row],[Catégorie de risque]]),\"\",CONCATENATE(Risque[[#This Row],[Catégorie de risque]],4))","v":""},null,null,null,null,null,{"$f":"IF(Risque[[#This Row],[Date d''inscription du risque]]<>\"\",YEAR(Risque[[#This Row],[Date d''inscription du risque]]),\"\")","v":""}]
[null,null,{"$f":"IF(ISBLANK(Risque[[#This Row],[Catégorie de risque]]),\"\",CONCATENATE(Risque[[#This Row],[Catégorie de risque]],1))","v":""},null,null,null,null,null,{"$f":"IF(ISBLANK(Risque[[#This Row],[Catégorie de risque]]),\"\",IF(OR(ISNUMBER(SEARCH(\"RZ\",Risque[[#This Row],[Source de danger]]))=TRUE,ISNUMBER(SEARCH(\"RP\",Risque[[#This Row],[Source de danger]]))=TRUE,ISNUMBER(SEARCH(\"RZ\",Risque[[#This Row],[Risques associés]]))=TRUE,ISNUMBER(SEARCH(\"RP\",Risque[[#This Row],[Risques associés]]))=TRUE,ISNUMBER(SEARCH(\"RZ\",Risque[[#This Row],[Précision du risque\n(si liste déroulante présente)]]))=TRUE,ISNUMBER(SEARCH(\"RP\",Risque[[#This Row],[Précision du risque\n(si liste déroulante présente)]]))=TRUE),\"Oui --> Priorité d'action\",\"Non\"))","v":""},null,null,null,null,{"$f":"IF(ISBLANK(Risque[[#This Row],[Catégorie de risque]]),\"\",CONCATENATE(Risque[[#This Row],[Catégorie de risque]],2))","v":""},null,{"$f":"IF(ISBLANK(Risque[[#This Row],[Moyens de prévention]]),\"\",CONCATENATE(Risque[[#This Row],[Moyens de prévention]],1))","v":""},null,null,null,null,null,{"$f":"IF(ISBLANK(Risque[[#This Row],[Catégorie de risque]]),\"\",CONCATENATE(Risque[[#This Row],[Catégorie de risque]],3))","v":""},null,null,null,{"$f":"IF(ISBLANK(Risque[[#This Row],[Catégorie de risque]]),\"\",CONCATENATE(Risque[[#This Row],[Catégorie de risque]],4))","v":""},null,null,null,null,null,{"$f":"IF(Risque[[#This Row],[Date d''inscription du risque]]<>\"\",YEAR(Risque[[#This Row],[Date d''inscription du risque]]),\"\")","v":""}]
[null,null,{"$f":"IF(ISBLANK(Risque[[#This Row],[Catégorie de risque]]),\"\",CONCATENATE(Risque[[#This Row],[Catégorie de risque]],1))","v":""},null,null,null,null,null,{"$f":"IF(ISBLANK(Risque[[#This Row],[Catégorie de risque]]),\"\",IF(OR(ISNUMBER(SEARCH(\"RZ\",Risque[[#This Row],[Source de danger]]))=TRUE,ISNUMBER(SEARCH(\"RP\",Risque[[#This Row],[Source de danger]]))=TRUE,ISNUMBER(SEARCH(\"RZ\",Risque[[#This Row],[Risques associés]]))=TRUE,ISNUMBER(SEARCH(\"RP\",Risque[[#This Row],[Risques associés]]))=TRUE,ISNUMBER(SEARCH(\"RZ\",Risque[[#This Row],[Précision du risque\n(si liste déroulante présente)]]))=TRUE,ISNUMBER(SEARCH(\"RP\",Risque[[#This Row],[Précision du risque\n(si liste déroulante présente)]]))=TRUE),\"Oui --> Priorité d'action\",\"Non\"))","v":""},null,null,null,null,{"$f":"IF(ISBLANK(Risque[[#This Row],[Catégorie de risque]]),\"\",CONCATENATE(Risque[[#This Row],[Catégorie de risque]],2))","v":""},null,{"$f":"IF(ISBLANK(Risque[[#This Row],[Moyens de prévention]]),\"\",CONCATENATE(Risque[[#This Row],[Moyens de prévention]],1))","v":""},null,null,null,null,null,{"$f":"IF(ISBLANK(Risque[[#This Row],[Catégorie de risque]]),\"\",CONCATENATE(Risque[[#This Row],[Catégorie de risque]],3))","v":""},null,null,null,{"$f":"IF(ISBLANK(Risque[[#This Row],[Catégorie de risque]]),\"\",CONCATENATE(Risque[[#This Row],[Catégorie de risque]],4))","v":""},null,null,null,null,null,{"$f":"IF(Risque[[#This Row],[Date d''inscription du risque]]<>\"\",YEAR(Risque[[#This Row],[Date d''inscription du risque]]),\"\")","v":""}]
[null,null,{"$f":"IF(ISBLANK(Risque[[#This Row],[Catégorie de risque]]),\"\",CONCATENATE(Risque[[#This Row],[Catégorie de risque]],1))","v":""},null,null,null,null,null,{"$f":"IF(ISBLANK(Risque[[#This Row],[Catégorie de risque]]),\"\",IF(OR(ISNUMBER(SEARCH(\"RZ\",Risque[[#This Row],[Source de danger]]))=TRUE,ISNUMBER(SEARCH(\"RP\",Risque[[#This Row],[Source de danger]]))=TRUE,ISNUMBER(SEARCH(\"RZ\",Risque[[#This Row],[Risques associés]]))=TRUE,ISNUMBER(SEARCH(\"RP\",Risque[[#This Row],[Risques associés]]))=TRUE,ISNUMBER(SEARCH(\"RZ\",Risque[[#This Row],[Précision du risque\n(si liste déroulante présente)]]))=TRUE,ISNUMBER(SEARCH(\"RP\",Risque[[#This Row],[Précision du risque\n(si liste déroulante présente)]]))=TRUE),\"Oui --> Priorité d'action\",\"Non\"))","v":""},null,null,null,null,{"$f":"IF(ISBLANK(Risque[[#This Row],[Catégorie de risque]]),\"\",CONCATENATE(Risque[[#This Row],[Catégorie de risque]],2))","v":""},null,{"$f":"IF(ISBLANK(Risque[[#This Row],[Moyens de prévention]]),\"\",CONCATENATE(Risque[[#This Row],[Moyens de prévention]],1))","v":""},null,null,null,null,null,{"$f":"IF(ISBLANK(Risque[[#This Row],[Catégorie de risque]]),\"\",CONCATENATE(Risque[[#This Row],[Catégorie de risque]],3))","v":""},null,null,null,{"$f":"IF(ISBLANK(Risque[[#This Row],[Catégorie de risque]]),\"\",CONCATENATE(Risque[[#This Row],[Catégorie de risque]],4))","v":""},null,null,null,null,null,{"$f":"IF(Risque[[#This Row],[Date d''inscription du risque]]<>\"\",YEAR(Risque[[#This Row],[Date d''inscription du risque]]),\"\")","v":""}]
[null,null,{"$f":"IF(ISBLANK(Risque[[#This Row],[Catégorie de risque]]),\"\",CONCATENATE(Risque[[#This Row],[Catégorie de risque]],1))","v":""},null,null,null,null,null,{"$f":"IF(ISBLANK(Risque[[#This Row],[Catégorie de risque]]),\"\",IF(OR(ISNUMBER(SEARCH(\"RZ\",Risque[[#This Row],[Source de danger]]))=TRUE,ISNUMBER(SEARCH(\"RP\",Risque[[#This Row],[Source de danger]]))=TRUE,ISNUMBER(SEARCH(\"RZ\",Risque[[#This Row],[Risques associés]]))=TRUE,ISNUMBER(SEARCH(\"RP\",Risque[[#This Row],[Risques associés]]))=TRUE,ISNUMBER(SEARCH(\"RZ\",Risque[[#This Row],[Précision du risque\n(si liste déroulante présente)]]))=TRUE,ISNUMBER(SEARCH(\"RP\",Risque[[#This Row],[Précision du risque\n(si liste déroulante présente)]]))=TRUE),\"Oui --> Priorité d'action\",\"Non\"))","v":""},null,null,null,null,{"$f":"IF(ISBLANK(Risque[[#This Row],[Catégorie de risque]]),\"\",CONCATENATE(Risque[[#This Row],[Catégorie de risque]],2))","v":""},null,{"$f":"IF(ISBLANK(Risque[[#This Row],[Moyens de prévention]]),\"\",CONCATENATE(Risque[[#This Row],[Moyens de prévention]],1))","v":""},null,null,null,null,null,{"$f":"IF(ISBLANK(Risque[[#This Row],[Catégorie de risque]]),\"\",CONCATENATE(Risque[[#This Row],[Catégorie de risque]],3))","v":""},null,null,null,{"$f":"IF(ISBLANK(Risque[[#This Row],[Catégorie de risque]]),\"\",CONCATENATE(Risque[[#This Row],[Catégorie de risque]],4))","v":""},null,null,null,null,null,{"$f":"IF(Risque[[#This Row],[Date d''inscription du risque]]<>\"\",YEAR(Risque[[#This Row],[Date d''inscription du risque]]),\"\")","v":""}]
[null,null,{"$f":"IF(ISBLANK(Risque[[#This Row],[Catégorie de risque]]),\"\",CONCATENATE(Risque[[#This Row],[Catégorie de risque]],1))","v":""},null,null,null,null,null,{"$f":"IF(ISBLANK(Risque[[#This Row],[Catégorie de risque]]),\"\",IF(OR(ISNUMBER(SEARCH(\"RZ\",Risque[[#This Row],[Source de danger]]))=TRUE,ISNUMBER(SEARCH(\"RP\",Risque[[#This Row],[Source de danger]]))=TRUE,ISNUMBER(SEARCH(\"RZ\",Risque[[#This Row],[Risques associés]]))=TRUE,ISNUMBER(SEARCH(\"RP\",Risque[[#This Row],[Risques associés]]))=TRUE,ISNUMBER(SEARCH(\"RZ\",Risque[[#This Row],[Précision du risque\n(si liste déroulante présente)]]))=TRUE,ISNUMBER(SEARCH(\"RP\",Risque[[#This Row],[Précision du risque\n(si liste déroulante présente)]]))=TRUE),\"Oui --> Priorité d'action\",\"Non\"))","v":""},null,null,null,null,{"$f":"IF(ISBLANK(Risque[[#This Row],[Catégorie de risque]]),\"\",CONCATENATE(Risque[[#This Row],[Catégorie de risque]],2))","v":""},null,{"$f":"IF(ISBLANK(Risque[[#This Row],[Moyens de prévention]]),\"\",CONCATENATE(Risque[[#This Row],[Moyens de prévention]],1))","v":""},null,null,null,null,null,{"$f":"IF(ISBLANK(Risque[[#This Row],[Catégorie de risque]]),\"\",CONCATENATE(Risque[[#This Row],[Catégorie de risque]],3))","v":""},null,null,null,{"$f":"IF(ISBLANK(Risque[[#This Row],[Catégorie de risque]]),\"\",CONCATENATE(Risque[[#This Row],[Catégorie de risque]],4))","v":""},null,null,null,null,null,{"$f":"IF(Risque[[#This Row],[Date d''inscription du risque]]<>\"\",YEAR(Risque[[#This Row],[Date d''inscription du risque]]),\"\")","v":""}]
[null,null,{"$f":"IF(ISBLANK(Risque[[#This Row],[Catégorie de risque]]),\"\",CONCATENATE(Risque[[#This Row],[Catégorie de risque]],1))","v":""},null,null,null,null,null,{"$f":"IF(ISBLANK(Risque[[#This Row],[Catégorie de risque]]),\"\",IF(OR(ISNUMBER(SEARCH(\"RZ\",Risque[[#This Row],[Source de danger]]))=TRUE,ISNUMBER(SEARCH(\"RP\",Risque[[#This Row],[Source de danger]]))=TRUE,ISNUMBER(SEARCH(\"RZ\",Risque[[#This Row],[Risques associés]]))=TRUE,ISNUMBER(SEARCH(\"RP\",Risque[[#This Row],[Risques associés]]))=TRUE,ISNUMBER(SEARCH(\"RZ\",Risque[[#This Row],[Précision du risque\n(si liste déroulante présente)]]))=TRUE,ISNUMBER(SEARCH(\"RP\",Risque[[#This Row],[Précision du risque\n(si liste déroulante présente)]]))=TRUE),\"Oui --> Priorité d'action\",\"Non\"))","v":""},null,null,null,null,{"$f":"IF(ISBLANK(Risque[[#This Row],[Catégorie de risque]]),\"\",CONCATENATE(Risque[[#This Row],[Catégorie de risque]],2))","v":""},null,{"$f":"IF(ISBLANK(Risque[[#This Row],[Moyens de prévention]]),\"\",CONCATENATE(Risque[[#This Row],[Moyens de prévention]],1))","v":""},null,null,null,null,null,{"$f":"IF(ISBLANK(Risque[[#This Row],[Catégorie de risque]]),\"\",CONCATENATE(Risque[[#This Row],[Catégorie de risque]],3))","v":""},null,null,null,{"$f":"IF(ISBLANK(Risque[[#This Row],[Catégorie de risque]]),\"\",CONCATENATE(Risque[[#This Row],[Catégorie de risque]],4))","v":""},null,null,null,null,null,{"$f":"IF(Risque[[#This Row],[Date d''inscription du risque]]<>\"\",YEAR(Risque[[#This Row],[Date d''inscription du risque]]),\"\")","v":""}]
[null,null,{"$f":"IF(ISBLANK(Risque[[#This Row],[Catégorie de risque]]),\"\",CONCATENATE(Risque[[#This Row],[Catégorie de risque]],1))","v":""},null,null,null,null,null,{"$f":"IF(ISBLANK(Risque[[#This Row],[Catégorie de risque]]),\"\",IF(OR(ISNUMBER(SEARCH(\"RZ\",Risque[[#This Row],[Source de danger]]))=TRUE,ISNUMBER(SEARCH(\"RP\",Risque[[#This Row],[Source de danger]]))=TRUE,ISNUMBER(SEARCH(\"RZ\",Risque[[#This Row],[Risques associés]]))=TRUE,ISNUMBER(SEARCH(\"RP\",Risque[[#This Row],[Risques associés]]))=TRUE,ISNUMBER(SEARCH(\"RZ\",Risque[[#This Row],[Précision du risque\n(si liste déroulante présente)]]))=TRUE,ISNUMBER(SEARCH(\"RP\",Risque[[#This Row],[Précision du risque\n(si liste déroulante présente)]]))=TRUE),\"Oui --> Priorité d'action\",\"Non\"))","v":""},null,null,null,null,{"$f":"IF(ISBLANK(Risque[[#This Row],[Catégorie de risque]]),\"\",CONCATENATE(Risque[[#This Row],[Catégorie de risque]],2))","v":""},null,{"$f":"IF(ISBLANK(Risque[[#This Row],[Moyens de prévention]]),\"\",CONCATENATE(Risque[[#This Row],[Moyens de prévention]],1))","v":""},null,null,null,null,null,{"$f":"IF(ISBLANK(Risque[[#This Row],[Catégorie de risque]]),\"\",CONCATENATE(Risque[[#This Row],[Catégorie de risque]],3))","v":""},null,null,null,{"$f":"IF(ISBLANK(Risque[[#This Row],[Catégorie de risque]]),\"\",CONCATENATE(Risque[[#This Row],[Catégorie de risque]],4))","v":""},null,null,null,null,null,{"$f":"IF(Risque[[#This Row],[Date d''inscription du risque]]<>\"\",YEAR(Risque[[#This Row],[Date d''inscription du risque]]),\"\")","v":""}]
[null,null,{"$f":"IF(ISBLANK(Risque[[#This Row],[Catégorie de risque]]),\"\",CONCATENATE(Risque[[#This Row],[Catégorie de risque]],1))","v":""},null,null,null,null,null,{"$f":"IF(ISBLANK(Risque[[#This Row],[Catégorie de risque]]),\"\",IF(OR(ISNUMBER(SEARCH(\"RZ\",Risque[[#This Row],[Source de danger]]))=TRUE,ISNUMBER(SEARCH(\"RP\",Risque[[#This Row],[Source de danger]]))=TRUE,ISNUMBER(SEARCH(\"RZ\",Risque[[#This Row],[Risques associés]]))=TRUE,ISNUMBER(SEARCH(\"RP\",Risque[[#This Row],[Risques associés]]))=TRUE,ISNUMBER(SEARCH(\"RZ\",Risque[[#This Row],[Précision du risque\n(si liste déroulante présente)]]))=TRUE,ISNUMBER(SEARCH(\"RP\",Risque[[#This Row],[Précision du risque\n(si liste déroulante présente)]]))=TRUE),\"Oui --> Priorité d'action\",\"Non\"))","v":""},null,null,null,null,{"$f":"IF(ISBLANK(Risque[[#This Row],[Catégorie de risque]]),\"\",CONCATENATE(Risque[[#This Row],[Catégorie de risque]],2))","v":""},null,{"$f":"IF(ISBLANK(Risque[[#This Row],[Moyens de prévention]]),\"\",CONCATENATE(Risque[[#This Row],[Moyens de prévention]],1))","v":""},null,null,null,null,null,{"$f":"IF(ISBLANK(Risque[[#This Row],[Catégorie de risque]]),\"\",CONCATENATE(Risque[[#This Row],[Catégorie de risque]],3))","v":""},null,null,null,{"$f":"IF(ISBLANK(Risque[[#This Row],[Catégorie de risque]]),\"\",CONCATENATE(Risque[[#This Row],[Catégorie de risque]],4))","v":""},null,null,null,null,null,{"$f":"IF(Risque[[#This Row],[Date d''inscription du risque]]<>\"\",YEAR(Risque[[#This Row],[Date d''inscription du risque]]),\"\")","v":""}]
[null,null,{"$f":"IF(ISBLANK(Risque[[#This Row],[Catégorie de risque]]),\"\",CONCATENATE(Risque[[#This Row],[Catégorie de risque]],1))","v":""},null,null,null,null,null,{"$f":"IF(ISBLANK(Risque[[#This Row],[Catégorie de risque]]),\"\",IF(OR(ISNUMBER(SEARCH(\"RZ\",Risque[[#This Row],[Source de danger]]))=TRUE,ISNUMBER(SEARCH(\"RP\",Risque[[#This Row],[Source de danger]]))=TRUE,ISNUMBER(SEARCH(\"RZ\",Risque[[#This Row],[Risques associés]]))=TRUE,ISNUMBER(SEARCH(\"RP\",Risque[[#This Row],[Risques associés]]))=TRUE,ISNUMBER(SEARCH(\"RZ\",Risque[[#This Row],[Précision du risque\n(si liste déroulante présente)]]))=TRUE,ISNUMBER(SEARCH(\"RP\",Risque[[#This Row],[Précision du risque\n(si liste déroulante présente)]]))=TRUE),\"Oui --> Priorité d'action\",\"Non\"))","v":""},null,null,null,null,{"$f":"IF(ISBLANK(Risque[[#This Row],[Catégorie de risque]]),\"\",CONCATENATE(Risque[[#This Row],[Catégorie de risque]],2))","v":""},null,{"$f":"IF(ISBLANK(Risque[[#This Row],[Moyens de prévention]]),\"\",CONCATENATE(Risque[[#This Row],[Moyens de prévention]],1))","v":""},null,null,null,null,null,{"$f":"IF(ISBLANK(Risque[[#This Row],[Catégorie de risque]]),\"\",CONCATENATE(Risque[[#This Row],[Catégorie de risque]],3))","v":""},null,null,null,{"$f":"IF(ISBLANK(Risque[[#This Row],[Catégorie de risque]]),\"\",CONCATENATE(Risque[[#This Row],[Catégorie de risque]],4))","v":""},null,null,null,null,null,{"$f":"IF(Risque[[#This Row],[Date d''inscription du risque]]<>\"\",YEAR(Risque[[#This Row],[Date d''inscription du risque]]),\"\")","v":""}]
[null,null,{"$f":"IF(ISBLANK(Risque[[#This Row],[Catégorie de risque]]),\"\",CONCATENATE(Risque[[#This Row],[Catégorie de risque]],1))","v":""},null,null,null,null,null,{"$f":"IF(ISBLANK(Risque[[#This Row],[Catégorie de risque]]),\"\",IF(OR(ISNUMBER(SEARCH(\"RZ\",Risque[[#This Row],[Source de danger]]))=TRUE,ISNUMBER(SEARCH(\"RP\",Risque[[#This Row],[Source de danger]]))=TRUE,ISNUMBER(SEARCH(\"RZ\",Risque[[#This Row],[Risques associés]]))=TRUE,ISNUMBER(SEARCH(\"RP\",Risque[[#This Row],[Risques associés]]))=TRUE,ISNUMBER(SEARCH(\"RZ\",Risque[[#This Row],[Précision du risque\n(si liste déroulante présente)]]))=TRUE,ISNUMBER(SEARCH(\"RP\",Risque[[#This Row],[Précision du risque\n(si liste déroulante présente)]]))=TRUE),\"Oui --> Priorité d'action\",\"Non\"))","v":""},null,null,null,null,{"$f":"IF(ISBLANK(Risque[[#This Row],[Catégorie de risque]]),\"\",CONCATENATE(Risque[[#This Row],[Catégorie de risque]],2))","v":""},null,{"$f":"IF(ISBLANK(Risque[[#This Row],[Moyens de prévention]]),\"\",CONCATENATE(Risque[[#This Row],[Moyens de prévention]],1))","v":""},null,null,null,null,null,{"$f":"IF(ISBLANK(Risque[[#This Row],[Catégorie de risque]]),\"\",CONCATENATE(Risque[[#This Row],[Catégorie de risque]],3))","v":""},null,null,null,{"$f":"IF(ISBLANK(Risque[[#This Row],[Catégorie de risque]]),\"\",CONCATENATE(Risque[[#This Row],[Catégorie de risque]],4))","v":""},null,null,null,null,null,{"$f":"IF(Risque[[#This Row],[Date d''inscription du risque]]<>\"\",YEAR(Risque[[#This Row],[Date d''inscription du risque]]),\"\")","v":""}]
[null,null,{"$f":"IF(ISBLANK(Risque[[#This Row],[Catégorie de risque]]),\"\",CONCATENATE(Risque[[#This Row],[Catégorie de risque]],1))","v":""},null,null,null,null,null,{"$f":"IF(ISBLANK(Risque[[#This Row],[Catégorie de risque]]),\"\",IF(OR(ISNUMBER(SEARCH(\"RZ\",Risque[[#This Row],[Source de danger]]))=TRUE,ISNUMBER(SEARCH(\"RP\",Risque[[#This Row],[Source de danger]]))=TRUE,ISNUMBER(SEARCH(\"RZ\",Risque[[#This Row],[Risques associés]]))=TRUE,ISNUMBER(SEARCH(\"RP\",Risque[[#This Row],[Risques associés]]))=TRUE,ISNUMBER(SEARCH(\"RZ\",Risque[[#This Row],[Précision du risque\n(si liste déroulante présente)]]))=TRUE,ISNUMBER(SEARCH(\"RP\",Risque[[#This Row],[Précision du risque\n(si liste déroulante présente)]]))=TRUE),\"Oui --> Priorité d'action\",\"Non\"))","v":""},null,null,null,null,{"$f":"IF(ISBLANK(Risque[[#This Row],[Catégorie de risque]]),\"\",CONCATENATE(Risque[[#This Row],[Catégorie de risque]],2))","v":""},null,{"$f":"IF(ISBLANK(Risque[[#This Row],[Moyens de prévention]]),\"\",CONCATENATE(Risque[[#This Row],[Moyens de prévention]],1))","v":""},null,null,null,null,null,{"$f":"IF(ISBLANK(Risque[[#This Row],[Catégorie de risque]]),\"\",CONCATENATE(Risque[[#This Row],[Catégorie de risque]],3))","v":""},null,null,null,{"$f":"IF(ISBLANK(Risque[[#This Row],[Catégorie de risque]]),\"\",CONCATENATE(Risque[[#This Row],[Catégorie de risque]],4))","v":""},null,null,null,null,null,{"$f":"IF(Risque[[#This Row],[Date d''inscription du risque]]<>\"\",YEAR(Risque[[#This Row],[Date d''inscription du risque]]),\"\")","v":""}]
[null,null,{"$f":"IF(ISBLANK(Risque[[#This Row],[Catégorie de risque]]),\"\",CONCATENATE(Risque[[#This Row],[Catégorie de risque]],1))","v":""},null,null,null,null,null,{"$f":"IF(ISBLANK(Risque[[#This Row],[Catégorie de risque]]),\"\",IF(OR(ISNUMBER(SEARCH(\"RZ\",Risque[[#This Row],[Source de danger]]))=TRUE,ISNUMBER(SEARCH(\"RP\",Risque[[#This Row],[Source de danger]]))=TRUE,ISNUMBER(SEARCH(\"RZ\",Risque[[#This Row],[Risques associés]]))=TRUE,ISNUMBER(SEARCH(\"RP\",Risque[[#This Row],[Risques associés]]))=TRUE,ISNUMBER(SEARCH(\"RZ\",Risque[[#This Row],[Précision du risque\n(si liste déroulante présente)]]))=TRUE,ISNUMBER(SEARCH(\"RP\",Risque[[#This Row],[Précision du risque\n(si liste déroulante présente)]]))=TRUE),\"Oui --> Priorité d'action\",\"Non\"))","v":""},null,null,null,null,{"$f":"IF(ISBLANK(Risque[[#This Row],[Catégorie de risque]]),\"\",CONCATENATE(Risque[[#This Row],[Catégorie de risque]],2))","v":""},null,{"$f":"IF(ISBLANK(Risque[[#This Row],[Moyens de prévention]]),\"\",CONCATENATE(Risque[[#This Row],[Moyens de prévention]],1))","v":""},null,null,null,null,null,{"$f":"IF(ISBLANK(Risque[[#This Row],[Catégorie de risque]]),\"\",CONCATENATE(Risque[[#This Row],[Catégorie de risque]],3))","v":""},null,null,null,{"$f":"IF(ISBLANK(Risque[[#This Row],[Catégorie de risque]]),\"\",CONCATENATE(Risque[[#This Row],[Catégorie de risque]],4))","v":""},null,null,null,null,null,{"$f":"IF(Risque[[#This Row],[Date d''inscription du risque]]<>\"\",YEAR(Risque[[#This Row],[Date d''inscription du risque]]),\"\")","v":""}]
[null,null,{"$f":"IF(ISBLANK(Risque[[#This Row],[Catégorie de risque]]),\"\",CONCATENATE(Risque[[#This Row],[Catégorie de risque]],1))","v":""},null,null,null,null,null,{"$f":"IF(ISBLANK(Risque[[#This Row],[Catégorie de risque]]),\"\",IF(OR(ISNUMBER(SEARCH(\"RZ\",Risque[[#This Row],[Source de danger]]))=TRUE,ISNUMBER(SEARCH(\"RP\",Risque[[#This Row],[Source de danger]]))=TRUE,ISNUMBER(SEARCH(\"RZ\",Risque[[#This Row],[Risques associés]]))=TRUE,ISNUMBER(SEARCH(\"RP\",Risque[[#This Row],[Risques associés]]))=TRUE,ISNUMBER(SEARCH(\"RZ\",Risque[[#This Row],[Précision du risque\n(si liste déroulante présente)]]))=TRUE,ISNUMBER(SEARCH(\"RP\",Risque[[#This Row],[Précision du risque\n(si liste déroulante présente)]]))=TRUE),\"Oui --> Priorité d'action\",\"Non\"))","v":""},null,null,null,null,{"$f":"IF(ISBLANK(Risque[[#This Row],[Catégorie de risque]]),\"\",CONCATENATE(Risque[[#This Row],[Catégorie de risque]],2))","v":""},null,{"$f":"IF(ISBLANK(Risque[[#This Row],[Moyens de prévention]]),\"\",CONCATENATE(Risque[[#This Row],[Moyens de prévention]],1))","v":""},null,null,null,null,null,{"$f":"IF(ISBLANK(Risque[[#This Row],[Catégorie de risque]]),\"\",CONCATENATE(Risque[[#This Row],[Catégorie de risque]],3))","v":""},null,null,null,{"$f":"IF(ISBLANK(Risque[[#This Row],[Catégorie de risque]]),\"\",CONCATENATE(Risque[[#This Row],[Catégorie de risque]],4))","v":""},null,null,null,null,null,{"$f":"IF(Risque[[#This Row],[Date d''inscription du risque]]<>\"\",YEAR(Risque[[#This Row],[Date d''inscription du risque]]),\"\")","v":""}]
[null,null,{"$f":"IF(ISBLANK(Risque[[#This Row],[Catégorie de risque]]),\"\",CONCATENATE(Risque[[#This Row],[Catégorie de risque]],1))","v":""},null,null,null,null,null,{"$f":"IF(ISBLANK(Risque[[#This Row],[Catégorie de risque]]),\"\",IF(OR(ISNUMBER(SEARCH(\"RZ\",Risque[[#This Row],[Source de danger]]))=TRUE,ISNUMBER(SEARCH(\"RP\",Risque[[#This Row],[Source de danger]]))=TRUE,ISNUMBER(SEARCH(\"RZ\",Risque[[#This Row],[Risques associés]]))=TRUE,ISNUMBER(SEARCH(\"RP\",Risque[[#This Row],[Risques associés]]))=TRUE,ISNUMBER(SEARCH(\"RZ\",Risque[[#This Row],[Précision du risque\n(si liste déroulante présente)]]))=TRUE,ISNUMBER(SEARCH(\"RP\",Risque[[#This Row],[Précision du risque\n(si liste déroulante présente)]]))=TRUE),\"Oui --> Priorité d'action\",\"Non\"))","v":""},null,null,null,null,{"$f":"IF(ISBLANK(Risque[[#This Row],[Catégorie de risque]]),\"\",CONCATENATE(Risque[[#This Row],[Catégorie de risque]],2))","v":""},null,{"$f":"IF(ISBLANK(Risque[[#This Row],[Moyens de prévention]]),\"\",CONCATENATE(Risque[[#This Row],[Moyens de prévention]],1))","v":""},null,null,null,null,null,{"$f":"IF(ISBLANK(Risque[[#This Row],[Catégorie de risque]]),\"\",CONCATENATE(Risque[[#This Row],[Catégorie de risque]],3))","v":""},null,null,null,{"$f":"IF(ISBLANK(Risque[[#This Row],[Catégorie de risque]]),\"\",CONCATENATE(Risque[[#This Row],[Catégorie de risque]],4))","v":""},null,null,null,null,null,{"$f":"IF(Risque[[#This Row],[Date d''inscription du risque]]<>\"\",YEAR(Risque[[#This Row],[Date d''inscription du risque]]),\"\")","v":""}]
[null,null,{"$f":"IF(ISBLANK(Risque[[#This Row],[Catégorie de risque]]),\"\",CONCATENATE(Risque[[#This Row],[Catégorie de risque]],1))","v":""},null,null,null,null,null,{"$f":"IF(ISBLANK(Risque[[#This Row],[Catégorie de risque]]),\"\",IF(OR(ISNUMBER(SEARCH(\"RZ\",Risque[[#This Row],[Source de danger]]))=TRUE,ISNUMBER(SEARCH(\"RP\",Risque[[#This Row],[Source de danger]]))=TRUE,ISNUMBER(SEARCH(\"RZ\",Risque[[#This Row],[Risques associés]]))=TRUE,ISNUMBER(SEARCH(\"RP\",Risque[[#This Row],[Risques associés]]))=TRUE,ISNUMBER(SEARCH(\"RZ\",Risque[[#This Row],[Précision du risque\n(si liste déroulante présente)]]))=TRUE,ISNUMBER(SEARCH(\"RP\",Risque[[#This Row],[Précision du risque\n(si liste déroulante présente)]]))=TRUE),\"Oui --> Priorité d'action\",\"Non\"))","v":""},null,null,null,null,{"$f":"IF(ISBLANK(Risque[[#This Row],[Catégorie de risque]]),\"\",CONCATENATE(Risque[[#This Row],[Catégorie de risque]],2))","v":""},null,{"$f":"IF(ISBLANK(Risque[[#This Row],[Moyens de prévention]]),\"\",CONCATENATE(Risque[[#This Row],[Moyens de prévention]],1))","v":""},null,null,null,null,null,{"$f":"IF(ISBLANK(Risque[[#This Row],[Catégorie de risque]]),\"\",CONCATENATE(Risque[[#This Row],[Catégorie de risque]],3))","v":""},null,null,null,{"$f":"IF(ISBLANK(Risque[[#This Row],[Catégorie de risque]]),\"\",CONCATENATE(Risque[[#This Row],[Catégorie de risque]],4))","v":""},null,null,null,null,null,{"$f":"IF(Risque[[#This Row],[Date d''inscription du risque]]<>\"\",YEAR(Risque[[#This Row],[Date d''inscription du risque]]),\"\")","v":""}]
[null,null,{"$f":"IF(ISBLANK(Risque[[#This Row],[Catégorie de risque]]),\"\",CONCATENATE(Risque[[#This Row],[Catégorie de risque]],1))","v":""},null,null,null,null,null,{"$f":"IF(ISBLANK(Risque[[#This Row],[Catégorie de risque]]),\"\",IF(OR(ISNUMBER(SEARCH(\"RZ\",Risque[[#This Row],[Source de danger]]))=TRUE,ISNUMBER(SEARCH(\"RP\",Risque[[#This Row],[Source de danger]]))=TRUE,ISNUMBER(SEARCH(\"RZ\",Risque[[#This Row],[Risques associés]]))=TRUE,ISNUMBER(SEARCH(\"RP\",Risque[[#This Row],[Risques associés]]))=TRUE,ISNUMBER(SEARCH(\"RZ\",Risque[[#This Row],[Précision du risque\n(si liste déroulante présente)]]))=TRUE,ISNUMBER(SEARCH(\"RP\",Risque[[#This Row],[Précision du risque\n(si liste déroulante présente)]]))=TRUE),\"Oui --> Priorité d'action\",\"Non\"))","v":""},null,null,null,null,{"$f":"IF(ISBLANK(Risque[[#This Row],[Catégorie de risque]]),\"\",CONCATENATE(Risque[[#This Row],[Catégorie de risque]],2))","v":""},null,{"$f":"IF(ISBLANK(Risque[[#This Row],[Moyens de prévention]]),\"\",CONCATENATE(Risque[[#This Row],[Moyens de prévention]],1))","v":""},null,null,null,null,null,{"$f":"IF(ISBLANK(Risque[[#This Row],[Catégorie de risque]]),\"\",CONCATENATE(Risque[[#This Row],[Catégorie de risque]],3))","v":""},null,null,null,{"$f":"IF(ISBLANK(Risque[[#This Row],[Catégorie de risque]]),\"\",CONCATENATE(Risque[[#This Row],[Catégorie de risque]],4))","v":""},null,null,null,null,null,{"$f":"IF(Risque[[#This Row],[Date d''inscription du risque]]<>\"\",YEAR(Risque[[#This Row],[Date d''inscription du risque]]),\"\")","v":""}]
[null,null,{"$f":"IF(ISBLANK(Risque[[#This Row],[Catégorie de risque]]),\"\",CONCATENATE(Risque[[#This Row],[Catégorie de risque]],1))","v":""},null,null,null,null,null,{"$f":"IF(ISBLANK(Risque[[#This Row],[Catégorie de risque]]),\"\",IF(OR(ISNUMBER(SEARCH(\"RZ\",Risque[[#This Row],[Source de danger]]))=TRUE,ISNUMBER(SEARCH(\"RP\",Risque[[#This Row],[Source de danger]]))=TRUE,ISNUMBER(SEARCH(\"RZ\",Risque[[#This Row],[Risques associés]]))=TRUE,ISNUMBER(SEARCH(\"RP\",Risque[[#This Row],[Risques associés]]))=TRUE,ISNUMBER(SEARCH(\"RZ\",Risque[[#This Row],[Précision du risque\n(si liste déroulante présente)]]))=TRUE,ISNUMBER(SEARCH(\"RP\",Risque[[#This Row],[Précision du risque\n(si liste déroulante présente)]]))=TRUE),\"Oui --> Priorité d'action\",\"Non\"))","v":""},null,null,null,null,{"$f":"IF(ISBLANK(Risque[[#This Row],[Catégorie de risque]]),\"\",CONCATENATE(Risque[[#This Row],[Catégorie de risque]],2))","v":""},null,{"$f":"IF(ISBLANK(Risque[[#This Row],[Moyens de prévention]]),\"\",CONCATENATE(Risque[[#This Row],[Moyens de prévention]],1))","v":""},null,null,null,null,null,{"$f":"IF(ISBLANK(Risque[[#This Row],[Catégorie de risque]]),\"\",CONCATENATE(Risque[[#This Row],[Catégorie de risque]],3))","v":""},null,null,null,{"$f":"IF(ISBLANK(Risque[[#This Row],[Catégorie de risque]]),\"\",CONCATENATE(Risque[[#This Row],[Catégorie de risque]],4))","v":""},null,null,null,null,null,{"$f":"IF(Risque[[#This Row],[Date d''inscription du risque]]<>\"\",YEAR(Risque[[#This Row],[Date d''inscription du risque]]),\"\")","v":""}]
[null,null,{"$f":"IF(ISBLANK(Risque[[#This Row],[Catégorie de risque]]),\"\",CONCATENATE(Risque[[#This Row],[Catégorie de risque]],1))","v":""},null,null,null,null,null,{"$f":"IF(ISBLANK(Risque[[#This Row],[Catégorie de risque]]),\"\",IF(OR(ISNUMBER(SEARCH(\"RZ\",Risque[[#This Row],[Source de danger]]))=TRUE,ISNUMBER(SEARCH(\"RP\",Risque[[#This Row],[Source de danger]]))=TRUE,ISNUMBER(SEARCH(\"RZ\",Risque[[#This Row],[Risques associés]]))=TRUE,ISNUMBER(SEARCH(\"RP\",Risque[[#This Row],[Risques associés]]))=TRUE,ISNUMBER(SEARCH(\"RZ\",Risque[[#This Row],[Précision du risque\n(si liste déroulante présente)]]))=TRUE,ISNUMBER(SEARCH(\"RP\",Risque[[#This Row],[Précision du risque\n(si liste déroulante présente)]]))=TRUE),\"Oui --> Priorité d'action\",\"Non\"))","v":""},null,null,null,null,{"$f":"IF(ISBLANK(Risque[[#This Row],[Catégorie de risque]]),\"\",CONCATENATE(Risque[[#This Row],[Catégorie de risque]],2))","v":""},null,{"$f":"IF(ISBLANK(Risque[[#This Row],[Moyens de prévention]]),\"\",CONCATENATE(Risque[[#This Row],[Moyens de prévention]],1))","v":""},null,null,null,null,null,{"$f":"IF(ISBLANK(Risque[[#This Row],[Catégorie de risque]]),\"\",CONCATENATE(Risque[[#This Row],[Catégorie de risque]],3))","v":""},null,null,null,{"$f":"IF(ISBLANK(Risque[[#This Row],[Catégorie de risque]]),\"\",CONCATENATE(Risque[[#This Row],[Catégorie de risque]],4))","v":""},null,null,null,null,null,{"$f":"IF(Risque[[#This Row],[Date d''inscription du risque]]<>\"\",YEAR(Risque[[#This Row],[Date d''inscription du risque]]),\"\")","v":""}]
[null,null,{"$f":"IF(ISBLANK(Risque[[#This Row],[Catégorie de risque]]),\"\",CONCATENATE(Risque[[#This Row],[Catégorie de risque]],1))","v":""},null,null,null,null,null,{"$f":"IF(ISBLANK(Risque[[#This Row],[Catégorie de risque]]),\"\",IF(OR(ISNUMBER(SEARCH(\"RZ\",Risque[[#This Row],[Source de danger]]))=TRUE,ISNUMBER(SEARCH(\"RP\",Risque[[#This Row],[Source de danger]]))=TRUE,ISNUMBER(SEARCH(\"RZ\",Risque[[#This Row],[Risques associés]]))=TRUE,ISNUMBER(SEARCH(\"RP\",Risque[[#This Row],[Risques associés]]))=TRUE,ISNUMBER(SEARCH(\"RZ\",Risque[[#This Row],[Précision du risque\n(si liste déroulante présente)]]))=TRUE,ISNUMBER(SEARCH(\"RP\",Risque[[#This Row],[Précision du risque\n(si liste déroulante présente)]]))=TRUE),\"Oui --> Priorité d'action\",\"Non\"))","v":""},null,null,null,null,{"$f":"IF(ISBLANK(Risque[[#This Row],[Catégorie de risque]]),\"\",CONCATENATE(Risque[[#This Row],[Catégorie de risque]],2))","v":""},null,{"$f":"IF(ISBLANK(Risque[[#This Row],[Moyens de prévention]]),\"\",CONCATENATE(Risque[[#This Row],[Moyens de prévention]],1))","v":""},null,null,null,null,null,{"$f":"IF(ISBLANK(Risque[[#This Row],[Catégorie de risque]]),\"\",CONCATENATE(Risque[[#This Row],[Catégorie de risque]],3))","v":""},null,null,null,{"$f":"IF(ISBLANK(Risque[[#This Row],[Catégorie de risque]]),\"\",CONCATENATE(Risque[[#This Row],[Catégorie de risque]],4))","v":""},null,null,null,null,null,{"$f":"IF(Risque[[#This Row],[Date d''inscription du risque]]<>\"\",YEAR(Risque[[#This Row],[Date d''inscription du risque]]),\"\")","v":""}]
[null,null,{"$f":"IF(ISBLANK(Risque[[#This Row],[Catégorie de risque]]),\"\",CONCATENATE(Risque[[#This Row],[Catégorie de risque]],1))","v":""},null,null,null,null,null,{"$f":"IF(ISBLANK(Risque[[#This Row],[Catégorie de risque]]),\"\",IF(OR(ISNUMBER(SEARCH(\"RZ\",Risque[[#This Row],[Source de danger]]))=TRUE,ISNUMBER(SEARCH(\"RP\",Risque[[#This Row],[Source de danger]]))=TRUE,ISNUMBER(SEARCH(\"RZ\",Risque[[#This Row],[Risques associés]]))=TRUE,ISNUMBER(SEARCH(\"RP\",Risque[[#This Row],[Risques associés]]))=TRUE,ISNUMBER(SEARCH(\"RZ\",Risque[[#This Row],[Précision du risque\n(si liste déroulante présente)]]))=TRUE,ISNUMBER(SEARCH(\"RP\",Risque[[#This Row],[Précision du risque\n(si liste déroulante présente)]]))=TRUE),\"Oui --> Priorité d'action\",\"Non\"))","v":""},null,null,null,null,{"$f":"IF(ISBLANK(Risque[[#This Row],[Catégorie de risque]]),\"\",CONCATENATE(Risque[[#This Row],[Catégorie de risque]],2))","v":""},null,{"$f":"IF(ISBLANK(Risque[[#This Row],[Moyens de prévention]]),\"\",CONCATENATE(Risque[[#This Row],[Moyens de prévention]],1))","v":""},null,null,null,null,null,{"$f":"IF(ISBLANK(Risque[[#This Row],[Catégorie de risque]]),\"\",CONCATENATE(Risque[[#This Row],[Catégorie de risque]],3))","v":""},null,null,null,{"$f":"IF(ISBLANK(Risque[[#This Row],[Catégorie de risque]]),\"\",CONCATENATE(Risque[[#This Row],[Catégorie de risque]],4))","v":""},null,null,null,null,null,{"$f":"IF(Risque[[#This Row],[Date d''inscription du risque]]<>\"\",YEAR(Risque[[#This Row],[Date d''inscription du risque]]),\"\")","v":""}]
[null,null,{"$f":"IF(ISBLANK(Risque[[#This Row],[Catégorie de risque]]),\"\",CONCATENATE(Risque[[#This Row],[Catégorie de risque]],1))","v":""},null,null,null,null,null,{"$f":"IF(ISBLANK(Risque[[#This Row],[Catégorie de risque]]),\"\",IF(OR(ISNUMBER(SEARCH(\"RZ\",Risque[[#This Row],[Source de danger]]))=TRUE,ISNUMBER(SEARCH(\"RP\",Risque[[#This Row],[Source de danger]]))=TRUE,ISNUMBER(SEARCH(\"RZ\",Risque[[#This Row],[Risques associés]]))=TRUE,ISNUMBER(SEARCH(\"RP\",Risque[[#This Row],[Risques associés]]))=TRUE,ISNUMBER(SEARCH(\"RZ\",Risque[[#This Row],[Précision du risque\n(si liste déroulante présente)]]))=TRUE,ISNUMBER(SEARCH(\"RP\",Risque[[#This Row],[Précision du risque\n(si liste déroulante présente)]]))=TRUE),\"Oui --> Priorité d'action\",\"Non\"))","v":""},null,null,null,null,{"$f":"IF(ISBLANK(Risque[[#This Row],[Catégorie de risque]]),\"\",CONCATENATE(Risque[[#This Row],[Catégorie de risque]],2))","v":""},null,{"$f":"IF(ISBLANK(Risque[[#This Row],[Moyens de prévention]]),\"\",CONCATENATE(Risque[[#This Row],[Moyens de prévention]],1))","v":""},null,null,null,null,null,{"$f":"IF(ISBLANK(Risque[[#This Row],[Catégorie de risque]]),\"\",CONCATENATE(Risque[[#This Row],[Catégorie de risque]],3))","v":""},null,null,null,{"$f":"IF(ISBLANK(Risque[[#This Row],[Catégorie de risque]]),\"\",CONCATENATE(Risque[[#This Row],[Catégorie de risque]],4))","v":""},null,null,null,null,null,{"$f":"IF(Risque[[#This Row],[Date d''inscription du risque]]<>\"\",YEAR(Risque[[#This Row],[Date d''inscription du risque]]),\"\")","v":""}]
[null,null,{"$f":"IF(ISBLANK(Risque[[#This Row],[Catégorie de risque]]),\"\",CONCATENATE(Risque[[#This Row],[Catégorie de risque]],1))","v":""},null,null,null,null,null,{"$f":"IF(ISBLANK(Risque[[#This Row],[Catégorie de risque]]),\"\",IF(OR(ISNUMBER(SEARCH(\"RZ\",Risque[[#This Row],[Source de danger]]))=TRUE,ISNUMBER(SEARCH(\"RP\",Risque[[#This Row],[Source de danger]]))=TRUE,ISNUMBER(SEARCH(\"RZ\",Risque[[#This Row],[Risques associés]]))=TRUE,ISNUMBER(SEARCH(\"RP\",Risque[[#This Row],[Risques associés]]))=TRUE,ISNUMBER(SEARCH(\"RZ\",Risque[[#This Row],[Précision du risque\n(si liste déroulante présente)]]))=TRUE,ISNUMBER(SEARCH(\"RP\",Risque[[#This Row],[Précision du risque\n(si liste déroulante présente)]]))=TRUE),\"Oui --> Priorité d'action\",\"Non\"))","v":""},null,null,null,null,{"$f":"IF(ISBLANK(Risque[[#This Row],[Catégorie de risque]]),\"\",CONCATENATE(Risque[[#This Row],[Catégorie de risque]],2))","v":""},null,{"$f":"IF(ISBLANK(Risque[[#This Row],[Moyens de prévention]]),\"\",CONCATENATE(Risque[[#This Row],[Moyens de prévention]],1))","v":""},null,null,null,null,null,{"$f":"IF(ISBLANK(Risque[[#This Row],[Catégorie de risque]]),\"\",CONCATENATE(Risque[[#This Row],[Catégorie de risque]],3))","v":""},null,null,null,{"$f":"IF(ISBLANK(Risque[[#This Row],[Catégorie de risque]]),\"\",CONCATENATE(Risque[[#This Row],[Catégorie de risque]],4))","v":""},null,null,null,null,null,{"$f":"IF(Risque[[#This Row],[Date d''inscription du risque]]<>\"\",YEAR(Risque[[#This Row],[Date d''inscription du risque]]),\"\")","v":""}]
[null,null,{"$f":"IF(ISBLANK(Risque[[#This Row],[Catégorie de risque]]),\"\",CONCATENATE(Risque[[#This Row],[Catégorie de risque]],1))","v":""},null,null,null,null,null,{"$f":"IF(ISBLANK(Risque[[#This Row],[Catégorie de risque]]),\"\",IF(OR(ISNUMBER(SEARCH(\"RZ\",Risque[[#This Row],[Source de danger]]))=TRUE,ISNUMBER(SEARCH(\"RP\",Risque[[#This Row],[Source de danger]]))=TRUE,ISNUMBER(SEARCH(\"RZ\",Risque[[#This Row],[Risques associés]]))=TRUE,ISNUMBER(SEARCH(\"RP\",Risque[[#This Row],[Risques associés]]))=TRUE,ISNUMBER(SEARCH(\"RZ\",Risque[[#This Row],[Précision du risque\n(si liste déroulante présente)]]))=TRUE,ISNUMBER(SEARCH(\"RP\",Risque[[#This Row],[Précision du risque\n(si liste déroulante présente)]]))=TRUE),\"Oui --> Priorité d'action\",\"Non\"))","v":""},null,null,null,null,{"$f":"IF(ISBLANK(Risque[[#This Row],[Catégorie de risque]]),\"\",CONCATENATE(Risque[[#This Row],[Catégorie de risque]],2))","v":""},null,{"$f":"IF(ISBLANK(Risque[[#This Row],[Moyens de prévention]]),\"\",CONCATENATE(Risque[[#This Row],[Moyens de prévention]],1))","v":""},null,null,null,null,null,{"$f":"IF(ISBLANK(Risque[[#This Row],[Catégorie de risque]]),\"\",CONCATENATE(Risque[[#This Row],[Catégorie de risque]],3))","v":""},null,null,null,{"$f":"IF(ISBLANK(Risque[[#This Row],[Catégorie de risque]]),\"\",CONCATENATE(Risque[[#This Row],[Catégorie de risque]],4))","v":""},null,null,null,null,null,{"$f":"IF(Risque[[#This Row],[Date d''inscription du risque]]<>\"\",YEAR(Risque[[#This Row],[Date d''inscription du risque]]),\"\")","v":""}]
[null,null,{"$f":"IF(ISBLANK(Risque[[#This Row],[Catégorie de risque]]),\"\",CONCATENATE(Risque[[#This Row],[Catégorie de risque]],1))","v":""},null,null,null,null,null,{"$f":"IF(ISBLANK(Risque[[#This Row],[Catégorie de risque]]),\"\",IF(OR(ISNUMBER(SEARCH(\"RZ\",Risque[[#This Row],[Source de danger]]))=TRUE,ISNUMBER(SEARCH(\"RP\",Risque[[#This Row],[Source de danger]]))=TRUE,ISNUMBER(SEARCH(\"RZ\",Risque[[#This Row],[Risques associés]]))=TRUE,ISNUMBER(SEARCH(\"RP\",Risque[[#This Row],[Risques associés]]))=TRUE,ISNUMBER(SEARCH(\"RZ\",Risque[[#This Row],[Précision du risque\n(si liste déroulante présente)]]))=TRUE,ISNUMBER(SEARCH(\"RP\",Risque[[#This Row],[Précision du risque\n(si liste déroulante présente)]]))=TRUE),\"Oui --> Priorité d'action\",\"Non\"))","v":""},null,null,null,null,{"$f":"IF(ISBLANK(Risque[[#This Row],[Catégorie de risque]]),\"\",CONCATENATE(Risque[[#This Row],[Catégorie de risque]],2))","v":""},null,{"$f":"IF(ISBLANK(Risque[[#This Row],[Moyens de prévention]]),\"\",CONCATENATE(Risque[[#This Row],[Moyens de prévention]],1))","v":""},null,null,null,null,null,{"$f":"IF(ISBLANK(Risque[[#This Row],[Catégorie de risque]]),\"\",CONCATENATE(Risque[[#This Row],[Catégorie de risque]],3))","v":""},null,null,null,{"$f":"IF(ISBLANK(Risque[[#This Row],[Catégorie de risque]]),\"\",CONCATENATE(Risque[[#This Row],[Catégorie de risque]],4))","v":""},null,null,null,null,null,{"$f":"IF(Risque[[#This Row],[Date d''inscription du risque]]<>\"\",YEAR(Risque[[#This Row],[Date d''inscription du risque]]),\"\")","v":""}]
[null,null,{"$f":"IF(ISBLANK(Risque[[#This Row],[Catégorie de risque]]),\"\",CONCATENATE(Risque[[#This Row],[Catégorie de risque]],1))","v":""},null,null,null,null,null,{"$f":"IF(ISBLANK(Risque[[#This Row],[Catégorie de risque]]),\"\",IF(OR(ISNUMBER(SEARCH(\"RZ\",Risque[[#This Row],[Source de danger]]))=TRUE,ISNUMBER(SEARCH(\"RP\",Risque[[#This Row],[Source de danger]]))=TRUE,ISNUMBER(SEARCH(\"RZ\",Risque[[#This Row],[Risques associés]]))=TRUE,ISNUMBER(SEARCH(\"RP\",Risque[[#This Row],[Risques associés]]))=TRUE,ISNUMBER(SEARCH(\"RZ\",Risque[[#This Row],[Précision du risque\n(si liste déroulante présente)]]))=TRUE,ISNUMBER(SEARCH(\"RP\",Risque[[#This Row],[Précision du risque\n(si liste déroulante présente)]]))=TRUE),\"Oui --> Priorité d'action\",\"Non\"))","v":""},null,null,null,null,{"$f":"IF(ISBLANK(Risque[[#This Row],[Catégorie de risque]]),\"\",CONCATENATE(Risque[[#This Row],[Catégorie de risque]],2))","v":""},null,{"$f":"IF(ISBLANK(Risque[[#This Row],[Moyens de prévention]]),\"\",CONCATENATE(Risque[[#This Row],[Moyens de prévention]],1))","v":""},null,null,null,null,null,{"$f":"IF(ISBLANK(Risque[[#This Row],[Catégorie de risque]]),\"\",CONCATENATE(Risque[[#This Row],[Catégorie de risque]],3))","v":""},null,null,null,{"$f":"IF(ISBLANK(Risque[[#This Row],[Catégorie de risque]]),\"\",CONCATENATE(Risque[[#This Row],[Catégorie de risque]],4))","v":""},null,null,null,null,null,{"$f":"IF(Risque[[#This Row],[Date d''inscription du risque]]<>\"\",YEAR(Risque[[#This Row],[Date d''inscription du risque]]),\"\")","v":""}]
[null,null,{"$f":"IF(ISBLANK(Risque[[#This Row],[Catégorie de risque]]),\"\",CONCATENATE(Risque[[#This Row],[Catégorie de risque]],1))","v":""},null,null,null,null,null,{"$f":"IF(ISBLANK(Risque[[#This Row],[Catégorie de risque]]),\"\",IF(OR(ISNUMBER(SEARCH(\"RZ\",Risque[[#This Row],[Source de danger]]))=TRUE,ISNUMBER(SEARCH(\"RP\",Risque[[#This Row],[Source de danger]]))=TRUE,ISNUMBER(SEARCH(\"RZ\",Risque[[#This Row],[Risques associés]]))=TRUE,ISNUMBER(SEARCH(\"RP\",Risque[[#This Row],[Risques associés]]))=TRUE,ISNUMBER(SEARCH(\"RZ\",Risque[[#This Row],[Précision du risque\n(si liste déroulante présente)]]))=TRUE,ISNUMBER(SEARCH(\"RP\",Risque[[#This Row],[Précision du risque\n(si liste déroulante présente)]]))=TRUE),\"Oui --> Priorité d'action\",\"Non\"))","v":""},null,null,null,null,{"$f":"IF(ISBLANK(Risque[[#This Row],[Catégorie de risque]]),\"\",CONCATENATE(Risque[[#This Row],[Catégorie de risque]],2))","v":""},null,{"$f":"IF(ISBLANK(Risque[[#This Row],[Moyens de prévention]]),\"\",CONCATENATE(Risque[[#This Row],[Moyens de prévention]],1))","v":""},null,null,null,null,null,{"$f":"IF(ISBLANK(Risque[[#This Row],[Catégorie de risque]]),\"\",CONCATENATE(Risque[[#This Row],[Catégorie de risque]],3))","v":""},null,null,null,{"$f":"IF(ISBLANK(Risque[[#This Row],[Catégorie de risque]]),\"\",CONCATENATE(Risque[[#This Row],[Catégorie de risque]],4))","v":""},null,null,null,null,null,{"$f":"IF(Risque[[#This Row],[Date d''inscription du risque]]<>\"\",YEAR(Risque[[#This Row],[Date d''inscription du risque]]),\"\")","v":""}]
[null,null,{"$f":"IF(ISBLANK(Risque[[#This Row],[Catégorie de risque]]),\"\",CONCATENATE(Risque[[#This Row],[Catégorie de risque]],1))","v":""},null,null,null,null,null,{"$f":"IF(ISBLANK(Risque[[#This Row],[Catégorie de risque]]),\"\",IF(OR(ISNUMBER(SEARCH(\"RZ\",Risque[[#This Row],[Source de danger]]))=TRUE,ISNUMBER(SEARCH(\"RP\",Risque[[#This Row],[Source de danger]]))=TRUE,ISNUMBER(SEARCH(\"RZ\",Risque[[#This Row],[Risques associés]]))=TRUE,ISNUMBER(SEARCH(\"RP\",Risque[[#This Row],[Risques associés]]))=TRUE,ISNUMBER(SEARCH(\"RZ\",Risque[[#This Row],[Précision du risque\n(si liste déroulante présente)]]))=TRUE,ISNUMBER(SEARCH(\"RP\",Risque[[#This Row],[Précision du risque\n(si liste déroulante présente)]]))=TRUE),\"Oui --> Priorité d'action\",\"Non\"))","v":""},null,null,null,null,{"$f":"IF(ISBLANK(Risque[[#This Row],[Catégorie de risque]]),\"\",CONCATENATE(Risque[[#This Row],[Catégorie de risque]],2))","v":""},null,{"$f":"IF(ISBLANK(Risque[[#This Row],[Moyens de prévention]]),\"\",CONCATENATE(Risque[[#This Row],[Moyens de prévention]],1))","v":""},null,null,null,null,null,{"$f":"IF(ISBLANK(Risque[[#This Row],[Catégorie de risque]]),\"\",CONCATENATE(Risque[[#This Row],[Catégorie de risque]],3))","v":""},null,null,null,{"$f":"IF(ISBLANK(Risque[[#This Row],[Catégorie de risque]]),\"\",CONCATENATE(Risque[[#This Row],[Catégorie de risque]],4))","v":""},null,null,null,null,null,{"$f":"IF(Risque[[#This Row],[Date d''inscription du risque]]<>\"\",YEAR(Risque[[#This Row],[Date d''inscription du risque]]),\"\")","v":""}]
[null,null,{"$f":"IF(ISBLANK(Risque[[#This Row],[Catégorie de risque]]),\"\",CONCATENATE(Risque[[#This Row],[Catégorie de risque]],1))","v":""},null,null,null,null,null,{"$f":"IF(ISBLANK(Risque[[#This Row],[Catégorie de risque]]),\"\",IF(OR(ISNUMBER(SEARCH(\"RZ\",Risque[[#This Row],[Source de danger]]))=TRUE,ISNUMBER(SEARCH(\"RP\",Risque[[#This Row],[Source de danger]]))=TRUE,ISNUMBER(SEARCH(\"RZ\",Risque[[#This Row],[Risques associés]]))=TRUE,ISNUMBER(SEARCH(\"RP\",Risque[[#This Row],[Risques associés]]))=TRUE,ISNUMBER(SEARCH(\"RZ\",Risque[[#This Row],[Précision du risque\n(si liste déroulante présente)]]))=TRUE,ISNUMBER(SEARCH(\"RP\",Risque[[#This Row],[Précision du risque\n(si liste déroulante présente)]]))=TRUE),\"Oui --> Priorité d'action\",\"Non\"))","v":""},null,null,null,null,{"$f":"IF(ISBLANK(Risque[[#This Row],[Catégorie de risque]]),\"\",CONCATENATE(Risque[[#This Row],[Catégorie de risque]],2))","v":""},null,{"$f":"IF(ISBLANK(Risque[[#This Row],[Moyens de prévention]]),\"\",CONCATENATE(Risque[[#This Row],[Moyens de prévention]],1))","v":""},null,null,null,null,null,{"$f":"IF(ISBLANK(Risque[[#This Row],[Catégorie de risque]]),\"\",CONCATENATE(Risque[[#This Row],[Catégorie de risque]],3))","v":""},null,null,null,{"$f":"IF(ISBLANK(Risque[[#This Row],[Catégorie de risque]]),\"\",CONCATENATE(Risque[[#This Row],[Catégorie de risque]],4))","v":""},null,null,null,null,null,{"$f":"IF(Risque[[#This Row],[Date d''inscription du risque]]<>\"\",YEAR(Risque[[#This Row],[Date d''inscription du risque]]),\"\")","v":""}]
[null,null,{"$f":"IF(ISBLANK(Risque[[#This Row],[Catégorie de risque]]),\"\",CONCATENATE(Risque[[#This Row],[Catégorie de risque]],1))","v":""},null,null,null,null,null,{"$f":"IF(ISBLANK(Risque[[#This Row],[Catégorie de risque]]),\"\",IF(OR(ISNUMBER(SEARCH(\"RZ\",Risque[[#This Row],[Source de danger]]))=TRUE,ISNUMBER(SEARCH(\"RP\",Risque[[#This Row],[Source de danger]]))=TRUE,ISNUMBER(SEARCH(\"RZ\",Risque[[#This Row],[Risques associés]]))=TRUE,ISNUMBER(SEARCH(\"RP\",Risque[[#This Row],[Risques associés]]))=TRUE,ISNUMBER(SEARCH(\"RZ\",Risque[[#This Row],[Précision du risque\n(si liste déroulante présente)]]))=TRUE,ISNUMBER(SEARCH(\"RP\",Risque[[#This Row],[Précision du risque\n(si liste déroulante présente)]]))=TRUE),\"Oui --> Priorité d'action\",\"Non\"))","v":""},null,null,null,null,{"$f":"IF(ISBLANK(Risque[[#This Row],[Catégorie de risque]]),\"\",CONCATENATE(Risque[[#This Row],[Catégorie de risque]],2))","v":""},null,{"$f":"IF(ISBLANK(Risque[[#This Row],[Moyens de prévention]]),\"\",CONCATENATE(Risque[[#This Row],[Moyens de prévention]],1))","v":""},null,null,null,null,null,{"$f":"IF(ISBLANK(Risque[[#This Row],[Catégorie de risque]]),\"\",CONCATENATE(Risque[[#This Row],[Catégorie de risque]],3))","v":""},null,null,null,{"$f":"IF(ISBLANK(Risque[[#This Row],[Catégorie de risque]]),\"\",CONCATENATE(Risque[[#This Row],[Catégorie de risque]],4))","v":""},null,null,null,null,null,{"$f":"IF(Risque[[#This Row],[Date d''inscription du risque]]<>\"\",YEAR(Risque[[#This Row],[Date d''inscription du risque]]),\"\")","v":""}]
[null,null,{"$f":"IF(ISBLANK(Risque[[#This Row],[Catégorie de risque]]),\"\",CONCATENATE(Risque[[#This Row],[Catégorie de risque]],1))","v":""},null,null,null,null,null,{"$f":"IF(ISBLANK(Risque[[#This Row],[Catégorie de risque]]),\"\",IF(OR(ISNUMBER(SEARCH(\"RZ\",Risque[[#This Row],[Source de danger]]))=TRUE,ISNUMBER(SEARCH(\"RP\",Risque[[#This Row],[Source de danger]]))=TRUE,ISNUMBER(SEARCH(\"RZ\",Risque[[#This Row],[Risques associés]]))=TRUE,ISNUMBER(SEARCH(\"RP\",Risque[[#This Row],[Risques associés]]))=TRUE,ISNUMBER(SEARCH(\"RZ\",Risque[[#This Row],[Précision du risque\n(si liste déroulante présente)]]))=TRUE,ISNUMBER(SEARCH(\"RP\",Risque[[#This Row],[Précision du risque\n(si liste déroulante présente)]]))=TRUE),\"Oui --> Priorité d'action\",\"Non\"))","v":""},null,null,null,null,{"$f":"IF(ISBLANK(Risque[[#This Row],[Catégorie de risque]]),\"\",CONCATENATE(Risque[[#This Row],[Catégorie de risque]],2))","v":""},null,{"$f":"IF(ISBLANK(Risque[[#This Row],[Moyens de prévention]]),\"\",CONCATENATE(Risque[[#This Row],[Moyens de prévention]],1))","v":""},null,null,null,null,null,{"$f":"IF(ISBLANK(Risque[[#This Row],[Catégorie de risque]]),\"\",CONCATENATE(Risque[[#This Row],[Catégorie de risque]],3))","v":""},null,null,null,{"$f":"IF(ISBLANK(Risque[[#This Row],[Catégorie de risque]]),\"\",CONCATENATE(Risque[[#This Row],[Catégorie de risque]],4))","v":""},null,null,null,null,null,{"$f":"IF(Risque[[#This Row],[Date d''inscription du risque]]<>\"\",YEAR(Risque[[#This Row],[Date d''inscription du risque]]),\"\")","v":""}]
[null,null,{"$f":"IF(ISBLANK(Risque[[#This Row],[Catégorie de risque]]),\"\",CONCATENATE(Risque[[#This Row],[Catégorie de risque]],1))","v":""},null,null,null,null,null,{"$f":"IF(ISBLANK(Risque[[#This Row],[Catégorie de risque]]),\"\",IF(OR(ISNUMBER(SEARCH(\"RZ\",Risque[[#This Row],[Source de danger]]))=TRUE,ISNUMBER(SEARCH(\"RP\",Risque[[#This Row],[Source de danger]]))=TRUE,ISNUMBER(SEARCH(\"RZ\",Risque[[#This Row],[Risques associés]]))=TRUE,ISNUMBER(SEARCH(\"RP\",Risque[[#This Row],[Risques associés]]))=TRUE,ISNUMBER(SEARCH(\"RZ\",Risque[[#This Row],[Précision du risque\n(si liste déroulante présente)]]))=TRUE,ISNUMBER(SEARCH(\"RP\",Risque[[#This Row],[Précision du risque\n(si liste déroulante présente)]]))=TRUE),\"Oui --> Priorité d'action\",\"Non\"))","v":""},null,null,null,null,{"$f":"IF(ISBLANK(Risque[[#This Row],[Catégorie de risque]]),\"\",CONCATENATE(Risque[[#This Row],[Catégorie de risque]],2))","v":""},null,{"$f":"IF(ISBLANK(Risque[[#This Row],[Moyens de prévention]]),\"\",CONCATENATE(Risque[[#This Row],[Moyens de prévention]],1))","v":""},null,null,null,null,null,{"$f":"IF(ISBLANK(Risque[[#This Row],[Catégorie de risque]]),\"\",CONCATENATE(Risque[[#This Row],[Catégorie de risque]],3))","v":""},null,null,null,{"$f":"IF(ISBLANK(Risque[[#This Row],[Catégorie de risque]]),\"\",CONCATENATE(Risque[[#This Row],[Catégorie de risque]],4))","v":""},null,null,null,null,null,{"$f":"IF(Risque[[#This Row],[Date d''inscription du risque]]<>\"\",YEAR(Risque[[#This Row],[Date d''inscription du risque]]),\"\")","v":""}]
[null,null,{"$f":"IF(ISBLANK(Risque[[#This Row],[Catégorie de risque]]),\"\",CONCATENATE(Risque[[#This Row],[Catégorie de risque]],1))","v":""},null,null,null,null,null,{"$f":"IF(ISBLANK(Risque[[#This Row],[Catégorie de risque]]),\"\",IF(OR(ISNUMBER(SEARCH(\"RZ\",Risque[[#This Row],[Source de danger]]))=TRUE,ISNUMBER(SEARCH(\"RP\",Risque[[#This Row],[Source de danger]]))=TRUE,ISNUMBER(SEARCH(\"RZ\",Risque[[#This Row],[Risques associés]]))=TRUE,ISNUMBER(SEARCH(\"RP\",Risque[[#This Row],[Risques associés]]))=TRUE,ISNUMBER(SEARCH(\"RZ\",Risque[[#This Row],[Précision du risque\n(si liste déroulante présente)]]))=TRUE,ISNUMBER(SEARCH(\"RP\",Risque[[#This Row],[Précision du risque\n(si liste déroulante présente)]]))=TRUE),\"Oui --> Priorité d'action\",\"Non\"))","v":""},null,null,null,null,{"$f":"IF(ISBLANK(Risque[[#This Row],[Catégorie de risque]]),\"\",CONCATENATE(Risque[[#This Row],[Catégorie de risque]],2))","v":""},null,{"$f":"IF(ISBLANK(Risque[[#This Row],[Moyens de prévention]]),\"\",CONCATENATE(Risque[[#This Row],[Moyens de prévention]],1))","v":""},null,null,null,null,null,{"$f":"IF(ISBLANK(Risque[[#This Row],[Catégorie de risque]]),\"\",CONCATENATE(Risque[[#This Row],[Catégorie de risque]],3))","v":""},null,null,null,{"$f":"IF(ISBLANK(Risque[[#This Row],[Catégorie de risque]]),\"\",CONCATENATE(Risque[[#This Row],[Catégorie de risque]],4))","v":""},null,null,null,null,null,{"$f":"IF(Risque[[#This Row],[Date d''inscription du risque]]<>\"\",YEAR(Risque[[#This Row],[Date d''inscription du risque]]),\"\")","v":""}]
[null,null,{"$f":"IF(ISBLANK(Risque[[#This Row],[Catégorie de risque]]),\"\",CONCATENATE(Risque[[#This Row],[Catégorie de risque]],1))","v":""},null,null,null,null,null,{"$f":"IF(ISBLANK(Risque[[#This Row],[Catégorie de risque]]),\"\",IF(OR(ISNUMBER(SEARCH(\"RZ\",Risque[[#This Row],[Source de danger]]))=TRUE,ISNUMBER(SEARCH(\"RP\",Risque[[#This Row],[Source de danger]]))=TRUE,ISNUMBER(SEARCH(\"RZ\",Risque[[#This Row],[Risques associés]]))=TRUE,ISNUMBER(SEARCH(\"RP\",Risque[[#This Row],[Risques associés]]))=TRUE,ISNUMBER(SEARCH(\"RZ\",Risque[[#This Row],[Précision du risque\n(si liste déroulante présente)]]))=TRUE,ISNUMBER(SEARCH(\"RP\",Risque[[#This Row],[Précision du risque\n(si liste déroulante présente)]]))=TRUE),\"Oui --> Priorité d'action\",\"Non\"))","v":""},null,null,null,null,{"$f":"IF(ISBLANK(Risque[[#This Row],[Catégorie de risque]]),\"\",CONCATENATE(Risque[[#This Row],[Catégorie de risque]],2))","v":""},null,{"$f":"IF(ISBLANK(Risque[[#This Row],[Moyens de prévention]]),\"\",CONCATENATE(Risque[[#This Row],[Moyens de prévention]],1))","v":""},null,null,null,null,null,{"$f":"IF(ISBLANK(Risque[[#This Row],[Catégorie de risque]]),\"\",CONCATENATE(Risque[[#This Row],[Catégorie de risque]],3))","v":""},null,null,null,{"$f":"IF(ISBLANK(Risque[[#This Row],[Catégorie de risque]]),\"\",CONCATENATE(Risque[[#This Row],[Catégorie de risque]],4))","v":""},null,null,null,null,null,{"$f":"IF(Risque[[#This Row],[Date d''inscription du risque]]<>\"\",YEAR(Risque[[#This Row],[Date d''inscription du risque]]),\"\")","v":""}]
[null,null,{"$f":"IF(ISBLANK(Risque[[#This Row],[Catégorie de risque]]),\"\",CONCATENATE(Risque[[#This Row],[Catégorie de risque]],1))","v":""},null,null,null,null,null,{"$f":"IF(ISBLANK(Risque[[#This Row],[Catégorie de risque]]),\"\",IF(OR(ISNUMBER(SEARCH(\"RZ\",Risque[[#This Row],[Source de danger]]))=TRUE,ISNUMBER(SEARCH(\"RP\",Risque[[#This Row],[Source de danger]]))=TRUE,ISNUMBER(SEARCH(\"RZ\",Risque[[#This Row],[Risques associés]]))=TRUE,ISNUMBER(SEARCH(\"RP\",Risque[[#This Row],[Risques associés]]))=TRUE,ISNUMBER(SEARCH(\"RZ\",Risque[[#This Row],[Précision du risque\n(si liste déroulante présente)]]))=TRUE,ISNUMBER(SEARCH(\"RP\",Risque[[#This Row],[Précision du risque\n(si liste déroulante présente)]]))=TRUE),\"Oui --> Priorité d'action\",\"Non\"))","v":""},null,null,null,null,{"$f":"IF(ISBLANK(Risque[[#This Row],[Catégorie de risque]]),\"\",CONCATENATE(Risque[[#This Row],[Catégorie de risque]],2))","v":""},null,{"$f":"IF(ISBLANK(Risque[[#This Row],[Moyens de prévention]]),\"\",CONCATENATE(Risque[[#This Row],[Moyens de prévention]],1))","v":""},null,null,null,null,null,{"$f":"IF(ISBLANK(Risque[[#This Row],[Catégorie de risque]]),\"\",CONCATENATE(Risque[[#This Row],[Catégorie de risque]],3))","v":""},null,null,null,{"$f":"IF(ISBLANK(Risque[[#This Row],[Catégorie de risque]]),\"\",CONCATENATE(Risque[[#This Row],[Catégorie de risque]],4))","v":""},null,null,null,null,null,{"$f":"IF(Risque[[#This Row],[Date d''inscription du risque]]<>\"\",YEAR(Risque[[#This Row],[Date d''inscription du risque]]),\"\")","v":""}]
[null,null,{"$f":"IF(ISBLANK(Risque[[#This Row],[Catégorie de risque]]),\"\",CONCATENATE(Risque[[#This Row],[Catégorie de risque]],1))","v":""},null,null,null,null,null,{"$f":"IF(ISBLANK(Risque[[#This Row],[Catégorie de risque]]),\"\",IF(OR(ISNUMBER(SEARCH(\"RZ\",Risque[[#This Row],[Source de danger]]))=TRUE,ISNUMBER(SEARCH(\"RP\",Risque[[#This Row],[Source de danger]]))=TRUE,ISNUMBER(SEARCH(\"RZ\",Risque[[#This Row],[Risques associés]]))=TRUE,ISNUMBER(SEARCH(\"RP\",Risque[[#This Row],[Risques associés]]))=TRUE,ISNUMBER(SEARCH(\"RZ\",Risque[[#This Row],[Précision du risque\n(si liste déroulante présente)]]))=TRUE,ISNUMBER(SEARCH(\"RP\",Risque[[#This Row],[Précision du risque\n(si liste déroulante présente)]]))=TRUE),\"Oui --> Priorité d'action\",\"Non\"))","v":""},null,null,null,null,{"$f":"IF(ISBLANK(Risque[[#This Row],[Catégorie de risque]]),\"\",CONCATENATE(Risque[[#This Row],[Catégorie de risque]],2))","v":""},null,{"$f":"IF(ISBLANK(Risque[[#This Row],[Moyens de prévention]]),\"\",CONCATENATE(Risque[[#This Row],[Moyens de prévention]],1))","v":""},null,null,null,null,null,{"$f":"IF(ISBLANK(Risque[[#This Row],[Catégorie de risque]]),\"\",CONCATENATE(Risque[[#This Row],[Catégorie de risque]],3))","v":""},null,null,null,{"$f":"IF(ISBLANK(Risque[[#This Row],[Catégorie de risque]]),\"\",CONCATENATE(Risque[[#This Row],[Catégorie de risque]],4))","v":""},null,null,null,null,null,{"$f":"IF(Risque[[#This Row],[Date d''inscription du risque]]<>\"\",YEAR(Risque[[#This Row],[Date d''inscription du risque]]),\"\")","v":""}]
[null,null,{"$f":"IF(ISBLANK(Risque[[#This Row],[Catégorie de risque]]),\"\",CONCATENATE(Risque[[#This Row],[Catégorie de risque]],1))","v":""},null,null,null,null,null,{"$f":"IF(ISBLANK(Risque[[#This Row],[Catégorie de risque]]),\"\",IF(OR(ISNUMBER(SEARCH(\"RZ\",Risque[[#This Row],[Source de danger]]))=TRUE,ISNUMBER(SEARCH(\"RP\",Risque[[#This Row],[Source de danger]]))=TRUE,ISNUMBER(SEARCH(\"RZ\",Risque[[#This Row],[Risques associés]]))=TRUE,ISNUMBER(SEARCH(\"RP\",Risque[[#This Row],[Risques associés]]))=TRUE,ISNUMBER(SEARCH(\"RZ\",Risque[[#This Row],[Précision du risque\n(si liste déroulante présente)]]))=TRUE,ISNUMBER(SEARCH(\"RP\",Risque[[#This Row],[Précision du risque\n(si liste déroulante présente)]]))=TRUE),\"Oui --> Priorité d'action\",\"Non\"))","v":""},null,null,null,null,{"$f":"IF(ISBLANK(Risque[[#This Row],[Catégorie de risque]]),\"\",CONCATENATE(Risque[[#This Row],[Catégorie de risque]],2))","v":""},null,{"$f":"IF(ISBLANK(Risque[[#This Row],[Moyens de prévention]]),\"\",CONCATENATE(Risque[[#This Row],[Moyens de prévention]],1))","v":""},null,null,null,null,null,{"$f":"IF(ISBLANK(Risque[[#This Row],[Catégorie de risque]]),\"\",CONCATENATE(Risque[[#This Row],[Catégorie de risque]],3))","v":""},null,null,null,{"$f":"IF(ISBLANK(Risque[[#This Row],[Catégorie de risque]]),\"\",CONCATENATE(Risque[[#This Row],[Catégorie de risque]],4))","v":""},null,null,null,null,null,{"$f":"IF(Risque[[#This Row],[Date d''inscription du risque]]<>\"\",YEAR(Risque[[#This Row],[Date d''inscription du risque]]),\"\")","v":""}]
[null,null,{"$f":"IF(ISBLANK(Risque[[#This Row],[Catégorie de risque]]),\"\",CONCATENATE(Risque[[#This Row],[Catégorie de risque]],1))","v":""},null,null,null,null,null,{"$f":"IF(ISBLANK(Risque[[#This Row],[Catégorie de risque]]),\"\",IF(OR(ISNUMBER(SEARCH(\"RZ\",Risque[[#This Row],[Source de danger]]))=TRUE,ISNUMBER(SEARCH(\"RP\",Risque[[#This Row],[Source de danger]]))=TRUE,ISNUMBER(SEARCH(\"RZ\",Risque[[#This Row],[Risques associés]]))=TRUE,ISNUMBER(SEARCH(\"RP\",Risque[[#This Row],[Risques associés]]))=TRUE,ISNUMBER(SEARCH(\"RZ\",Risque[[#This Row],[Précision du risque\n(si liste déroulante présente)]]))=TRUE,ISNUMBER(SEARCH(\"RP\",Risque[[#This Row],[Précision du risque\n(si liste déroulante présente)]]))=TRUE),\"Oui --> Priorité d'action\",\"Non\"))","v":""},null,null,null,null,{"$f":"IF(ISBLANK(Risque[[#This Row],[Catégorie de risque]]),\"\",CONCATENATE(Risque[[#This Row],[Catégorie de risque]],2))","v":""},null,{"$f":"IF(ISBLANK(Risque[[#This Row],[Moyens de prévention]]),\"\",CONCATENATE(Risque[[#This Row],[Moyens de prévention]],1))","v":""},null,null,null,null,null,{"$f":"IF(ISBLANK(Risque[[#This Row],[Catégorie de risque]]),\"\",CONCATENATE(Risque[[#This Row],[Catégorie de risque]],3))","v":""},null,null,null,{"$f":"IF(ISBLANK(Risque[[#This Row],[Catégorie de risque]]),\"\",CONCATENATE(Risque[[#This Row],[Catégorie de risque]],4))","v":""},null,null,null,null,null,{"$f":"IF(Risque[[#This Row],[Date d''inscription du risque]]<>\"\",YEAR(Risque[[#This Row],[Date d''inscription du risque]]),\"\")","v":""}]
[null,null,{"$f":"IF(ISBLANK(Risque[[#This Row],[Catégorie de risque]]),\"\",CONCATENATE(Risque[[#This Row],[Catégorie de risque]],1))","v":""},null,null,null,null,null,{"$f":"IF(ISBLANK(Risque[[#This Row],[Catégorie de risque]]),\"\",IF(OR(ISNUMBER(SEARCH(\"RZ\",Risque[[#This Row],[Source de danger]]))=TRUE,ISNUMBER(SEARCH(\"RP\",Risque[[#This Row],[Source de danger]]))=TRUE,ISNUMBER(SEARCH(\"RZ\",Risque[[#This Row],[Risques associés]]))=TRUE,ISNUMBER(SEARCH(\"RP\",Risque[[#This Row],[Risques associés]]))=TRUE,ISNUMBER(SEARCH(\"RZ\",Risque[[#This Row],[Précision du risque\n(si liste déroulante présente)]]))=TRUE,ISNUMBER(SEARCH(\"RP\",Risque[[#This Row],[Précision du risque\n(si liste déroulante présente)]]))=TRUE),\"Oui --> Priorité d'action\",\"Non\"))","v":""},null,null,null,null,{"$f":"IF(ISBLANK(Risque[[#This Row],[Catégorie de risque]]),\"\",CONCATENATE(Risque[[#This Row],[Catégorie de risque]],2))","v":""},null,{"$f":"IF(ISBLANK(Risque[[#This Row],[Moyens de prévention]]),\"\",CONCATENATE(Risque[[#This Row],[Moyens de prévention]],1))","v":""},null,null,null,null,null,{"$f":"IF(ISBLANK(Risque[[#This Row],[Catégorie de risque]]),\"\",CONCATENATE(Risque[[#This Row],[Catégorie de risque]],3))","v":""},null,null,null,{"$f":"IF(ISBLANK(Risque[[#This Row],[Catégorie de risque]]),\"\",CONCATENATE(Risque[[#This Row],[Catégorie de risque]],4))","v":""},null,null,null,null,null,{"$f":"IF(Risque[[#This Row],[Date d''inscription du risque]]<>\"\",YEAR(Risque[[#This Row],[Date d''inscription du risque]]),\"\")","v":""}]
[null,null,{"$f":"IF(ISBLANK(Risque[[#This Row],[Catégorie de risque]]),\"\",CONCATENATE(Risque[[#This Row],[Catégorie de risque]],1))","v":""},null,null,null,null,null,{"$f":"IF(ISBLANK(Risque[[#This Row],[Catégorie de risque]]),\"\",IF(OR(ISNUMBER(SEARCH(\"RZ\",Risque[[#This Row],[Source de danger]]))=TRUE,ISNUMBER(SEARCH(\"RP\",Risque[[#This Row],[Source de danger]]))=TRUE,ISNUMBER(SEARCH(\"RZ\",Risque[[#This Row],[Risques associés]]))=TRUE,ISNUMBER(SEARCH(\"RP\",Risque[[#This Row],[Risques associés]]))=TRUE,ISNUMBER(SEARCH(\"RZ\",Risque[[#This Row],[Précision du risque\n(si liste déroulante présente)]]))=TRUE,ISNUMBER(SEARCH(\"RP\",Risque[[#This Row],[Précision du risque\n(si liste déroulante présente)]]))=TRUE),\"Oui --> Priorité d'action\",\"Non\"))","v":""},null,null,null,null,{"$f":"IF(ISBLANK(Risque[[#This Row],[Catégorie de risque]]),\"\",CONCATENATE(Risque[[#This Row],[Catégorie de risque]],2))","v":""},null,{"$f":"IF(ISBLANK(Risque[[#This Row],[Moyens de prévention]]),\"\",CONCATENATE(Risque[[#This Row],[Moyens de prévention]],1))","v":""},null,null,null,null,null,{"$f":"IF(ISBLANK(Risque[[#This Row],[Catégorie de risque]]),\"\",CONCATENATE(Risque[[#This Row],[Catégorie de risque]],3))","v":""},null,null,null,{"$f":"IF(ISBLANK(Risque[[#This Row],[Catégorie de risque]]),\"\",CONCATENATE(Risque[[#This Row],[Catégorie de risque]],4))","v":""},null,null,null,null,null,{"$f":"IF(Risque[[#This Row],[Date d''inscription du risque]]<>\"\",YEAR(Risque[[#This Row],[Date d''inscription du risque]]),\"\")","v":""}]
[null,null,{"$f":"IF(ISBLANK(Risque[[#This Row],[Catégorie de risque]]),\"\",CONCATENATE(Risque[[#This Row],[Catégorie de risque]],1))","v":""},null,null,null,null,null,{"$f":"IF(ISBLANK(Risque[[#This Row],[Catégorie de risque]]),\"\",IF(OR(ISNUMBER(SEARCH(\"RZ\",Risque[[#This Row],[Source de danger]]))=TRUE,ISNUMBER(SEARCH(\"RP\",Risque[[#This Row],[Source de danger]]))=TRUE,ISNUMBER(SEARCH(\"RZ\",Risque[[#This Row],[Risques associés]]))=TRUE,ISNUMBER(SEARCH(\"RP\",Risque[[#This Row],[Risques associés]]))=TRUE,ISNUMBER(SEARCH(\"RZ\",Risque[[#This Row],[Précision du risque\n(si liste déroulante présente)]]))=TRUE,ISNUMBER(SEARCH(\"RP\",Risque[[#This Row],[Précision du risque\n(si liste déroulante présente)]]))=TRUE),\"Oui --> Priorité d'action\",\"Non\"))","v":""},null,null,null,null,{"$f":"IF(ISBLANK(Risque[[#This Row],[Catégorie de risque]]),\"\",CONCATENATE(Risque[[#This Row],[Catégorie de risque]],2))","v":""},null,{"$f":"IF(ISBLANK(Risque[[#This Row],[Moyens de prévention]]),\"\",CONCATENATE(Risque[[#This Row],[Moyens de prévention]],1))","v":""},null,null,null,null,null,{"$f":"IF(ISBLANK(Risque[[#This Row],[Catégorie de risque]]),\"\",CONCATENATE(Risque[[#This Row],[Catégorie de risque]],3))","v":""},null,null,null,{"$f":"IF(ISBLANK(Risque[[#This Row],[Catégorie de risque]]),\"\",CONCATENATE(Risque[[#This Row],[Catégorie de risque]],4))","v":""},null,null,null,null,null,{"$f":"IF(Risque[[#This Row],[Date d''inscription du risque]]<>\"\",YEAR(Risque[[#This Row],[Date d''inscription du risque]]),\"\")","v":""}]
[null,null,{"$f":"IF(ISBLANK(Risque[[#This Row],[Catégorie de risque]]),\"\",CONCATENATE(Risque[[#This Row],[Catégorie de risque]],1))","v":""},null,null,null,null,null,{"$f":"IF(ISBLANK(Risque[[#This Row],[Catégorie de risque]]),\"\",IF(OR(ISNUMBER(SEARCH(\"RZ\",Risque[[#This Row],[Source de danger]]))=TRUE,ISNUMBER(SEARCH(\"RP\",Risque[[#This Row],[Source de danger]]))=TRUE,ISNUMBER(SEARCH(\"RZ\",Risque[[#This Row],[Risques associés]]))=TRUE,ISNUMBER(SEARCH(\"RP\",Risque[[#This Row],[Risques associés]]))=TRUE,ISNUMBER(SEARCH(\"RZ\",Risque[[#This Row],[Précision du risque\n(si liste déroulante présente)]]))=TRUE,ISNUMBER(SEARCH(\"RP\",Risque[[#This Row],[Précision du risque\n(si liste déroulante présente)]]))=TRUE),\"Oui --> Priorité d'action\",\"Non\"))","v":""},null,null,null,null,{"$f":"IF(ISBLANK(Risque[[#This Row],[Catégorie de risque]]),\"\",CONCATENATE(Risque[[#This Row],[Catégorie de risque]],2))","v":""},null,{"$f":"IF(ISBLANK(Risque[[#This Row],[Moyens de prévention]]),\"\",CONCATENATE(Risque[[#This Row],[Moyens de prévention]],1))","v":""},null,null,null,null,null,{"$f":"IF(ISBLANK(Risque[[#This Row],[Catégorie de risque]]),\"\",CONCATENATE(Risque[[#This Row],[Catégorie de risque]],3))","v":""},null,null,null,{"$f":"IF(ISBLANK(Risque[[#This Row],[Catégorie de risque]]),\"\",CONCATENATE(Risque[[#This Row],[Catégorie de risque]],4))","v":""},null,null,null,null,null,{"$f":"IF(Risque[[#This Row],[Date d''inscription du risque]]<>\"\",YEAR(Risque[[#This Row],[Date d''inscription du risque]]),\"\")","v":""}]
[null,null,{"$f":"IF(ISBLANK(Risque[[#This Row],[Catégorie de risque]]),\"\",CONCATENATE(Risque[[#This Row],[Catégorie de risque]],1))","v":""},null,null,null,null,null,{"$f":"IF(ISBLANK(Risque[[#This Row],[Catégorie de risque]]),\"\",IF(OR(ISNUMBER(SEARCH(\"RZ\",Risque[[#This Row],[Source de danger]]))=TRUE,ISNUMBER(SEARCH(\"RP\",Risque[[#This Row],[Source de danger]]))=TRUE,ISNUMBER(SEARCH(\"RZ\",Risque[[#This Row],[Risques associés]]))=TRUE,ISNUMBER(SEARCH(\"RP\",Risque[[#This Row],[Risques associés]]))=TRUE,ISNUMBER(SEARCH(\"RZ\",Risque[[#This Row],[Précision du risque\n(si liste déroulante présente)]]))=TRUE,ISNUMBER(SEARCH(\"RP\",Risque[[#This Row],[Précision du risque\n(si liste déroulante présente)]]))=TRUE),\"Oui --> Priorité d'action\",\"Non\"))","v":""},null,null,null,null,{"$f":"IF(ISBLANK(Risque[[#This Row],[Catégorie de risque]]),\"\",CONCATENATE(Risque[[#This Row],[Catégorie de risque]],2))","v":""},null,{"$f":"IF(ISBLANK(Risque[[#This Row],[Moyens de prévention]]),\"\",CONCATENATE(Risque[[#This Row],[Moyens de prévention]],1))","v":""},null,null,null,null,null,{"$f":"IF(ISBLANK(Risque[[#This Row],[Catégorie de risque]]),\"\",CONCATENATE(Risque[[#This Row],[Catégorie de risque]],3))","v":""},null,null,null,{"$f":"IF(ISBLANK(Risque[[#This Row],[Catégorie de risque]]),\"\",CONCATENATE(Risque[[#This Row],[Catégorie de risque]],4))","v":""},null,null,null,null,null,{"$f":"IF(Risque[[#This Row],[Date d''inscription du risque]]<>\"\",YEAR(Risque[[#This Row],[Date d''inscription du risque]]),\"\")","v":""}]
[null,null,{"$f":"IF(ISBLANK(Risque[[#This Row],[Catégorie de risque]]),\"\",CONCATENATE(Risque[[#This Row],[Catégorie de risque]],1))","v":""},null,null,null,null,null,{"$f":"IF(ISBLANK(Risque[[#This Row],[Catégorie de risque]]),\"\",IF(OR(ISNUMBER(SEARCH(\"RZ\",Risque[[#This Row],[Source de danger]]))=TRUE,ISNUMBER(SEARCH(\"RP\",Risque[[#This Row],[Source de danger]]))=TRUE,ISNUMBER(SEARCH(\"RZ\",Risque[[#This Row],[Risques associés]]))=TRUE,ISNUMBER(SEARCH(\"RP\",Risque[[#This Row],[Risques associés]]))=TRUE,ISNUMBER(SEARCH(\"RZ\",Risque[[#This Row],[Précision du risque\n(si liste déroulante présente)]]))=TRUE,ISNUMBER(SEARCH(\"RP\",Risque[[#This Row],[Précision du risque\n(si liste déroulante présente)]]))=TRUE),\"Oui --> Priorité d'action\",\"Non\"))","v":""},null,null,null,null,{"$f":"IF(ISBLANK(Risque[[#This Row],[Catégorie de risque]]),\"\",CONCATENATE(Risque[[#This Row],[Catégorie de risque]],2))","v":""},null,{"$f":"IF(ISBLANK(Risque[[#This Row],[Moyens de prévention]]),\"\",CONCATENATE(Risque[[#This Row],[Moyens de prévention]],1))","v":""},null,null,null,null,null,{"$f":"IF(ISBLANK(Risque[[#This Row],[Catégorie de risque]]),\"\",CONCATENATE(Risque[[#This Row],[Catégorie de risque]],3))","v":""},null,null,null,{"$f":"IF(ISBLANK(Risque[[#This Row],[Catégorie de risque]]),\"\",CONCATENATE(Risque[[#This Row],[Catégorie de risque]],4))","v":""},null,null,null,null,null,{"$f":"IF(Risque[[#This Row],[Date d''inscription du risque]]<>\"\",YEAR(Risque[[#This Row],[Date d''inscription du risque]]),\"\")","v":""}]
[null,null,{"$f":"IF(ISBLANK(Risque[[#This Row],[Catégorie de risque]]),\"\",CONCATENATE(Risque[[#This Row],[Catégorie de risque]],1))","v":""},null,null,null,null,null,{"$f":"IF(ISBLANK(Risque[[#This Row],[Catégorie de risque]]),\"\",IF(OR(ISNUMBER(SEARCH(\"RZ\",Risque[[#This Row],[Source de danger]]))=TRUE,ISNUMBER(SEARCH(\"RP\",Risque[[#This Row],[Source de danger]]))=TRUE,ISNUMBER(SEARCH(\"RZ\",Risque[[#This Row],[Risques associés]]))=TRUE,ISNUMBER(SEARCH(\"RP\",Risque[[#This Row],[Risques associés]]))=TRUE,ISNUMBER(SEARCH(\"RZ\",Risque[[#This Row],[Précision du risque\n(si liste déroulante présente)]]))=TRUE,ISNUMBER(SEARCH(\"RP\",Risque[[#This Row],[Précision du risque\n(si liste déroulante présente)]]))=TRUE),\"Oui --> Priorité d'action\",\"Non\"))","v":""},null,null,null,null,{"$f":"IF(ISBLANK(Risque[[#This Row],[Catégorie de risque]]),\"\",CONCATENATE(Risque[[#This Row],[Catégorie de risque]],2))","v":""},null,{"$f":"IF(ISBLANK(Risque[[#This Row],[Moyens de prévention]]),\"\",CONCATENATE(Risque[[#This Row],[Moyens de prévention]],1))","v":""},null,null,null,null,null,{"$f":"IF(ISBLANK(Risque[[#This Row],[Catégorie de risque]]),\"\",CONCATENATE(Risque[[#This Row],[Catégorie de risque]],3))","v":""},null,null,null,{"$f":"IF(ISBLANK(Risque[[#This Row],[Catégorie de risque]]),\"\",CONCATENATE(Risque[[#This Row],[Catégorie de risque]],4))","v":""},null,null,null,null,null,{"$f":"IF(Risque[[#This Row],[Date d''inscription du risque]]<>\"\",YEAR(Risque[[#This Row],[Date d''inscription du risque]]),\"\")","v":""}]
[null,null,{"$f":"IF(ISBLANK(Risque[[#This Row],[Catégorie de risque]]),\"\",CONCATENATE(Risque[[#This Row],[Catégorie de risque]],1))","v":""},null,null,null,null,null,{"$f":"IF(ISBLANK(Risque[[#This Row],[Catégorie de risque]]),\"\",IF(OR(ISNUMBER(SEARCH(\"RZ\",Risque[[#This Row],[Source de danger]]))=TRUE,ISNUMBER(SEARCH(\"RP\",Risque[[#This Row],[Source de danger]]))=TRUE,ISNUMBER(SEARCH(\"RZ\",Risque[[#This Row],[Risques associés]]))=TRUE,ISNUMBER(SEARCH(\"RP\",Risque[[#This Row],[Risques associés]]))=TRUE,ISNUMBER(SEARCH(\"RZ\",Risque[[#This Row],[Précision du risque\n(si liste déroulante présente)]]))=TRUE,ISNUMBER(SEARCH(\"RP\",Risque[[#This Row],[Précision du risque\n(si liste déroulante présente)]]))=TRUE),\"Oui --> Priorité d'action\",\"Non\"))","v":""},null,null,null,null,{"$f":"IF(ISBLANK(Risque[[#This Row],[Catégorie de risque]]),\"\",CONCATENATE(Risque[[#This Row],[Catégorie de risque]],2))","v":""},null,{"$f":"IF(ISBLANK(Risque[[#This Row],[Moyens de prévention]]),\"\",CONCATENATE(Risque[[#This Row],[Moyens de prévention]],1))","v":""},null,null,null,null,null,{"$f":"IF(ISBLANK(Risque[[#This Row],[Catégorie de risque]]),\"\",CONCATENATE(Risque[[#This Row],[Catégorie de risque]],3))","v":""},null,null,null,{"$f":"IF(ISBLANK(Risque[[#This Row],[Catégorie de risque]]),\"\",CONCATENATE(Risque[[#This Row],[Catégorie de risque]],4))","v":""},null,null,null,null,null,{"$f":"IF(Risque[[#This Row],[Date d''inscription du risque]]<>\"\",YEAR(Risque[[#This Row],[Date d''inscription du risque]]),\"\")","v":""}]
[null,null,{"$f":"IF(ISBLANK(Risque[[#This Row],[Catégorie de risque]]),\"\",CONCATENATE(Risque[[#This Row],[Catégorie de risque]],1))","v":""},null,null,null,null,null,{"$f":"IF(ISBLANK(Risque[[#This Row],[Catégorie de risque]]),\"\",IF(OR(ISNUMBER(SEARCH(\"RZ\",Risque[[#This Row],[Source de danger]]))=TRUE,ISNUMBER(SEARCH(\"RP\",Risque[[#This Row],[Source de danger]]))=TRUE,ISNUMBER(SEARCH(\"RZ\",Risque[[#This Row],[Risques associés]]))=TRUE,ISNUMBER(SEARCH(\"RP\",Risque[[#This Row],[Risques associés]]))=TRUE,ISNUMBER(SEARCH(\"RZ\",Risque[[#This Row],[Précision du risque\n(si liste déroulante présente)]]))=TRUE,ISNUMBER(SEARCH(\"RP\",Risque[[#This Row],[Précision du risque\n(si liste déroulante présente)]]))=TRUE),\"Oui --> Priorité d'action\",\"Non\"))","v":""},null,null,null,null,{"$f":"IF(ISBLANK(Risque[[#This Row],[Catégorie de risque]]),\"\",CONCATENATE(Risque[[#This Row],[Catégorie de risque]],2))","v":""},null,{"$f":"IF(ISBLANK(Risque[[#This Row],[Moyens de prévention]]),\"\",CONCATENATE(Risque[[#This Row],[Moyens de prévention]],1))","v":""},null,null,null,null,null,{"$f":"IF(ISBLANK(Risque[[#This Row],[Catégorie de risque]]),\"\",CONCATENATE(Risque[[#This Row],[Catégorie de risque]],3))","v":""},null,null,null,{"$f":"IF(ISBLANK(Risque[[#This Row],[Catégorie de risque]]),\"\",CONCATENATE(Risque[[#This Row],[Catégorie de risque]],4))","v":""},null,null,null,null,null,{"$f":"IF(Risque[[#This Row],[Date d''inscription du risque]]<>\"\",YEAR(Risque[[#This Row],[Date d''inscription du risque]]),\"\")","v":""}]
[null,null,{"$f":"IF(ISBLANK(Risque[[#This Row],[Catégorie de risque]]),\"\",CONCATENATE(Risque[[#This Row],[Catégorie de risque]],1))","v":""},null,null,null,null,null,{"$f":"IF(ISBLANK(Risque[[#This Row],[Catégorie de risque]]),\"\",IF(OR(ISNUMBER(SEARCH(\"RZ\",Risque[[#This Row],[Source de danger]]))=TRUE,ISNUMBER(SEARCH(\"RP\",Risque[[#This Row],[Source de danger]]))=TRUE,ISNUMBER(SEARCH(\"RZ\",Risque[[#This Row],[Risques associés]]))=TRUE,ISNUMBER(SEARCH(\"RP\",Risque[[#This Row],[Risques associés]]))=TRUE,ISNUMBER(SEARCH(\"RZ\",Risque[[#This Row],[Précision du risque\n(si liste déroulante présente)]]))=TRUE,ISNUMBER(SEARCH(\"RP\",Risque[[#This Row],[Précision du risque\n(si liste déroulante présente)]]))=TRUE),\"Oui --> Priorité d'action\",\"Non\"))","v":""},null,null,null,null,{"$f":"IF(ISBLANK(Risque[[#This Row],[Catégorie de risque]]),\"\",CONCATENATE(Risque[[#This Row],[Catégorie de risque]],2))","v":""},null,{"$f":"IF(ISBLANK(Risque[[#This Row],[Moyens de prévention]]),\"\",CONCATENATE(Risque[[#This Row],[Moyens de prévention]],1))","v":""},null,null,null,null,null,{"$f":"IF(ISBLANK(Risque[[#This Row],[Catégorie de risque]]),\"\",CONCATENATE(Risque[[#This Row],[Catégorie de risque]],3))","v":""},null,null,null,{"$f":"IF(ISBLANK(Risque[[#This Row],[Catégorie de risque]]),\"\",CONCATENATE(Risque[[#This Row],[Catégorie de risque]],4))","v":""},null,null,null,null,null,{"$f":"IF(Risque[[#This Row],[Date d''inscription du risque]]<>\"\",YEAR(Risque[[#This Row],[Date d''inscription du risque]]),\"\")","v":""}]
[null,null,{"$f":"IF(ISBLANK(Risque[[#This Row],[Catégorie de risque]]),\"\",CONCATENATE(Risque[[#This Row],[Catégorie de risque]],1))","v":""},null,null,null,null,null,{"$f":"IF(ISBLANK(Risque[[#This Row],[Catégorie de risque]]),\"\",IF(OR(ISNUMBER(SEARCH(\"RZ\",Risque[[#This Row],[Source de danger]]))=TRUE,ISNUMBER(SEARCH(\"RP\",Risque[[#This Row],[Source de danger]]))=TRUE,ISNUMBER(SEARCH(\"RZ\",Risque[[#This Row],[Risques associés]]))=TRUE,ISNUMBER(SEARCH(\"RP\",Risque[[#This Row],[Risques associés]]))=TRUE,ISNUMBER(SEARCH(\"RZ\",Risque[[#This Row],[Précision du risque\n(si liste déroulante présente)]]))=TRUE,ISNUMBER(SEARCH(\"RP\",Risque[[#This Row],[Précision du risque\n(si liste déroulante présente)]]))=TRUE),\"Oui --> Priorité d'action\",\"Non\"))","v":""},null,null,null,null,{"$f":"IF(ISBLANK(Risque[[#This Row],[Catégorie de risque]]),\"\",CONCATENATE(Risque[[#This Row],[Catégorie de risque]],2))","v":""},null,{"$f":"IF(ISBLANK(Risque[[#This Row],[Moyens de prévention]]),\"\",CONCATENATE(Risque[[#This Row],[Moyens de prévention]],1))","v":""},null,null,null,null,null,{"$f":"IF(ISBLANK(Risque[[#This Row],[Catégorie de risque]]),\"\",CONCATENATE(Risque[[#This Row],[Catégorie de risque]],3))","v":""},null,null,null,{"$f":"IF(ISBLANK(Risque[[#This Row],[Catégorie de risque]]),\"\",CONCATENATE(Risque[[#This Row],[Catégorie de risque]],4))","v":""},null,null,null,null,null,{"$f":"IF(Risque[[#This Row],[Date d''inscription du risque]]<>\"\",YEAR(Risque[[#This Row],[Date d''inscription du risque]]),\"\")","v":""}]
[null,null,{"$f":"IF(ISBLANK(Risque[[#This Row],[Catégorie de risque]]),\"\",CONCATENATE(Risque[[#This Row],[Catégorie de risque]],1))","v":""},null,null,null,null,null,{"$f":"IF(ISBLANK(Risque[[#This Row],[Catégorie de risque]]),\"\",IF(OR(ISNUMBER(SEARCH(\"RZ\",Risque[[#This Row],[Source de danger]]))=TRUE,ISNUMBER(SEARCH(\"RP\",Risque[[#This Row],[Source de danger]]))=TRUE,ISNUMBER(SEARCH(\"RZ\",Risque[[#This Row],[Risques associés]]))=TRUE,ISNUMBER(SEARCH(\"RP\",Risque[[#This Row],[Risques associés]]))=TRUE,ISNUMBER(SEARCH(\"RZ\",Risque[[#This Row],[Précision du risque\n(si liste déroulante présente)]]))=TRUE,ISNUMBER(SEARCH(\"RP\",Risque[[#This Row],[Précision du risque\n(si liste déroulante présente)]]))=TRUE),\"Oui --> Priorité d'action\",\"Non\"))","v":""},null,null,null,null,{"$f":"IF(ISBLANK(Risque[[#This Row],[Catégorie de risque]]),\"\",CONCATENATE(Risque[[#This Row],[Catégorie de risque]],2))","v":""},null,{"$f":"IF(ISBLANK(Risque[[#This Row],[Moyens de prévention]]),\"\",CONCATENATE(Risque[[#This Row],[Moyens de prévention]],1))","v":""},null,null,null,null,null,{"$f":"IF(ISBLANK(Risque[[#This Row],[Catégorie de risque]]),\"\",CONCATENATE(Risque[[#This Row],[Catégorie de risque]],3))","v":""},null,null,null,{"$f":"IF(ISBLANK(Risque[[#This Row],[Catégorie de risque]]),\"\",CONCATENATE(Risque[[#This Row],[Catégorie de risque]],4))","v":""},null,null,null,null,null,{"$f":"IF(Risque[[#This Row],[Date d''inscription du risque]]<>\"\",YEAR(Risque[[#This Row],[Date d''inscription du risque]]),\"\")","v":""}]
[null,null,{"$f":"IF(ISBLANK(Risque[[#This Row],[Catégorie de risque]]),\"\",CONCATENATE(Risque[[#This Row],[Catégorie de risque]],1))","v":""},null,null,null,null,null,{"$f":"IF(ISBLANK(Risque[[#This Row],[Catégorie de risque]]),\"\",IF(OR(ISNUMBER(SEARCH(\"RZ\",Risque[[#This Row],[Source de danger]]))=TRUE,ISNUMBER(SEARCH(\"RP\",Risque[[#This Row],[Source de danger]]))=TRUE,ISNUMBER(SEARCH(\"RZ\",Risque[[#This Row],[Risques associés]]))=TRUE,ISNUMBER(SEARCH(\"RP\",Risque[[#This Row],[Risques associés]]))=TRUE,ISNUMBER(SEARCH(\"RZ\",Risque[[#This Row],[Précision du risque\n(si liste déroulante présente)]]))=TRUE,ISNUMBER(SEARCH(\"RP\",Risque[[#This Row],[Précision du risque\n(si liste déroulante présente)]]))=TRUE),\"Oui --> Priorité d'action\",\"Non\"))","v":""},null,null,null,null,{"$f":"IF(ISBLANK(Risque[[#This Row],[Catégorie de risque]]),\"\",CONCATENATE(Risque[[#This Row],[Catégorie de risque]],2))","v":""},null,{"$f":"IF(ISBLANK(Risque[[#This Row],[Moyens de prévention]]),\"\",CONCATENATE(Risque[[#This Row],[Moyens de prévention]],1))","v":""},null,null,null,null,null,{"$f":"IF(ISBLANK(Risque[[#This Row],[Catégorie de risque]]),\"\",CONCATENATE(Risque[[#This Row],[Catégorie de risque]],3))","v":""},null,null,null,{"$f":"IF(ISBLANK(Risque[[#This Row],[Catégorie de risque]]),\"\",CONCATENATE(Risque[[#This Row],[Catégorie de risque]],4))","v":""},null,null,null,null,null,{"$f":"IF(Risque[[#This Row],[Date d''inscription du risque]]<>\"\",YEAR(Risque[[#This Row],[Date d''inscription du risque]]),\"\")","v":""}]
[null,null,{"$f":"IF(ISBLANK(Risque[[#This Row],[Catégorie de risque]]),\"\",CONCATENATE(Risque[[#This Row],[Catégorie de risque]],1))","v":""},null,null,null,null,null,{"$f":"IF(ISBLANK(Risque[[#This Row],[Catégorie de risque]]),\"\",IF(OR(ISNUMBER(SEARCH(\"RZ\",Risque[[#This Row],[Source de danger]]))=TRUE,ISNUMBER(SEARCH(\"RP\",Risque[[#This Row],[Source de danger]]))=TRUE,ISNUMBER(SEARCH(\"RZ\",Risque[[#This Row],[Risques associés]]))=TRUE,ISNUMBER(SEARCH(\"RP\",Risque[[#This Row],[Risques associés]]))=TRUE,ISNUMBER(SEARCH(\"RZ\",Risque[[#This Row],[Précision du risque\n(si liste déroulante présente)]]))=TRUE,ISNUMBER(SEARCH(\"RP\",Risque[[#This Row],[Précision du risque\n(si liste déroulante présente)]]))=TRUE),\"Oui --> Priorité d'action\",\"Non\"))","v":""},null,null,null,null,{"$f":"IF(ISBLANK(Risque[[#This Row],[Catégorie de risque]]),\"\",CONCATENATE(Risque[[#This Row],[Catégorie de risque]],2))","v":""},null,{"$f":"IF(ISBLANK(Risque[[#This Row],[Moyens de prévention]]),\"\",CONCATENATE(Risque[[#This Row],[Moyens de prévention]],1))","v":""},null,null,null,null,null,{"$f":"IF(ISBLANK(Risque[[#This Row],[Catégorie de risque]]),\"\",CONCATENATE(Risque[[#This Row],[Catégorie de risque]],3))","v":""},null,null,null,{"$f":"IF(ISBLANK(Risque[[#This Row],[Catégorie de risque]]),\"\",CONCATENATE(Risque[[#This Row],[Catégorie de risque]],4))","v":""},null,null,null,null,null,{"$f":"IF(Risque[[#This Row],[Date d''inscription du risque]]<>\"\",YEAR(Risque[[#This Row],[Date d''inscription du risque]]),\"\")","v":""}]
[null,null,{"$f":"IF(ISBLANK(Risque[[#This Row],[Catégorie de risque]]),\"\",CONCATENATE(Risque[[#This Row],[Catégorie de risque]],1))","v":""},null,null,null,null,null,{"$f":"IF(ISBLANK(Risque[[#This Row],[Catégorie de risque]]),\"\",IF(OR(ISNUMBER(SEARCH(\"RZ\",Risque[[#This Row],[Source de danger]]))=TRUE,ISNUMBER(SEARCH(\"RP\",Risque[[#This Row],[Source de danger]]))=TRUE,ISNUMBER(SEARCH(\"RZ\",Risque[[#This Row],[Risques associés]]))=TRUE,ISNUMBER(SEARCH(\"RP\",Risque[[#This Row],[Risques associés]]))=TRUE,ISNUMBER(SEARCH(\"RZ\",Risque[[#This Row],[Précision du risque\n(si liste déroulante présente)]]))=TRUE,ISNUMBER(SEARCH(\"RP\",Risque[[#This Row],[Précision du risque\n(si liste déroulante présente)]]))=TRUE),\"Oui --> Priorité d'action\",\"Non\"))","v":""},null,null,null,null,{"$f":"IF(ISBLANK(Risque[[#This Row],[Catégorie de risque]]),\"\",CONCATENATE(Risque[[#This Row],[Catégorie de risque]],2))","v":""},null,{"$f":"IF(ISBLANK(Risque[[#This Row],[Moyens de prévention]]),\"\",CONCATENATE(Risque[[#This Row],[Moyens de prévention]],1))","v":""},null,null,null,null,null,{"$f":"IF(ISBLANK(Risque[[#This Row],[Catégorie de risque]]),\"\",CONCATENATE(Risque[[#This Row],[Catégorie de risque]],3))","v":""},null,null,null,{"$f":"IF(ISBLANK(Risque[[#This Row],[Catégorie de risque]]),\"\",CONCATENATE(Risque[[#This Row],[Catégorie de risque]],4))","v":""},null,null,null,null,null,{"$f":"IF(Risque[[#This Row],[Date d''inscription du risque]]<>\"\",YEAR(Risque[[#This Row],[Date d''inscription du risque]]),\"\")","v":""}]
[null,null,{"$f":"IF(ISBLANK(Risque[[#This Row],[Catégorie de risque]]),\"\",CONCATENATE(Risque[[#This Row],[Catégorie de risque]],1))","v":""},null,null,null,null,null,{"$f":"IF(ISBLANK(Risque[[#This Row],[Catégorie de risque]]),\"\",IF(OR(ISNUMBER(SEARCH(\"RZ\",Risque[[#This Row],[Source de danger]]))=TRUE,ISNUMBER(SEARCH(\"RP\",Risque[[#This Row],[Source de danger]]))=TRUE,ISNUMBER(SEARCH(\"RZ\",Risque[[#This Row],[Risques associés]]))=TRUE,ISNUMBER(SEARCH(\"RP\",Risque[[#This Row],[Risques associés]]))=TRUE,ISNUMBER(SEARCH(\"RZ\",Risque[[#This Row],[Précision du risque\n(si liste déroulante présente)]]))=TRUE,ISNUMBER(SEARCH(\"RP\",Risque[[#This Row],[Précision du risque\n(si liste déroulante présente)]]))=TRUE),\"Oui --> Priorité d'action\",\"Non\"))","v":""},null,null,null,null,{"$f":"IF(ISBLANK(Risque[[#This Row],[Catégorie de risque]]),\"\",CONCATENATE(Risque[[#This Row],[Catégorie de risque]],2))","v":""},null,{"$f":"IF(ISBLANK(Risque[[#This Row],[Moyens de prévention]]),\"\",CONCATENATE(Risque[[#This Row],[Moyens de prévention]],1))","v":""},null,null,null,null,null,{"$f":"IF(ISBLANK(Risque[[#This Row],[Catégorie de risque]]),\"\",CONCATENATE(Risque[[#This Row],[Catégorie de risque]],3))","v":""},null,null,null,{"$f":"IF(ISBLANK(Risque[[#This Row],[Catégorie de risque]]),\"\",CONCATENATE(Risque[[#This Row],[Catégorie de risque]],4))","v":""},null,null,null,null,null,{"$f":"IF(Risque[[#This Row],[Date d''inscription du risque]]<>\"\",YEAR(Risque[[#This Row],[Date d''inscription du risque]]),\"\")","v":""}]
[null,null,{"$f":"IF(ISBLANK(Risque[[#This Row],[Catégorie de risque]]),\"\",CONCATENATE(Risque[[#This Row],[Catégorie de risque]],1))","v":""},null,null,null,null,null,{"$f":"IF(ISBLANK(Risque[[#This Row],[Catégorie de risque]]),\"\",IF(OR(ISNUMBER(SEARCH(\"RZ\",Risque[[#This Row],[Source de danger]]))=TRUE,ISNUMBER(SEARCH(\"RP\",Risque[[#This Row],[Source de danger]]))=TRUE,ISNUMBER(SEARCH(\"RZ\",Risque[[#This Row],[Risques associés]]))=TRUE,ISNUMBER(SEARCH(\"RP\",Risque[[#This Row],[Risques associés]]))=TRUE,ISNUMBER(SEARCH(\"RZ\",Risque[[#This Row],[Précision du risque\n(si liste déroulante présente)]]))=TRUE,ISNUMBER(SEARCH(\"RP\",Risque[[#This Row],[Précision du risque\n(si liste déroulante présente)]]))=TRUE),\"Oui --> Priorité d'action\",\"Non\"))","v":""},null,null,null,null,{"$f":"IF(ISBLANK(Risque[[#This Row],[Catégorie de risque]]),\"\",CONCATENATE(Risque[[#This Row],[Catégorie de risque]],2))","v":""},null,{"$f":"IF(ISBLANK(Risque[[#This Row],[Moyens de prévention]]),\"\",CONCATENATE(Risque[[#This Row],[Moyens de prévention]],1))","v":""},null,null,null,null,null,{"$f":"IF(ISBLANK(Risque[[#This Row],[Catégorie de risque]]),\"\",CONCATENATE(Risque[[#This Row],[Catégorie de risque]],3))","v":""},null,null,null,{"$f":"IF(ISBLANK(Risque[[#This Row],[Catégorie de risque]]),\"\",CONCATENATE(Risque[[#This Row],[Catégorie de risque]],4))","v":""},null,null,null,null,null,{"$f":"IF(Risque[[#This Row],[Date d''inscription du risque]]<>\"\",YEAR(Risque[[#This Row],[Date d''inscription du risque]]),\"\")","v":""}]
[null,null,{"$f":"IF(ISBLANK(Risque[[#This Row],[Catégorie de risque]]),\"\",CONCATENATE(Risque[[#This Row],[Catégorie de risque]],1))","v":""},null,null,null,null,null,{"$f":"IF(ISBLANK(Risque[[#This Row],[Catégorie de risque]]),\"\",IF(OR(ISNUMBER(SEARCH(\"RZ\",Risque[[#This Row],[Source de danger]]))=TRUE,ISNUMBER(SEARCH(\"RP\",Risque[[#This Row],[Source de danger]]))=TRUE,ISNUMBER(SEARCH(\"RZ\",Risque[[#This Row],[Risques associés]]))=TRUE,ISNUMBER(SEARCH(\"RP\",Risque[[#This Row],[Risques associés]]))=TRUE,ISNUMBER(SEARCH(\"RZ\",Risque[[#This Row],[Précision du risque\n(si liste déroulante présente)]]))=TRUE,ISNUMBER(SEARCH(\"RP\",Risque[[#This Row],[Précision du risque\n(si liste déroulante présente)]]))=TRUE),\"Oui --> Priorité d'action\",\"Non\"))","v":""},null,null,null,null,{"$f":"IF(ISBLANK(Risque[[#This Row],[Catégorie de risque]]),\"\",CONCATENATE(Risque[[#This Row],[Catégorie de risque]],2))","v":""},null,{"$f":"IF(ISBLANK(Risque[[#This Row],[Moyens de prévention]]),\"\",CONCATENATE(Risque[[#This Row],[Moyens de prévention]],1))","v":""},null,null,null,null,null,{"$f":"IF(ISBLANK(Risque[[#This Row],[Catégorie de risque]]),\"\",CONCATENATE(Risque[[#This Row],[Catégorie de risque]],3))","v":""},null,null,null,{"$f":"IF(ISBLANK(Risque[[#This Row],[Catégorie de risque]]),\"\",CONCATENATE(Risque[[#This Row],[Catégorie de risque]],4))","v":""},null,null,null,null,null,{"$f":"IF(Risque[[#This Row],[Date d''inscription du risque]]<>\"\",YEAR(Risque[[#This Row],[Date d''inscription du risque]]),\"\")","v":""}]
[null,null,{"$f":"IF(ISBLANK(Risque[[#This Row],[Catégorie de risque]]),\"\",CONCATENATE(Risque[[#This Row],[Catégorie de risque]],1))","v":""},null,null,null,null,null,{"$f":"IF(ISBLANK(Risque[[#This Row],[Catégorie de risque]]),\"\",IF(OR(ISNUMBER(SEARCH(\"RZ\",Risque[[#This Row],[Source de danger]]))=TRUE,ISNUMBER(SEARCH(\"RP\",Risque[[#This Row],[Source de danger]]))=TRUE,ISNUMBER(SEARCH(\"RZ\",Risque[[#This Row],[Risques associés]]))=TRUE,ISNUMBER(SEARCH(\"RP\",Risque[[#This Row],[Risques associés]]))=TRUE,ISNUMBER(SEARCH(\"RZ\",Risque[[#This Row],[Précision du risque\n(si liste déroulante présente)]]))=TRUE,ISNUMBER(SEARCH(\"RP\",Risque[[#This Row],[Précision du risque\n(si liste déroulante présente)]]))=TRUE),\"Oui --> Priorité d'action\",\"Non\"))","v":""},null,null,null,null,{"$f":"IF(ISBLANK(Risque[[#This Row],[Catégorie de risque]]),\"\",CONCATENATE(Risque[[#This Row],[Catégorie de risque]],2))","v":""},null,{"$f":"IF(ISBLANK(Risque[[#This Row],[Moyens de prévention]]),\"\",CONCATENATE(Risque[[#This Row],[Moyens de prévention]],1))","v":""},null,null,null,null,null,{"$f":"IF(ISBLANK(Risque[[#This Row],[Catégorie de risque]]),\"\",CONCATENATE(Risque[[#This Row],[Catégorie de risque]],3))","v":""},null,null,null,{"$f":"IF(ISBLANK(Risque[[#This Row],[Catégorie de risque]]),\"\",CONCATENATE(Risque[[#This Row],[Catégorie de risque]],4))","v":""},null,null,null,null,null,{"$f":"IF(Risque[[#This Row],[Date d''inscription du risque]]<>\"\",YEAR(Risque[[#This Row],[Date d''inscription du risque]]),\"\")","v":""}]
[null,null,{"$f":"IF(ISBLANK(Risque[[#This Row],[Catégorie de risque]]),\"\",CONCATENATE(Risque[[#This Row],[Catégorie de risque]],1))","v":""},null,null,null,null,null,{"$f":"IF(ISBLANK(Risque[[#This Row],[Catégorie de risque]]),\"\",IF(OR(ISNUMBER(SEARCH(\"RZ\",Risque[[#This Row],[Source de danger]]))=TRUE,ISNUMBER(SEARCH(\"RP\",Risque[[#This Row],[Source de danger]]))=TRUE,ISNUMBER(SEARCH(\"RZ\",Risque[[#This Row],[Risques associés]]))=TRUE,ISNUMBER(SEARCH(\"RP\",Risque[[#This Row],[Risques associés]]))=TRUE,ISNUMBER(SEARCH(\"RZ\",Risque[[#This Row],[Précision du risque\n(si liste déroulante présente)]]))=TRUE,ISNUMBER(SEARCH(\"RP\",Risque[[#This Row],[Précision du risque\n(si liste déroulante présente)]]))=TRUE),\"Oui --> Priorité d'action\",\"Non\"))","v":""},null,null,null,null,{"$f":"IF(ISBLANK(Risque[[#This Row],[Catégorie de risque]]),\"\",CONCATENATE(Risque[[#This Row],[Catégorie de risque]],2))","v":""},null,{"$f":"IF(ISBLANK(Risque[[#This Row],[Moyens de prévention]]),\"\",CONCATENATE(Risque[[#This Row],[Moyens de prévention]],1))","v":""},null,null,null,null,null,{"$f":"IF(ISBLANK(Risque[[#This Row],[Catégorie de risque]]),\"\",CONCATENATE(Risque[[#This Row],[Catégorie de risque]],3))","v":""},null,null,null,{"$f":"IF(ISBLANK(Risque[[#This Row],[Catégorie de risque]]),\"\",CONCATENATE(Risque[[#This Row],[Catégorie de risque]],4))","v":""},null,null,null,null,null,{"$f":"IF(Risque[[#This Row],[Date d''inscription du risque]]<>\"\",YEAR(Risque[[#This Row],[Date d''inscription du risque]]),\"\")","v":""}]
[null,null,{"$f":"IF(ISBLANK(Risque[[#This Row],[Catégorie de risque]]),\"\",CONCATENATE(Risque[[#This Row],[Catégorie de risque]],1))","v":""},null,null,null,null,null,{"$f":"IF(ISBLANK(Risque[[#This Row],[Catégorie de risque]]),\"\",IF(OR(ISNUMBER(SEARCH(\"RZ\",Risque[[#This Row],[Source de danger]]))=TRUE,ISNUMBER(SEARCH(\"RP\",Risque[[#This Row],[Source de danger]]))=TRUE,ISNUMBER(SEARCH(\"RZ\",Risque[[#This Row],[Risques associés]]))=TRUE,ISNUMBER(SEARCH(\"RP\",Risque[[#This Row],[Risques associés]]))=TRUE,ISNUMBER(SEARCH(\"RZ\",Risque[[#This Row],[Précision du risque\n(si liste déroulante présente)]]))=TRUE,ISNUMBER(SEARCH(\"RP\",Risque[[#This Row],[Précision du risque\n(si liste déroulante présente)]]))=TRUE),\"Oui --> Priorité d'action\",\"Non\"))","v":""},null,null,null,null,{"$f":"IF(ISBLANK(Risque[[#This Row],[Catégorie de risque]]),\"\",CONCATENATE(Risque[[#This Row],[Catégorie de risque]],2))","v":""},null,{"$f":"IF(ISBLANK(Risque[[#This Row],[Moyens de prévention]]),\"\",CONCATENATE(Risque[[#This Row],[Moyens de prévention]],1))","v":""},null,null,null,null,null,{"$f":"IF(ISBLANK(Risque[[#This Row],[Catégorie de risque]]),\"\",CONCATENATE(Risque[[#This Row],[Catégorie de risque]],3))","v":""},null,null,null,{"$f":"IF(ISBLANK(Risque[[#This Row],[Catégorie de risque]]),\"\",CONCATENATE(Risque[[#This Row],[Catégorie de risque]],4))","v":""},null,null,null,null,null,{"$f":"IF(Risque[[#This Row],[Date d''inscription du risque]]<>\"\",YEAR(Risque[[#This Row],[Date d''inscription du risque]]),\"\")","v":""}]
[null,null,{"$f":"IF(ISBLANK(Risque[[#This Row],[Catégorie de risque]]),\"\",CONCATENATE(Risque[[#This Row],[Catégorie de risque]],1))","v":""},null,null,null,null,null,{"$f":"IF(ISBLANK(Risque[[#This Row],[Catégorie de risque]]),\"\",IF(OR(ISNUMBER(SEARCH(\"RZ\",Risque[[#This Row],[Source de danger]]))=TRUE,ISNUMBER(SEARCH(\"RP\",Risque[[#This Row],[Source de danger]]))=TRUE,ISNUMBER(SEARCH(\"RZ\",Risque[[#This Row],[Risques associés]]))=TRUE,ISNUMBER(SEARCH(\"RP\",Risque[[#This Row],[Risques associés]]))=TRUE,ISNUMBER(SEARCH(\"RZ\",Risque[[#This Row],[Précision du risque\n(si liste déroulante présente)]]))=TRUE,ISNUMBER(SEARCH(\"RP\",Risque[[#This Row],[Précision du risque\n(si liste déroulante présente)]]))=TRUE),\"Oui --> Priorité d'action\",\"Non\"))","v":""},null,null,null,null,{"$f":"IF(ISBLANK(Risque[[#This Row],[Catégorie de risque]]),\"\",CONCATENATE(Risque[[#This Row],[Catégorie de risque]],2))","v":""},null,{"$f":"IF(ISBLANK(Risque[[#This Row],[Moyens de prévention]]),\"\",CONCATENATE(Risque[[#This Row],[Moyens de prévention]],1))","v":""},null,null,null,null,null,{"$f":"IF(ISBLANK(Risque[[#This Row],[Catégorie de risque]]),\"\",CONCATENATE(Risque[[#This Row],[Catégorie de risque]],3))","v":""},null,null,null,{"$f":"IF(ISBLANK(Risque[[#This Row],[Catégorie de risque]]),\"\",CONCATENATE(Risque[[#This Row],[Catégorie de risque]],4))","v":""},null,null,null,null,null,{"$f":"IF(Risque[[#This Row],[Date d''inscription du risque]]<>\"\",YEAR(Risque[[#This Row],[Date d''inscription du risque]]),\"\")","v":""}]
[null,null,{"$f":"IF(ISBLANK(Risque[[#This Row],[Catégorie de risque]]),\"\",CONCATENATE(Risque[[#This Row],[Catégorie de risque]],1))","v":""},null,null,null,null,null,{"$f":"IF(ISBLANK(Risque[[#This Row],[Catégorie de risque]]),\"\",IF(OR(ISNUMBER(SEARCH(\"RZ\",Risque[[#This Row],[Source de danger]]))=TRUE,ISNUMBER(SEARCH(\"RP\",Risque[[#This Row],[Source de danger]]))=TRUE,ISNUMBER(SEARCH(\"RZ\",Risque[[#This Row],[Risques associés]]))=TRUE,ISNUMBER(SEARCH(\"RP\",Risque[[#This Row],[Risques associés]]))=TRUE,ISNUMBER(SEARCH(\"RZ\",Risque[[#This Row],[Précision du risque\n(si liste déroulante présente)]]))=TRUE,ISNUMBER(SEARCH(\"RP\",Risque[[#This Row],[Précision du risque\n(si liste déroulante présente)]]))=TRUE),\"Oui --> Priorité d'action\",\"Non\"))","v":""},null,null,null,null,{"$f":"IF(ISBLANK(Risque[[#This Row],[Catégorie de risque]]),\"\",CONCATENATE(Risque[[#This Row],[Catégorie de risque]],2))","v":""},null,{"$f":"IF(ISBLANK(Risque[[#This Row],[Moyens de prévention]]),\"\",CONCATENATE(Risque[[#This Row],[Moyens de prévention]],1))","v":""},null,null,null,null,null,{"$f":"IF(ISBLANK(Risque[[#This Row],[Catégorie de risque]]),\"\",CONCATENATE(Risque[[#This Row],[Catégorie de risque]],3))","v":""},null,null,null,{"$f":"IF(ISBLANK(Risque[[#This Row],[Catégorie de risque]]),\"\",CONCATENATE(Risque[[#This Row],[Catégorie de risque]],4))","v":""},null,null,null,null,null,{"$f":"IF(Risque[[#This Row],[Date d''inscription du risque]]<>\"\",YEAR(Risque[[#This Row],[Date d''inscription du risque]]),\"\")","v":""}]
[null,null,{"$f":"IF(ISBLANK(Risque[[#This Row],[Catégorie de risque]]),\"\",CONCATENATE(Risque[[#This Row],[Catégorie de risque]],1))","v":""},null,null,null,null,null,{"$f":"IF(ISBLANK(Risque[[#This Row],[Catégorie de risque]]),\"\",IF(OR(ISNUMBER(SEARCH(\"RZ\",Risque[[#This Row],[Source de danger]]))=TRUE,ISNUMBER(SEARCH(\"RP\",Risque[[#This Row],[Source de danger]]))=TRUE,ISNUMBER(SEARCH(\"RZ\",Risque[[#This Row],[Risques associés]]))=TRUE,ISNUMBER(SEARCH(\"RP\",Risque[[#This Row],[Risques associés]]))=TRUE,ISNUMBER(SEARCH(\"RZ\",Risque[[#This Row],[Précision du risque\n(si liste déroulante présente)]]))=TRUE,ISNUMBER(SEARCH(\"RP\",Risque[[#This Row],[Précision du risque\n(si liste déroulante présente)]]))=TRUE),\"Oui --> Priorité d'action\",\"Non\"))","v":""},null,null,null,null,{"$f":"IF(ISBLANK(Risque[[#This Row],[Catégorie de risque]]),\"\",CONCATENATE(Risque[[#This Row],[Catégorie de risque]],2))","v":""},null,{"$f":"IF(ISBLANK(Risque[[#This Row],[Moyens de prévention]]),\"\",CONCATENATE(Risque[[#This Row],[Moyens de prévention]],1))","v":""},null,null,null,null,null,{"$f":"IF(ISBLANK(Risque[[#This Row],[Catégorie de risque]]),\"\",CONCATENATE(Risque[[#This Row],[Catégorie de risque]],3))","v":""},null,null,null,{"$f":"IF(ISBLANK(Risque[[#This Row],[Catégorie de risque]]),\"\",CONCATENATE(Risque[[#This Row],[Catégorie de risque]],4))","v":""},null,null,null,null,null,{"$f":"IF(Risque[[#This Row],[Date d''inscription du risque]]<>\"\",YEAR(Risque[[#This Row],[Date d''inscription du risque]]),\"\")","v":""}]
[null,null,{"$f":"IF(ISBLANK(Risque[[#This Row],[Catégorie de risque]]),\"\",CONCATENATE(Risque[[#This Row],[Catégorie de risque]],1))","v":""},null,null,null,null,null,{"$f":"IF(ISBLANK(Risque[[#This Row],[Catégorie de risque]]),\"\",IF(OR(ISNUMBER(SEARCH(\"RZ\",Risque[[#This Row],[Source de danger]]))=TRUE,ISNUMBER(SEARCH(\"RP\",Risque[[#This Row],[Source de danger]]))=TRUE,ISNUMBER(SEARCH(\"RZ\",Risque[[#This Row],[Risques associés]]))=TRUE,ISNUMBER(SEARCH(\"RP\",Risque[[#This Row],[Risques associés]]))=TRUE,ISNUMBER(SEARCH(\"RZ\",Risque[[#This Row],[Précision du risque\n(si liste déroulante présente)]]))=TRUE,ISNUMBER(SEARCH(\"RP\",Risque[[#This Row],[Précision du risque\n(si liste déroulante présente)]]))=TRUE),\"Oui --> Priorité d'action\",\"Non\"))","v":""},null,null,null,null,{"$f":"IF(ISBLANK(Risque[[#This Row],[Catégorie de risque]]),\"\",CONCATENATE(Risque[[#This Row],[Catégorie de risque]],2))","v":""},null,{"$f":"IF(ISBLANK(Risque[[#This Row],[Moyens de prévention]]),\"\",CONCATENATE(Risque[[#This Row],[Moyens de prévention]],1))","v":""},null,null,null,null,null,{"$f":"IF(ISBLANK(Risque[[#This Row],[Catégorie de risque]]),\"\",CONCATENATE(Risque[[#This Row],[Catégorie de risque]],3))","v":""},null,null,null,{"$f":"IF(ISBLANK(Risque[[#This Row],[Catégorie de risque]]),\"\",CONCATENATE(Risque[[#This Row],[Catégorie de risque]],4))","v":""},null,null,null,null,null,{"$f":"IF(Risque[[#This Row],[Date d''inscription du risque]]<>\"\",YEAR(Risque[[#This Row],[Date d''inscription du risque]]),\"\")","v":""}]
[null,null,{"$f":"IF(ISBLANK(Risque[[#This Row],[Catégorie de risque]]),\"\",CONCATENATE(Risque[[#This Row],[Catégorie de risque]],1))","v":""},null,null,null,null,null,{"$f":"IF(ISBLANK(Risque[[#This Row],[Catégorie de risque]]),\"\",IF(OR(ISNUMBER(SEARCH(\"RZ\",Risque[[#This Row],[Source de danger]]))=TRUE,ISNUMBER(SEARCH(\"RP\",Risque[[#This Row],[Source de danger]]))=TRUE,ISNUMBER(SEARCH(\"RZ\",Risque[[#This Row],[Risques associés]]))=TRUE,ISNUMBER(SEARCH(\"RP\",Risque[[#This Row],[Risques associés]]))=TRUE,ISNUMBER(SEARCH(\"RZ\",Risque[[#This Row],[Précision du risque\n(si liste déroulante présente)]]))=TRUE,ISNUMBER(SEARCH(\"RP\",Risque[[#This Row],[Précision du risque\n(si liste déroulante présente)]]))=TRUE),\"Oui --> Priorité d'action\",\"Non\"))","v":""},null,null,null,null,{"$f":"IF(ISBLANK(Risque[[#This Row],[Catégorie de risque]]),\"\",CONCATENATE(Risque[[#This Row],[Catégorie de risque]],2))","v":""},null,{"$f":"IF(ISBLANK(Risque[[#This Row],[Moyens de prévention]]),\"\",CONCATENATE(Risque[[#This Row],[Moyens de prévention]],1))","v":""},null,null,null,null,null,{"$f":"IF(ISBLANK(Risque[[#This Row],[Catégorie de risque]]),\"\",CONCATENATE(Risque[[#This Row],[Catégorie de risque]],3))","v":""},null,null,null,{"$f":"IF(ISBLANK(Risque[[#This Row],[Catégorie de risque]]),\"\",CONCATENATE(Risque[[#This Row],[Catégorie de risque]],4))","v":""},null,null,null,null,null,{"$f":"IF(Risque[[#This Row],[Date d''inscription du risque]]<>\"\",YEAR(Risque[[#This Row],[Date d''inscription du risque]]),\"\")","v":""}]
[null,null,{"$f":"IF(ISBLANK(Risque[[#This Row],[Catégorie de risque]]),\"\",CONCATENATE(Risque[[#This Row],[Catégorie de risque]],1))","v":""},null,null,null,null,null,{"$f":"IF(ISBLANK(Risque[[#This Row],[Catégorie de risque]]),\"\",IF(OR(ISNUMBER(SEARCH(\"RZ\",Risque[[#This Row],[Source de danger]]))=TRUE,ISNUMBER(SEARCH(\"RP\",Risque[[#This Row],[Source de danger]]))=TRUE,ISNUMBER(SEARCH(\"RZ\",Risque[[#This Row],[Risques associés]]))=TRUE,ISNUMBER(SEARCH(\"RP\",Risque[[#This Row],[Risques associés]]))=TRUE,ISNUMBER(SEARCH(\"RZ\",Risque[[#This Row],[Précision du risque\n(si liste déroulante présente)]]))=TRUE,ISNUMBER(SEARCH(\"RP\",Risque[[#This Row],[Précision du risque\n(si liste déroulante présente)]]))=TRUE),\"Oui --> Priorité d'action\",\"Non\"))","v":""},null,null,null,null,{"$f":"IF(ISBLANK(Risque[[#This Row],[Catégorie de risque]]),\"\",CONCATENATE(Risque[[#This Row],[Catégorie de risque]],2))","v":""},null,{"$f":"IF(ISBLANK(Risque[[#This Row],[Moyens de prévention]]),\"\",CONCATENATE(Risque[[#This Row],[Moyens de prévention]],1))","v":""},null,null,null,null,null,{"$f":"IF(ISBLANK(Risque[[#This Row],[Catégorie de risque]]),\"\",CONCATENATE(Risque[[#This Row],[Catégorie de risque]],3))","v":""},null,null,null,{"$f":"IF(ISBLANK(Risque[[#This Row],[Catégorie de risque]]),\"\",CONCATENATE(Risque[[#This Row],[Catégorie de risque]],4))","v":""},null,null,null,null,null,{"$f":"IF(Risque[[#This Row],[Date d''inscription du risque]]<>\"\",YEAR(Risque[[#This Row],[Date d''inscription du risque]]),\"\")","v":""}]
[null,null,{"$f":"IF(ISBLANK(Risque[[#This Row],[Catégorie de risque]]),\"\",CONCATENATE(Risque[[#This Row],[Catégorie de risque]],1))","v":""},null,null,null,null,null,{"$f":"IF(ISBLANK(Risque[[#This Row],[Catégorie de risque]]),\"\",IF(OR(ISNUMBER(SEARCH(\"RZ\",Risque[[#This Row],[Source de danger]]))=TRUE,ISNUMBER(SEARCH(\"RP\",Risque[[#This Row],[Source de danger]]))=TRUE,ISNUMBER(SEARCH(\"RZ\",Risque[[#This Row],[Risques associés]]))=TRUE,ISNUMBER(SEARCH(\"RP\",Risque[[#This Row],[Risques associés]]))=TRUE,ISNUMBER(SEARCH(\"RZ\",Risque[[#This Row],[Précision du risque\n(si liste déroulante présente)]]))=TRUE,ISNUMBER(SEARCH(\"RP\",Risque[[#This Row],[Précision du risque\n(si liste déroulante présente)]]))=TRUE),\"Oui --> Priorité d'action\",\"Non\"))","v":""},null,null,null,null,{"$f":"IF(ISBLANK(Risque[[#This Row],[Catégorie de risque]]),\"\",CONCATENATE(Risque[[#This Row],[Catégorie de risque]],2))","v":""},null,{"$f":"IF(ISBLANK(Risque[[#This Row],[Moyens de prévention]]),\"\",CONCATENATE(Risque[[#This Row],[Moyens de prévention]],1))","v":""},null,null,null,null,null,{"$f":"IF(ISBLANK(Risque[[#This Row],[Catégorie de risque]]),\"\",CONCATENATE(Risque[[#This Row],[Catégorie de risque]],3))","v":""},null,null,null,{"$f":"IF(ISBLANK(Risque[[#This Row],[Catégorie de risque]]),\"\",CONCATENATE(Risque[[#This Row],[Catégorie de risque]],4))","v":""},null,null,null,null,null,{"$f":"IF(Risque[[#This Row],[Date d''inscription du risque]]<>\"\",YEAR(Risque[[#This Row],[Date d''inscription du risque]]),\"\")","v":""}]
[null,null,{"$f":"IF(ISBLANK(Risque[[#This Row],[Catégorie de risque]]),\"\",CONCATENATE(Risque[[#This Row],[Catégorie de risque]],1))","v":""},null,null,null,null,null,{"$f":"IF(ISBLANK(Risque[[#This Row],[Catégorie de risque]]),\"\",IF(OR(ISNUMBER(SEARCH(\"RZ\",Risque[[#This Row],[Source de danger]]))=TRUE,ISNUMBER(SEARCH(\"RP\",Risque[[#This Row],[Source de danger]]))=TRUE,ISNUMBER(SEARCH(\"RZ\",Risque[[#This Row],[Risques associés]]))=TRUE,ISNUMBER(SEARCH(\"RP\",Risque[[#This Row],[Risques associés]]))=TRUE,ISNUMBER(SEARCH(\"RZ\",Risque[[#This Row],[Précision du risque\n(si liste déroulante présente)]]))=TRUE,ISNUMBER(SEARCH(\"RP\",Risque[[#This Row],[Précision du risque\n(si liste déroulante présente)]]))=TRUE),\"Oui --> Priorité d'action\",\"Non\"))","v":""},null,null,null,null,{"$f":"IF(ISBLANK(Risque[[#This Row],[Catégorie de risque]]),\"\",CONCATENATE(Risque[[#This Row],[Catégorie de risque]],2))","v":""},null,{"$f":"IF(ISBLANK(Risque[[#This Row],[Moyens de prévention]]),\"\",CONCATENATE(Risque[[#This Row],[Moyens de prévention]],1))","v":""},null,null,null,null,null,{"$f":"IF(ISBLANK(Risque[[#This Row],[Catégorie de risque]]),\"\",CONCATENATE(Risque[[#This Row],[Catégorie de risque]],3))","v":""},null,null,null,{"$f":"IF(ISBLANK(Risque[[#This Row],[Catégorie de risque]]),\"\",CONCATENATE(Risque[[#This Row],[Catégorie de risque]],4))","v":""},null,null,null,null,null,{"$f":"IF(Risque[[#This Row],[Date d''inscription du risque]]<>\"\",YEAR(Risque[[#This Row],[Date d''inscription du risque]]),\"\")","v":""}]
[null,null,{"$f":"IF(ISBLANK(Risque[[#This Row],[Catégorie de risque]]),\"\",CONCATENATE(Risque[[#This Row],[Catégorie de risque]],1))","v":""},null,null,null,null,null,{"$f":"IF(ISBLANK(Risque[[#This Row],[Catégorie de risque]]),\"\",IF(OR(ISNUMBER(SEARCH(\"RZ\",Risque[[#This Row],[Source de danger]]))=TRUE,ISNUMBER(SEARCH(\"RP\",Risque[[#This Row],[Source de danger]]))=TRUE,ISNUMBER(SEARCH(\"RZ\",Risque[[#This Row],[Risques associés]]))=TRUE,ISNUMBER(SEARCH(\"RP\",Risque[[#This Row],[Risques associés]]))=TRUE,ISNUMBER(SEARCH(\"RZ\",Risque[[#This Row],[Précision du risque\n(si liste déroulante présente)]]))=TRUE,ISNUMBER(SEARCH(\"RP\",Risque[[#This Row],[Précision du risque\n(si liste déroulante présente)]]))=TRUE),\"Oui --> Priorité d'action\",\"Non\"))","v":""},null,null,null,null,{"$f":"IF(ISBLANK(Risque[[#This Row],[Catégorie de risque]]),\"\",CONCATENATE(Risque[[#This Row],[Catégorie de risque]],2))","v":""},null,{"$f":"IF(ISBLANK(Risque[[#This Row],[Moyens de prévention]]),\"\",CONCATENATE(Risque[[#This Row],[Moyens de prévention]],1))","v":""},null,null,null,null,null,{"$f":"IF(ISBLANK(Risque[[#This Row],[Catégorie de risque]]),\"\",CONCATENATE(Risque[[#This Row],[Catégorie de risque]],3))","v":""},null,null,null,{"$f":"IF(ISBLANK(Risque[[#This Row],[Catégorie de risque]]),\"\",CONCATENATE(Risque[[#This Row],[Catégorie de risque]],4))","v":""},null,null,null,null,null,{"$f":"IF(Risque[[#This Row],[Date d''inscription du risque]]<>\"\",YEAR(Risque[[#This Row],[Date d''inscription du risque]]),\"\")","v":""}]
[null,null,{"$f":"IF(ISBLANK(Risque[[#This Row],[Catégorie de risque]]),\"\",CONCATENATE(Risque[[#This Row],[Catégorie de risque]],1))","v":""},null,null,null,null,null,{"$f":"IF(ISBLANK(Risque[[#This Row],[Catégorie de risque]]),\"\",IF(OR(ISNUMBER(SEARCH(\"RZ\",Risque[[#This Row],[Source de danger]]))=TRUE,ISNUMBER(SEARCH(\"RP\",Risque[[#This Row],[Source de danger]]))=TRUE,ISNUMBER(SEARCH(\"RZ\",Risque[[#This Row],[Risques associés]]))=TRUE,ISNUMBER(SEARCH(\"RP\",Risque[[#This Row],[Risques associés]]))=TRUE,ISNUMBER(SEARCH(\"RZ\",Risque[[#This Row],[Précision du risque\n(si liste déroulante présente)]]))=TRUE,ISNUMBER(SEARCH(\"RP\",Risque[[#This Row],[Précision du risque\n(si liste déroulante présente)]]))=TRUE),\"Oui --> Priorité d'action\",\"Non\"))","v":""},null,null,null,null,{"$f":"IF(ISBLANK(Risque[[#This Row],[Catégorie de risque]]),\"\",CONCATENATE(Risque[[#This Row],[Catégorie de risque]],2))","v":""},null,{"$f":"IF(ISBLANK(Risque[[#This Row],[Moyens de prévention]]),\"\",CONCATENATE(Risque[[#This Row],[Moyens de prévention]],1))","v":""},null,null,null,null,null,{"$f":"IF(ISBLANK(Risque[[#This Row],[Catégorie de risque]]),\"\",CONCATENATE(Risque[[#This Row],[Catégorie de risque]],3))","v":""},null,null,null,{"$f":"IF(ISBLANK(Risque[[#This Row],[Catégorie de risque]]),\"\",CONCATENATE(Risque[[#This Row],[Catégorie de risque]],4))","v":""},null,null,null,null,null,{"$f":"IF(Risque[[#This Row],[Date d''inscription du risque]]<>\"\",YEAR(Risque[[#This Row],[Date d''inscription du risque]]),\"\")","v":""}]
[null,null,{"$f":"IF(ISBLANK(Risque[[#This Row],[Catégorie de risque]]),\"\",CONCATENATE(Risque[[#This Row],[Catégorie de risque]],1))","v":""},null,null,null,null,null,{"$f":"IF(ISBLANK(Risque[[#This Row],[Catégorie de risque]]),\"\",IF(OR(ISNUMBER(SEARCH(\"RZ\",Risque[[#This Row],[Source de danger]]))=TRUE,ISNUMBER(SEARCH(\"RP\",Risque[[#This Row],[Source de danger]]))=TRUE,ISNUMBER(SEARCH(\"RZ\",Risque[[#This Row],[Risques associés]]))=TRUE,ISNUMBER(SEARCH(\"RP\",Risque[[#This Row],[Risques associés]]))=TRUE,ISNUMBER(SEARCH(\"RZ\",Risque[[#This Row],[Précision du risque\n(si liste déroulante présente)]]))=TRUE,ISNUMBER(SEARCH(\"RP\",Risque[[#This Row],[Précision du risque\n(si liste déroulante présente)]]))=TRUE),\"Oui --> Priorité d'action\",\"Non\"))","v":""},null,null,null,null,{"$f":"IF(ISBLANK(Risque[[#This Row],[Catégorie de risque]]),\"\",CONCATENATE(Risque[[#This Row],[Catégorie de risque]],2))","v":""},null,{"$f":"IF(ISBLANK(Risque[[#This Row],[Moyens de prévention]]),\"\",CONCATENATE(Risque[[#This Row],[Moyens de prévention]],1))","v":""},null,null,null,null,null,{"$f":"IF(ISBLANK(Risque[[#This Row],[Catégorie de risque]]),\"\",CONCATENATE(Risque[[#This Row],[Catégorie de risque]],3))","v":""},null,null,null,{"$f":"IF(ISBLANK(Risque[[#This Row],[Catégorie de risque]]),\"\",CONCATENATE(Risque[[#This Row],[Catégorie de risque]],4))","v":""},null,null,null,null,null,{"$f":"IF(Risque[[#This Row],[Date d''inscription du risque]]<>\"\",YEAR(Risque[[#This Row],[Date d''inscription du risque]]),\"\")","v":""}]
[null,null,{"$f":"IF(ISBLANK(Risque[[#This Row],[Catégorie de risque]]),\"\",CONCATENATE(Risque[[#This Row],[Catégorie de risque]],1))","v":""},null,null,null,null,null,{"$f":"IF(ISBLANK(Risque[[#This Row],[Catégorie de risque]]),\"\",IF(OR(ISNUMBER(SEARCH(\"RZ\",Risque[[#This Row],[Source de danger]]))=TRUE,ISNUMBER(SEARCH(\"RP\",Risque[[#This Row],[Source de danger]]))=TRUE,ISNUMBER(SEARCH(\"RZ\",Risque[[#This Row],[Risques associés]]))=TRUE,ISNUMBER(SEARCH(\"RP\",Risque[[#This Row],[Risques associés]]))=TRUE,ISNUMBER(SEARCH(\"RZ\",Risque[[#This Row],[Précision du risque\n(si liste déroulante présente)]]))=TRUE,ISNUMBER(SEARCH(\"RP\",Risque[[#This Row],[Précision du risque\n(si liste déroulante présente)]]))=TRUE),\"Oui --> Priorité d'action\",\"Non\"))","v":""},null,null,null,null,{"$f":"IF(ISBLANK(Risque[[#This Row],[Catégorie de risque]]),\"\",CONCATENATE(Risque[[#This Row],[Catégorie de risque]],2))","v":""},null,{"$f":"IF(ISBLANK(Risque[[#This Row],[Moyens de prévention]]),\"\",CONCATENATE(Risque[[#This Row],[Moyens de prévention]],1))","v":""},null,null,null,null,null,{"$f":"IF(ISBLANK(Risque[[#This Row],[Catégorie de risque]]),\"\",CONCATENATE(Risque[[#This Row],[Catégorie de risque]],3))","v":""},null,null,null,{"$f":"IF(ISBLANK(Risque[[#This Row],[Catégorie de risque]]),\"\",CONCATENATE(Risque[[#This Row],[Catégorie de risque]],4))","v":""},null,null,null,null,null,{"$f":"IF(Risque[[#This Row],[Date d''inscription du risque]]<>\"\",YEAR(Risque[[#This Row],[Date d''inscription du risque]]),\"\")","v":""}]
[null,null,{"$f":"IF(ISBLANK(Risque[[#This Row],[Catégorie de risque]]),\"\",CONCATENATE(Risque[[#This Row],[Catégorie de risque]],1))","v":""},null,null,null,null,null,{"$f":"IF(ISBLANK(Risque[[#This Row],[Catégorie de risque]]),\"\",IF(OR(ISNUMBER(SEARCH(\"RZ\",Risque[[#This Row],[Source de danger]]))=TRUE,ISNUMBER(SEARCH(\"RP\",Risque[[#This Row],[Source de danger]]))=TRUE,ISNUMBER(SEARCH(\"RZ\",Risque[[#This Row],[Risques associés]]))=TRUE,ISNUMBER(SEARCH(\"RP\",Risque[[#This Row],[Risques associés]]))=TRUE,ISNUMBER(SEARCH(\"RZ\",Risque[[#This Row],[Précision du risque\n(si liste déroulante présente)]]))=TRUE,ISNUMBER(SEARCH(\"RP\",Risque[[#This Row],[Précision du risque\n(si liste déroulante présente)]]))=TRUE),\"Oui --> Priorité d'action\",\"Non\"))","v":""},null,null,null,null,{"$f":"IF(ISBLANK(Risque[[#This Row],[Catégorie de risque]]),\"\",CONCATENATE(Risque[[#This Row],[Catégorie de risque]],2))","v":""},null,{"$f":"IF(ISBLANK(Risque[[#This Row],[Moyens de prévention]]),\"\",CONCATENATE(Risque[[#This Row],[Moyens de prévention]],1))","v":""},null,null,null,null,null,{"$f":"IF(ISBLANK(Risque[[#This Row],[Catégorie de risque]]),\"\",CONCATENATE(Risque[[#This Row],[Catégorie de risque]],3))","v":""},null,null,null,{"$f":"IF(ISBLANK(Risque[[#This Row],[Catégorie de risque]]),\"\",CONCATENATE(Risque[[#This Row],[Catégorie de risque]],4))","v":""},null,null,null,null,null,{"$f":"IF(Risque[[#This Row],[Date d''inscription du risque]]<>\"\",YEAR(Risque[[#This Row],[Date d''inscription du risque]]),\"\")","v":""}]
[null,null,{"$f":"IF(ISBLANK(Risque[[#This Row],[Catégorie de risque]]),\"\",CONCATENATE(Risque[[#This Row],[Catégorie de risque]],1))","v":""},null,null,null,null,null,{"$f":"IF(ISBLANK(Risque[[#This Row],[Catégorie de risque]]),\"\",IF(OR(ISNUMBER(SEARCH(\"RZ\",Risque[[#This Row],[Source de danger]]))=TRUE,ISNUMBER(SEARCH(\"RP\",Risque[[#This Row],[Source de danger]]))=TRUE,ISNUMBER(SEARCH(\"RZ\",Risque[[#This Row],[Risques associés]]))=TRUE,ISNUMBER(SEARCH(\"RP\",Risque[[#This Row],[Risques associés]]))=TRUE,ISNUMBER(SEARCH(\"RZ\",Risque[[#This Row],[Précision du risque\n(si liste déroulante présente)]]))=TRUE,ISNUMBER(SEARCH(\"RP\",Risque[[#This Row],[Précision du risque\n(si liste déroulante présente)]]))=TRUE),\"Oui --> Priorité d'action\",\"Non\"))","v":""},null,null,null,null,{"$f":"IF(ISBLANK(Risque[[#This Row],[Catégorie de risque]]),\"\",CONCATENATE(Risque[[#This Row],[Catégorie de risque]],2))","v":""},null,{"$f":"IF(ISBLANK(Risque[[#This Row],[Moyens de prévention]]),\"\",CONCATENATE(Risque[[#This Row],[Moyens de prévention]],1))","v":""},null,null,null,null,null,{"$f":"IF(ISBLANK(Risque[[#This Row],[Catégorie de risque]]),\"\",CONCATENATE(Risque[[#This Row],[Catégorie de risque]],3))","v":""},null,null,null,{"$f":"IF(ISBLANK(Risque[[#This Row],[Catégorie de risque]]),\"\",CONCATENATE(Risque[[#This Row],[Catégorie de risque]],4))","v":""},null,null,null,null,null,{"$f":"IF(Risque[[#This Row],[Date d''inscription du risque]]<>\"\",YEAR(Risque[[#This Row],[Date d''inscription du risque]]),\"\")","v":""}]
[null,null,{"$f":"IF(ISBLANK(Risque[[#This Row],[Catégorie de risque]]),\"\",CONCATENATE(Risque[[#This Row],[Catégorie de risque]],1))","v":""},null,null,null,null,null,{"$f":"IF(ISBLANK(Risque[[#This Row],[Catégorie de risque]]),\"\",IF(OR(ISNUMBER(SEARCH(\"RZ\",Risque[[#This Row],[Source de danger]]))=TRUE,ISNUMBER(SEARCH(\"RP\",Risque[[#This Row],[Source de danger]]))=TRUE,ISNUMBER(SEARCH(\"RZ\",Risque[[#This Row],[Risques associés]]))=TRUE,ISNUMBER(SEARCH(\"RP\",Risque[[#This Row],[Risques associés]]))=TRUE,ISNUMBER(SEARCH(\"RZ\",Risque[[#This Row],[Précision du risque\n(si liste déroulante présente)]]))=TRUE,ISNUMBER(SEARCH(\"RP\",Risque[[#This Row],[Précision du risque\n(si liste déroulante présente)]]))=TRUE),\"Oui --> Priorité d'action\",\"Non\"))","v":""},null,null,null,null,{"$f":"IF(ISBLANK(Risque[[#This Row],[Catégorie de risque]]),\"\",CONCATENATE(Risque[[#This Row],[Catégorie de risque]],2))","v":""},null,{"$f":"IF(ISBLANK(Risque[[#This Row],[Moyens de prévention]]),\"\",CONCATENATE(Risque[[#This Row],[Moyens de prévention]],1))","v":""},null,null,null,null,null,{"$f":"IF(ISBLANK(Risque[[#This Row],[Catégorie de risque]]),\"\",CONCATENATE(Risque[[#This Row],[Catégorie de risque]],3))","v":""},null,null,null,{"$f":"IF(ISBLANK(Risque[[#This Row],[Catégorie de risque]]),\"\",CONCATENATE(Risque[[#This Row],[Catégorie de risque]],4))","v":""},null,null,null,null,null,{"$f":"IF(Risque[[#This Row],[Date d''inscription du risque]]<>\"\",YEAR(Risque[[#This Row],[Date d''inscription du risque]]),\"\")","v":""}]
[null,null,{"$f":"IF(ISBLANK(Risque[[#This Row],[Catégorie de risque]]),\"\",CONCATENATE(Risque[[#This Row],[Catégorie de risque]],1))","v":""},null,null,null,null,null,{"$f":"IF(ISBLANK(Risque[[#This Row],[Catégorie de risque]]),\"\",IF(OR(ISNUMBER(SEARCH(\"RZ\",Risque[[#This Row],[Source de danger]]))=TRUE,ISNUMBER(SEARCH(\"RP\",Risque[[#This Row],[Source de danger]]))=TRUE,ISNUMBER(SEARCH(\"RZ\",Risque[[#This Row],[Risques associés]]))=TRUE,ISNUMBER(SEARCH(\"RP\",Risque[[#This Row],[Risques associés]]))=TRUE,ISNUMBER(SEARCH(\"RZ\",Risque[[#This Row],[Précision du risque\n(si liste déroulante présente)]]))=TRUE,ISNUMBER(SEARCH(\"RP\",Risque[[#This Row],[Précision du risque\n(si liste déroulante présente)]]))=TRUE),\"Oui --> Priorité d'action\",\"Non\"))","v":""},null,null,null,null,{"$f":"IF(ISBLANK(Risque[[#This Row],[Catégorie de risque]]),\"\",CONCATENATE(Risque[[#This Row],[Catégorie de risque]],2))","v":""},null,{"$f":"IF(ISBLANK(Risque[[#This Row],[Moyens de prévention]]),\"\",CONCATENATE(Risque[[#This Row],[Moyens de prévention]],1))","v":""},null,null,null,null,null,{"$f":"IF(ISBLANK(Risque[[#This Row],[Catégorie de risque]]),\"\",CONCATENATE(Risque[[#This Row],[Catégorie de risque]],3))","v":""},null,null,null,{"$f":"IF(ISBLANK(Risque[[#This Row],[Catégorie de risque]]),\"\",CONCATENATE(Risque[[#This Row],[Catégorie de risque]],4))","v":""},null,null,null,null,null,{"$f":"IF(Risque[[#This Row],[Date d''inscription du risque]]<>\"\",YEAR(Risque[[#This Row],[Date d''inscription du risque]]),\"\")","v":""}]
[null,null,{"$f":"IF(ISBLANK(Risque[[#This Row],[Catégorie de risque]]),\"\",CONCATENATE(Risque[[#This Row],[Catégorie de risque]],1))","v":""},null,null,null,null,null,{"$f":"IF(ISBLANK(Risque[[#This Row],[Catégorie de risque]]),\"\",IF(OR(ISNUMBER(SEARCH(\"RZ\",Risque[[#This Row],[Source de danger]]))=TRUE,ISNUMBER(SEARCH(\"RP\",Risque[[#This Row],[Source de danger]]))=TRUE,ISNUMBER(SEARCH(\"RZ\",Risque[[#This Row],[Risques associés]]))=TRUE,ISNUMBER(SEARCH(\"RP\",Risque[[#This Row],[Risques associés]]))=TRUE,ISNUMBER(SEARCH(\"RZ\",Risque[[#This Row],[Précision du risque\n(si liste déroulante présente)]]))=TRUE,ISNUMBER(SEARCH(\"RP\",Risque[[#This Row],[Précision du risque\n(si liste déroulante présente)]]))=TRUE),\"Oui --> Priorité d'action\",\"Non\"))","v":""},null,null,null,null,{"$f":"IF(ISBLANK(Risque[[#This Row],[Catégorie de risque]]),\"\",CONCATENATE(Risque[[#This Row],[Catégorie de risque]],2))","v":""},null,{"$f":"IF(ISBLANK(Risque[[#This Row],[Moyens de prévention]]),\"\",CONCATENATE(Risque[[#This Row],[Moyens de prévention]],1))","v":""},null,null,null,null,null,{"$f":"IF(ISBLANK(Risque[[#This Row],[Catégorie de risque]]),\"\",CONCATENATE(Risque[[#This Row],[Catégorie de risque]],3))","v":""},null,null,null,{"$f":"IF(ISBLANK(Risque[[#This Row],[Catégorie de risque]]),\"\",CONCATENATE(Risque[[#This Row],[Catégorie de risque]],4))","v":""},null,null,null,null,null,{"$f":"IF(Risque[[#This Row],[Date d''inscription du risque]]<>\"\",YEAR(Risque[[#This Row],[Date d''inscription du risque]]),\"\")","v":""}]
[null,null,{"$f":"IF(ISBLANK(Risque[[#This Row],[Catégorie de risque]]),\"\",CONCATENATE(Risque[[#This Row],[Catégorie de risque]],1))","v":""},null,null,null,null,null,{"$f":"IF(ISBLANK(Risque[[#This Row],[Catégorie de risque]]),\"\",IF(OR(ISNUMBER(SEARCH(\"RZ\",Risque[[#This Row],[Source de danger]]))=TRUE,ISNUMBER(SEARCH(\"RP\",Risque[[#This Row],[Source de danger]]))=TRUE,ISNUMBER(SEARCH(\"RZ\",Risque[[#This Row],[Risques associés]]))=TRUE,ISNUMBER(SEARCH(\"RP\",Risque[[#This Row],[Risques associés]]))=TRUE,ISNUMBER(SEARCH(\"RZ\",Risque[[#This Row],[Précision du risque\n(si liste déroulante présente)]]))=TRUE,ISNUMBER(SEARCH(\"RP\",Risque[[#This Row],[Précision du risque\n(si liste déroulante présente)]]))=TRUE),\"Oui --> Priorité d'action\",\"Non\"))","v":""},null,null,null,null,{"$f":"IF(ISBLANK(Risque[[#This Row],[Catégorie de risque]]),\"\",CONCATENATE(Risque[[#This Row],[Catégorie de risque]],2))","v":""},null,{"$f":"IF(ISBLANK(Risque[[#This Row],[Moyens de prévention]]),\"\",CONCATENATE(Risque[[#This Row],[Moyens de prévention]],1))","v":""},null,null,null,null,null,{"$f":"IF(ISBLANK(Risque[[#This Row],[Catégorie de risque]]),\"\",CONCATENATE(Risque[[#This Row],[Catégorie de risque]],3))","v":""},null,null,null,{"$f":"IF(ISBLANK(Risque[[#This Row],[Catégorie de risque]]),\"\",CONCATENATE(Risque[[#This Row],[Catégorie de risque]],4))","v":""},null,null,null,null,null,{"$f":"IF(Risque[[#This Row],[Date d''inscription du risque]]<>\"\",YEAR(Risque[[#This Row],[Date d''inscription du risque]]),\"\")","v":""}]
[null,null,{"$f":"IF(ISBLANK(Risque[[#This Row],[Catégorie de risque]]),\"\",CONCATENATE(Risque[[#This Row],[Catégorie de risque]],1))","v":""},null,null,null,null,null,{"$f":"IF(ISBLANK(Risque[[#This Row],[Catégorie de risque]]),\"\",IF(OR(ISNUMBER(SEARCH(\"RZ\",Risque[[#This Row],[Source de danger]]))=TRUE,ISNUMBER(SEARCH(\"RP\",Risque[[#This Row],[Source de danger]]))=TRUE,ISNUMBER(SEARCH(\"RZ\",Risque[[#This Row],[Risques associés]]))=TRUE,ISNUMBER(SEARCH(\"RP\",Risque[[#This Row],[Risques associés]]))=TRUE,ISNUMBER(SEARCH(\"RZ\",Risque[[#This Row],[Précision du risque\n(si liste déroulante présente)]]))=TRUE,ISNUMBER(SEARCH(\"RP\",Risque[[#This Row],[Précision du risque\n(si liste déroulante présente)]]))=TRUE),\"Oui --> Priorité d'action\",\"Non\"))","v":""},null,null,null,null,{"$f":"IF(ISBLANK(Risque[[#This Row],[Catégorie de risque]]),\"\",CONCATENATE(Risque[[#This Row],[Catégorie de risque]],2))","v":""},null,{"$f":"IF(ISBLANK(Risque[[#This Row],[Moyens de prévention]]),\"\",CONCATENATE(Risque[[#This Row],[Moyens de prévention]],1))","v":""},null,null,null,null,null,{"$f":"IF(ISBLANK(Risque[[#This Row],[Catégorie de risque]]),\"\",CONCATENATE(Risque[[#This Row],[Catégorie de risque]],3))","v":""},null,null,null,{"$f":"IF(ISBLANK(Risque[[#This Row],[Catégorie de risque]]),\"\",CONCATENATE(Risque[[#This Row],[Catégorie de risque]],4))","v":""},null,null,null,null,null,{"$f":"IF(Risque[[#This Row],[Date d''inscription du risque]]<>\"\",YEAR(Risque[[#This Row],[Date d''inscription du risque]]),\"\")","v":""}]
[null,null,{"$f":"IF(ISBLANK(Risque[[#This Row],[Catégorie de risque]]),\"\",CONCATENATE(Risque[[#This Row],[Catégorie de risque]],1))","v":""},null,null,null,null,null,{"$f":"IF(ISBLANK(Risque[[#This Row],[Catégorie de risque]]),\"\",IF(OR(ISNUMBER(SEARCH(\"RZ\",Risque[[#This Row],[Source de danger]]))=TRUE,ISNUMBER(SEARCH(\"RP\",Risque[[#This Row],[Source de danger]]))=TRUE,ISNUMBER(SEARCH(\"RZ\",Risque[[#This Row],[Risques associés]]))=TRUE,ISNUMBER(SEARCH(\"RP\",Risque[[#This Row],[Risques associés]]))=TRUE,ISNUMBER(SEARCH(\"RZ\",Risque[[#This Row],[Précision du risque\n(si liste déroulante présente)]]))=TRUE,ISNUMBER(SEARCH(\"RP\",Risque[[#This Row],[Précision du risque\n(si liste déroulante présente)]]))=TRUE),\"Oui --> Priorité d'action\",\"Non\"))","v":""},null,null,null,null,{"$f":"IF(ISBLANK(Risque[[#This Row],[Catégorie de risque]]),\"\",CONCATENATE(Risque[[#This Row],[Catégorie de risque]],2))","v":""},null,{"$f":"IF(ISBLANK(Risque[[#This Row],[Moyens de prévention]]),\"\",CONCATENATE(Risque[[#This Row],[Moyens de prévention]],1))","v":""},null,null,null,null,null,{"$f":"IF(ISBLANK(Risque[[#This Row],[Catégorie de risque]]),\"\",CONCATENATE(Risque[[#This Row],[Catégorie de risque]],3))","v":""},null,null,null,{"$f":"IF(ISBLANK(Risque[[#This Row],[Catégorie de risque]]),\"\",CONCATENATE(Risque[[#This Row],[Catégorie de risque]],4))","v":""},null,null,null,null,null,{"$f":"IF(Risque[[#This Row],[Date d''inscription du risque]]<>\"\",YEAR(Risque[[#This Row],[Date d''inscription du risque]]),\"\")","v":""}]
[null,null,{"$f":"IF(ISBLANK(Risque[[#This Row],[Catégorie de risque]]),\"\",CONCATENATE(Risque[[#This Row],[Catégorie de risque]],1))","v":""},null,null,null,null,null,{"$f":"IF(ISBLANK(Risque[[#This Row],[Catégorie de risque]]),\"\",IF(OR(ISNUMBER(SEARCH(\"RZ\",Risque[[#This Row],[Source de danger]]))=TRUE,ISNUMBER(SEARCH(\"RP\",Risque[[#This Row],[Source de danger]]))=TRUE,ISNUMBER(SEARCH(\"RZ\",Risque[[#This Row],[Risques associés]]))=TRUE,ISNUMBER(SEARCH(\"RP\",Risque[[#This Row],[Risques associés]]))=TRUE,ISNUMBER(SEARCH(\"RZ\",Risque[[#This Row],[Précision du risque\n(si liste déroulante présente)]]))=TRUE,ISNUMBER(SEARCH(\"RP\",Risque[[#This Row],[Précision du risque\n(si liste déroulante présente)]]))=TRUE),\"Oui --> Priorité d'action\",\"Non\"))","v":""},null,null,null,null,{"$f":"IF(ISBLANK(Risque[[#This Row],[Catégorie de risque]]),\"\",CONCATENATE(Risque[[#This Row],[Catégorie de risque]],2))","v":""},null,{"$f":"IF(ISBLANK(Risque[[#This Row],[Moyens de prévention]]),\"\",CONCATENATE(Risque[[#This Row],[Moyens de prévention]],1))","v":""},null,null,null,null,null,{"$f":"IF(ISBLANK(Risque[[#This Row],[Catégorie de risque]]),\"\",CONCATENATE(Risque[[#This Row],[Catégorie de risque]],3))","v":""},null,null,null,{"$f":"IF(ISBLANK(Risque[[#This Row],[Catégorie de risque]]),\"\",CONCATENATE(Risque[[#This Row],[Catégorie de risque]],4))","v":""},null,null,null,null,null,{"$f":"IF(Risque[[#This Row],[Date d''inscription du risque]]<>\"\",YEAR(Risque[[#This Row],[Date d''inscription du risque]]),\"\")","v":""}]
[null,null,{"$f":"IF(ISBLANK(Risque[[#This Row],[Catégorie de risque]]),\"\",CONCATENATE(Risque[[#This Row],[Catégorie de risque]],1))","v":""},null,null,null,null,null,{"$f":"IF(ISBLANK(Risque[[#This Row],[Catégorie de risque]]),\"\",IF(OR(ISNUMBER(SEARCH(\"RZ\",Risque[[#This Row],[Source de danger]]))=TRUE,ISNUMBER(SEARCH(\"RP\",Risque[[#This Row],[Source de danger]]))=TRUE,ISNUMBER(SEARCH(\"RZ\",Risque[[#This Row],[Risques associés]]))=TRUE,ISNUMBER(SEARCH(\"RP\",Risque[[#This Row],[Risques associés]]))=TRUE,ISNUMBER(SEARCH(\"RZ\",Risque[[#This Row],[Précision du risque\n(si liste déroulante présente)]]))=TRUE,ISNUMBER(SEARCH(\"RP\",Risque[[#This Row],[Précision du risque\n(si liste déroulante présente)]]))=TRUE),\"Oui --> Priorité d'action\",\"Non\"))","v":""},null,null,null,null,{"$f":"IF(ISBLANK(Risque[[#This Row],[Catégorie de risque]]),\"\",CONCATENATE(Risque[[#This Row],[Catégorie de risque]],2))","v":""},null,{"$f":"IF(ISBLANK(Risque[[#This Row],[Moyens de prévention]]),\"\",CONCATENATE(Risque[[#This Row],[Moyens de prévention]],1))","v":""},null,null,null,null,null,{"$f":"IF(ISBLANK(Risque[[#This Row],[Catégorie de risque]]),\"\",CONCATENATE(Risque[[#This Row],[Catégorie de risque]],3))","v":""},null,null,null,{"$f":"IF(ISBLANK(Risque[[#This Row],[Catégorie de risque]]),\"\",CONCATENATE(Risque[[#This Row],[Catégorie de risque]],4))","v":""},null,null,null,null,null,{"$f":"IF(Risque[[#This Row],[Date d''inscription du risque]]<>\"\",YEAR(Risque[[#This Row],[Date d''inscription du risque]]),\"\")","v":""}]
[null,null,{"$f":"IF(ISBLANK(Risque[[#This Row],[Catégorie de risque]]),\"\",CONCATENATE(Risque[[#This Row],[Catégorie de risque]],1))","v":""},null,null,null,null,null,{"$f":"IF(ISBLANK(Risque[[#This Row],[Catégorie de risque]]),\"\",IF(OR(ISNUMBER(SEARCH(\"RZ\",Risque[[#This Row],[Source de danger]]))=TRUE,ISNUMBER(SEARCH(\"RP\",Risque[[#This Row],[Source de danger]]))=TRUE,ISNUMBER(SEARCH(\"RZ\",Risque[[#This Row],[Risques associés]]))=TRUE,ISNUMBER(SEARCH(\"RP\",Risque[[#This Row],[Risques associés]]))=TRUE,ISNUMBER(SEARCH(\"RZ\",Risque[[#This Row],[Précision du risque\n(si liste déroulante présente)]]))=TRUE,ISNUMBER(SEARCH(\"RP\",Risque[[#This Row],[Précision du risque\n(si liste déroulante présente)]]))=TRUE),\"Oui --> Priorité d'action\",\"Non\"))","v":""},null,null,null,null,{"$f":"IF(ISBLANK(Risque[[#This Row],[Catégorie de risque]]),\"\",CONCATENATE(Risque[[#This Row],[Catégorie de risque]],2))","v":""},null,{"$f":"IF(ISBLANK(Risque[[#This Row],[Moyens de prévention]]),\"\",CONCATENATE(Risque[[#This Row],[Moyens de prévention]],1))","v":""},null,null,null,null,null,{"$f":"IF(ISBLANK(Risque[[#This Row],[Catégorie de risque]]),\"\",CONCATENATE(Risque[[#This Row],[Catégorie de risque]],3))","v":""},null,null,null,{"$f":"IF(ISBLANK(Risque[[#This Row],[Catégorie de risque]]),\"\",CONCATENATE(Risque[[#This Row],[Catégorie de risque]],4))","v":""},null,null,null,null,null,{"$f":"IF(Risque[[#This Row],[Date d''inscription du risque]]<>\"\",YEAR(Risque[[#This Row],[Date d''inscription du risque]]),\"\")","v":""}]
[null,null,{"$f":"IF(ISBLANK(Risque[[#This Row],[Catégorie de risque]]),\"\",CONCATENATE(Risque[[#This Row],[Catégorie de risque]],1))","v":""},null,null,null,null,null,{"$f":"IF(ISBLANK(Risque[[#This Row],[Catégorie de risque]]),\"\",IF(OR(ISNUMBER(SEARCH(\"RZ\",Risque[[#This Row],[Source de danger]]))=TRUE,ISNUMBER(SEARCH(\"RP\",Risque[[#This Row],[Source de danger]]))=TRUE,ISNUMBER(SEARCH(\"RZ\",Risque[[#This Row],[Risques associés]]))=TRUE,ISNUMBER(SEARCH(\"RP\",Risque[[#This Row],[Risques associés]]))=TRUE,ISNUMBER(SEARCH(\"RZ\",Risque[[#This Row],[Précision du risque\n(si liste déroulante présente)]]))=TRUE,ISNUMBER(SEARCH(\"RP\",Risque[[#This Row],[Précision du risque\n(si liste déroulante présente)]]))=TRUE),\"Oui --> Priorité d'action\",\"Non\"))","v":""},null,null,null,null,{"$f":"IF(ISBLANK(Risque[[#This Row],[Catégorie de risque]]),\"\",CONCATENATE(Risque[[#This Row],[Catégorie de risque]],2))","v":""},null,{"$f":"IF(ISBLANK(Risque[[#This Row],[Moyens de prévention]]),\"\",CONCATENATE(Risque[[#This Row],[Moyens de prévention]],1))","v":""},null,null,null,null,null,{"$f":"IF(ISBLANK(Risque[[#This Row],[Catégorie de risque]]),\"\",CONCATENATE(Risque[[#This Row],[Catégorie de risque]],3))","v":""},null,null,null,{"$f":"IF(ISBLANK(Risque[[#This Row],[Catégorie de risque]]),\"\",CONCATENATE(Risque[[#This Row],[Catégorie de risque]],4))","v":""},null,null,null,null,null,{"$f":"IF(Risque[[#This Row],[Date d''inscription du risque]]<>\"\",YEAR(Risque[[#This Row],[Date d''inscription du risque]]),\"\")","v":""}]
[null,null,{"$f":"IF(ISBLANK(Risque[[#This Row],[Catégorie de risque]]),\"\",CONCATENATE(Risque[[#This Row],[Catégorie de risque]],1))","v":""},null,null,null,null,null,{"$f":"IF(ISBLANK(Risque[[#This Row],[Catégorie de risque]]),\"\",IF(OR(ISNUMBER(SEARCH(\"RZ\",Risque[[#This Row],[Source de danger]]))=TRUE,ISNUMBER(SEARCH(\"RP\",Risque[[#This Row],[Source de danger]]))=TRUE,ISNUMBER(SEARCH(\"RZ\",Risque[[#This Row],[Risques associés]]))=TRUE,ISNUMBER(SEARCH(\"RP\",Risque[[#This Row],[Risques associés]]))=TRUE,ISNUMBER(SEARCH(\"RZ\",Risque[[#This Row],[Précision du risque\n(si liste déroulante présente)]]))=TRUE,ISNUMBER(SEARCH(\"RP\",Risque[[#This Row],[Précision du risque\n(si liste déroulante présente)]]))=TRUE),\"Oui --> Priorité d'action\",\"Non\"))","v":""},null,null,null,null,{"$f":"IF(ISBLANK(Risque[[#This Row],[Catégorie de risque]]),\"\",CONCATENATE(Risque[[#This Row],[Catégorie de risque]],2))","v":""},null,{"$f":"IF(ISBLANK(Risque[[#This Row],[Moyens de prévention]]),\"\",CONCATENATE(Risque[[#This Row],[Moyens de prévention]],1))","v":""},null,null,null,null,null,{"$f":"IF(ISBLANK(Risque[[#This Row],[Catégorie de risque]]),\"\",CONCATENATE(Risque[[#This Row],[Catégorie de risque]],3))","v":""},null,null,null,{"$f":"IF(ISBLANK(Risque[[#This Row],[Catégorie de risque]]),\"\",CONCATENATE(Risque[[#This Row],[Catégorie de risque]],4))","v":""},null,null,null,null,null,{"$f":"IF(Risque[[#This Row],[Date d''inscription du risque]]<>\"\",YEAR(Risque[[#This Row],[Date d''inscription du risque]]),\"\")","v":""}]
[null,null,{"$f":"IF(ISBLANK(Risque[[#This Row],[Catégorie de risque]]),\"\",CONCATENATE(Risque[[#This Row],[Catégorie de risque]],1))","v":""},null,null,null,null,null,{"$f":"IF(ISBLANK(Risque[[#This Row],[Catégorie de risque]]),\"\",IF(OR(ISNUMBER(SEARCH(\"RZ\",Risque[[#This Row],[Source de danger]]))=TRUE,ISNUMBER(SEARCH(\"RP\",Risque[[#This Row],[Source de danger]]))=TRUE,ISNUMBER(SEARCH(\"RZ\",Risque[[#This Row],[Risques associés]]))=TRUE,ISNUMBER(SEARCH(\"RP\",Risque[[#This Row],[Risques associés]]))=TRUE,ISNUMBER(SEARCH(\"RZ\",Risque[[#This Row],[Précision du risque\n(si liste déroulante présente)]]))=TRUE,ISNUMBER(SEARCH(\"RP\",Risque[[#This Row],[Précision du risque\n(si liste déroulante présente)]]))=TRUE),\"Oui --> Priorité d'action\",\"Non\"))","v":""},null,null,null,null,{"$f":"IF(ISBLANK(Risque[[#This Row],[Catégorie de risque]]),\"\",CONCATENATE(Risque[[#This Row],[Catégorie de risque]],2))","v":""},null,{"$f":"IF(ISBLANK(Risque[[#This Row],[Moyens de prévention]]),\"\",CONCATENATE(Risque[[#This Row],[Moyens de prévention]],1))","v":""},null,null,null,null,null,{"$f":"IF(ISBLANK(Risque[[#This Row],[Catégorie de risque]]),\"\",CONCATENATE(Risque[[#This Row],[Catégorie de risque]],3))","v":""},null,null,null,{"$f":"IF(ISBLANK(Risque[[#This Row],[Catégorie de risque]]),\"\",CONCATENATE(Risque[[#This Row],[Catégorie de risque]],4))","v":""},null,null,null,null,null,{"$f":"IF(Risque[[#This Row],[Date d''inscription du risque]]<>\"\",YEAR(Risque[[#This Row],[Date d''inscription du risque]]),\"\")","v":""}]
[null,null,{"$f":"IF(ISBLANK(Risque[[#This Row],[Catégorie de risque]]),\"\",CONCATENATE(Risque[[#This Row],[Catégorie de risque]],1))","v":""},null,null,null,null,null,{"$f":"IF(ISBLANK(Risque[[#This Row],[Catégorie de risque]]),\"\",IF(OR(ISNUMBER(SEARCH(\"RZ\",Risque[[#This Row],[Source de danger]]))=TRUE,ISNUMBER(SEARCH(\"RP\",Risque[[#This Row],[Source de danger]]))=TRUE,ISNUMBER(SEARCH(\"RZ\",Risque[[#This Row],[Risques associés]]))=TRUE,ISNUMBER(SEARCH(\"RP\",Risque[[#This Row],[Risques associés]]))=TRUE,ISNUMBER(SEARCH(\"RZ\",Risque[[#This Row],[Précision du risque\n(si liste déroulante présente)]]))=TRUE,ISNUMBER(SEARCH(\"RP\",Risque[[#This Row],[Précision du risque\n(si liste déroulante présente)]]))=TRUE),\"Oui --> Priorité d'action\",\"Non\"))","v":""},null,null,null,null,{"$f":"IF(ISBLANK(Risque[[#This Row],[Catégorie de risque]]),\"\",CONCATENATE(Risque[[#This Row],[Catégorie de risque]],2))","v":""},null,{"$f":"IF(ISBLANK(Risque[[#This Row],[Moyens de prévention]]),\"\",CONCATENATE(Risque[[#This Row],[Moyens de prévention]],1))","v":""},null,null,null,null,null,{"$f":"IF(ISBLANK(Risque[[#This Row],[Catégorie de risque]]),\"\",CONCATENATE(Risque[[#This Row],[Catégorie de risque]],3))","v":""},null,null,null,{"$f":"IF(ISBLANK(Risque[[#This Row],[Catégorie de risque]]),\"\",CONCATENATE(Risque[[#This Row],[Catégorie de risque]],4))","v":""},null,null,null,null,null,{"$f":"IF(Risque[[#This Row],[Date d''inscription du risque]]<>\"\",YEAR(Risque[[#This Row],[Date d''inscription du risque]]),\"\")","v":""}]
[null,null,{"$f":"IF(ISBLANK(Risque[[#This Row],[Catégorie de risque]]),\"\",CONCATENATE(Risque[[#This Row],[Catégorie de risque]],1))","v":""},null,null,null,null,null,{"$f":"IF(ISBLANK(Risque[[#This Row],[Catégorie de risque]]),\"\",IF(OR(ISNUMBER(SEARCH(\"RZ\",Risque[[#This Row],[Source de danger]]))=TRUE,ISNUMBER(SEARCH(\"RP\",Risque[[#This Row],[Source de danger]]))=TRUE,ISNUMBER(SEARCH(\"RZ\",Risque[[#This Row],[Risques associés]]))=TRUE,ISNUMBER(SEARCH(\"RP\",Risque[[#This Row],[Risques associés]]))=TRUE,ISNUMBER(SEARCH(\"RZ\",Risque[[#This Row],[Précision du risque\n(si liste déroulante présente)]]))=TRUE,ISNUMBER(SEARCH(\"RP\",Risque[[#This Row],[Précision du risque\n(si liste déroulante présente)]]))=TRUE),\"Oui --> Priorité d'action\",\"Non\"))","v":""},null,null,null,null,{"$f":"IF(ISBLANK(Risque[[#This Row],[Catégorie de risque]]),\"\",CONCATENATE(Risque[[#This Row],[Catégorie de risque]],2))","v":""},null,{"$f":"IF(ISBLANK(Risque[[#This Row],[Moyens de prévention]]),\"\",CONCATENATE(Risque[[#This Row],[Moyens de prévention]],1))","v":""},null,null,null,null,null,{"$f":"IF(ISBLANK(Risque[[#This Row],[Catégorie de risque]]),\"\",CONCATENATE(Risque[[#This Row],[Catégorie de risque]],3))","v":""},null,null,null,{"$f":"IF(ISBLANK(Risque[[#This Row],[Catégorie de risque]]),\"\",CONCATENATE(Risque[[#This Row],[Catégorie de risque]],4))","v":""},null,null,null,null,null,{"$f":"IF(Risque[[#This Row],[Date d''inscription du risque]]<>\"\",YEAR(Risque[[#This Row],[Date d''inscription du risque]]),\"\")","v":""}]
[null,null,{"$f":"IF(ISBLANK(Risque[[#This Row],[Catégorie de risque]]),\"\",CONCATENATE(Risque[[#This Row],[Catégorie de risque]],1))","v":""},null,null,null,null,null,{"$f":"IF(ISBLANK(Risque[[#This Row],[Catégorie de risque]]),\"\",IF(OR(ISNUMBER(SEARCH(\"RZ\",Risque[[#This Row],[Source de danger]]))=TRUE,ISNUMBER(SEARCH(\"RP\",Risque[[#This Row],[Source de danger]]))=TRUE,ISNUMBER(SEARCH(\"RZ\",Risque[[#This Row],[Risques associés]]))=TRUE,ISNUMBER(SEARCH(\"RP\",Risque[[#This Row],[Risques associés]]))=TRUE,ISNUMBER(SEARCH(\"RZ\",Risque[[#This Row],[Précision du risque\n(si liste déroulante présente)]]))=TRUE,ISNUMBER(SEARCH(\"RP\",Risque[[#This Row],[Précision du risque\n(si liste déroulante présente)]]))=TRUE),\"Oui --> Priorité d'action\",\"Non\"))","v":""},null,null,null,null,{"$f":"IF(ISBLANK(Risque[[#This Row],[Catégorie de risque]]),\"\",CONCATENATE(Risque[[#This Row],[Catégorie de risque]],2))","v":""},null,{"$f":"IF(ISBLANK(Risque[[#This Row],[Moyens de prévention]]),\"\",CONCATENATE(Risque[[#This Row],[Moyens de prévention]],1))","v":""},null,null,null,null,null,{"$f":"IF(ISBLANK(Risque[[#This Row],[Catégorie de risque]]),\"\",CONCATENATE(Risque[[#This Row],[Catégorie de risque]],3))","v":""},null,null,null,{"$f":"IF(ISBLANK(Risque[[#This Row],[Catégorie de risque]]),\"\",CONCATENATE(Risque[[#This Row],[Catégorie de risque]],4))","v":""},null,null,null,null,null,{"$f":"IF(Risque[[#This Row],[Date d''inscription du risque]]<>\"\",YEAR(Risque[[#This Row],[Date d''inscription du risque]]),\"\")","v":""}]
[null,null,{"$f":"IF(ISBLANK(Risque[[#This Row],[Catégorie de risque]]),\"\",CONCATENATE(Risque[[#This Row],[Catégorie de risque]],1))","v":""},null,null,null,null,null,{"$f":"IF(ISBLANK(Risque[[#This Row],[Catégorie de risque]]),\"\",IF(OR(ISNUMBER(SEARCH(\"RZ\",Risque[[#This Row],[Source de danger]]))=TRUE,ISNUMBER(SEARCH(\"RP\",Risque[[#This Row],[Source de danger]]))=TRUE,ISNUMBER(SEARCH(\"RZ\",Risque[[#This Row],[Risques associés]]))=TRUE,ISNUMBER(SEARCH(\"RP\",Risque[[#This Row],[Risques associés]]))=TRUE,ISNUMBER(SEARCH(\"RZ\",Risque[[#This Row],[Précision du risque\n(si liste déroulante présente)]]))=TRUE,ISNUMBER(SEARCH(\"RP\",Risque[[#This Row],[Précision du risque\n(si liste déroulante présente)]]))=TRUE),\"Oui --> Priorité d'action\",\"Non\"))","v":""},null,null,null,null,{"$f":"IF(ISBLANK(Risque[[#This Row],[Catégorie de risque]]),\"\",CONCATENATE(Risque[[#This Row],[Catégorie de risque]],2))","v":""},null,{"$f":"IF(ISBLANK(Risque[[#This Row],[Moyens de prévention]]),\"\",CONCATENATE(Risque[[#This Row],[Moyens de prévention]],1))","v":""},null,null,null,null,null,{"$f":"IF(ISBLANK(Risque[[#This Row],[Catégorie de risque]]),\"\",CONCATENATE(Risque[[#This Row],[Catégorie de risque]],3))","v":""},null,null,null,{"$f":"IF(ISBLANK(Risque[[#This Row],[Catégorie de risque]]),\"\",CONCATENATE(Risque[[#This Row],[Catégorie de risque]],4))","v":""},null,null,null,null,null,{"$f":"IF(Risque[[#This Row],[Date d''inscription du risque]]<>\"\",YEAR(Risque[[#This Row],[Date d''inscription du risque]]),\"\")","v":""}]
[null,null,{"$f":"IF(ISBLANK(Risque[[#This Row],[Catégorie de risque]]),\"\",CONCATENATE(Risque[[#This Row],[Catégorie de risque]],1))","v":""},null,null,null,null,null,{"$f":"IF(ISBLANK(Risque[[#This Row],[Catégorie de risque]]),\"\",IF(OR(ISNUMBER(SEARCH(\"RZ\",Risque[[#This Row],[Source de danger]]))=TRUE,ISNUMBER(SEARCH(\"RP\",Risque[[#This Row],[Source de danger]]))=TRUE,ISNUMBER(SEARCH(\"RZ\",Risque[[#This Row],[Risques associés]]))=TRUE,ISNUMBER(SEARCH(\"RP\",Risque[[#This Row],[Risques associés]]))=TRUE,ISNUMBER(SEARCH(\"RZ\",Risque[[#This Row],[Précision du risque\n(si liste déroulante présente)]]))=TRUE,ISNUMBER(SEARCH(\"RP\",Risque[[#This Row],[Précision du risque\n(si liste déroulante présente)]]))=TRUE),\"Oui --> Priorité d'action\",\"Non\"))","v":""},null,null,null,null,{"$f":"IF(ISBLANK(Risque[[#This Row],[Catégorie de risque]]),\"\",CONCATENATE(Risque[[#This Row],[Catégorie de risque]],2))","v":""},null,{"$f":"IF(ISBLANK(Risque[[#This Row],[Moyens de prévention]]),\"\",CONCATENATE(Risque[[#This Row],[Moyens de prévention]],1))","v":""},null,null,null,null,null,{"$f":"IF(ISBLANK(Risque[[#This Row],[Catégorie de risque]]),\"\",CONCATENATE(Risque[[#This Row],[Catégorie de risque]],3))","v":""},null,null,null,{"$f":"IF(ISBLANK(Risque[[#This Row],[Catégorie de risque]]),\"\",CONCATENATE(Risque[[#This Row],[Catégorie de risque]],4))","v":""},null,null,null,null,null,{"$f":"IF(Risque[[#This Row],[Date d''inscription du risque]]<>\"\",YEAR(Risque[[#This Row],[Date d''inscription du risque]]),\"\")","v":""}]
[null,null,{"$f":"IF(ISBLANK(Risque[[#This Row],[Catégorie de risque]]),\"\",CONCATENATE(Risque[[#This Row],[Catégorie de risque]],1))","v":""},null,null,null,null,null,{"$f":"IF(ISBLANK(Risque[[#This Row],[Catégorie de risque]]),\"\",IF(OR(ISNUMBER(SEARCH(\"RZ\",Risque[[#This Row],[Source de danger]]))=TRUE,ISNUMBER(SEARCH(\"RP\",Risque[[#This Row],[Source de danger]]))=TRUE,ISNUMBER(SEARCH(\"RZ\",Risque[[#This Row],[Risques associés]]))=TRUE,ISNUMBER(SEARCH(\"RP\",Risque[[#This Row],[Risques associés]]))=TRUE,ISNUMBER(SEARCH(\"RZ\",Risque[[#This Row],[Précision du risque\n(si liste déroulante présente)]]))=TRUE,ISNUMBER(SEARCH(\"RP\",Risque[[#This Row],[Précision du risque\n(si liste déroulante présente)]]))=TRUE),\"Oui --> Priorité d'action\",\"Non\"))","v":""},null,null,null,null,{"$f":"IF(ISBLANK(Risque[[#This Row],[Catégorie de risque]]),\"\",CONCATENATE(Risque[[#This Row],[Catégorie de risque]],2))","v":""},null,{"$f":"IF(ISBLANK(Risque[[#This Row],[Moyens de prévention]]),\"\",CONCATENATE(Risque[[#This Row],[Moyens de prévention]],1))","v":""},null,null,null,null,null,{"$f":"IF(ISBLANK(Risque[[#This Row],[Catégorie de risque]]),\"\",CONCATENATE(Risque[[#This Row],[Catégorie de risque]],3))","v":""},null,null,null,{"$f":"IF(ISBLANK(Risque[[#This Row],[Catégorie de risque]]),\"\",CONCATENATE(Risque[[#This Row],[Catégorie de risque]],4))","v":""},null,null,null,null,null,{"$f":"IF(Risque[[#This Row],[Date d''inscription du risque]]<>\"\",YEAR(Risque[[#This Row],[Date d''inscription du risque]]),\"\")","v":""}]
[null,null,{"$f":"IF(ISBLANK(Risque[[#This Row],[Catégorie de risque]]),\"\",CONCATENATE(Risque[[#This Row],[Catégorie de risque]],1))","v":""},null,null,null,null,null,{"$f":"IF(ISBLANK(Risque[[#This Row],[Catégorie de risque]]),\"\",IF(OR(ISNUMBER(SEARCH(\"RZ\",Risque[[#This Row],[Source de danger]]))=TRUE,ISNUMBER(SEARCH(\"RP\",Risque[[#This Row],[Source de danger]]))=TRUE,ISNUMBER(SEARCH(\"RZ\",Risque[[#This Row],[Risques associés]]))=TRUE,ISNUMBER(SEARCH(\"RP\",Risque[[#This Row],[Risques associés]]))=TRUE,ISNUMBER(SEARCH(\"RZ\",Risque[[#This Row],[Précision du risque\n(si liste déroulante présente)]]))=TRUE,ISNUMBER(SEARCH(\"RP\",Risque[[#This Row],[Précision du risque\n(si liste déroulante présente)]]))=TRUE),\"Oui --> Priorité d'action\",\"Non\"))","v":""},null,null,null,null,{"$f":"IF(ISBLANK(Risque[[#This Row],[Catégorie de risque]]),\"\",CONCATENATE(Risque[[#This Row],[Catégorie de risque]],2))","v":""},null,{"$f":"IF(ISBLANK(Risque[[#This Row],[Moyens de prévention]]),\"\",CONCATENATE(Risque[[#This Row],[Moyens de prévention]],1))","v":""},null,null,null,null,null,{"$f":"IF(ISBLANK(Risque[[#This Row],[Catégorie de risque]]),\"\",CONCATENATE(Risque[[#This Row],[Catégorie de risque]],3))","v":""},null,null,null,{"$f":"IF(ISBLANK(Risque[[#This Row],[Catégorie de risque]]),\"\",CONCATENATE(Risque[[#This Row],[Catégorie de risque]],4))","v":""},null,null,null,null,null,{"$f":"IF(Risque[[#This Row],[Date d''inscription du risque]]<>\"\",YEAR(Risque[[#This Row],[Date d''inscription du risque]]),\"\")","v":""}]
[null,null,{"$f":"IF(ISBLANK(Risque[[#This Row],[Catégorie de risque]]),\"\",CONCATENATE(Risque[[#This Row],[Catégorie de risque]],1))","v":""},null,null,null,null,null,{"$f":"IF(ISBLANK(Risque[[#This Row],[Catégorie de risque]]),\"\",IF(OR(ISNUMBER(SEARCH(\"RZ\",Risque[[#This Row],[Source de danger]]))=TRUE,ISNUMBER(SEARCH(\"RP\",Risque[[#This Row],[Source de danger]]))=TRUE,ISNUMBER(SEARCH(\"RZ\",Risque[[#This Row],[Risques associés]]))=TRUE,ISNUMBER(SEARCH(\"RP\",Risque[[#This Row],[Risques associés]]))=TRUE,ISNUMBER(SEARCH(\"RZ\",Risque[[#This Row],[Précision du risque\n(si liste déroulante présente)]]))=TRUE,ISNUMBER(SEARCH(\"RP\",Risque[[#This Row],[Précision du risque\n(si liste déroulante présente)]]))=TRUE),\"Oui --> Priorité d'action\",\"Non\"))","v":""},null,null,null,null,{"$f":"IF(ISBLANK(Risque[[#This Row],[Catégorie de risque]]),\"\",CONCATENATE(Risque[[#This Row],[Catégorie de risque]],2))","v":""},null,{"$f":"IF(ISBLANK(Risque[[#This Row],[Moyens de prévention]]),\"\",CONCATENATE(Risque[[#This Row],[Moyens de prévention]],1))","v":""},null,null,null,null,null,{"$f":"IF(ISBLANK(Risque[[#This Row],[Catégorie de risque]]),\"\",CONCATENATE(Risque[[#This Row],[Catégorie de risque]],3))","v":""},null,null,null,{"$f":"IF(ISBLANK(Risque[[#This Row],[Catégorie de risque]]),\"\",CONCATENATE(Risque[[#This Row],[Catégorie de risque]],4))","v":""},null,null,null,null,null,{"$f":"IF(Risque[[#This Row],[Date d''inscription du risque]]<>\"\",YEAR(Risque[[#This Row],[Date d''inscription du risque]]),\"\")","v":""}]
[null,null,{"$f":"IF(ISBLANK(Risque[[#This Row],[Catégorie de risque]]),\"\",CONCATENATE(Risque[[#This Row],[Catégorie de risque]],1))","v":""},null,null,null,null,null,{"$f":"IF(ISBLANK(Risque[[#This Row],[Catégorie de risque]]),\"\",IF(OR(ISNUMBER(SEARCH(\"RZ\",Risque[[#This Row],[Source de danger]]))=TRUE,ISNUMBER(SEARCH(\"RP\",Risque[[#This Row],[Source de danger]]))=TRUE,ISNUMBER(SEARCH(\"RZ\",Risque[[#This Row],[Risques associés]]))=TRUE,ISNUMBER(SEARCH(\"RP\",Risque[[#This Row],[Risques associés]]))=TRUE,ISNUMBER(SEARCH(\"RZ\",Risque[[#This Row],[Précision du risque\n(si liste déroulante présente)]]))=TRUE,ISNUMBER(SEARCH(\"RP\",Risque[[#This Row],[Précision du risque\n(si liste déroulante présente)]]))=TRUE),\"Oui --> Priorité d'action\",\"Non\"))","v":""},null,null,null,null,{"$f":"IF(ISBLANK(Risque[[#This Row],[Catégorie de risque]]),\"\",CONCATENATE(Risque[[#This Row],[Catégorie de risque]],2))","v":""},null,{"$f":"IF(ISBLANK(Risque[[#This Row],[Moyens de prévention]]),\"\",CONCATENATE(Risque[[#This Row],[Moyens de prévention]],1))","v":""},null,null,null,null,null,{"$f":"IF(ISBLANK(Risque[[#This Row],[Catégorie de risque]]),\"\",CONCATENATE(Risque[[#This Row],[Catégorie de risque]],3))","v":""},null,null,null,{"$f":"IF(ISBLANK(Risque[[#This Row],[Catégorie de risque]]),\"\",CONCATENATE(Risque[[#This Row],[Catégorie de risque]],4))","v":""},null,null,null,null,null,{"$f":"IF(Risque[[#This Row],[Date d''inscription du risque]]<>\"\",YEAR(Risque[[#This Row],[Date d''inscription du risque]]),\"\")","v":""}]
[null,null,{"$f":"IF(ISBLANK(Risque[[#This Row],[Catégorie de risque]]),\"\",CONCATENATE(Risque[[#This Row],[Catégorie de risque]],1))","v":""},null,null,null,null,null,{"$f":"IF(ISBLANK(Risque[[#This Row],[Catégorie de risque]]),\"\",IF(OR(ISNUMBER(SEARCH(\"RZ\",Risque[[#This Row],[Source de danger]]))=TRUE,ISNUMBER(SEARCH(\"RP\",Risque[[#This Row],[Source de danger]]))=TRUE,ISNUMBER(SEARCH(\"RZ\",Risque[[#This Row],[Risques associés]]))=TRUE,ISNUMBER(SEARCH(\"RP\",Risque[[#This Row],[Risques associés]]))=TRUE,ISNUMBER(SEARCH(\"RZ\",Risque[[#This Row],[Précision du risque\n(si liste déroulante présente)]]))=TRUE,ISNUMBER(SEARCH(\"RP\",Risque[[#This Row],[Précision du risque\n(si liste déroulante présente)]]))=TRUE),\"Oui --> Priorité d'action\",\"Non\"))","v":""},null,null,null,null,{"$f":"IF(ISBLANK(Risque[[#This Row],[Catégorie de risque]]),\"\",CONCATENATE(Risque[[#This Row],[Catégorie de risque]],2))","v":""},null,{"$f":"IF(ISBLANK(Risque[[#This Row],[Moyens de prévention]]),\"\",CONCATENATE(Risque[[#This Row],[Moyens de prévention]],1))","v":""},null,null,null,null,null,{"$f":"IF(ISBLANK(Risque[[#This Row],[Catégorie de risque]]),\"\",CONCATENATE(Risque[[#This Row],[Catégorie de risque]],3))","v":""},null,null,null,{"$f":"IF(ISBLANK(Risque[[#This Row],[Catégorie de risque]]),\"\",CONCATENATE(Risque[[#This Row],[Catégorie de risque]],4))","v":""},null,null,null,null,null,{"$f":"IF(Risque[[#This Row],[Date d''inscription du risque]]<>\"\",YEAR(Risque[[#This Row],[Date d''inscription du risque]]),\"\")","v":""}]
[null,null,{"$f":"IF(ISBLANK(Risque[[#This Row],[Catégorie de risque]]),\"\",CONCATENATE(Risque[[#This Row],[Catégorie de risque]],1))","v":""},null,null,null,null,null,{"$f":"IF(ISBLANK(Risque[[#This Row],[Catégorie de risque]]),\"\",IF(OR(ISNUMBER(SEARCH(\"RZ\",Risque[[#This Row],[Source de danger]]))=TRUE,ISNUMBER(SEARCH(\"RP\",Risque[[#This Row],[Source de danger]]))=TRUE,ISNUMBER(SEARCH(\"RZ\",Risque[[#This Row],[Risques associés]]))=TRUE,ISNUMBER(SEARCH(\"RP\",Risque[[#This Row],[Risques associés]]))=TRUE,ISNUMBER(SEARCH(\"RZ\",Risque[[#This Row],[Précision du risque\n(si liste déroulante présente)]]))=TRUE,ISNUMBER(SEARCH(\"RP\",Risque[[#This Row],[Précision du risque\n(si liste déroulante présente)]]))=TRUE),\"Oui --> Priorité d'action\",\"Non\"))","v":""},null,null,null,null,{"$f":"IF(ISBLANK(Risque[[#This Row],[Catégorie de risque]]),\"\",CONCATENATE(Risque[[#This Row],[Catégorie de risque]],2))","v":""},null,{"$f":"IF(ISBLANK(Risque[[#This Row],[Moyens de prévention]]),\"\",CONCATENATE(Risque[[#This Row],[Moyens de prévention]],1))","v":""},null,null,null,null,null,{"$f":"IF(ISBLANK(Risque[[#This Row],[Catégorie de risque]]),\"\",CONCATENATE(Risque[[#This Row],[Catégorie de risque]],3))","v":""},null,null,null,{"$f":"IF(ISBLANK(Risque[[#This Row],[Catégorie de risque]]),\"\",CONCATENATE(Risque[[#This Row],[Catégorie de risque]],4))","v":""},null,null,null,null,null,{"$f":"IF(Risque[[#This Row],[Date d''inscription du risque]]<>\"\",YEAR(Risque[[#This Row],[Date d''inscription du risque]]),\"\")","v":""}]
[null,null,{"$f":"IF(ISBLANK(Risque[[#This Row],[Catégorie de risque]]),\"\",CONCATENATE(Risque[[#This Row],[Catégorie de risque]],1))","v":""},null,null,null,null,null,{"$f":"IF(ISBLANK(Risque[[#This Row],[Catégorie de risque]]),\"\",IF(OR(ISNUMBER(SEARCH(\"RZ\",Risque[[#This Row],[Source de danger]]))=TRUE,ISNUMBER(SEARCH(\"RP\",Risque[[#This Row],[Source de danger]]))=TRUE,ISNUMBER(SEARCH(\"RZ\",Risque[[#This Row],[Risques associés]]))=TRUE,ISNUMBER(SEARCH(\"RP\",Risque[[#This Row],[Risques associés]]))=TRUE,ISNUMBER(SEARCH(\"RZ\",Risque[[#This Row],[Précision du risque\n(si liste déroulante présente)]]))=TRUE,ISNUMBER(SEARCH(\"RP\",Risque[[#This Row],[Précision du risque\n(si liste déroulante présente)]]))=TRUE),\"Oui --> Priorité d'action\",\"Non\"))","v":""},null,null,null,null,{"$f":"IF(ISBLANK(Risque[[#This Row],[Catégorie de risque]]),\"\",CONCATENATE(Risque[[#This Row],[Catégorie de risque]],2))","v":""},null,{"$f":"IF(ISBLANK(Risque[[#This Row],[Moyens de prévention]]),\"\",CONCATENATE(Risque[[#This Row],[Moyens de prévention]],1))","v":""},null,null,null,null,null,{"$f":"IF(ISBLANK(Risque[[#This Row],[Catégorie de risque]]),\"\",CONCATENATE(Risque[[#This Row],[Catégorie de risque]],3))","v":""},null,null,null,{"$f":"IF(ISBLANK(Risque[[#This Row],[Catégorie de risque]]),\"\",CONCATENATE(Risque[[#This Row],[Catégorie de risque]],4))","v":""},null,null,null,null,null,{"$f":"IF(Risque[[#This Row],[Date d''inscription du risque]]<>\"\",YEAR(Risque[[#This Row],[Date d''inscription du risque]]),\"\")","v":""}]
[null,null,{"$f":"IF(ISBLANK(Risque[[#This Row],[Catégorie de risque]]),\"\",CONCATENATE(Risque[[#This Row],[Catégorie de risque]],1))","v":""},null,null,null,null,null,{"$f":"IF(ISBLANK(Risque[[#This Row],[Catégorie de risque]]),\"\",IF(OR(ISNUMBER(SEARCH(\"RZ\",Risque[[#This Row],[Source de danger]]))=TRUE,ISNUMBER(SEARCH(\"RP\",Risque[[#This Row],[Source de danger]]))=TRUE,ISNUMBER(SEARCH(\"RZ\",Risque[[#This Row],[Risques associés]]))=TRUE,ISNUMBER(SEARCH(\"RP\",Risque[[#This Row],[Risques associés]]))=TRUE,ISNUMBER(SEARCH(\"RZ\",Risque[[#This Row],[Précision du risque\n(si liste déroulante présente)]]))=TRUE,ISNUMBER(SEARCH(\"RP\",Risque[[#This Row],[Précision du risque\n(si liste déroulante présente)]]))=TRUE),\"Oui --> Priorité d'action\",\"Non\"))","v":""},null,null,null,null,{"$f":"IF(ISBLANK(Risque[[#This Row],[Catégorie de risque]]),\"\",CONCATENATE(Risque[[#This Row],[Catégorie de risque]],2))","v":""},null,{"$f":"IF(ISBLANK(Risque[[#This Row],[Moyens de prévention]]),\"\",CONCATENATE(Risque[[#This Row],[Moyens de prévention]],1))","v":""},null,null,null,null,null,{"$f":"IF(ISBLANK(Risque[[#This Row],[Catégorie de risque]]),\"\",CONCATENATE(Risque[[#This Row],[Catégorie de risque]],3))","v":""},null,null,null,{"$f":"IF(ISBLANK(Risque[[#This Row],[Catégorie de risque]]),\"\",CONCATENATE(Risque[[#This Row],[Catégorie de risque]],4))","v":""},null,null,null,null,null,{"$f":"IF(Risque[[#This Row],[Date d''inscription du risque]]<>\"\",YEAR(Risque[[#This Row],[Date d''inscription du risque]]),\"\")","v":""}]
[null,null,{"$f":"IF(ISBLANK(Risque[[#This Row],[Catégorie de risque]]),\"\",CONCATENATE(Risque[[#This Row],[Catégorie de risque]],1))","v":""},null,null,null,null,null,{"$f":"IF(ISBLANK(Risque[[#This Row],[Catégorie de risque]]),\"\",IF(OR(ISNUMBER(SEARCH(\"RZ\",Risque[[#This Row],[Source de danger]]))=TRUE,ISNUMBER(SEARCH(\"RP\",Risque[[#This Row],[Source de danger]]))=TRUE,ISNUMBER(SEARCH(\"RZ\",Risque[[#This Row],[Risques associés]]))=TRUE,ISNUMBER(SEARCH(\"RP\",Risque[[#This Row],[Risques associés]]))=TRUE,ISNUMBER(SEARCH(\"RZ\",Risque[[#This Row],[Précision du risque\n(si liste déroulante présente)]]))=TRUE,ISNUMBER(SEARCH(\"RP\",Risque[[#This Row],[Précision du risque\n(si liste déroulante présente)]]))=TRUE),\"Oui --> Priorité d'action\",\"Non\"))","v":""},null,null,null,null,{"$f":"IF(ISBLANK(Risque[[#This Row],[Catégorie de risque]]),\"\",CONCATENATE(Risque[[#This Row],[Catégorie de risque]],2))","v":""},null,{"$f":"IF(ISBLANK(Risque[[#This Row],[Moyens de prévention]]),\"\",CONCATENATE(Risque[[#This Row],[Moyens de prévention]],1))","v":""},null,null,null,null,null,{"$f":"IF(ISBLANK(Risque[[#This Row],[Catégorie de risque]]),\"\",CONCATENATE(Risque[[#This Row],[Catégorie de risque]],3))","v":""},null,null,null,{"$f":"IF(ISBLANK(Risque[[#This Row],[Catégorie de risque]]),\"\",CONCATENATE(Risque[[#This Row],[Catégorie de risque]],4))","v":""},null,null,null,null,null,{"$f":"IF(Risque[[#This Row],[Date d''inscription du risque]]<>\"\",YEAR(Risque[[#This Row],[Date d''inscription du risque]]),\"\")","v":""}]
[null,null,{"$f":"IF(ISBLANK(Risque[[#This Row],[Catégorie de risque]]),\"\",CONCATENATE(Risque[[#This Row],[Catégorie de risque]],1))","v":""},null,null,null,null,null,{"$f":"IF(ISBLANK(Risque[[#This Row],[Catégorie de risque]]),\"\",IF(OR(ISNUMBER(SEARCH(\"RZ\",Risque[[#This Row],[Source de danger]]))=TRUE,ISNUMBER(SEARCH(\"RP\",Risque[[#This Row],[Source de danger]]))=TRUE,ISNUMBER(SEARCH(\"RZ\",Risque[[#This Row],[Risques associés]]))=TRUE,ISNUMBER(SEARCH(\"RP\",Risque[[#This Row],[Risques associés]]))=TRUE,ISNUMBER(SEARCH(\"RZ\",Risque[[#This Row],[Précision du risque\n(si liste déroulante présente)]]))=TRUE,ISNUMBER(SEARCH(\"RP\",Risque[[#This Row],[Précision du risque\n(si liste déroulante présente)]]))=TRUE),\"Oui --> Priorité d'action\",\"Non\"))","v":""},null,null,null,null,{"$f":"IF(ISBLANK(Risque[[#This Row],[Catégorie de risque]]),\"\",CONCATENATE(Risque[[#This Row],[Catégorie de risque]],2))","v":""},null,{"$f":"IF(ISBLANK(Risque[[#This Row],[Moyens de prévention]]),\"\",CONCATENATE(Risque[[#This Row],[Moyens de prévention]],1))","v":""},null,null,null,null,null,{"$f":"IF(ISBLANK(Risque[[#This Row],[Catégorie de risque]]),\"\",CONCATENATE(Risque[[#This Row],[Catégorie de risque]],3))","v":""},null,null,null,{"$f":"IF(ISBLANK(Risque[[#This Row],[Catégorie de risque]]),\"\",CONCATENATE(Risque[[#This Row],[Catégorie de risque]],4))","v":""},null,null,null,null,null,{"$f":"IF(Risque[[#This Row],[Date d''inscription du risque]]<>\"\",YEAR(Risque[[#This Row],[Date d''inscription du risque]]),\"\")","v":""}]
[null,null,{"$f":"IF(ISBLANK(Risque[[#This Row],[Catégorie de risque]]),\"\",CONCATENATE(Risque[[#This Row],[Catégorie de risque]],1))","v":""},null,null,null,null,null,{"$f":"IF(ISBLANK(Risque[[#This Row],[Catégorie de risque]]),\"\",IF(OR(ISNUMBER(SEARCH(\"RZ\",Risque[[#This Row],[Source de danger]]))=TRUE,ISNUMBER(SEARCH(\"RP\",Risque[[#This Row],[Source de danger]]))=TRUE,ISNUMBER(SEARCH(\"RZ\",Risque[[#This Row],[Risques associés]]))=TRUE,ISNUMBER(SEARCH(\"RP\",Risque[[#This Row],[Risques associés]]))=TRUE,ISNUMBER(SEARCH(\"RZ\",Risque[[#This Row],[Précision du risque\n(si liste déroulante présente)]]))=TRUE,ISNUMBER(SEARCH(\"RP\",Risque[[#This Row],[Précision du risque\n(si liste déroulante présente)]]))=TRUE),\"Oui --> Priorité d'action\",\"Non\"))","v":""},null,null,null,null,{"$f":"IF(ISBLANK(Risque[[#This Row],[Catégorie de risque]]),\"\",CONCATENATE(Risque[[#This Row],[Catégorie de risque]],2))","v":""},null,{"$f":"IF(ISBLANK(Risque[[#This Row],[Moyens de prévention]]),\"\",CONCATENATE(Risque[[#This Row],[Moyens de prévention]],1))","v":""},null,null,null,null,null,{"$f":"IF(ISBLANK(Risque[[#This Row],[Catégorie de risque]]),\"\",CONCATENATE(Risque[[#This Row],[Catégorie de risque]],3))","v":""},null,null,null,{"$f":"IF(ISBLANK(Risque[[#This Row],[Catégorie de risque]]),\"\",CONCATENATE(Risque[[#This Row],[Catégorie de risque]],4))","v":""},null,null,null,null,null,{"$f":"IF(Risque[[#This Row],[Date d''inscription du risque]]<>\"\",YEAR(Risque[[#This Row],[Date d''inscription du risque]]),\"\")","v":""}]
[null,null,{"$f":"IF(ISBLANK(Risque[[#This Row],[Catégorie de risque]]),\"\",CONCATENATE(Risque[[#This Row],[Catégorie de risque]],1))","v":""},null,null,null,null,null,{"$f":"IF(ISBLANK(Risque[[#This Row],[Catégorie de risque]]),\"\",IF(OR(ISNUMBER(SEARCH(\"RZ\",Risque[[#This Row],[Source de danger]]))=TRUE,ISNUMBER(SEARCH(\"RP\",Risque[[#This Row],[Source de danger]]))=TRUE,ISNUMBER(SEARCH(\"RZ\",Risque[[#This Row],[Risques associés]]))=TRUE,ISNUMBER(SEARCH(\"RP\",Risque[[#This Row],[Risques associés]]))=TRUE,ISNUMBER(SEARCH(\"RZ\",Risque[[#This Row],[Précision du risque\n(si liste déroulante présente)]]))=TRUE,ISNUMBER(SEARCH(\"RP\",Risque[[#This Row],[Précision du risque\n(si liste déroulante présente)]]))=TRUE),\"Oui --> Priorité d'action\",\"Non\"))","v":""},null,null,null,null,{"$f":"IF(ISBLANK(Risque[[#This Row],[Catégorie de risque]]),\"\",CONCATENATE(Risque[[#This Row],[Catégorie de risque]],2))","v":""},null,{"$f":"IF(ISBLANK(Risque[[#This Row],[Moyens de prévention]]),\"\",CONCATENATE(Risque[[#This Row],[Moyens de prévention]],1))","v":""},null,null,null,null,null,{"$f":"IF(ISBLANK(Risque[[#This Row],[Catégorie de risque]]),\"\",CONCATENATE(Risque[[#This Row],[Catégorie de risque]],3))","v":""},null,null,null,{"$f":"IF(ISBLANK(Risque[[#This Row],[Catégorie de risque]]),\"\",CONCATENATE(Risque[[#This Row],[Catégorie de risque]],4))","v":""},null,null,null,null,null,{"$f":"IF(Risque[[#This Row],[Date d''inscription du risque]]<>\"\",YEAR(Risque[[#This Row],[Date d''inscription du risque]]),\"\")","v":""}]
[null,null,{"$f":"IF(ISBLANK(Risque[[#This Row],[Catégorie de risque]]),\"\",CONCATENATE(Risque[[#This Row],[Catégorie de risque]],1))","v":""},null,null,null,null,null,{"$f":"IF(ISBLANK(Risque[[#This Row],[Catégorie de risque]]),\"\",IF(OR(ISNUMBER(SEARCH(\"RZ\",Risque[[#This Row],[Source de danger]]))=TRUE,ISNUMBER(SEARCH(\"RP\",Risque[[#This Row],[Source de danger]]))=TRUE,ISNUMBER(SEARCH(\"RZ\",Risque[[#This Row],[Risques associés]]))=TRUE,ISNUMBER(SEARCH(\"RP\",Risque[[#This Row],[Risques associés]]))=TRUE,ISNUMBER(SEARCH(\"RZ\",Risque[[#This Row],[Précision du risque\n(si liste déroulante présente)]]))=TRUE,ISNUMBER(SEARCH(\"RP\",Risque[[#This Row],[Précision du risque\n(si liste déroulante présente)]]))=TRUE),\"Oui --> Priorité d'action\",\"Non\"))","v":""},null,null,null,null,{"$f":"IF(ISBLANK(Risque[[#This Row],[Catégorie de risque]]),\"\",CONCATENATE(Risque[[#This Row],[Catégorie de risque]],2))","v":""},null,{"$f":"IF(ISBLANK(Risque[[#This Row],[Moyens de prévention]]),\"\",CONCATENATE(Risque[[#This Row],[Moyens de prévention]],1))","v":""},null,null,null,null,null,{"$f":"IF(ISBLANK(Risque[[#This Row],[Catégorie de risque]]),\"\",CONCATENATE(Risque[[#This Row],[Catégorie de risque]],3))","v":""},null,null,null,{"$f":"IF(ISBLANK(Risque[[#This Row],[Catégorie de risque]]),\"\",CONCATENATE(Risque[[#This Row],[Catégorie de risque]],4))","v":""},null,null,null,null,null,{"$f":"IF(Risque[[#This Row],[Date d''inscription du risque]]<>\"\",YEAR(Risque[[#This Row],[Date d''inscription du risque]]),\"\")","v":""}]
[null,null,{"$f":"IF(ISBLANK(Risque[[#This Row],[Catégorie de risque]]),\"\",CONCATENATE(Risque[[#This Row],[Catégorie de risque]],1))","v":""},null,null,null,null,null,{"$f":"IF(ISBLANK(Risque[[#This Row],[Catégorie de risque]]),\"\",IF(OR(ISNUMBER(SEARCH(\"RZ\",Risque[[#This Row],[Source de danger]]))=TRUE,ISNUMBER(SEARCH(\"RP\",Risque[[#This Row],[Source de danger]]))=TRUE,ISNUMBER(SEARCH(\"RZ\",Risque[[#This Row],[Risques associés]]))=TRUE,ISNUMBER(SEARCH(\"RP\",Risque[[#This Row],[Risques associés]]))=TRUE,ISNUMBER(SEARCH(\"RZ\",Risque[[#This Row],[Précision du risque\n(si liste déroulante présente)]]))=TRUE,ISNUMBER(SEARCH(\"RP\",Risque[[#This Row],[Précision du risque\n(si liste déroulante présente)]]))=TRUE),\"Oui --> Priorité d'action\",\"Non\"))","v":""},null,null,null,null,{"$f":"IF(ISBLANK(Risque[[#This Row],[Catégorie de risque]]),\"\",CONCATENATE(Risque[[#This Row],[Catégorie de risque]],2))","v":""},null,{"$f":"IF(ISBLANK(Risque[[#This Row],[Moyens de prévention]]),\"\",CONCATENATE(Risque[[#This Row],[Moyens de prévention]],1))","v":""},null,null,null,null,null,{"$f":"IF(ISBLANK(Risque[[#This Row],[Catégorie de risque]]),\"\",CONCATENATE(Risque[[#This Row],[Catégorie de risque]],3))","v":""},null,null,null,{"$f":"IF(ISBLANK(Risque[[#This Row],[Catégorie de risque]]),\"\",CONCATENATE(Risque[[#This Row],[Catégorie de risque]],4))","v":""},null,null,null,null,null,{"$f":"IF(Risque[[#This Row],[Date d''inscription du risque]]<>\"\",YEAR(Risque[[#This Row],[Date d''inscription du risque]]),\"\")","v":""}]
[null,null,{"$f":"IF(ISBLANK(Risque[[#This Row],[Catégorie de risque]]),\"\",CONCATENATE(Risque[[#This Row],[Catégorie de risque]],1))","v":""},null,null,null,null,null,{"$f":"IF(ISBLANK(Risque[[#This Row],[Catégorie de risque]]),\"\",IF(OR(ISNUMBER(SEARCH(\"RZ\",Risque[[#This Row],[Source de danger]]))=TRUE,ISNUMBER(SEARCH(\"RP\",Risque[[#This Row],[Source de danger]]))=TRUE,ISNUMBER(SEARCH(\"RZ\",Risque[[#This Row],[Risques associés]]))=TRUE,ISNUMBER(SEARCH(\"RP\",Risque[[#This Row],[Risques associés]]))=TRUE,ISNUMBER(SEARCH(\"RZ\",Risque[[#This Row],[Précision du risque\n(si liste déroulante présente)]]))=TRUE,ISNUMBER(SEARCH(\"RP\",Risque[[#This Row],[Précision du risque\n(si liste déroulante présente)]]))=TRUE),\"Oui --> Priorité d'action\",\"Non\"))","v":""},null,null,null,null,{"$f":"IF(ISBLANK(Risque[[#This Row],[Catégorie de risque]]),\"\",CONCATENATE(Risque[[#This Row],[Catégorie de risque]],2))","v":""},null,{"$f":"IF(ISBLANK(Risque[[#This Row],[Moyens de prévention]]),\"\",CONCATENATE(Risque[[#This Row],[Moyens de prévention]],1))","v":""},null,null,null,null,null,{"$f":"IF(ISBLANK(Risque[[#This Row],[Catégorie de risque]]),\"\",CONCATENATE(Risque[[#This Row],[Catégorie de risque]],3))","v":""},null,null,null,{"$f":"IF(ISBLANK(Risque[[#This Row],[Catégorie de risque]]),\"\",CONCATENATE(Risque[[#This Row],[Catégorie de risque]],4))","v":""},null,null,null,null,null,{"$f":"IF(Risque[[#This Row],[Date d''inscription du risque]]<>\"\",YEAR(Risque[[#This Row],[Date d''inscription du risque]]),\"\")","v":""}]
[null,null,{"$f":"IF(ISBLANK(Risque[[#This Row],[Catégorie de risque]]),\"\",CONCATENATE(Risque[[#This Row],[Catégorie de risque]],1))","v":""},null,null,null,null,null,{"$f":"IF(ISBLANK(Risque[[#This Row],[Catégorie de risque]]),\"\",IF(OR(ISNUMBER(SEARCH(\"RZ\",Risque[[#This Row],[Source de danger]]))=TRUE,ISNUMBER(SEARCH(\"RP\",Risque[[#This Row],[Source de danger]]))=TRUE,ISNUMBER(SEARCH(\"RZ\",Risque[[#This Row],[Risques associés]]))=TRUE,ISNUMBER(SEARCH(\"RP\",Risque[[#This Row],[Risques associés]]))=TRUE,ISNUMBER(SEARCH(\"RZ\",Risque[[#This Row],[Précision du risque\n(si liste déroulante présente)]]))=TRUE,ISNUMBER(SEARCH(\"RP\",Risque[[#This Row],[Précision du risque\n(si liste déroulante présente)]]))=TRUE),\"Oui --> Priorité d'action\",\"Non\"))","v":""},null,null,null,null,{"$f":"IF(ISBLANK(Risque[[#This Row],[Catégorie de risque]]),\"\",CONCATENATE(Risque[[#This Row],[Catégorie de risque]],2))","v":""},null,{"$f":"IF(ISBLANK(Risque[[#This Row],[Moyens de prévention]]),\"\",CONCATENATE(Risque[[#This Row],[Moyens de prévention]],1))","v":""},null,null,null,null,null,{"$f":"IF(ISBLANK(Risque[[#This Row],[Catégorie de risque]]),\"\",CONCATENATE(Risque[[#This Row],[Catégorie de risque]],3))","v":""},null,null,null,{"$f":"IF(ISBLANK(Risque[[#This Row],[Catégorie de risque]]),\"\",CONCATENATE(Risque[[#This Row],[Catégorie de risque]],4))","v":""},null,null,null,null,null,{"$f":"IF(Risque[[#This Row],[Date d''inscription du risque]]<>\"\",YEAR(Risque[[#This Row],[Date d''inscription du risque]]),\"\")","v":""}]
[null,null,{"$f":"IF(ISBLANK(Risque[[#This Row],[Catégorie de risque]]),\"\",CONCATENATE(Risque[[#This Row],[Catégorie de risque]],1))","v":""},null,null,null,null,null,{"$f":"IF(ISBLANK(Risque[[#This Row],[Catégorie de risque]]),\"\",IF(OR(ISNUMBER(SEARCH(\"RZ\",Risque[[#This Row],[Source de danger]]))=TRUE,ISNUMBER(SEARCH(\"RP\",Risque[[#This Row],[Source de danger]]))=TRUE,ISNUMBER(SEARCH(\"RZ\",Risque[[#This Row],[Risques associés]]))=TRUE,ISNUMBER(SEARCH(\"RP\",Risque[[#This Row],[Risques associés]]))=TRUE,ISNUMBER(SEARCH(\"RZ\",Risque[[#This Row],[Précision du risque\n(si liste déroulante présente)]]))=TRUE,ISNUMBER(SEARCH(\"RP\",Risque[[#This Row],[Précision du risque\n(si liste déroulante présente)]]))=TRUE),\"Oui --> Priorité d'action\",\"Non\"))","v":""},null,null,null,null,{"$f":"IF(ISBLANK(Risque[[#This Row],[Catégorie de risque]]),\"\",CONCATENATE(Risque[[#This Row],[Catégorie de risque]],2))","v":""},null,{"$f":"IF(ISBLANK(Risque[[#This Row],[Moyens de prévention]]),\"\",CONCATENATE(Risque[[#This Row],[Moyens de prévention]],1))","v":""},null,null,null,null,null,{"$f":"IF(ISBLANK(Risque[[#This Row],[Catégorie de risque]]),\"\",CONCATENATE(Risque[[#This Row],[Catégorie de risque]],3))","v":""},null,null,null,{"$f":"IF(ISBLANK(Risque[[#This Row],[Catégorie de risque]]),\"\",CONCATENATE(Risque[[#This Row],[Catégorie de risque]],4))","v":""},null,null,null,null,null,{"$f":"IF(Risque[[#This Row],[Date d''inscription du risque]]<>\"\",YEAR(Risque[[#This Row],[Date d''inscription du risque]]),\"\")","v":""}]
[null,null,{"$f":"IF(ISBLANK(Risque[[#This Row],[Catégorie de risque]]),\"\",CONCATENATE(Risque[[#This Row],[Catégorie de risque]],1))","v":""},null,null,null,null,null,{"$f":"IF(ISBLANK(Risque[[#This Row],[Catégorie de risque]]),\"\",IF(OR(ISNUMBER(SEARCH(\"RZ\",Risque[[#This Row],[Source de danger]]))=TRUE,ISNUMBER(SEARCH(\"RP\",Risque[[#This Row],[Source de danger]]))=TRUE,ISNUMBER(SEARCH(\"RZ\",Risque[[#This Row],[Risques associés]]))=TRUE,ISNUMBER(SEARCH(\"RP\",Risque[[#This Row],[Risques associés]]))=TRUE,ISNUMBER(SEARCH(\"RZ\",Risque[[#This Row],[Précision du risque\n(si liste déroulante présente)]]))=TRUE,ISNUMBER(SEARCH(\"RP\",Risque[[#This Row],[Précision du risque\n(si liste déroulante présente)]]))=TRUE),\"Oui --> Priorité d'action\",\"Non\"))","v":""},null,null,null,null,{"$f":"IF(ISBLANK(Risque[[#This Row],[Catégorie de risque]]),\"\",CONCATENATE(Risque[[#This Row],[Catégorie de risque]],2))","v":""},null,{"$f":"IF(ISBLANK(Risque[[#This Row],[Moyens de prévention]]),\"\",CONCATENATE(Risque[[#This Row],[Moyens de prévention]],1))","v":""},null,null,null,null,null,{"$f":"IF(ISBLANK(Risque[[#This Row],[Catégorie de risque]]),\"\",CONCATENATE(Risque[[#This Row],[Catégorie de risque]],3))","v":""},null,null,null,{"$f":"IF(ISBLANK(Risque[[#This Row],[Catégorie de risque]]),\"\",CONCATENATE(Risque[[#This Row],[Catégorie de risque]],4))","v":""},null,null,null,null,null,{"$f":"IF(Risque[[#This Row],[Date d''inscription du risque]]<>\"\",YEAR(Risque[[#This Row],[Date d''inscription du risque]]),\"\")","v":""}]
[null,null,{"$f":"IF(ISBLANK(Risque[[#This Row],[Catégorie de risque]]),\"\",CONCATENATE(Risque[[#This Row],[Catégorie de risque]],1))","v":""},null,null,null,null,null,{"$f":"IF(ISBLANK(Risque[[#This Row],[Catégorie de risque]]),\"\",IF(OR(ISNUMBER(SEARCH(\"RZ\",Risque[[#This Row],[Source de danger]]))=TRUE,ISNUMBER(SEARCH(\"RP\",Risque[[#This Row],[Source de danger]]))=TRUE,ISNUMBER(SEARCH(\"RZ\",Risque[[#This Row],[Risques associés]]))=TRUE,ISNUMBER(SEARCH(\"RP\",Risque[[#This Row],[Risques associés]]))=TRUE,ISNUMBER(SEARCH(\"RZ\",Risque[[#This Row],[Précision du risque\n(si liste déroulante présente)]]))=TRUE,ISNUMBER(SEARCH(\"RP\",Risque[[#This Row],[Précision du risque\n(si liste déroulante présente)]]))=TRUE),\"Oui --> Priorité d'action\",\"Non\"))","v":""},null,null,null,null,{"$f":"IF(ISBLANK(Risque[[#This Row],[Catégorie de risque]]),\"\",CONCATENATE(Risque[[#This Row],[Catégorie de risque]],2))","v":""},null,{"$f":"IF(ISBLANK(Risque[[#This Row],[Moyens de prévention]]),\"\",CONCATENATE(Risque[[#This Row],[Moyens de prévention]],1))","v":""},null,null,null,null,null,{"$f":"IF(ISBLANK(Risque[[#This Row],[Catégorie de risque]]),\"\",CONCATENATE(Risque[[#This Row],[Catégorie de risque]],3))","v":""},null,null,null,{"$f":"IF(ISBLANK(Risque[[#This Row],[Catégorie de risque]]),\"\",CONCATENATE(Risque[[#This Row],[Catégorie de risque]],4))","v":""},null,null,null,null,null,{"$f":"IF(Risque[[#This Row],[Date d''inscription du risque]]<>\"\",YEAR(Risque[[#This Row],[Date d''inscription du risque]]),\"\")","v":""}]
[null,null,{"$f":"IF(ISBLANK(Risque[[#This Row],[Catégorie de risque]]),\"\",CONCATENATE(Risque[[#This Row],[Catégorie de risque]],1))","v":""},null,null,null,null,null,{"$f":"IF(ISBLANK(Risque[[#This Row],[Catégorie de risque]]),\"\",IF(OR(ISNUMBER(SEARCH(\"RZ\",Risque[[#This Row],[Source de danger]]))=TRUE,ISNUMBER(SEARCH(\"RP\",Risque[[#This Row],[Source de danger]]))=TRUE,ISNUMBER(SEARCH(\"RZ\",Risque[[#This Row],[Risques associés]]))=TRUE,ISNUMBER(SEARCH(\"RP\",Risque[[#This Row],[Risques associés]]))=TRUE,ISNUMBER(SEARCH(\"RZ\",Risque[[#This Row],[Précision du risque\n(si liste déroulante présente)]]))=TRUE,ISNUMBER(SEARCH(\"RP\",Risque[[#This Row],[Précision du risque\n(si liste déroulante présente)]]))=TRUE),\"Oui --> Priorité d'action\",\"Non\"))","v":""},null,null,null,null,{"$f":"IF(ISBLANK(Risque[[#This Row],[Catégorie de risque]]),\"\",CONCATENATE(Risque[[#This Row],[Catégorie de risque]],2))","v":""},null,{"$f":"IF(ISBLANK(Risque[[#This Row],[Moyens de prévention]]),\"\",CONCATENATE(Risque[[#This Row],[Moyens de prévention]],1))","v":""},null,null,null,null,null,{"$f":"IF(ISBLANK(Risque[[#This Row],[Catégorie de risque]]),\"\",CONCATENATE(Risque[[#This Row],[Catégorie de risque]],3))","v":""},null,null,null,{"$f":"IF(ISBLANK(Risque[[#This Row],[Catégorie de risque]]),\"\",CONCATENATE(Risque[[#This Row],[Catégorie de risque]],4))","v":""},null,null,null,null,null,{"$f":"IF(Risque[[#This Row],[Date d''inscription du risque]]<>\"\",YEAR(Risque[[#This Row],[Date d''inscription du risque]]),\"\")","v":""}]
[null,null,{"$f":"IF(ISBLANK(Risque[[#This Row],[Catégorie de risque]]),\"\",CONCATENATE(Risque[[#This Row],[Catégorie de risque]],1))","v":""},null,null,null,null,null,{"$f":"IF(ISBLANK(Risque[[#This Row],[Catégorie de risque]]),\"\",IF(OR(ISNUMBER(SEARCH(\"RZ\",Risque[[#This Row],[Source de danger]]))=TRUE,ISNUMBER(SEARCH(\"RP\",Risque[[#This Row],[Source de danger]]))=TRUE,ISNUMBER(SEARCH(\"RZ\",Risque[[#This Row],[Risques associés]]))=TRUE,ISNUMBER(SEARCH(\"RP\",Risque[[#This Row],[Risques associés]]))=TRUE,ISNUMBER(SEARCH(\"RZ\",Risque[[#This Row],[Précision du risque\n(si liste déroulante présente)]]))=TRUE,ISNUMBER(SEARCH(\"RP\",Risque[[#This Row],[Précision du risque\n(si liste déroulante présente)]]))=TRUE),\"Oui --> Priorité d'action\",\"Non\"))","v":""},null,null,null,null,{"$f":"IF(ISBLANK(Risque[[#This Row],[Catégorie de risque]]),\"\",CONCATENATE(Risque[[#This Row],[Catégorie de risque]],2))","v":""},null,{"$f":"IF(ISBLANK(Risque[[#This Row],[Moyens de prévention]]),\"\",CONCATENATE(Risque[[#This Row],[Moyens de prévention]],1))","v":""},null,null,null,null,null,{"$f":"IF(ISBLANK(Risque[[#This Row],[Catégorie de risque]]),\"\",CONCATENATE(Risque[[#This Row],[Catégorie de risque]],3))","v":""},null,null,null,{"$f":"IF(ISBLANK(Risque[[#This Row],[Catégorie de risque]]),\"\",CONCATENATE(Risque[[#This Row],[Catégorie de risque]],4))","v":""},null,null,null,null,null,{"$f":"IF(Risque[[#This Row],[Date d''inscription du risque]]<>\"\",YEAR(Risque[[#This Row],[Date d''inscription du risque]]),\"\")","v":""}]
[null,null,{"$f":"IF(ISBLANK(Risque[[#This Row],[Catégorie de risque]]),\"\",CONCATENATE(Risque[[#This Row],[Catégorie de risque]],1))","v":""},null,null,null,null,null,{"$f":"IF(ISBLANK(Risque[[#This Row],[Catégorie de risque]]),\"\",IF(OR(ISNUMBER(SEARCH(\"RZ\",Risque[[#This Row],[Source de danger]]))=TRUE,ISNUMBER(SEARCH(\"RP\",Risque[[#This Row],[Source de danger]]))=TRUE,ISNUMBER(SEARCH(\"RZ\",Risque[[#This Row],[Risques associés]]))=TRUE,ISNUMBER(SEARCH(\"RP\",Risque[[#This Row],[Risques associés]]))=TRUE,ISNUMBER(SEARCH(\"RZ\",Risque[[#This Row],[Précision du risque\n(si liste déroulante présente)]]))=TRUE,ISNUMBER(SEARCH(\"RP\",Risque[[#This Row],[Précision du risque\n(si liste déroulante présente)]]))=TRUE),\"Oui --> Priorité d'action\",\"Non\"))","v":""},null,null,null,null,{"$f":"IF(ISBLANK(Risque[[#This Row],[Catégorie de risque]]),\"\",CONCATENATE(Risque[[#This Row],[Catégorie de risque]],2))","v":""},null,{"$f":"IF(ISBLANK(Risque[[#This Row],[Moyens de prévention]]),\"\",CONCATENATE(Risque[[#This Row],[Moyens de prévention]],1))","v":""},null,null,null,null,null,{"$f":"IF(ISBLANK(Risque[[#This Row],[Catégorie de risque]]),\"\",CONCATENATE(Risque[[#This Row],[Catégorie de risque]],3))","v":""},null,null,null,{"$f":"IF(ISBLANK(Risque[[#This Row],[Catégorie de risque]]),\"\",CONCATENATE(Risque[[#This Row],[Catégorie de risque]],4))","v":""},null,null,null,null,null,{"$f":"IF(Risque[[#This Row],[Date d''inscription du risque]]<>\"\",YEAR(Risque[[#This Row],[Date d''inscription du risque]]),\"\")","v":""}]
[null,null,{"$f":"IF(ISBLANK(Risque[[#This Row],[Catégorie de risque]]),\"\",CONCATENATE(Risque[[#This Row],[Catégorie de risque]],1))","v":""},null,null,null,null,null,{"$f":"IF(ISBLANK(Risque[[#This Row],[Catégorie de risque]]),\"\",IF(OR(ISNUMBER(SEARCH(\"RZ\",Risque[[#This Row],[Source de danger]]))=TRUE,ISNUMBER(SEARCH(\"RP\",Risque[[#This Row],[Source de danger]]))=TRUE,ISNUMBER(SEARCH(\"RZ\",Risque[[#This Row],[Risques associés]]))=TRUE,ISNUMBER(SEARCH(\"RP\",Risque[[#This Row],[Risques associés]]))=TRUE,ISNUMBER(SEARCH(\"RZ\",Risque[[#This Row],[Précision du risque\n(si liste déroulante présente)]]))=TRUE,ISNUMBER(SEARCH(\"RP\",Risque[[#This Row],[Précision du risque\n(si liste déroulante présente)]]))=TRUE),\"Oui --> Priorité d'action\",\"Non\"))","v":""},null,null,null,null,{"$f":"IF(ISBLANK(Risque[[#This Row],[Catégorie de risque]]),\"\",CONCATENATE(Risque[[#This Row],[Catégorie de risque]],2))","v":""},null,{"$f":"IF(ISBLANK(Risque[[#This Row],[Moyens de prévention]]),\"\",CONCATENATE(Risque[[#This Row],[Moyens de prévention]],1))","v":""},null,null,null,null,null,{"$f":"IF(ISBLANK(Risque[[#This Row],[Catégorie de risque]]),\"\",CONCATENATE(Risque[[#This Row],[Catégorie de risque]],3))","v":""},null,null,null,{"$f":"IF(ISBLANK(Risque[[#This Row],[Catégorie de risque]]),\"\",CONCATENATE(Risque[[#This Row],[Catégorie de risque]],4))","v":""},null,null,null,null,null,{"$f":"IF(Risque[[#This Row],[Date d''inscription du risque]]<>\"\",YEAR(Risque[[#This Row],[Date d''inscription du risque]]),\"\")","v":""}]
[null,null,{"$f":"IF(ISBLANK(Risque[[#This Row],[Catégorie de risque]]),\"\",CONCATENATE(Risque[[#This Row],[Catégorie de risque]],1))","v":""},null,null,null,null,null,{"$f":"IF(ISBLANK(Risque[[#This Row],[Catégorie de risque]]),\"\",IF(OR(ISNUMBER(SEARCH(\"RZ\",Risque[[#This Row],[Source de danger]]))=TRUE,ISNUMBER(SEARCH(\"RP\",Risque[[#This Row],[Source de danger]]))=TRUE,ISNUMBER(SEARCH(\"RZ\",Risque[[#This Row],[Risques associés]]))=TRUE,ISNUMBER(SEARCH(\"RP\",Risque[[#This Row],[Risques associés]]))=TRUE,ISNUMBER(SEARCH(\"RZ\",Risque[[#This Row],[Précision du risque\n(si liste déroulante présente)]]))=TRUE,ISNUMBER(SEARCH(\"RP\",Risque[[#This Row],[Précision du risque\n(si liste déroulante présente)]]))=TRUE),\"Oui --> Priorité d'action\",\"Non\"))","v":""},null,null,null,null,{"$f":"IF(ISBLANK(Risque[[#This Row],[Catégorie de risque]]),\"\",CONCATENATE(Risque[[#This Row],[Catégorie de risque]],2))","v":""},null,{"$f":"IF(ISBLANK(Risque[[#This Row],[Moyens de prévention]]),\"\",CONCATENATE(Risque[[#This Row],[Moyens de prévention]],1))","v":""},null,null,null,null,null,{"$f":"IF(ISBLANK(Risque[[#This Row],[Catégorie de risque]]),\"\",CONCATENATE(Risque[[#This Row],[Catégorie de risque]],3))","v":""},null,null,null,{"$f":"IF(ISBLANK(Risque[[#This Row],[Catégorie de risque]]),\"\",CONCATENATE(Risque[[#This Row],[Catégorie de risque]],4))","v":""},null,null,null,null,null,{"$f":"IF(Risque[[#This Row],[Date d''inscription du risque]]<>\"\",YEAR(Risque[[#This Row],[Date d''inscription du risque]]),\"\")","v":""}]
[null,null,{"$f":"IF(ISBLANK(Risque[[#This Row],[Catégorie de risque]]),\"\",CONCATENATE(Risque[[#This Row],[Catégorie de risque]],1))","v":""},null,null,null,null,null,{"$f":"IF(ISBLANK(Risque[[#This Row],[Catégorie de risque]]),\"\",IF(OR(ISNUMBER(SEARCH(\"RZ\",Risque[[#This Row],[Source de danger]]))=TRUE,ISNUMBER(SEARCH(\"RP\",Risque[[#This Row],[Source de danger]]))=TRUE,ISNUMBER(SEARCH(\"RZ\",Risque[[#This Row],[Risques associés]]))=TRUE,ISNUMBER(SEARCH(\"RP\",Risque[[#This Row],[Risques associés]]))=TRUE,ISNUMBER(SEARCH(\"RZ\",Risque[[#This Row],[Précision du risque\n(si liste déroulante présente)]]))=TRUE,ISNUMBER(SEARCH(\"RP\",Risque[[#This Row],[Précision du risque\n(si liste déroulante présente)]]))=TRUE),\"Oui --> Priorité d'action\",\"Non\"))","v":""},null,null,null,null,{"$f":"IF(ISBLANK(Risque[[#This Row],[Catégorie de risque]]),\"\",CONCATENATE(Risque[[#This Row],[Catégorie de risque]],2))","v":""},null,{"$f":"IF(ISBLANK(Risque[[#This Row],[Moyens de prévention]]),\"\",CONCATENATE(Risque[[#This Row],[Moyens de prévention]],1))","v":""},null,null,null,null,null,{"$f":"IF(ISBLANK(Risque[[#This Row],[Catégorie de risque]]),\"\",CONCATENATE(Risque[[#This Row],[Catégorie de risque]],3))","v":""},null,null,null,{"$f":"IF(ISBLANK(Risque[[#This Row],[Catégorie de risque]]),\"\",CONCATENATE(Risque[[#This Row],[Catégorie de risque]],4))","v":""},null,null,null,null,null,{"$f":"IF(Risque[[#This Row],[Date d''inscription du risque]]<>\"\",YEAR(Risque[[#This Row],[Date d''inscription du risque]]),\"\")","v":""}]
[null,null,{"$f":"IF(ISBLANK(Risque[[#This Row],[Catégorie de risque]]),\"\",CONCATENATE(Risque[[#This Row],[Catégorie de risque]],1))","v":""},null,null,null,null,null,{"$f":"IF(ISBLANK(Risque[[#This Row],[Catégorie de risque]]),\"\",IF(OR(ISNUMBER(SEARCH(\"RZ\",Risque[[#This Row],[Source de danger]]))=TRUE,ISNUMBER(SEARCH(\"RP\",Risque[[#This Row],[Source de danger]]))=TRUE,ISNUMBER(SEARCH(\"RZ\",Risque[[#This Row],[Risques associés]]))=TRUE,ISNUMBER(SEARCH(\"RP\",Risque[[#This Row],[Risques associés]]))=TRUE,ISNUMBER(SEARCH(\"RZ\",Risque[[#This Row],[Précision du risque\n(si liste déroulante présente)]]))=TRUE,ISNUMBER(SEARCH(\"RP\",Risque[[#This Row],[Précision du risque\n(si liste déroulante présente)]]))=TRUE),\"Oui --> Priorité d'action\",\"Non\"))","v":""},null,null,null,null,{"$f":"IF(ISBLANK(Risque[[#This Row],[Catégorie de risque]]),\"\",CONCATENATE(Risque[[#This Row],[Catégorie de risque]],2))","v":""},null,{"$f":"IF(ISBLANK(Risque[[#This Row],[Moyens de prévention]]),\"\",CONCATENATE(Risque[[#This Row],[Moyens de prévention]],1))","v":""},null,null,null,null,null,{"$f":"IF(ISBLANK(Risque[[#This Row],[Catégorie de risque]]),\"\",CONCATENATE(Risque[[#This Row],[Catégorie de risque]],3))","v":""},null,null,null,{"$f":"IF(ISBLANK(Risque[[#This Row],[Catégorie de risque]]),\"\",CONCATENATE(Risque[[#This Row],[Catégorie de risque]],4))","v":""},null,null,null,null,null,{"$f":"IF(Risque[[#This Row],[Date d''inscription du risque]]<>\"\",YEAR(Risque[[#This Row],[Date d''inscription du risque]]),\"\")","v":""}]
[null,null,{"$f":"IF(ISBLANK(Risque[[#This Row],[Catégorie de risque]]),\"\",CONCATENATE(Risque[[#This Row],[Catégorie de risque]],1))","v":""},null,null,null,null,null,{"$f":"IF(ISBLANK(Risque[[#This Row],[Catégorie de risque]]),\"\",IF(OR(ISNUMBER(SEARCH(\"RZ\",Risque[[#This Row],[Source de danger]]))=TRUE,ISNUMBER(SEARCH(\"RP\",Risque[[#This Row],[Source de danger]]))=TRUE,ISNUMBER(SEARCH(\"RZ\",Risque[[#This Row],[Risques associés]]))=TRUE,ISNUMBER(SEARCH(\"RP\",Risque[[#This Row],[Risques associés]]))=TRUE,ISNUMBER(SEARCH(\"RZ\",Risque[[#This Row],[Précision du risque\n(si liste déroulante présente)]]))=TRUE,ISNUMBER(SEARCH(\"RP\",Risque[[#This Row],[Précision du risque\n(si liste déroulante présente)]]))=TRUE),\"Oui --> Priorité d'action\",\"Non\"))","v":""},null,null,null,null,{"$f":"IF(ISBLANK(Risque[[#This Row],[Catégorie de risque]]),\"\",CONCATENATE(Risque[[#This Row],[Catégorie de risque]],2))","v":""},null,{"$f":"IF(ISBLANK(Risque[[#This Row],[Moyens de prévention]]),\"\",CONCATENATE(Risque[[#This Row],[Moyens de prévention]],1))","v":""},null,null,null,null,null,{"$f":"IF(ISBLANK(Risque[[#This Row],[Catégorie de risque]]),\"\",CONCATENATE(Risque[[#This Row],[Catégorie de risque]],3))","v":""},null,null,null,{"$f":"IF(ISBLANK(Risque[[#This Row],[Catégorie de risque]]),\"\",CONCATENATE(Risque[[#This Row],[Catégorie de risque]],4))","v":""},null,null,null,null,null,{"$f":"IF(Risque[[#This Row],[Date d''inscription du risque]]<>\"\",YEAR(Risque[[#This Row],[Date d''inscription du risque]]),\"\")","v":""}]
[null,null,{"$f":"IF(ISBLANK(Risque[[#This Row],[Catégorie de risque]]),\"\",CONCATENATE(Risque[[#This Row],[Catégorie de risque]],1))","v":""},null,null,null,null,null,{"$f":"IF(ISBLANK(Risque[[#This Row],[Catégorie de risque]]),\"\",IF(OR(ISNUMBER(SEARCH(\"RZ\",Risque[[#This Row],[Source de danger]]))=TRUE,ISNUMBER(SEARCH(\"RP\",Risque[[#This Row],[Source de danger]]))=TRUE,ISNUMBER(SEARCH(\"RZ\",Risque[[#This Row],[Risques associés]]))=TRUE,ISNUMBER(SEARCH(\"RP\",Risque[[#This Row],[Risques associés]]))=TRUE,ISNUMBER(SEARCH(\"RZ\",Risque[[#This Row],[Précision du risque\n(si liste déroulante présente)]]))=TRUE,ISNUMBER(SEARCH(\"RP\",Risque[[#This Row],[Précision du risque\n(si liste déroulante présente)]]))=TRUE),\"Oui --> Priorité d'action\",\"Non\"))","v":""},null,null,null,null,{"$f":"IF(ISBLANK(Risque[[#This Row],[Catégorie de risque]]),\"\",CONCATENATE(Risque[[#This Row],[Catégorie de risque]],2))","v":""},null,{"$f":"IF(ISBLANK(Risque[[#This Row],[Moyens de prévention]]),\"\",CONCATENATE(Risque[[#This Row],[Moyens de prévention]],1))","v":""},null,null,null,null,null,{"$f":"IF(ISBLANK(Risque[[#This Row],[Catégorie de risque]]),\"\",CONCATENATE(Risque[[#This Row],[Catégorie de risque]],3))","v":""},null,null,null,{"$f":"IF(ISBLANK(Risque[[#This Row],[Catégorie de risque]]),\"\",CONCATENATE(Risque[[#This Row],[Catégorie de risque]],4))","v":""},null,null,null,null,null,{"$f":"IF(Risque[[#This Row],[Date d''inscription du risque]]<>\"\",YEAR(Risque[[#This Row],[Date d''inscription du risque]]),\"\")","v":""}]
[null,null,{"$f":"IF(ISBLANK(Risque[[#This Row],[Catégorie de risque]]),\"\",CONCATENATE(Risque[[#This Row],[Catégorie de risque]],1))","v":""},null,null,null,null,null,{"$f":"IF(ISBLANK(Risque[[#This Row],[Catégorie de risque]]),\"\",IF(OR(ISNUMBER(SEARCH(\"RZ\",Risque[[#This Row],[Source de danger]]))=TRUE,ISNUMBER(SEARCH(\"RP\",Risque[[#This Row],[Source de danger]]))=TRUE,ISNUMBER(SEARCH(\"RZ\",Risque[[#This Row],[Risques associés]]))=TRUE,ISNUMBER(SEARCH(\"RP\",Risque[[#This Row],[Risques associés]]))=TRUE,ISNUMBER(SEARCH(\"RZ\",Risque[[#This Row],[Précision du risque\n(si liste déroulante présente)]]))=TRUE,ISNUMBER(SEARCH(\"RP\",Risque[[#This Row],[Précision du risque\n(si liste déroulante présente)]]))=TRUE),\"Oui --> Priorité d'action\",\"Non\"))","v":""},null,null,null,null,{"$f":"IF(ISBLANK(Risque[[#This Row],[Catégorie de risque]]),\"\",CONCATENATE(Risque[[#This Row],[Catégorie de risque]],2))","v":""},null,{"$f":"IF(ISBLANK(Risque[[#This Row],[Moyens de prévention]]),\"\",CONCATENATE(Risque[[#This Row],[Moyens de prévention]],1))","v":""},null,null,null,null,null,{"$f":"IF(ISBLANK(Risque[[#This Row],[Catégorie de risque]]),\"\",CONCATENATE(Risque[[#This Row],[Catégorie de risque]],3))","v":""},null,null,null,{"$f":"IF(ISBLANK(Risque[[#This Row],[Catégorie de risque]]),\"\",CONCATENATE(Risque[[#This Row],[Catégorie de risque]],4))","v":""},null,null,null,null,null,{"$f":"IF(Risque[[#This Row],[Date d''inscription du risque]]<>\"\",YEAR(Risque[[#This Row],[Date d''inscription du risque]]),\"\")","v":""}]
[null,null,{"$f":"IF(ISBLANK(Risque[[#This Row],[Catégorie de risque]]),\"\",CONCATENATE(Risque[[#This Row],[Catégorie de risque]],1))","v":""},null,null,null,null,null,{"$f":"IF(ISBLANK(Risque[[#This Row],[Catégorie de risque]]),\"\",IF(OR(ISNUMBER(SEARCH(\"RZ\",Risque[[#This Row],[Source de danger]]))=TRUE,ISNUMBER(SEARCH(\"RP\",Risque[[#This Row],[Source de danger]]))=TRUE,ISNUMBER(SEARCH(\"RZ\",Risque[[#This Row],[Risques associés]]))=TRUE,ISNUMBER(SEARCH(\"RP\",Risque[[#This Row],[Risques associés]]))=TRUE,ISNUMBER(SEARCH(\"RZ\",Risque[[#This Row],[Précision du risque\n(si liste déroulante présente)]]))=TRUE,ISNUMBER(SEARCH(\"RP\",Risque[[#This Row],[Précision du risque\n(si liste déroulante présente)]]))=TRUE),\"Oui --> Priorité d'action\",\"Non\"))","v":""},null,null,null,null,{"$f":"IF(ISBLANK(Risque[[#This Row],[Catégorie de risque]]),\"\",CONCATENATE(Risque[[#This Row],[Catégorie de risque]],2))","v":""},null,{"$f":"IF(ISBLANK(Risque[[#This Row],[Moyens de prévention]]),\"\",CONCATENATE(Risque[[#This Row],[Moyens de prévention]],1))","v":""},null,null,null,null,null,{"$f":"IF(ISBLANK(Risque[[#This Row],[Catégorie de risque]]),\"\",CONCATENATE(Risque[[#This Row],[Catégorie de risque]],3))","v":""},null,null,null,{"$f":"IF(ISBLANK(Risque[[#This Row],[Catégorie de risque]]),\"\",CONCATENATE(Risque[[#This Row],[Catégorie de risque]],4))","v":""},null,null,null,null,null,{"$f":"IF(Risque[[#This Row],[Date d''inscription du risque]]<>\"\",YEAR(Risque[[#This Row],[Date d''inscription du risque]]),\"\")","v":""}]
[null,null,{"$f":"IF(ISBLANK(Risque[[#This Row],[Catégorie de risque]]),\"\",CONCATENATE(Risque[[#This Row],[Catégorie de risque]],1))","v":""},null,null,null,null,null,{"$f":"IF(ISBLANK(Risque[[#This Row],[Catégorie de risque]]),\"\",IF(OR(ISNUMBER(SEARCH(\"RZ\",Risque[[#This Row],[Source de danger]]))=TRUE,ISNUMBER(SEARCH(\"RP\",Risque[[#This Row],[Source de danger]]))=TRUE,ISNUMBER(SEARCH(\"RZ\",Risque[[#This Row],[Risques associés]]))=TRUE,ISNUMBER(SEARCH(\"RP\",Risque[[#This Row],[Risques associés]]))=TRUE,ISNUMBER(SEARCH(\"RZ\",Risque[[#This Row],[Précision du risque\n(si liste déroulante présente)]]))=TRUE,ISNUMBER(SEARCH(\"RP\",Risque[[#This Row],[Précision du risque\n(si liste déroulante présente)]]))=TRUE),\"Oui --> Priorité d'action\",\"Non\"))","v":""},null,null,null,null,{"$f":"IF(ISBLANK(Risque[[#This Row],[Catégorie de risque]]),\"\",CONCATENATE(Risque[[#This Row],[Catégorie de risque]],2))","v":""},null,{"$f":"IF(ISBLANK(Risque[[#This Row],[Moyens de prévention]]),\"\",CONCATENATE(Risque[[#This Row],[Moyens de prévention]],1))","v":""},null,null,null,null,null,{"$f":"IF(ISBLANK(Risque[[#This Row],[Catégorie de risque]]),\"\",CONCATENATE(Risque[[#This Row],[Catégorie de risque]],3))","v":""},null,null,null,{"$f":"IF(ISBLANK(Risque[[#This Row],[Catégorie de risque]]),\"\",CONCATENATE(Risque[[#This Row],[Catégorie de risque]],4))","v":""},null,null,null,null,null,{"$f":"IF(Risque[[#This Row],[Date d''inscription du risque]]<>\"\",YEAR(Risque[[#This Row],[Date d''inscription du risque]]),\"\")","v":""}]
[null,null,{"$f":"IF(ISBLANK(Risque[[#This Row],[Catégorie de risque]]),\"\",CONCATENATE(Risque[[#This Row],[Catégorie de risque]],1))","v":""},null,null,null,null,null,{"$f":"IF(ISBLANK(Risque[[#This Row],[Catégorie de risque]]),\"\",IF(OR(ISNUMBER(SEARCH(\"RZ\",Risque[[#This Row],[Source de danger]]))=TRUE,ISNUMBER(SEARCH(\"RP\",Risque[[#This Row],[Source de danger]]))=TRUE,ISNUMBER(SEARCH(\"RZ\",Risque[[#This Row],[Risques associés]]))=TRUE,ISNUMBER(SEARCH(\"RP\",Risque[[#This Row],[Risques associés]]))=TRUE,ISNUMBER(SEARCH(\"RZ\",Risque[[#This Row],[Précision du risque\n(si liste déroulante présente)]]))=TRUE,ISNUMBER(SEARCH(\"RP\",Risque[[#This Row],[Précision du risque\n(si liste déroulante présente)]]))=TRUE),\"Oui --> Priorité d'action\",\"Non\"))","v":""},null,null,null,null,{"$f":"IF(ISBLANK(Risque[[#This Row],[Catégorie de risque]]),\"\",CONCATENATE(Risque[[#This Row],[Catégorie de risque]],2))","v":""},null,{"$f":"IF(ISBLANK(Risque[[#This Row],[Moyens de prévention]]),\"\",CONCATENATE(Risque[[#This Row],[Moyens de prévention]],1))","v":""},null,null,null,null,null,{"$f":"IF(ISBLANK(Risque[[#This Row],[Catégorie de risque]]),\"\",CONCATENATE(Risque[[#This Row],[Catégorie de risque]],3))","v":""},null,null,null,{"$f":"IF(ISBLANK(Risque[[#This Row],[Catégorie de risque]]),\"\",CONCATENATE(Risque[[#This Row],[Catégorie de risque]],4))","v":""},null,null,null,null,null,{"$f":"IF(Risque[[#This Row],[Date d''inscription du risque]]<>\"\",YEAR(Risque[[#This Row],[Date d''inscription du risque]]),\"\")","v":""}]
[null,null,{"$f":"IF(ISBLANK(Risque[[#This Row],[Catégorie de risque]]),\"\",CONCATENATE(Risque[[#This Row],[Catégorie de risque]],1))","v":""},null,null,null,null,null,{"$f":"IF(ISBLANK(Risque[[#This Row],[Catégorie de risque]]),\"\",IF(OR(ISNUMBER(SEARCH(\"RZ\",Risque[[#This Row],[Source de danger]]))=TRUE,ISNUMBER(SEARCH(\"RP\",Risque[[#This Row],[Source de danger]]))=TRUE,ISNUMBER(SEARCH(\"RZ\",Risque[[#This Row],[Risques associés]]))=TRUE,ISNUMBER(SEARCH(\"RP\",Risque[[#This Row],[Risques associés]]))=TRUE,ISNUMBER(SEARCH(\"RZ\",Risque[[#This Row],[Précision du risque\n(si liste déroulante présente)]]))=TRUE,ISNUMBER(SEARCH(\"RP\",Risque[[#This Row],[Précision du risque\n(si liste déroulante présente)]]))=TRUE),\"Oui --> Priorité d'action\",\"Non\"))","v":""},null,null,null,null,{"$f":"IF(ISBLANK(Risque[[#This Row],[Catégorie de risque]]),\"\",CONCATENATE(Risque[[#This Row],[Catégorie de risque]],2))","v":""},null,{"$f":"IF(ISBLANK(Risque[[#This Row],[Moyens de prévention]]),\"\",CONCATENATE(Risque[[#This Row],[Moyens de prévention]],1))","v":""},null,null,null,null,null,{"$f":"IF(ISBLANK(Risque[[#This Row],[Catégorie de risque]]),\"\",CONCATENATE(Risque[[#This Row],[Catégorie de risque]],3))","v":""},null,null,null,{"$f":"IF(ISBLANK(Risque[[#This Row],[Catégorie de risque]]),\"\",CONCATENATE(Risque[[#This Row],[Catégorie de risque]],4))","v":""},null,null,null,null,null,{"$f":"IF(Risque[[#This Row],[Date d''inscription du risque]]<>\"\",YEAR(Risque[[#This Row],[Date d''inscription du risque]]),\"\")","v":""}]
[null,null,{"$f":"IF(ISBLANK(Risque[[#This Row],[Catégorie de risque]]),\"\",CONCATENATE(Risque[[#This Row],[Catégorie de risque]],1))","v":""},null,null,null,null,null,{"$f":"IF(ISBLANK(Risque[[#This Row],[Catégorie de risque]]),\"\",IF(OR(ISNUMBER(SEARCH(\"RZ\",Risque[[#This Row],[Source de danger]]))=TRUE,ISNUMBER(SEARCH(\"RP\",Risque[[#This Row],[Source de danger]]))=TRUE,ISNUMBER(SEARCH(\"RZ\",Risque[[#This Row],[Risques associés]]))=TRUE,ISNUMBER(SEARCH(\"RP\",Risque[[#This Row],[Risques associés]]))=TRUE,ISNUMBER(SEARCH(\"RZ\",Risque[[#This Row],[Précision du risque\n(si liste déroulante présente)]]))=TRUE,ISNUMBER(SEARCH(\"RP\",Risque[[#This Row],[Précision du risque\n(si liste déroulante présente)]]))=TRUE),\"Oui --> Priorité d'action\",\"Non\"))","v":""},null,null,null,null,{"$f":"IF(ISBLANK(Risque[[#This Row],[Catégorie de risque]]),\"\",CONCATENATE(Risque[[#This Row],[Catégorie de risque]],2))","v":""},null,{"$f":"IF(ISBLANK(Risque[[#This Row],[Moyens de prévention]]),\"\",CONCATENATE(Risque[[#This Row],[Moyens de prévention]],1))","v":""},null,null,null,null,null,{"$f":"IF(ISBLANK(Risque[[#This Row],[Catégorie de risque]]),\"\",CONCATENATE(Risque[[#This Row],[Catégorie de risque]],3))","v":""},null,null,null,{"$f":"IF(ISBLANK(Risque[[#This Row],[Catégorie de risque]]),\"\",CONCATENATE(Risque[[#This Row],[Catégorie de risque]],4))","v":""},null,null,null,null,null,{"$f":"IF(Risque[[#This Row],[Date d''inscription du risque]]<>\"\",YEAR(Risque[[#This Row],[Date d''inscription du risque]]),\"\")","v":""}]
[null,null,{"$f":"IF(ISBLANK(Risque[[#This Row],[Catégorie de risque]]),\"\",CONCATENATE(Risque[[#This Row],[Catégorie de risque]],1))","v":""},null,null,null,null,null,{"$f":"IF(ISBLANK(Risque[[#This Row],[Catégorie de risque]]),\"\",IF(OR(ISNUMBER(SEARCH(\"RZ\",Risque[[#This Row],[Source de danger]]))=TRUE,ISNUMBER(SEARCH(\"RP\",Risque[[#This Row],[Source de danger]]))=TRUE,ISNUMBER(SEARCH(\"RZ\",Risque[[#This Row],[Risques associés]]))=TRUE,ISNUMBER(SEARCH(\"RP\",Risque[[#This Row],[Risques associés]]))=TRUE,ISNUMBER(SEARCH(\"RZ\",Risque[[#This Row],[Précision du risque\n(si liste déroulante présente)]]))=TRUE,ISNUMBER(SEARCH(\"RP\",Risque[[#This Row],[Précision du risque\n(si liste déroulante présente)]]))=TRUE),\"Oui --> Priorité d'action\",\"Non\"))","v":""},null,null,null,null,{"$f":"IF(ISBLANK(Risque[[#This Row],[Catégorie de risque]]),\"\",CONCATENATE(Risque[[#This Row],[Catégorie de risque]],2))","v":""},null,{"$f":"IF(ISBLANK(Risque[[#This Row],[Moyens de prévention]]),\"\",CONCATENATE(Risque[[#This Row],[Moyens de prévention]],1))","v":""},null,null,null,null,null,{"$f":"IF(ISBLANK(Risque[[#This Row],[Catégorie de risque]]),\"\",CONCATENATE(Risque[[#This Row],[Catégorie de risque]],3))","v":""},null,null,null,{"$f":"IF(ISBLANK(Risque[[#This Row],[Catégorie de risque]]),\"\",CONCATENATE(Risque[[#This Row],[Catégorie de risque]],4))","v":""},null,null,null,null,null,{"$f":"IF(Risque[[#This Row],[Date d''inscription du risque]]<>\"\",YEAR(Risque[[#This Row],[Date d''inscription du risque]]),\"\")","v":""}]
[null,null,{"$f":"IF(ISBLANK(Risque[[#This Row],[Catégorie de risque]]),\"\",CONCATENATE(Risque[[#This Row],[Catégorie de risque]],1))","v":""},null,null,null,null,null,{"$f":"IF(ISBLANK(Risque[[#This Row],[Catégorie de risque]]),\"\",IF(OR(ISNUMBER(SEARCH(\"RZ\",Risque[[#This Row],[Source de danger]]))=TRUE,ISNUMBER(SEARCH(\"RP\",Risque[[#This Row],[Source de danger]]))=TRUE,ISNUMBER(SEARCH(\"RZ\",Risque[[#This Row],[Risques associés]]))=TRUE,ISNUMBER(SEARCH(\"RP\",Risque[[#This Row],[Risques associés]]))=TRUE,ISNUMBER(SEARCH(\"RZ\",Risque[[#This Row],[Précision du risque\n(si liste déroulante présente)]]))=TRUE,ISNUMBER(SEARCH(\"RP\",Risque[[#This Row],[Précision du risque\n(si liste déroulante présente)]]))=TRUE),\"Oui --> Priorité d'action\",\"Non\"))","v":""},null,null,null,null,{"$f":"IF(ISBLANK(Risque[[#This Row],[Catégorie de risque]]),\"\",CONCATENATE(Risque[[#This Row],[Catégorie de risque]],2))","v":""},null,{"$f":"IF(ISBLANK(Risque[[#This Row],[Moyens de prévention]]),\"\",CONCATENATE(Risque[[#This Row],[Moyens de prévention]],1))","v":""},null,null,null,null,null,{"$f":"IF(ISBLANK(Risque[[#This Row],[Catégorie de risque]]),\"\",CONCATENATE(Risque[[#This Row],[Catégorie de risque]],3))","v":""},null,null,null,{"$f":"IF(ISBLANK(Risque[[#This Row],[Catégorie de risque]]),\"\",CONCATENATE(Risque[[#This Row],[Catégorie de risque]],4))","v":""},null,null,null,null,null,{"$f":"IF(Risque[[#This Row],[Date d''inscription du risque]]<>\"\",YEAR(Risque[[#This Row],[Date d''inscription du risque]]),\"\")","v":""}]
[null,null,{"$f":"IF(ISBLANK(Risque[[#This Row],[Catégorie de risque]]),\"\",CONCATENATE(Risque[[#This Row],[Catégorie de risque]],1))","v":""},null,null,null,null,null,{"$f":"IF(ISBLANK(Risque[[#This Row],[Catégorie de risque]]),\"\",IF(OR(ISNUMBER(SEARCH(\"RZ\",Risque[[#This Row],[Source de danger]]))=TRUE,ISNUMBER(SEARCH(\"RP\",Risque[[#This Row],[Source de danger]]))=TRUE,ISNUMBER(SEARCH(\"RZ\",Risque[[#This Row],[Risques associés]]))=TRUE,ISNUMBER(SEARCH(\"RP\",Risque[[#This Row],[Risques associés]]))=TRUE,ISNUMBER(SEARCH(\"RZ\",Risque[[#This Row],[Précision du risque\n(si liste déroulante présente)]]))=TRUE,ISNUMBER(SEARCH(\"RP\",Risque[[#This Row],[Précision du risque\n(si liste déroulante présente)]]))=TRUE),\"Oui --> Priorité d'action\",\"Non\"))","v":""},null,null,null,null,{"$f":"IF(ISBLANK(Risque[[#This Row],[Catégorie de risque]]),\"\",CONCATENATE(Risque[[#This Row],[Catégorie de risque]],2))","v":""},null,{"$f":"IF(ISBLANK(Risque[[#This Row],[Moyens de prévention]]),\"\",CONCATENATE(Risque[[#This Row],[Moyens de prévention]],1))","v":""},null,null,null,null,null,{"$f":"IF(ISBLANK(Risque[[#This Row],[Catégorie de risque]]),\"\",CONCATENATE(Risque[[#This Row],[Catégorie de risque]],3))","v":""},null,null,null,{"$f":"IF(ISBLANK(Risque[[#This Row],[Catégorie de risque]]),\"\",CONCATENATE(Risque[[#This Row],[Catégorie de risque]],4))","v":""},null,null,null,null,null,{"$f":"IF(Risque[[#This Row],[Date d''inscription du risque]]<>\"\",YEAR(Risque[[#This Row],[Date d''inscription du risque]]),\"\")","v":""}]
[null,null,{"$f":"IF(ISBLANK(Risque[[#This Row],[Catégorie de risque]]),\"\",CONCATENATE(Risque[[#This Row],[Catégorie de risque]],1))","v":""},null,null,null,null,null,{"$f":"IF(ISBLANK(Risque[[#This Row],[Catégorie de risque]]),\"\",IF(OR(ISNUMBER(SEARCH(\"RZ\",Risque[[#This Row],[Source de danger]]))=TRUE,ISNUMBER(SEARCH(\"RP\",Risque[[#This Row],[Source de danger]]))=TRUE,ISNUMBER(SEARCH(\"RZ\",Risque[[#This Row],[Risques associés]]))=TRUE,ISNUMBER(SEARCH(\"RP\",Risque[[#This Row],[Risques associés]]))=TRUE,ISNUMBER(SEARCH(\"RZ\",Risque[[#This Row],[Précision du risque\n(si liste déroulante présente)]]))=TRUE,ISNUMBER(SEARCH(\"RP\",Risque[[#This Row],[Précision du risque\n(si liste déroulante présente)]]))=TRUE),\"Oui --> Priorité d'action\",\"Non\"))","v":""},null,null,null,null,{"$f":"IF(ISBLANK(Risque[[#This Row],[Catégorie de risque]]),\"\",CONCATENATE(Risque[[#This Row],[Catégorie de risque]],2))","v":""},null,{"$f":"IF(ISBLANK(Risque[[#This Row],[Moyens de prévention]]),\"\",CONCATENATE(Risque[[#This Row],[Moyens de prévention]],1))","v":""},null,null,null,null,null,{"$f":"IF(ISBLANK(Risque[[#This Row],[Catégorie de risque]]),\"\",CONCATENATE(Risque[[#This Row],[Catégorie de risque]],3))","v":""},null,null,null,{"$f":"IF(ISBLANK(Risque[[#This Row],[Catégorie de risque]]),\"\",CONCATENATE(Risque[[#This Row],[Catégorie de risque]],4))","v":""},null,null,null,null,null,{"$f":"IF(Risque[[#This Row],[Date d''inscription du risque]]<>\"\",YEAR(Risque[[#This Row],[Date d''inscription du risque]]),\"\")","v":""}]
[null,null,{"$f":"IF(ISBLANK(Risque[[#This Row],[Catégorie de risque]]),\"\",CONCATENATE(Risque[[#This Row],[Catégorie de risque]],1))","v":""},null,null,null,null,null,{"$f":"IF(ISBLANK(Risque[[#This Row],[Catégorie de risque]]),\"\",IF(OR(ISNUMBER(SEARCH(\"RZ\",Risque[[#This Row],[Source de danger]]))=TRUE,ISNUMBER(SEARCH(\"RP\",Risque[[#This Row],[Source de danger]]))=TRUE,ISNUMBER(SEARCH(\"RZ\",Risque[[#This Row],[Risques associés]]))=TRUE,ISNUMBER(SEARCH(\"RP\",Risque[[#This Row],[Risques associés]]))=TRUE,ISNUMBER(SEARCH(\"RZ\",Risque[[#This Row],[Précision du risque\n(si liste déroulante présente)]]))=TRUE,ISNUMBER(SEARCH(\"RP\",Risque[[#This Row],[Précision du risque\n(si liste déroulante présente)]]))=TRUE),\"Oui --> Priorité d'action\",\"Non\"))","v":""},null,null,null,null,{"$f":"IF(ISBLANK(Risque[[#This Row],[Catégorie de risque]]),\"\",CONCATENATE(Risque[[#This Row],[Catégorie de risque]],2))","v":""},null,{"$f":"IF(ISBLANK(Risque[[#This Row],[Moyens de prévention]]),\"\",CONCATENATE(Risque[[#This Row],[Moyens de prévention]],1))","v":""},null,null,null,null,null,{"$f":"IF(ISBLANK(Risque[[#This Row],[Catégorie de risque]]),\"\",CONCATENATE(Risque[[#This Row],[Catégorie de risque]],3))","v":""},null,null,null,{"$f":"IF(ISBLANK(Risque[[#This Row],[Catégorie de risque]]),\"\",CONCATENATE(Risque[[#This Row],[Catégorie de risque]],4))","v":""},null,null,null,null,null,{"$f":"IF(Risque[[#This Row],[Date d''inscription du risque]]<>\"\",YEAR(Risque[[#This Row],[Date d''inscription du risque]]),\"\")","v":""}]
[null,null,{"$f":"IF(ISBLANK(Risque[[#This Row],[Catégorie de risque]]),\"\",CONCATENATE(Risque[[#This Row],[Catégorie de risque]],1))","v":""},null,null,null,null,null,{"$f":"IF(ISBLANK(Risque[[#This Row],[Catégorie de risque]]),\"\",IF(OR(ISNUMBER(SEARCH(\"RZ\",Risque[[#This Row],[Source de danger]]))=TRUE,ISNUMBER(SEARCH(\"RP\",Risque[[#This Row],[Source de danger]]))=TRUE,ISNUMBER(SEARCH(\"RZ\",Risque[[#This Row],[Risques associés]]))=TRUE,ISNUMBER(SEARCH(\"RP\",Risque[[#This Row],[Risques associés]]))=TRUE,ISNUMBER(SEARCH(\"RZ\",Risque[[#This Row],[Précision du risque\n(si liste déroulante présente)]]))=TRUE,ISNUMBER(SEARCH(\"RP\",Risque[[#This Row],[Précision du risque\n(si liste déroulante présente)]]))=TRUE),\"Oui --> Priorité d'action\",\"Non\"))","v":""},null,null,null,null,{"$f":"IF(ISBLANK(Risque[[#This Row],[Catégorie de risque]]),\"\",CONCATENATE(Risque[[#This Row],[Catégorie de risque]],2))","v":""},null,{"$f":"IF(ISBLANK(Risque[[#This Row],[Moyens de prévention]]),\"\",CONCATENATE(Risque[[#This Row],[Moyens de prévention]],1))","v":""},null,null,null,null,null,{"$f":"IF(ISBLANK(Risque[[#This Row],[Catégorie de risque]]),\"\",CONCATENATE(Risque[[#This Row],[Catégorie de risque]],3))","v":""},null,null,null,{"$f":"IF(ISBLANK(Risque[[#This Row],[Catégorie de risque]]),\"\",CONCATENATE(Risque[[#This Row],[Catégorie de risque]],4))","v":""},null,null,null,null,null,{"$f":"IF(Risque[[#This Row],[Date d''inscription du risque]]<>\"\",YEAR(Risque[[#This Row],[Date d''inscription du risque]]),\"\")","v":""}]
[null,null,{"$f":"IF(ISBLANK(Risque[[#This Row],[Catégorie de risque]]),\"\",CONCATENATE(Risque[[#This Row],[Catégorie de risque]],1))","v":""},null,null,null,null,null,{"$f":"IF(ISBLANK(Risque[[#This Row],[Catégorie de risque]]),\"\",IF(OR(ISNUMBER(SEARCH(\"RZ\",Risque[[#This Row],[Source de danger]]))=TRUE,ISNUMBER(SEARCH(\"RP\",Risque[[#This Row],[Source de danger]]))=TRUE,ISNUMBER(SEARCH(\"RZ\",Risque[[#This Row],[Risques associés]]))=TRUE,ISNUMBER(SEARCH(\"RP\",Risque[[#This Row],[Risques associés]]))=TRUE,ISNUMBER(SEARCH(\"RZ\",Risque[[#This Row],[Précision du risque\n(si liste déroulante présente)]]))=TRUE,ISNUMBER(SEARCH(\"RP\",Risque[[#This Row],[Précision du risque\n(si liste déroulante présente)]]))=TRUE),\"Oui --> Priorité d'action\",\"Non\"))","v":""},null,null,null,null,{"$f":"IF(ISBLANK(Risque[[#This Row],[Catégorie de risque]]),\"\",CONCATENATE(Risque[[#This Row],[Catégorie de risque]],2))","v":""},null,{"$f":"IF(ISBLANK(Risque[[#This Row],[Moyens de prévention]]),\"\",CONCATENATE(Risque[[#This Row],[Moyens de prévention]],1))","v":""},null,null,null,null,null,{"$f":"IF(ISBLANK(Risque[[#This Row],[Catégorie de risque]]),\"\",CONCATENATE(Risque[[#This Row],[Catégorie de risque]],3))","v":""},null,null,null,{"$f":"IF(ISBLANK(Risque[[#This Row],[Catégorie de risque]]),\"\",CONCATENATE(Risque[[#This Row],[Catégorie de risque]],4))","v":""},null,null,null,null,null,{"$f":"IF(Risque[[#This Row],[Date d''inscription du risque]]<>\"\",YEAR(Risque[[#This Row],[Date d''inscription du risque]]),\"\")","v":""}]
[null,null,{"$f":"IF(ISBLANK(Risque[[#This Row],[Catégorie de risque]]),\"\",CONCATENATE(Risque[[#This Row],[Catégorie de risque]],1))","v":""},null,null,null,null,null,{"$f":"IF(ISBLANK(Risque[[#This Row],[Catégorie de risque]]),\"\",IF(OR(ISNUMBER(SEARCH(\"RZ\",Risque[[#This Row],[Source de danger]]))=TRUE,ISNUMBER(SEARCH(\"RP\",Risque[[#This Row],[Source de danger]]))=TRUE,ISNUMBER(SEARCH(\"RZ\",Risque[[#This Row],[Risques associés]]))=TRUE,ISNUMBER(SEARCH(\"RP\",Risque[[#This Row],[Risques associés]]))=TRUE,ISNUMBER(SEARCH(\"RZ\",Risque[[#This Row],[Précision du risque\n(si liste déroulante présente)]]))=TRUE,ISNUMBER(SEARCH(\"RP\",Risque[[#This Row],[Précision du risque\n(si liste déroulante présente)]]))=TRUE),\"Oui --> Priorité d'action\",\"Non\"))","v":""},null,null,null,null,{"$f":"IF(ISBLANK(Risque[[#This Row],[Catégorie de risque]]),\"\",CONCATENATE(Risque[[#This Row],[Catégorie de risque]],2))","v":""},null,{"$f":"IF(ISBLANK(Risque[[#This Row],[Moyens de prévention]]),\"\",CONCATENATE(Risque[[#This Row],[Moyens de prévention]],1))","v":""},null,null,null,null,null,{"$f":"IF(ISBLANK(Risque[[#This Row],[Catégorie de risque]]),\"\",CONCATENATE(Risque[[#This Row],[Catégorie de risque]],3))","v":""},null,null,null,{"$f":"IF(ISBLANK(Risque[[#This Row],[Catégorie de risque]]),\"\",CONCATENATE(Risque[[#This Row],[Catégorie de risque]],4))","v":""},null,null,null,null,null,{"$f":"IF(Risque[[#This Row],[Date d''inscription du risque]]<>\"\",YEAR(Risque[[#This Row],[Date d''inscription du risque]]),\"\")","v":""}]
[null,null,{"$f":"IF(ISBLANK(Risque[[#This Row],[Catégorie de risque]]),\"\",CONCATENATE(Risque[[#This Row],[Catégorie de risque]],1))","v":""},null,null,null,null,null,{"$f":"IF(ISBLANK(Risque[[#This Row],[Catégorie de risque]]),\"\",IF(OR(ISNUMBER(SEARCH(\"RZ\",Risque[[#This Row],[Source de danger]]))=TRUE,ISNUMBER(SEARCH(\"RP\",Risque[[#This Row],[Source de danger]]))=TRUE,ISNUMBER(SEARCH(\"RZ\",Risque[[#This Row],[Risques associés]]))=TRUE,ISNUMBER(SEARCH(\"RP\",Risque[[#This Row],[Risques associés]]))=TRUE,ISNUMBER(SEARCH(\"RZ\",Risque[[#This Row],[Précision du risque\n(si liste déroulante présente)]]))=TRUE,ISNUMBER(SEARCH(\"RP\",Risque[[#This Row],[Précision du risque\n(si liste déroulante présente)]]))=TRUE),\"Oui --> Priorité d'action\",\"Non\"))","v":""},null,null,null,null,{"$f":"IF(ISBLANK(Risque[[#This Row],[Catégorie de risque]]),\"\",CONCATENATE(Risque[[#This Row],[Catégorie de risque]],2))","v":""},null,{"$f":"IF(ISBLANK(Risque[[#This Row],[Moyens de prévention]]),\"\",CONCATENATE(Risque[[#This Row],[Moyens de prévention]],1))","v":""},null,null,null,null,null,{"$f":"IF(ISBLANK(Risque[[#This Row],[Catégorie de risque]]),\"\",CONCATENATE(Risque[[#This Row],[Catégorie de risque]],3))","v":""},null,null,null,{"$f":"IF(ISBLANK(Risque[[#This Row],[Catégorie de risque]]),\"\",CONCATENATE(Risque[[#This Row],[Catégorie de risque]],4))","v":""},null,null,null,null,null,{"$f":"IF(Risque[[#This Row],[Date d''inscription du risque]]<>\"\",YEAR(Risque[[#This Row],[Date d''inscription du risque]]),\"\")","v":""}]
[null,null,{"$f":"IF(ISBLANK(Risque[[#This Row],[Catégorie de risque]]),\"\",CONCATENATE(Risque[[#This Row],[Catégorie de risque]],1))","v":""},null,null,null,null,null,{"$f":"IF(ISBLANK(Risque[[#This Row],[Catégorie de risque]]),\"\",IF(OR(ISNUMBER(SEARCH(\"RZ\",Risque[[#This Row],[Source de danger]]))=TRUE,ISNUMBER(SEARCH(\"RP\",Risque[[#This Row],[Source de danger]]))=TRUE,ISNUMBER(SEARCH(\"RZ\",Risque[[#This Row],[Risques associés]]))=TRUE,ISNUMBER(SEARCH(\"RP\",Risque[[#This Row],[Risques associés]]))=TRUE,ISNUMBER(SEARCH(\"RZ\",Risque[[#This Row],[Précision du risque\n(si liste déroulante présente)]]))=TRUE,ISNUMBER(SEARCH(\"RP\",Risque[[#This Row],[Précision du risque\n(si liste déroulante présente)]]))=TRUE),\"Oui --> Priorité d'action\",\"Non\"))","v":""},null,null,null,null,{"$f":"IF(ISBLANK(Risque[[#This Row],[Catégorie de risque]]),\"\",CONCATENATE(Risque[[#This Row],[Catégorie de risque]],2))","v":""},null,{"$f":"IF(ISBLANK(Risque[[#This Row],[Moyens de prévention]]),\"\",CONCATENATE(Risque[[#This Row],[Moyens de prévention]],1))","v":""},null,null,null,null,null,{"$f":"IF(ISBLANK(Risque[[#This Row],[Catégorie de risque]]),\"\",CONCATENATE(Risque[[#This Row],[Catégorie de risque]],3))","v":""},null,null,null,{"$f":"IF(ISBLANK(Risque[[#This Row],[Catégorie de risque]]),\"\",CONCATENATE(Risque[[#This Row],[Catégorie de risque]],4))","v":""},null,null,null,null,null,{"$f":"IF(Risque[[#This Row],[Date d''inscription du risque]]<>\"\",YEAR(Risque[[#This Row],[Date d''inscription du risque]]),\"\")","v":""}]
[null,null,{"$f":"IF(ISBLANK(Risque[[#This Row],[Catégorie de risque]]),\"\",CONCATENATE(Risque[[#This Row],[Catégorie de risque]],1))","v":""},null,null,null,null,null,{"$f":"IF(ISBLANK(Risque[[#This Row],[Catégorie de risque]]),\"\",IF(OR(ISNUMBER(SEARCH(\"RZ\",Risque[[#This Row],[Source de danger]]))=TRUE,ISNUMBER(SEARCH(\"RP\",Risque[[#This Row],[Source de danger]]))=TRUE,ISNUMBER(SEARCH(\"RZ\",Risque[[#This Row],[Risques associés]]))=TRUE,ISNUMBER(SEARCH(\"RP\",Risque[[#This Row],[Risques associés]]))=TRUE,ISNUMBER(SEARCH(\"RZ\",Risque[[#This Row],[Précision du risque\n(si liste déroulante présente)]]))=TRUE,ISNUMBER(SEARCH(\"RP\",Risque[[#This Row],[Précision du risque\n(si liste déroulante présente)]]))=TRUE),\"Oui --> Priorité d'action\",\"Non\"))","v":""},null,null,null,null,{"$f":"IF(ISBLANK(Risque[[#This Row],[Catégorie de risque]]),\"\",CONCATENATE(Risque[[#This Row],[Catégorie de risque]],2))","v":""},null,{"$f":"IF(ISBLANK(Risque[[#This Row],[Moyens de prévention]]),\"\",CONCATENATE(Risque[[#This Row],[Moyens de prévention]],1))","v":""},null,null,null,null,null,{"$f":"IF(ISBLANK(Risque[[#This Row],[Catégorie de risque]]),\"\",CONCATENATE(Risque[[#This Row],[Catégorie de risque]],3))","v":""},null,null,null,{"$f":"IF(ISBLANK(Risque[[#This Row],[Catégorie de risque]]),\"\",CONCATENATE(Risque[[#This Row],[Catégorie de risque]],4))","v":""},null,null,null,null,null,{"$f":"IF(Risque[[#This Row],[Date d''inscription du risque]]<>\"\",YEAR(Risque[[#This Row],[Date d''inscription du risque]]),\"\")","v":""}]
[null,null,null,null,null,null,null,null,{"$f":"IF(ISBLANK(Risque[[#This Row],[Catégorie de risque]]),\"\",IF(OR(ISNUMBER(SEARCH(\"RZ\",Risque[[#This Row],[Source de danger]]))=TRUE,ISNUMBER(SEARCH(\"RP\",Risque[[#This Row],[Source de danger]]))=TRUE,ISNUMBER(SEARCH(\"RZ\",Risque[[#This Row],[Risques associés]]))=TRUE,ISNUMBER(SEARCH(\"RP\",Risque[[#This Row],[Risques associés]]))=TRUE,ISNUMBER(SEARCH(\"RZ\",Risque[[#This Row],[Précision du risque\n(si liste déroulante présente)]]))=TRUE,ISNUMBER(SEARCH(\"RP\",Risque[[#This Row],[Précision du risque\n(si liste déroulante présente)]]))=TRUE),\"Oui --> Priorité d'action\",\"Non\"))","v":""},null,null,null,null,{"$f":"IF(ISBLANK(Risque[[#This Row],[Catégorie de risque]]),\"\",CONCATENATE(Risque[[#This Row],[Catégorie de risque]],2))","v":""},null,{"$f":"IF(ISBLANK(Risque[[#This Row],[Moyens de prévention]]),\"\",CONCATENATE(Risque[[#This Row],[Moyens de prévention]],1))","v":""},null,null,null,null,null,{"$f":"IF(ISBLANK(Risque[[#This Row],[Catégorie de risque]]),\"\",CONCATENATE(Risque[[#This Row],[Catégorie de risque]],3))","v":""},null,null,null,{"$f":"IF(ISBLANK(Risque[[#This Row],[Catégorie de risque]]),\"\",CONCATENATE(Risque[[#This Row],[Catégorie de risque]],4))","v":""},null,null,null,null,null,{"$f":"IF(Risque[[#This Row],[Date d''inscription du risque]]<>\"\",YEAR(Risque[[#This Row],[Date d''inscription du risque]]),\"\")","v":""}]
[null,null,{"$f":"IF(ISBLANK(Risque[[#This Row],[Catégorie de risque]]),\"\",CONCATENATE(Risque[[#This Row],[Catégorie de risque]],1))","v":""},null,null,null,null,null,{"$f":"IF(ISBLANK(Risque[[#This Row],[Catégorie de risque]]),\"\",IF(OR(ISNUMBER(SEARCH(\"RZ\",Risque[[#This Row],[Source de danger]]))=TRUE,ISNUMBER(SEARCH(\"RP\",Risque[[#This Row],[Source de danger]]))=TRUE,ISNUMBER(SEARCH(\"RZ\",Risque[[#This Row],[Risques associés]]))=TRUE,ISNUMBER(SEARCH(\"RP\",Risque[[#This Row],[Risques associés]]))=TRUE,ISNUMBER(SEARCH(\"RZ\",Risque[[#This Row],[Précision du risque\n(si liste déroulante présente)]]))=TRUE,ISNUMBER(SEARCH(\"RP\",Risque[[#This Row],[Précision du risque\n(si liste déroulante présente)]]))=TRUE),\"Oui --> Priorité d'action\",\"Non\"))","v":""},null,null,null,null,{"$f":"IF(ISBLANK(Risque[[#This Row],[Catégorie de risque]]),\"\",CONCATENATE(Risque[[#This Row],[Catégorie de risque]],2))","v":""},null,{"$f":"IF(ISBLANK(Risque[[#This Row],[Moyens de prévention]]),\"\",CONCATENATE(Risque[[#This Row],[Moyens de prévention]],1))","v":""},null,null,null,null,null,{"$f":"IF(ISBLANK(Risque[[#This Row],[Catégorie de risque]]),\"\",CONCATENATE(Risque[[#This Row],[Catégorie de risque]],3))","v":""},null,null,null,{"$f":"IF(ISBLANK(Risque[[#This Row],[Catégorie de risque]]),\"\",CONCATENATE(Risque[[#This Row],[Catégorie de risque]],4))","v":""},null,null,null,null,null,{"$f":"IF(Risque[[#This Row],[Date d''inscription du risque]]<>\"\",YEAR(Risque[[#This Row],[Date d''inscription du risque]]),\"\")","v":""}]
[null,null,{"$f":"IF(ISBLANK(Risque[[#This Row],[Catégorie de risque]]),\"\",CONCATENATE(Risque[[#This Row],[Catégorie de risque]],1))","v":""},null,null,null,null,null,{"$f":"IF(ISBLANK(Risque[[#This Row],[Catégorie de risque]]),\"\",IF(OR(ISNUMBER(SEARCH(\"RZ\",Risque[[#This Row],[Source de danger]]))=TRUE,ISNUMBER(SEARCH(\"RP\",Risque[[#This Row],[Source de danger]]))=TRUE,ISNUMBER(SEARCH(\"RZ\",Risque[[#This Row],[Risques associés]]))=TRUE,ISNUMBER(SEARCH(\"RP\",Risque[[#This Row],[Risques associés]]))=TRUE,ISNUMBER(SEARCH(\"RZ\",Risque[[#This Row],[Précision du risque\n(si liste déroulante présente)]]))=TRUE,ISNUMBER(SEARCH(\"RP\",Risque[[#This Row],[Précision du risque\n(si liste déroulante présente)]]))=TRUE),\"Oui --> Priorité d'action\",\"Non\"))","v":""},null,null,null,null,{"$f":"IF(ISBLANK(Risque[[#This Row],[Catégorie de risque]]),\"\",CONCATENATE(Risque[[#This Row],[Catégorie de risque]],2))","v":""},null,{"$f":"IF(ISBLANK(Risque[[#This Row],[Moyens de prévention]]),\"\",CONCATENATE(Risque[[#This Row],[Moyens de prévention]],1))","v":""},null,null,null,null,null,{"$f":"IF(ISBLANK(Risque[[#This Row],[Catégorie de risque]]),\"\",CONCATENATE(Risque[[#This Row],[Catégorie de risque]],3))","v":""},null,null,null,{"$f":"IF(ISBLANK(Risque[[#This Row],[Catégorie de risque]]),\"\",CONCATENATE(Risque[[#This Row],[Catégorie de risque]],4))","v":""},null,null,null,null,null,{"$f":"IF(Risque[[#This Row],[Date d''inscription du risque]]<>\"\",YEAR(Risque[[#This Row],[Date d''inscription du risque]]),\"\")","v":""}]
[null,null,{"$f":"IF(ISBLANK(Risque[[#This Row],[Catégorie de risque]]),\"\",CONCATENATE(Risque[[#This Row],[Catégorie de risque]],1))","v":""},null,null,null,null,null,{"$f":"IF(ISBLANK(Risque[[#This Row],[Catégorie de risque]]),\"\",IF(OR(ISNUMBER(SEARCH(\"RZ\",Risque[[#This Row],[Source de danger]]))=TRUE,ISNUMBER(SEARCH(\"RP\",Risque[[#This Row],[Source de danger]]))=TRUE,ISNUMBER(SEARCH(\"RZ\",Risque[[#This Row],[Risques associés]]))=TRUE,ISNUMBER(SEARCH(\"RP\",Risque[[#This Row],[Risques associés]]))=TRUE,ISNUMBER(SEARCH(\"RZ\",Risque[[#This Row],[Précision du risque\n(si liste déroulante présente)]]))=TRUE,ISNUMBER(SEARCH(\"RP\",Risque[[#This Row],[Précision du risque\n(si liste déroulante présente)]]))=TRUE),\"Oui --> Priorité d'action\",\"Non\"))","v":""},null,null,null,null,{"$f":"IF(ISBLANK(Risque[[#This Row],[Catégorie de risque]]),\"\",CONCATENATE(Risque[[#This Row],[Catégorie de risque]],2))","v":""},null,{"$f":"IF(ISBLANK(Risque[[#This Row],[Moyens de prévention]]),\"\",CONCATENATE(Risque[[#This Row],[Moyens de prévention]],1))","v":""},null,null,null,null,null,{"$f":"IF(ISBLANK(Risque[[#This Row],[Catégorie de risque]]),\"\",CONCATENATE(Risque[[#This Row],[Catégorie de risque]],3))","v":""},null,null,null,{"$f":"IF(ISBLANK(Risque[[#This Row],[Catégorie de risque]]),\"\",CONCATENATE(Risque[[#This Row],[Catégorie de risque]],4))","v":""},null,null,null,null,null,{"$f":"IF(Risque[[#This Row],[Date d''inscription du risque]]<>\"\",YEAR(Risque[[#This Row],[Date d''inscription du risque]]),\"\")","v":""}]
[null,null,{"$f":"IF(ISBLANK(Risque[[#This Row],[Catégorie de risque]]),\"\",CONCATENATE(Risque[[#This Row],[Catégorie de risque]],1))","v":""},null,null,null,null,null,{"$f":"IF(ISBLANK(Risque[[#This Row],[Catégorie de risque]]),\"\",IF(OR(ISNUMBER(SEARCH(\"RZ\",Risque[[#This Row],[Source de danger]]))=TRUE,ISNUMBER(SEARCH(\"RP\",Risque[[#This Row],[Source de danger]]))=TRUE,ISNUMBER(SEARCH(\"RZ\",Risque[[#This Row],[Risques associés]]))=TRUE,ISNUMBER(SEARCH(\"RP\",Risque[[#This Row],[Risques associés]]))=TRUE,ISNUMBER(SEARCH(\"RZ\",Risque[[#This Row],[Précision du risque\n(si liste déroulante présente)]]))=TRUE,ISNUMBER(SEARCH(\"RP\",Risque[[#This Row],[Précision du risque\n(si liste déroulante présente)]]))=TRUE),\"Oui --> Priorité d'action\",\"Non\"))","v":""},null,null,null,null,{"$f":"IF(ISBLANK(Risque[[#This Row],[Catégorie de risque]]),\"\",CONCATENATE(Risque[[#This Row],[Catégorie de risque]],2))","v":""},null,{"$f":"IF(ISBLANK(Risque[[#This Row],[Moyens de prévention]]),\"\",CONCATENATE(Risque[[#This Row],[Moyens de prévention]],1))","v":""},null,null,null,null,null,{"$f":"IF(ISBLANK(Risque[[#This Row],[Catégorie de risque]]),\"\",CONCATENATE(Risque[[#This Row],[Catégorie de risque]],3))","v":""},null,null,null,{"$f":"IF(ISBLANK(Risque[[#This Row],[Catégorie de risque]]),\"\",CONCATENATE(Risque[[#This Row],[Catégorie de risque]],4))","v":""},null,null,null,null,null,{"$f":"IF(Risque[[#This Row],[Date d''inscription du risque]]<>\"\",YEAR(Risque[[#This Row],[Date d''inscription du risque]]),\"\")","v":""}]
[null,null,{"$f":"IF(ISBLANK(Risque[[#This Row],[Catégorie de risque]]),\"\",CONCATENATE(Risque[[#This Row],[Catégorie de risque]],1))","v":""},null,null,null,null,null,{"$f":"IF(ISBLANK(Risque[[#This Row],[Catégorie de risque]]),\"\",IF(OR(ISNUMBER(SEARCH(\"RZ\",Risque[[#This Row],[Source de danger]]))=TRUE,ISNUMBER(SEARCH(\"RP\",Risque[[#This Row],[Source de danger]]))=TRUE,ISNUMBER(SEARCH(\"RZ\",Risque[[#This Row],[Risques associés]]))=TRUE,ISNUMBER(SEARCH(\"RP\",Risque[[#This Row],[Risques associés]]))=TRUE,ISNUMBER(SEARCH(\"RZ\",Risque[[#This Row],[Précision du risque\n(si liste déroulante présente)]]))=TRUE,ISNUMBER(SEARCH(\"RP\",Risque[[#This Row],[Précision du risque\n(si liste déroulante présente)]]))=TRUE),\"Oui --> Priorité d'action\",\"Non\"))","v":""},null,null,null,null,{"$f":"IF(ISBLANK(Risque[[#This Row],[Catégorie de risque]]),\"\",CONCATENATE(Risque[[#This Row],[Catégorie de risque]],2))","v":""},null,{"$f":"IF(ISBLANK(Risque[[#This Row],[Moyens de prévention]]),\"\",CONCATENATE(Risque[[#This Row],[Moyens de prévention]],1))","v":""},null,null,null,null,null,{"$f":"IF(ISBLANK(Risque[[#This Row],[Catégorie de risque]]),\"\",CONCATENATE(Risque[[#This Row],[Catégorie de risque]],3))","v":""},null,null,null,{"$f":"IF(ISBLANK(Risque[[#This Row],[Catégorie de risque]]),\"\",CONCATENATE(Risque[[#This Row],[Catégorie de risque]],4))","v":""},null,null,null,null,null,{"$f":"IF(Risque[[#This Row],[Date d''inscription du risque]]<>\"\",YEAR(Risque[[#This Row],[Date d''inscription du risque]]),\"\")","v":""}]
[null,null,{"$f":"IF(ISBLANK(Risque[[#This Row],[Catégorie de risque]]),\"\",CONCATENATE(Risque[[#This Row],[Catégorie de risque]],1))","v":""},null,null,null,null,null,{"$f":"IF(ISBLANK(Risque[[#This Row],[Catégorie de risque]]),\"\",IF(OR(ISNUMBER(SEARCH(\"RZ\",Risque[[#This Row],[Source de danger]]))=TRUE,ISNUMBER(SEARCH(\"RP\",Risque[[#This Row],[Source de danger]]))=TRUE,ISNUMBER(SEARCH(\"RZ\",Risque[[#This Row],[Risques associés]]))=TRUE,ISNUMBER(SEARCH(\"RP\",Risque[[#This Row],[Risques associés]]))=TRUE,ISNUMBER(SEARCH(\"RZ\",Risque[[#This Row],[Précision du risque\n(si liste déroulante présente)]]))=TRUE,ISNUMBER(SEARCH(\"RP\",Risque[[#This Row],[Précision du risque\n(si liste déroulante présente)]]))=TRUE),\"Oui --> Priorité d'action\",\"Non\"))","v":""},null,null,null,null,{"$f":"IF(ISBLANK(Risque[[#This Row],[Catégorie de risque]]),\"\",CONCATENATE(Risque[[#This Row],[Catégorie de risque]],2))","v":""},null,{"$f":"IF(ISBLANK(Risque[[#This Row],[Moyens de prévention]]),\"\",CONCATENATE(Risque[[#This Row],[Moyens de prévention]],1))","v":""},null,null,null,null,null,{"$f":"IF(ISBLANK(Risque[[#This Row],[Catégorie de risque]]),\"\",CONCATENATE(Risque[[#This Row],[Catégorie de risque]],3))","v":""},null,null,null,{"$f":"IF(ISBLANK(Risque[[#This Row],[Catégorie de risque]]),\"\",CONCATENATE(Risque[[#This Row],[Catégorie de risque]],4))","v":""},null,null,null,null,null,{"$f":"IF(Risque[[#This Row],[Date d''inscription du risque]]<>\"\",YEAR(Risque[[#This Row],[Date d''inscription du risque]]),\"\")","v":""}]
[null,null,{"$f":"IF(ISBLANK(Risque[[#This Row],[Catégorie de risque]]),\"\",CONCATENATE(Risque[[#This Row],[Catégorie de risque]],1))","v":""},null,null,null,null,null,{"$f":"IF(ISBLANK(Risque[[#This Row],[Catégorie de risque]]),\"\",IF(OR(ISNUMBER(SEARCH(\"RZ\",Risque[[#This Row],[Source de danger]]))=TRUE,ISNUMBER(SEARCH(\"RP\",Risque[[#This Row],[Source de danger]]))=TRUE,ISNUMBER(SEARCH(\"RZ\",Risque[[#This Row],[Risques associés]]))=TRUE,ISNUMBER(SEARCH(\"RP\",Risque[[#This Row],[Risques associés]]))=TRUE,ISNUMBER(SEARCH(\"RZ\",Risque[[#This Row],[Précision du risque\n(si liste déroulante présente)]]))=TRUE,ISNUMBER(SEARCH(\"RP\",Risque[[#This Row],[Précision du risque\n(si liste déroulante présente)]]))=TRUE),\"Oui --> Priorité d'action\",\"Non\"))","v":""},null,null,null,null,{"$f":"IF(ISBLANK(Risque[[#This Row],[Catégorie de risque]]),\"\",CONCATENATE(Risque[[#This Row],[Catégorie de risque]],2))","v":""},null,{"$f":"IF(ISBLANK(Risque[[#This Row],[Moyens de prévention]]),\"\",CONCATENATE(Risque[[#This Row],[Moyens de prévention]],1))","v":""},null,null,null,null,null,{"$f":"IF(ISBLANK(Risque[[#This Row],[Catégorie de risque]]),\"\",CONCATENATE(Risque[[#This Row],[Catégorie de risque]],3))","v":""},null,null,null,{"$f":"IF(ISBLANK(Risque[[#This Row],[Catégorie de risque]]),\"\",CONCATENATE(Risque[[#This Row],[Catégorie de risque]],4))","v":""},null,null,null,null,null,{"$f":"IF(Risque[[#This Row],[Date d''inscription du risque]]<>\"\",YEAR(Risque[[#This Row],[Date d''inscription du risque]]),\"\")","v":""}]
[null,null,{"$f":"IF(ISBLANK(Risque[[#This Row],[Catégorie de risque]]),\"\",CONCATENATE(Risque[[#This Row],[Catégorie de risque]],1))","v":""},null,null,null,null,null,{"$f":"IF(ISBLANK(Risque[[#This Row],[Catégorie de risque]]),\"\",IF(OR(ISNUMBER(SEARCH(\"RZ\",Risque[[#This Row],[Source de danger]]))=TRUE,ISNUMBER(SEARCH(\"RP\",Risque[[#This Row],[Source de danger]]))=TRUE,ISNUMBER(SEARCH(\"RZ\",Risque[[#This Row],[Risques associés]]))=TRUE,ISNUMBER(SEARCH(\"RP\",Risque[[#This Row],[Risques associés]]))=TRUE,ISNUMBER(SEARCH(\"RZ\",Risque[[#This Row],[Précision du risque\n(si liste déroulante présente)]]))=TRUE,ISNUMBER(SEARCH(\"RP\",Risque[[#This Row],[Précision du risque\n(si liste déroulante présente)]]))=TRUE),\"Oui --> Priorité d'action\",\"Non\"))","v":""},null,null,null,null,{"$f":"IF(ISBLANK(Risque[[#This Row],[Catégorie de risque]]),\"\",CONCATENATE(Risque[[#This Row],[Catégorie de risque]],2))","v":""},null,{"$f":"IF(ISBLANK(Risque[[#This Row],[Moyens de prévention]]),\"\",CONCATENATE(Risque[[#This Row],[Moyens de prévention]],1))","v":""},null,null,null,null,null,{"$f":"IF(ISBLANK(Risque[[#This Row],[Catégorie de risque]]),\"\",CONCATENATE(Risque[[#This Row],[Catégorie de risque]],3))","v":""},null,null,null,{"$f":"IF(ISBLANK(Risque[[#This Row],[Catégorie de risque]]),\"\",CONCATENATE(Risque[[#This Row],[Catégorie de risque]],4))","v":""},null,null,null,null,null,{"$f":"IF(Risque[[#This Row],[Date d''inscription du risque]]<>\"\",YEAR(Risque[[#This Row],[Date d''inscription du risque]]),\"\")","v":""}]
[null,null,{"$f":"IF(ISBLANK(Risque[[#This Row],[Catégorie de risque]]),\"\",CONCATENATE(Risque[[#This Row],[Catégorie de risque]],1))","v":""},null,null,null,null,null,{"$f":"IF(ISBLANK(Risque[[#This Row],[Catégorie de risque]]),\"\",IF(OR(ISNUMBER(SEARCH(\"RZ\",Risque[[#This Row],[Source de danger]]))=TRUE,ISNUMBER(SEARCH(\"RP\",Risque[[#This Row],[Source de danger]]))=TRUE,ISNUMBER(SEARCH(\"RZ\",Risque[[#This Row],[Risques associés]]))=TRUE,ISNUMBER(SEARCH(\"RP\",Risque[[#This Row],[Risques associés]]))=TRUE,ISNUMBER(SEARCH(\"RZ\",Risque[[#This Row],[Précision du risque\n(si liste déroulante présente)]]))=TRUE,ISNUMBER(SEARCH(\"RP\",Risque[[#This Row],[Précision du risque\n(si liste déroulante présente)]]))=TRUE),\"Oui --> Priorité d'action\",\"Non\"))","v":""},null,null,null,null,{"$f":"IF(ISBLANK(Risque[[#This Row],[Catégorie de risque]]),\"\",CONCATENATE(Risque[[#This Row],[Catégorie de risque]],2))","v":""},null,{"$f":"IF(ISBLANK(Risque[[#This Row],[Moyens de prévention]]),\"\",CONCATENATE(Risque[[#This Row],[Moyens de prévention]],1))","v":""},null,null,null,null,null,{"$f":"IF(ISBLANK(Risque[[#This Row],[Catégorie de risque]]),\"\",CONCATENATE(Risque[[#This Row],[Catégorie de risque]],3))","v":""},null,null,null,{"$f":"IF(ISBLANK(Risque[[#This Row],[Catégorie de risque]]),\"\",CONCATENATE(Risque[[#This Row],[Catégorie de risque]],4))","v":""},null,null,null,null,null,{"$f":"IF(Risque[[#This Row],[Date d''inscription du risque]]<>\"\",YEAR(Risque[[#This Row],[Date d''inscription du risque]]),\"\")","v":""}]
[null,null,{"$f":"IF(ISBLANK(Risque[[#This Row],[Catégorie de risque]]),\"\",CONCATENATE(Risque[[#This Row],[Catégorie de risque]],1))","v":""},null,null,null,null,null,{"$f":"IF(ISBLANK(Risque[[#This Row],[Catégorie de risque]]),\"\",IF(OR(ISNUMBER(SEARCH(\"RZ\",Risque[[#This Row],[Source de danger]]))=TRUE,ISNUMBER(SEARCH(\"RP\",Risque[[#This Row],[Source de danger]]))=TRUE,ISNUMBER(SEARCH(\"RZ\",Risque[[#This Row],[Risques associés]]))=TRUE,ISNUMBER(SEARCH(\"RP\",Risque[[#This Row],[Risques associés]]))=TRUE,ISNUMBER(SEARCH(\"RZ\",Risque[[#This Row],[Précision du risque\n(si liste déroulante présente)]]))=TRUE,ISNUMBER(SEARCH(\"RP\",Risque[[#This Row],[Précision du risque\n(si liste déroulante présente)]]))=TRUE),\"Oui --> Priorité d'action\",\"Non\"))","v":""},null,null,null,null,{"$f":"IF(ISBLANK(Risque[[#This Row],[Catégorie de risque]]),\"\",CONCATENATE(Risque[[#This Row],[Catégorie de risque]],2))","v":""},null,{"$f":"IF(ISBLANK(Risque[[#This Row],[Moyens de prévention]]),\"\",CONCATENATE(Risque[[#This Row],[Moyens de prévention]],1))","v":""},null,null,null,null,null,{"$f":"IF(ISBLANK(Risque[[#This Row],[Catégorie de risque]]),\"\",CONCATENATE(Risque[[#This Row],[Catégorie de risque]],3))","v":""},null,null,null,{"$f":"IF(ISBLANK(Risque[[#This Row],[Catégorie de risque]]),\"\",CONCATENATE(Risque[[#This Row],[Catégorie de risque]],4))","v":""},null,null,null,null,null,{"$f":"IF(Risque[[#This Row],[Date d''inscription du risque]]<>\"\",YEAR(Risque[[#This Row],[Date d''inscription du risque]]),\"\")","v":""}]
[null,null,{"$f":"IF(ISBLANK(Risque[[#This Row],[Catégorie de risque]]),\"\",CONCATENATE(Risque[[#This Row],[Catégorie de risque]],1))","v":""},null,null,null,null,null,{"$f":"IF(ISBLANK(Risque[[#This Row],[Catégorie de risque]]),\"\",IF(OR(ISNUMBER(SEARCH(\"RZ\",Risque[[#This Row],[Source de danger]]))=TRUE,ISNUMBER(SEARCH(\"RP\",Risque[[#This Row],[Source de danger]]))=TRUE,ISNUMBER(SEARCH(\"RZ\",Risque[[#This Row],[Risques associés]]))=TRUE,ISNUMBER(SEARCH(\"RP\",Risque[[#This Row],[Risques associés]]))=TRUE,ISNUMBER(SEARCH(\"RZ\",Risque[[#This Row],[Précision du risque\n(si liste déroulante présente)]]))=TRUE,ISNUMBER(SEARCH(\"RP\",Risque[[#This Row],[Précision du risque\n(si liste déroulante présente)]]))=TRUE),\"Oui --> Priorité d'action\",\"Non\"))","v":""},null,null,null,null,{"$f":"IF(ISBLANK(Risque[[#This Row],[Catégorie de risque]]),\"\",CONCATENATE(Risque[[#This Row],[Catégorie de risque]],2))","v":""},null,{"$f":"IF(ISBLANK(Risque[[#This Row],[Moyens de prévention]]),\"\",CONCATENATE(Risque[[#This Row],[Moyens de prévention]],1))","v":""},null,null,null,null,null,{"$f":"IF(ISBLANK(Risque[[#This Row],[Catégorie de risque]]),\"\",CONCATENATE(Risque[[#This Row],[Catégorie de risque]],3))","v":""},null,null,null,{"$f":"IF(ISBLANK(Risque[[#This Row],[Catégorie de risque]]),\"\",CONCATENATE(Risque[[#This Row],[Catégorie de risque]],4))","v":""},null,null,null,null,null,{"$f":"IF(Risque[[#This Row],[Date d''inscription du risque]]<>\"\",YEAR(Risque[[#This Row],[Date d''inscription du risque]]),\"\")","v":""}]
[null,null,{"$f":"IF(ISBLANK(Risque[[#This Row],[Catégorie de risque]]),\"\",CONCATENATE(Risque[[#This Row],[Catégorie de risque]],1))","v":""},null,null,null,null,null,{"$f":"IF(ISBLANK(Risque[[#This Row],[Catégorie de risque]]),\"\",IF(OR(ISNUMBER(SEARCH(\"RZ\",Risque[[#This Row],[Source de danger]]))=TRUE,ISNUMBER(SEARCH(\"RP\",Risque[[#This Row],[Source de danger]]))=TRUE,ISNUMBER(SEARCH(\"RZ\",Risque[[#This Row],[Risques associés]]))=TRUE,ISNUMBER(SEARCH(\"RP\",Risque[[#This Row],[Risques associés]]))=TRUE,ISNUMBER(SEARCH(\"RZ\",Risque[[#This Row],[Précision du risque\n(si liste déroulante présente)]]))=TRUE,ISNUMBER(SEARCH(\"RP\",Risque[[#This Row],[Précision du risque\n(si liste déroulante présente)]]))=TRUE),\"Oui --> Priorité d'action\",\"Non\"))","v":""},null,null,null,null,{"$f":"IF(ISBLANK(Risque[[#This Row],[Catégorie de risque]]),\"\",CONCATENATE(Risque[[#This Row],[Catégorie de risque]],2))","v":""},null,{"$f":"IF(ISBLANK(Risque[[#This Row],[Moyens de prévention]]),\"\",CONCATENATE(Risque[[#This Row],[Moyens de prévention]],1))","v":""},null,null,null,null,null,{"$f":"IF(ISBLANK(Risque[[#This Row],[Catégorie de risque]]),\"\",CONCATENATE(Risque[[#This Row],[Catégorie de risque]],3))","v":""},null,null,null,{"$f":"IF(ISBLANK(Risque[[#This Row],[Catégorie de risque]]),\"\",CONCATENATE(Risque[[#This Row],[Catégorie de risque]],4))","v":""},null,null,null,null,null,{"$f":"IF(Risque[[#This Row],[Date d''inscription du risque]]<>\"\",YEAR(Risque[[#This Row],[Date d''inscription du risque]]),\"\")","v":""}]
[null,null,{"$f":"IF(ISBLANK(Risque[[#This Row],[Catégorie de risque]]),\"\",CONCATENATE(Risque[[#This Row],[Catégorie de risque]],1))","v":""},null,null,null,null,null,{"$f":"IF(ISBLANK(Risque[[#This Row],[Catégorie de risque]]),\"\",IF(OR(ISNUMBER(SEARCH(\"RZ\",Risque[[#This Row],[Source de danger]]))=TRUE,ISNUMBER(SEARCH(\"RP\",Risque[[#This Row],[Source de danger]]))=TRUE,ISNUMBER(SEARCH(\"RZ\",Risque[[#This Row],[Risques associés]]))=TRUE,ISNUMBER(SEARCH(\"RP\",Risque[[#This Row],[Risques associés]]))=TRUE,ISNUMBER(SEARCH(\"RZ\",Risque[[#This Row],[Précision du risque\n(si liste déroulante présente)]]))=TRUE,ISNUMBER(SEARCH(\"RP\",Risque[[#This Row],[Précision du risque\n(si liste déroulante présente)]]))=TRUE),\"Oui --> Priorité d'action\",\"Non\"))","v":""},null,null,null,null,{"$f":"IF(ISBLANK(Risque[[#This Row],[Catégorie de risque]]),\"\",CONCATENATE(Risque[[#This Row],[Catégorie de risque]],2))","v":""},null,{"$f":"IF(ISBLANK(Risque[[#This Row],[Moyens de prévention]]),\"\",CONCATENATE(Risque[[#This Row],[Moyens de prévention]],1))","v":""},null,null,null,null,null,{"$f":"IF(ISBLANK(Risque[[#This Row],[Catégorie de risque]]),\"\",CONCATENATE(Risque[[#This Row],[Catégorie de risque]],3))","v":""},null,null,null,{"$f":"IF(ISBLANK(Risque[[#This Row],[Catégorie de risque]]),\"\",CONCATENATE(Risque[[#This Row],[Catégorie de risque]],4))","v":""},null,null,null,null,null,{"$f":"IF(Risque[[#This Row],[Date d''inscription du risque]]<>\"\",YEAR(Risque[[#This Row],[Date d''inscription du risque]]),\"\")","v":""}]
[null,null,{"$f":"IF(ISBLANK(Risque[[#This Row],[Catégorie de risque]]),\"\",CONCATENATE(Risque[[#This Row],[Catégorie de risque]],1))","v":""},null,null,null,null,null,{"$f":"IF(ISBLANK(Risque[[#This Row],[Catégorie de risque]]),\"\",IF(OR(ISNUMBER(SEARCH(\"RZ\",Risque[[#This Row],[Source de danger]]))=TRUE,ISNUMBER(SEARCH(\"RP\",Risque[[#This Row],[Source de danger]]))=TRUE,ISNUMBER(SEARCH(\"RZ\",Risque[[#This Row],[Risques associés]]))=TRUE,ISNUMBER(SEARCH(\"RP\",Risque[[#This Row],[Risques associés]]))=TRUE,ISNUMBER(SEARCH(\"RZ\",Risque[[#This Row],[Précision du risque\n(si liste déroulante présente)]]))=TRUE,ISNUMBER(SEARCH(\"RP\",Risque[[#This Row],[Précision du risque\n(si liste déroulante présente)]]))=TRUE),\"Oui --> Priorité d'action\",\"Non\"))","v":""},null,null,null,null,{"$f":"IF(ISBLANK(Risque[[#This Row],[Catégorie de risque]]),\"\",CONCATENATE(Risque[[#This Row],[Catégorie de risque]],2))","v":""},null,{"$f":"IF(ISBLANK(Risque[[#This Row],[Moyens de prévention]]),\"\",CONCATENATE(Risque[[#This Row],[Moyens de prévention]],1))","v":""},null,null,null,null,null,{"$f":"IF(ISBLANK(Risque[[#This Row],[Catégorie de risque]]),\"\",CONCATENATE(Risque[[#This Row],[Catégorie de risque]],3))","v":""},null,null,null,{"$f":"IF(ISBLANK(Risque[[#This Row],[Catégorie de risque]]),\"\",CONCATENATE(Risque[[#This Row],[Catégorie de risque]],4))","v":""},null,null,null,null,null,{"$f":"IF(Risque[[#This Row],[Date d''inscription du risque]]<>\"\",YEAR(Risque[[#This Row],[Date d''inscription du risque]]),\"\")","v":""}]
[null,null,{"$f":"IF(ISBLANK(Risque[[#This Row],[Catégorie de risque]]),\"\",CONCATENATE(Risque[[#This Row],[Catégorie de risque]],1))","v":""},null,null,null,null,null,{"$f":"IF(ISBLANK(Risque[[#This Row],[Catégorie de risque]]),\"\",IF(OR(ISNUMBER(SEARCH(\"RZ\",Risque[[#This Row],[Source de danger]]))=TRUE,ISNUMBER(SEARCH(\"RP\",Risque[[#This Row],[Source de danger]]))=TRUE,ISNUMBER(SEARCH(\"RZ\",Risque[[#This Row],[Risques associés]]))=TRUE,ISNUMBER(SEARCH(\"RP\",Risque[[#This Row],[Risques associés]]))=TRUE,ISNUMBER(SEARCH(\"RZ\",Risque[[#This Row],[Précision du risque\n(si liste déroulante présente)]]))=TRUE,ISNUMBER(SEARCH(\"RP\",Risque[[#This Row],[Précision du risque\n(si liste déroulante présente)]]))=TRUE),\"Oui --> Priorité d'action\",\"Non\"))","v":""},null,null,null,null,{"$f":"IF(ISBLANK(Risque[[#This Row],[Catégorie de risque]]),\"\",CONCATENATE(Risque[[#This Row],[Catégorie de risque]],2))","v":""},null,{"$f":"IF(ISBLANK(Risque[[#This Row],[Moyens de prévention]]),\"\",CONCATENATE(Risque[[#This Row],[Moyens de prévention]],1))","v":""},null,null,null,null,null,{"$f":"IF(ISBLANK(Risque[[#This Row],[Catégorie de risque]]),\"\",CONCATENATE(Risque[[#This Row],[Catégorie de risque]],3))","v":""},null,null,null,{"$f":"IF(ISBLANK(Risque[[#This Row],[Catégorie de risque]]),\"\",CONCATENATE(Risque[[#This Row],[Catégorie de risque]],4))","v":""},null,null,null,null,null,{"$f":"IF(Risque[[#This Row],[Date d''inscription du risque]]<>\"\",YEAR(Risque[[#This Row],[Date d''inscription du risque]]),\"\")","v":""}]
[null,null,{"$f":"IF(ISBLANK(Risque[[#This Row],[Catégorie de risque]]),\"\",CONCATENATE(Risque[[#This Row],[Catégorie de risque]],1))","v":""},null,null,null,null,null,{"$f":"IF(ISBLANK(Risque[[#This Row],[Catégorie de risque]]),\"\",IF(OR(ISNUMBER(SEARCH(\"RZ\",Risque[[#This Row],[Source de danger]]))=TRUE,ISNUMBER(SEARCH(\"RP\",Risque[[#This Row],[Source de danger]]))=TRUE,ISNUMBER(SEARCH(\"RZ\",Risque[[#This Row],[Risques associés]]))=TRUE,ISNUMBER(SEARCH(\"RP\",Risque[[#This Row],[Risques associés]]))=TRUE,ISNUMBER(SEARCH(\"RZ\",Risque[[#This Row],[Précision du risque\n(si liste déroulante présente)]]))=TRUE,ISNUMBER(SEARCH(\"RP\",Risque[[#This Row],[Précision du risque\n(si liste déroulante présente)]]))=TRUE),\"Oui --> Priorité d'action\",\"Non\"))","v":""},null,null,null,null,{"$f":"IF(ISBLANK(Risque[[#This Row],[Catégorie de risque]]),\"\",CONCATENATE(Risque[[#This Row],[Catégorie de risque]],2))","v":""},null,{"$f":"IF(ISBLANK(Risque[[#This Row],[Moyens de prévention]]),\"\",CONCATENATE(Risque[[#This Row],[Moyens de prévention]],1))","v":""},null,null,null,null,null,{"$f":"IF(ISBLANK(Risque[[#This Row],[Catégorie de risque]]),\"\",CONCATENATE(Risque[[#This Row],[Catégorie de risque]],3))","v":""},null,null,null,{"$f":"IF(ISBLANK(Risque[[#This Row],[Catégorie de risque]]),\"\",CONCATENATE(Risque[[#This Row],[Catégorie de risque]],4))","v":""},null,null,null,null,null,{"$f":"IF(Risque[[#This Row],[Date d''inscription du risque]]<>\"\",YEAR(Risque[[#This Row],[Date d''inscription du risque]]),\"\")","v":""}]
[null,null,{"$f":"IF(ISBLANK(Risque[[#This Row],[Catégorie de risque]]),\"\",CONCATENATE(Risque[[#This Row],[Catégorie de risque]],1))","v":""},null,null,null,null,null,{"$f":"IF(ISBLANK(Risque[[#This Row],[Catégorie de risque]]),\"\",IF(OR(ISNUMBER(SEARCH(\"RZ\",Risque[[#This Row],[Source de danger]]))=TRUE,ISNUMBER(SEARCH(\"RP\",Risque[[#This Row],[Source de danger]]))=TRUE,ISNUMBER(SEARCH(\"RZ\",Risque[[#This Row],[Risques associés]]))=TRUE,ISNUMBER(SEARCH(\"RP\",Risque[[#This Row],[Risques associés]]))=TRUE,ISNUMBER(SEARCH(\"RZ\",Risque[[#This Row],[Précision du risque\n(si liste déroulante présente)]]))=TRUE,ISNUMBER(SEARCH(\"RP\",Risque[[#This Row],[Précision du risque\n(si liste déroulante présente)]]))=TRUE),\"Oui --> Priorité d'action\",\"Non\"))","v":""},null,null,null,null,{"$f":"IF(ISBLANK(Risque[[#This Row],[Catégorie de risque]]),\"\",CONCATENATE(Risque[[#This Row],[Catégorie de risque]],2))","v":""},null,{"$f":"IF(ISBLANK(Risque[[#This Row],[Moyens de prévention]]),\"\",CONCATENATE(Risque[[#This Row],[Moyens de prévention]],1))","v":""},null,null,null,null,null,{"$f":"IF(ISBLANK(Risque[[#This Row],[Catégorie de risque]]),\"\",CONCATENATE(Risque[[#This Row],[Catégorie de risque]],3))","v":""},null,null,null,{"$f":"IF(ISBLANK(Risque[[#This Row],[Catégorie de risque]]),\"\",CONCATENATE(Risque[[#This Row],[Catégorie de risque]],4))","v":""},null,null,null,null,null,{"$f":"IF(Risque[[#This Row],[Date d''inscription du risque]]<>\"\",YEAR(Risque[[#This Row],[Date d''inscription du risque]]),\"\")","v":""}]
[null,null,{"$f":"IF(ISBLANK(Risque[[#This Row],[Catégorie de risque]]),\"\",CONCATENATE(Risque[[#This Row],[Catégorie de risque]],1))","v":""},null,null,null,null,null,{"$f":"IF(ISBLANK(Risque[[#This Row],[Catégorie de risque]]),\"\",IF(OR(ISNUMBER(SEARCH(\"RZ\",Risque[[#This Row],[Source de danger]]))=TRUE,ISNUMBER(SEARCH(\"RP\",Risque[[#This Row],[Source de danger]]))=TRUE,ISNUMBER(SEARCH(\"RZ\",Risque[[#This Row],[Risques associés]]))=TRUE,ISNUMBER(SEARCH(\"RP\",Risque[[#This Row],[Risques associés]]))=TRUE,ISNUMBER(SEARCH(\"RZ\",Risque[[#This Row],[Précision du risque\n(si liste déroulante présente)]]))=TRUE,ISNUMBER(SEARCH(\"RP\",Risque[[#This Row],[Précision du risque\n(si liste déroulante présente)]]))=TRUE),\"Oui --> Priorité d'action\",\"Non\"))","v":""},null,null,null,null,{"$f":"IF(ISBLANK(Risque[[#This Row],[Catégorie de risque]]),\"\",CONCATENATE(Risque[[#This Row],[Catégorie de risque]],2))","v":""},null,{"$f":"IF(ISBLANK(Risque[[#This Row],[Moyens de prévention]]),\"\",CONCATENATE(Risque[[#This Row],[Moyens de prévention]],1))","v":""},null,null,null,null,null,{"$f":"IF(ISBLANK(Risque[[#This Row],[Catégorie de risque]]),\"\",CONCATENATE(Risque[[#This Row],[Catégorie de risque]],3))","v":""},null,null,null,{"$f":"IF(ISBLANK(Risque[[#This Row],[Catégorie de risque]]),\"\",CONCATENATE(Risque[[#This Row],[Catégorie de risque]],4))","v":""},null,null,null,null,null,{"$f":"IF(Risque[[#This Row],[Date d''inscription du risque]]<>\"\",YEAR(Risque[[#This Row],[Date d''inscription du risque]]),\"\")","v":""}]
[null,null,{"$f":"IF(ISBLANK(Risque[[#This Row],[Catégorie de risque]]),\"\",CONCATENATE(Risque[[#This Row],[Catégorie de risque]],1))","v":""},null,null,null,null,null,{"$f":"IF(ISBLANK(Risque[[#This Row],[Catégorie de risque]]),\"\",IF(OR(ISNUMBER(SEARCH(\"RZ\",Risque[[#This Row],[Source de danger]]))=TRUE,ISNUMBER(SEARCH(\"RP\",Risque[[#This Row],[Source de danger]]))=TRUE,ISNUMBER(SEARCH(\"RZ\",Risque[[#This Row],[Risques associés]]))=TRUE,ISNUMBER(SEARCH(\"RP\",Risque[[#This Row],[Risques associés]]))=TRUE,ISNUMBER(SEARCH(\"RZ\",Risque[[#This Row],[Précision du risque\n(si liste déroulante présente)]]))=TRUE,ISNUMBER(SEARCH(\"RP\",Risque[[#This Row],[Précision du risque\n(si liste déroulante présente)]]))=TRUE),\"Oui --> Priorité d'action\",\"Non\"))","v":""},null,null,null,null,{"$f":"IF(ISBLANK(Risque[[#This Row],[Catégorie de risque]]),\"\",CONCATENATE(Risque[[#This Row],[Catégorie de risque]],2))","v":""},null,{"$f":"IF(ISBLANK(Risque[[#This Row],[Moyens de prévention]]),\"\",CONCATENATE(Risque[[#This Row],[Moyens de prévention]],1))","v":""},null,null,null,null,null,{"$f":"IF(ISBLANK(Risque[[#This Row],[Catégorie de risque]]),\"\",CONCATENATE(Risque[[#This Row],[Catégorie de risque]],3))","v":""},null,null,null,{"$f":"IF(ISBLANK(Risque[[#This Row],[Catégorie de risque]]),\"\",CONCATENATE(Risque[[#This Row],[Catégorie de risque]],4))","v":""},null,null,null,null,null,{"$f":"IF(Risque[[#This Row],[Date d''inscription du risque]]<>\"\",YEAR(Risque[[#This Row],[Date d''inscription du risque]]),\"\")","v":""}]
[null,null,{"$f":"IF(ISBLANK(Risque[[#This Row],[Catégorie de risque]]),\"\",CONCATENATE(Risque[[#This Row],[Catégorie de risque]],1))","v":""},null,null,null,null,null,{"$f":"IF(ISBLANK(Risque[[#This Row],[Catégorie de risque]]),\"\",IF(OR(ISNUMBER(SEARCH(\"RZ\",Risque[[#This Row],[Source de danger]]))=TRUE,ISNUMBER(SEARCH(\"RP\",Risque[[#This Row],[Source de danger]]))=TRUE,ISNUMBER(SEARCH(\"RZ\",Risque[[#This Row],[Risques associés]]))=TRUE,ISNUMBER(SEARCH(\"RP\",Risque[[#This Row],[Risques associés]]))=TRUE,ISNUMBER(SEARCH(\"RZ\",Risque[[#This Row],[Précision du risque\n(si liste déroulante présente)]]))=TRUE,ISNUMBER(SEARCH(\"RP\",Risque[[#This Row],[Précision du risque\n(si liste déroulante présente)]]))=TRUE),\"Oui --> Priorité d'action\",\"Non\"))","v":""},null,null,null,null,{"$f":"IF(ISBLANK(Risque[[#This Row],[Catégorie de risque]]),\"\",CONCATENATE(Risque[[#This Row],[Catégorie de risque]],2))","v":""},null,{"$f":"IF(ISBLANK(Risque[[#This Row],[Moyens de prévention]]),\"\",CONCATENATE(Risque[[#This Row],[Moyens de prévention]],1))","v":""},null,null,null,null,null,{"$f":"IF(ISBLANK(Risque[[#This Row],[Catégorie de risque]]),\"\",CONCATENATE(Risque[[#This Row],[Catégorie de risque]],3))","v":""},null,null,null,{"$f":"IF(ISBLANK(Risque[[#This Row],[Catégorie de risque]]),\"\",CONCATENATE(Risque[[#This Row],[Catégorie de risque]],4))","v":""},null,null,null,null,null,{"$f":"IF(Risque[[#This Row],[Date d''inscription du risque]]<>\"\",YEAR(Risque[[#This Row],[Date d''inscription du risque]]),\"\")","v":""}]
[null,null,{"$f":"IF(ISBLANK(Risque[[#This Row],[Catégorie de risque]]),\"\",CONCATENATE(Risque[[#This Row],[Catégorie de risque]],1))","v":""},null,null,null,null,null,{"$f":"IF(ISBLANK(Risque[[#This Row],[Catégorie de risque]]),\"\",IF(OR(ISNUMBER(SEARCH(\"RZ\",Risque[[#This Row],[Source de danger]]))=TRUE,ISNUMBER(SEARCH(\"RP\",Risque[[#This Row],[Source de danger]]))=TRUE,ISNUMBER(SEARCH(\"RZ\",Risque[[#This Row],[Risques associés]]))=TRUE,ISNUMBER(SEARCH(\"RP\",Risque[[#This Row],[Risques associés]]))=TRUE,ISNUMBER(SEARCH(\"RZ\",Risque[[#This Row],[Précision du risque\n(si liste déroulante présente)]]))=TRUE,ISNUMBER(SEARCH(\"RP\",Risque[[#This Row],[Précision du risque\n(si liste déroulante présente)]]))=TRUE),\"Oui --> Priorité d'action\",\"Non\"))","v":""},null,null,null,null,{"$f":"IF(ISBLANK(Risque[[#This Row],[Catégorie de risque]]),\"\",CONCATENATE(Risque[[#This Row],[Catégorie de risque]],2))","v":""},null,{"$f":"IF(ISBLANK(Risque[[#This Row],[Moyens de prévention]]),\"\",CONCATENATE(Risque[[#This Row],[Moyens de prévention]],1))","v":""},null,null,null,null,null,{"$f":"IF(ISBLANK(Risque[[#This Row],[Catégorie de risque]]),\"\",CONCATENATE(Risque[[#This Row],[Catégorie de risque]],3))","v":""},null,null,null,{"$f":"IF(ISBLANK(Risque[[#This Row],[Catégorie de risque]]),\"\",CONCATENATE(Risque[[#This Row],[Catégorie de risque]],4))","v":""},null,null,null,null,null,{"$f":"IF(Risque[[#This Row],[Date d''inscription du risque]]<>\"\",YEAR(Risque[[#This Row],[Date d''inscription du risque]]),\"\")","v":""}]
[null,null,{"$f":"IF(ISBLANK(Risque[[#This Row],[Catégorie de risque]]),\"\",CONCATENATE(Risque[[#This Row],[Catégorie de risque]],1))","v":""},null,null,null,null,null,{"$f":"IF(ISBLANK(Risque[[#This Row],[Catégorie de risque]]),\"\",IF(OR(ISNUMBER(SEARCH(\"RZ\",Risque[[#This Row],[Source de danger]]))=TRUE,ISNUMBER(SEARCH(\"RP\",Risque[[#This Row],[Source de danger]]))=TRUE,ISNUMBER(SEARCH(\"RZ\",Risque[[#This Row],[Risques associés]]))=TRUE,ISNUMBER(SEARCH(\"RP\",Risque[[#This Row],[Risques associés]]))=TRUE,ISNUMBER(SEARCH(\"RZ\",Risque[[#This Row],[Précision du risque\n(si liste déroulante présente)]]))=TRUE,ISNUMBER(SEARCH(\"RP\",Risque[[#This Row],[Précision du risque\n(si liste déroulante présente)]]))=TRUE),\"Oui --> Priorité d'action\",\"Non\"))","v":""},null,null,null,null,{"$f":"IF(ISBLANK(Risque[[#This Row],[Catégorie de risque]]),\"\",CONCATENATE(Risque[[#This Row],[Catégorie de risque]],2))","v":""},null,{"$f":"IF(ISBLANK(Risque[[#This Row],[Moyens de prévention]]),\"\",CONCATENATE(Risque[[#This Row],[Moyens de prévention]],1))","v":""},null,null,null,null,null,{"$f":"IF(ISBLANK(Risque[[#This Row],[Catégorie de risque]]),\"\",CONCATENATE(Risque[[#This Row],[Catégorie de risque]],3))","v":""},null,null,null,{"$f":"IF(ISBLANK(Risque[[#This Row],[Catégorie de risque]]),\"\",CONCATENATE(Risque[[#This Row],[Catégorie de risque]],4))","v":""},null,null,null,null,null,{"$f":"IF(Risque[[#This Row],[Date d''inscription du risque]]<>\"\",YEAR(Risque[[#This Row],[Date d''inscription du risque]]),\"\")","v":""}]
[null,null,{"$f":"IF(ISBLANK(Risque[[#This Row],[Catégorie de risque]]),\"\",CONCATENATE(Risque[[#This Row],[Catégorie de risque]],1))","v":""},null,null,null,null,null,{"$f":"IF(ISBLANK(Risque[[#This Row],[Catégorie de risque]]),\"\",IF(OR(ISNUMBER(SEARCH(\"RZ\",Risque[[#This Row],[Source de danger]]))=TRUE,ISNUMBER(SEARCH(\"RP\",Risque[[#This Row],[Source de danger]]))=TRUE,ISNUMBER(SEARCH(\"RZ\",Risque[[#This Row],[Risques associés]]))=TRUE,ISNUMBER(SEARCH(\"RP\",Risque[[#This Row],[Risques associés]]))=TRUE,ISNUMBER(SEARCH(\"RZ\",Risque[[#This Row],[Précision du risque\n(si liste déroulante présente)]]))=TRUE,ISNUMBER(SEARCH(\"RP\",Risque[[#This Row],[Précision du risque\n(si liste déroulante présente)]]))=TRUE),\"Oui --> Priorité d'action\",\"Non\"))","v":""},null,null,null,null,{"$f":"IF(ISBLANK(Risque[[#This Row],[Catégorie de risque]]),\"\",CONCATENATE(Risque[[#This Row],[Catégorie de risque]],2))","v":""},null,{"$f":"IF(ISBLANK(Risque[[#This Row],[Moyens de prévention]]),\"\",CONCATENATE(Risque[[#This Row],[Moyens de prévention]],1))","v":""},null,null,null,null,null,{"$f":"IF(ISBLANK(Risque[[#This Row],[Catégorie de risque]]),\"\",CONCATENATE(Risque[[#This Row],[Catégorie de risque]],3))","v":""},null,null,null,{"$f":"IF(ISBLANK(Risque[[#This Row],[Catégorie de risque]]),\"\",CONCATENATE(Risque[[#This Row],[Catégorie de risque]],4))","v":""},null,null,null,null,null,{"$f":"IF(Risque[[#This Row],[Date d''inscription du risque]]<>\"\",YEAR(Risque[[#This Row],[Date d''inscription du risque]]),\"\")","v":""}]
[null,null,{"$f":"IF(ISBLANK(Risque[[#This Row],[Catégorie de risque]]),\"\",CONCATENATE(Risque[[#This Row],[Catégorie de risque]],1))","v":""},null,null,null,null,null,{"$f":"IF(ISBLANK(Risque[[#This Row],[Catégorie de risque]]),\"\",IF(OR(ISNUMBER(SEARCH(\"RZ\",Risque[[#This Row],[Source de danger]]))=TRUE,ISNUMBER(SEARCH(\"RP\",Risque[[#This Row],[Source de danger]]))=TRUE,ISNUMBER(SEARCH(\"RZ\",Risque[[#This Row],[Risques associés]]))=TRUE,ISNUMBER(SEARCH(\"RP\",Risque[[#This Row],[Risques associés]]))=TRUE,ISNUMBER(SEARCH(\"RZ\",Risque[[#This Row],[Précision du risque\n(si liste déroulante présente)]]))=TRUE,ISNUMBER(SEARCH(\"RP\",Risque[[#This Row],[Précision du risque\n(si liste déroulante présente)]]))=TRUE),\"Oui --> Priorité d'action\",\"Non\"))","v":""},null,null,null,null,{"$f":"IF(ISBLANK(Risque[[#This Row],[Catégorie de risque]]),\"\",CONCATENATE(Risque[[#This Row],[Catégorie de risque]],2))","v":""},null,{"$f":"IF(ISBLANK(Risque[[#This Row],[Moyens de prévention]]),\"\",CONCATENATE(Risque[[#This Row],[Moyens de prévention]],1))","v":""},null,null,null,null,null,{"$f":"IF(ISBLANK(Risque[[#This Row],[Catégorie de risque]]),\"\",CONCATENATE(Risque[[#This Row],[Catégorie de risque]],3))","v":""},null,null,null,{"$f":"IF(ISBLANK(Risque[[#This Row],[Catégorie de risque]]),\"\",CONCATENATE(Risque[[#This Row],[Catégorie de risque]],4))","v":""},null,null,null,null,null,{"$f":"IF(Risque[[#This Row],[Date d''inscription du risque]]<>\"\",YEAR(Risque[[#This Row],[Date d''inscription du risque]]),\"\")","v":""}]
[null,null,{"$f":"IF(ISBLANK(Risque[[#This Row],[Catégorie de risque]]),\"\",CONCATENATE(Risque[[#This Row],[Catégorie de risque]],1))","v":""},null,null,null,null,null,{"$f":"IF(ISBLANK(Risque[[#This Row],[Catégorie de risque]]),\"\",IF(OR(ISNUMBER(SEARCH(\"RZ\",Risque[[#This Row],[Source de danger]]))=TRUE,ISNUMBER(SEARCH(\"RP\",Risque[[#This Row],[Source de danger]]))=TRUE,ISNUMBER(SEARCH(\"RZ\",Risque[[#This Row],[Risques associés]]))=TRUE,ISNUMBER(SEARCH(\"RP\",Risque[[#This Row],[Risques associés]]))=TRUE,ISNUMBER(SEARCH(\"RZ\",Risque[[#This Row],[Précision du risque\n(si liste déroulante présente)]]))=TRUE,ISNUMBER(SEARCH(\"RP\",Risque[[#This Row],[Précision du risque\n(si liste déroulante présente)]]))=TRUE),\"Oui --> Priorité d'action\",\"Non\"))","v":""},null,null,null,null,{"$f":"IF(ISBLANK(Risque[[#This Row],[Catégorie de risque]]),\"\",CONCATENATE(Risque[[#This Row],[Catégorie de risque]],2))","v":""},null,{"$f":"IF(ISBLANK(Risque[[#This Row],[Moyens de prévention]]),\"\",CONCATENATE(Risque[[#This Row],[Moyens de prévention]],1))","v":""},null,null,null,null,null,{"$f":"IF(ISBLANK(Risque[[#This Row],[Catégorie de risque]]),\"\",CONCATENATE(Risque[[#This Row],[Catégorie de risque]],3))","v":""},null,null,null,{"$f":"IF(ISBLANK(Risque[[#This Row],[Catégorie de risque]]),\"\",CONCATENATE(Risque[[#This Row],[Catégorie de risque]],4))","v":""},null,null,null,null,null,{"$f":"IF(Risque[[#This Row],[Date d''inscription du risque]]<>\"\",YEAR(Risque[[#This Row],[Date d''inscription du risque]]),\"\")","v":""}]
[null,null,{"$f":"IF(ISBLANK(Risque[[#This Row],[Catégorie de risque]]),\"\",CONCATENATE(Risque[[#This Row],[Catégorie de risque]],1))","v":""},null,null,null,null,null,{"$f":"IF(ISBLANK(Risque[[#This Row],[Catégorie de risque]]),\"\",IF(OR(ISNUMBER(SEARCH(\"RZ\",Risque[[#This Row],[Source de danger]]))=TRUE,ISNUMBER(SEARCH(\"RP\",Risque[[#This Row],[Source de danger]]))=TRUE,ISNUMBER(SEARCH(\"RZ\",Risque[[#This Row],[Risques associés]]))=TRUE,ISNUMBER(SEARCH(\"RP\",Risque[[#This Row],[Risques associés]]))=TRUE,ISNUMBER(SEARCH(\"RZ\",Risque[[#This Row],[Précision du risque\n(si liste déroulante présente)]]))=TRUE,ISNUMBER(SEARCH(\"RP\",Risque[[#This Row],[Précision du risque\n(si liste déroulante présente)]]))=TRUE),\"Oui --> Priorité d'action\",\"Non\"))","v":""},null,null,null,null,{"$f":"IF(ISBLANK(Risque[[#This Row],[Catégorie de risque]]),\"\",CONCATENATE(Risque[[#This Row],[Catégorie de risque]],2))","v":""},null,{"$f":"IF(ISBLANK(Risque[[#This Row],[Moyens de prévention]]),\"\",CONCATENATE(Risque[[#This Row],[Moyens de prévention]],1))","v":""},null,null,null,null,null,{"$f":"IF(ISBLANK(Risque[[#This Row],[Catégorie de risque]]),\"\",CONCATENATE(Risque[[#This Row],[Catégorie de risque]],3))","v":""},null,null,null,{"$f":"IF(ISBLANK(Risque[[#This Row],[Catégorie de risque]]),\"\",CONCATENATE(Risque[[#This Row],[Catégorie de risque]],4))","v":""},null,null,null,null,null,{"$f":"IF(Risque[[#This Row],[Date d''inscription du risque]]<>\"\",YEAR(Risque[[#This Row],[Date d''inscription du risque]]),\"\")","v":""}]
[null,null,{"$f":"IF(ISBLANK(Risque[[#This Row],[Catégorie de risque]]),\"\",CONCATENATE(Risque[[#This Row],[Catégorie de risque]],1))","v":""},null,null,null,null,null,{"$f":"IF(ISBLANK(Risque[[#This Row],[Catégorie de risque]]),\"\",IF(OR(ISNUMBER(SEARCH(\"RZ\",Risque[[#This Row],[Source de danger]]))=TRUE,ISNUMBER(SEARCH(\"RP\",Risque[[#This Row],[Source de danger]]))=TRUE,ISNUMBER(SEARCH(\"RZ\",Risque[[#This Row],[Risques associés]]))=TRUE,ISNUMBER(SEARCH(\"RP\",Risque[[#This Row],[Risques associés]]))=TRUE,ISNUMBER(SEARCH(\"RZ\",Risque[[#This Row],[Précision du risque\n(si liste déroulante présente)]]))=TRUE,ISNUMBER(SEARCH(\"RP\",Risque[[#This Row],[Précision du risque\n(si liste déroulante présente)]]))=TRUE),\"Oui --> Priorité d'action\",\"Non\"))","v":""},null,null,null,null,{"$f":"IF(ISBLANK(Risque[[#This Row],[Catégorie de risque]]),\"\",CONCATENATE(Risque[[#This Row],[Catégorie de risque]],2))","v":""},null,{"$f":"IF(ISBLANK(Risque[[#This Row],[Moyens de prévention]]),\"\",CONCATENATE(Risque[[#This Row],[Moyens de prévention]],1))","v":""},null,null,null,null,null,{"$f":"IF(ISBLANK(Risque[[#This Row],[Catégorie de risque]]),\"\",CONCATENATE(Risque[[#This Row],[Catégorie de risque]],3))","v":""},null,null,null,{"$f":"IF(ISBLANK(Risque[[#This Row],[Catégorie de risque]]),\"\",CONCATENATE(Risque[[#This Row],[Catégorie de risque]],4))","v":""},null,null,null,null,null,{"$f":"IF(Risque[[#This Row],[Date d''inscription du risque]]<>\"\",YEAR(Risque[[#This Row],[Date d''inscription du risque]]),\"\")","v":""}]
[null,null,{"$f":"IF(ISBLANK(Risque[[#This Row],[Catégorie de risque]]),\"\",CONCATENATE(Risque[[#This Row],[Catégorie de risque]],1))","v":""},null,null,null,null,null,{"$f":"IF(ISBLANK(Risque[[#This Row],[Catégorie de risque]]),\"\",IF(OR(ISNUMBER(SEARCH(\"RZ\",Risque[[#This Row],[Source de danger]]))=TRUE,ISNUMBER(SEARCH(\"RP\",Risque[[#This Row],[Source de danger]]))=TRUE,ISNUMBER(SEARCH(\"RZ\",Risque[[#This Row],[Risques associés]]))=TRUE,ISNUMBER(SEARCH(\"RP\",Risque[[#This Row],[Risques associés]]))=TRUE,ISNUMBER(SEARCH(\"RZ\",Risque[[#This Row],[Précision du risque\n(si liste déroulante présente)]]))=TRUE,ISNUMBER(SEARCH(\"RP\",Risque[[#This Row],[Précision du risque\n(si liste déroulante présente)]]))=TRUE),\"Oui --> Priorité d'action\",\"Non\"))","v":""},null,null,null,null,{"$f":"IF(ISBLANK(Risque[[#This Row],[Catégorie de risque]]),\"\",CONCATENATE(Risque[[#This Row],[Catégorie de risque]],2))","v":""},null,{"$f":"IF(ISBLANK(Risque[[#This Row],[Moyens de prévention]]),\"\",CONCATENATE(Risque[[#This Row],[Moyens de prévention]],1))","v":""},null,null,null,null,null,{"$f":"IF(ISBLANK(Risque[[#This Row],[Catégorie de risque]]),\"\",CONCATENATE(Risque[[#This Row],[Catégorie de risque]],3))","v":""},null,null,null,{"$f":"IF(ISBLANK(Risque[[#This Row],[Catégorie de risque]]),\"\",CONCATENATE(Risque[[#This Row],[Catégorie de risque]],4))","v":""},null,null,null,null,null,{"$f":"IF(Risque[[#This Row],[Date d''inscription du risque]]<>\"\",YEAR(Risque[[#This Row],[Date d''inscription du risque]]),\"\")","v":""}]
[null,null,{"$f":"IF(ISBLANK(Risque[[#This Row],[Catégorie de risque]]),\"\",CONCATENATE(Risque[[#This Row],[Catégorie de risque]],1))","v":""},null,null,null,null,null,{"$f":"IF(ISBLANK(Risque[[#This Row],[Catégorie de risque]]),\"\",IF(OR(ISNUMBER(SEARCH(\"RZ\",Risque[[#This Row],[Source de danger]]))=TRUE,ISNUMBER(SEARCH(\"RP\",Risque[[#This Row],[Source de danger]]))=TRUE,ISNUMBER(SEARCH(\"RZ\",Risque[[#This Row],[Risques associés]]))=TRUE,ISNUMBER(SEARCH(\"RP\",Risque[[#This Row],[Risques associés]]))=TRUE,ISNUMBER(SEARCH(\"RZ\",Risque[[#This Row],[Précision du risque\n(si liste déroulante présente)]]))=TRUE,ISNUMBER(SEARCH(\"RP\",Risque[[#This Row],[Précision du risque\n(si liste déroulante présente)]]))=TRUE),\"Oui --> Priorité d'action\",\"Non\"))","v":""},null,null,null,null,{"$f":"IF(ISBLANK(Risque[[#This Row],[Catégorie de risque]]),\"\",CONCATENATE(Risque[[#This Row],[Catégorie de risque]],2))","v":""},null,{"$f":"IF(ISBLANK(Risque[[#This Row],[Moyens de prévention]]),\"\",CONCATENATE(Risque[[#This Row],[Moyens de prévention]],1))","v":""},null,null,null,null,null,{"$f":"IF(ISBLANK(Risque[[#This Row],[Catégorie de risque]]),\"\",CONCATENATE(Risque[[#This Row],[Catégorie de risque]],3))","v":""},null,null,null,{"$f":"IF(ISBLANK(Risque[[#This Row],[Catégorie de risque]]),\"\",CONCATENATE(Risque[[#This Row],[Catégorie de risque]],4))","v":""},null,null,null,null,null,{"$f":"IF(Risque[[#This Row],[Date d''inscription du risque]]<>\"\",YEAR(Risque[[#This Row],[Date d''inscription du risque]]),\"\")","v":""}]
[null,null,{"$f":"IF(ISBLANK(Risque[[#This Row],[Catégorie de risque]]),\"\",CONCATENATE(Risque[[#This Row],[Catégorie de risque]],1))","v":""},null,null,null,null,null,{"$f":"IF(ISBLANK(Risque[[#This Row],[Catégorie de risque]]),\"\",IF(OR(ISNUMBER(SEARCH(\"RZ\",Risque[[#This Row],[Source de danger]]))=TRUE,ISNUMBER(SEARCH(\"RP\",Risque[[#This Row],[Source de danger]]))=TRUE,ISNUMBER(SEARCH(\"RZ\",Risque[[#This Row],[Risques associés]]))=TRUE,ISNUMBER(SEARCH(\"RP\",Risque[[#This Row],[Risques associés]]))=TRUE,ISNUMBER(SEARCH(\"RZ\",Risque[[#This Row],[Précision du risque\n(si liste déroulante présente)]]))=TRUE,ISNUMBER(SEARCH(\"RP\",Risque[[#This Row],[Précision du risque\n(si liste déroulante présente)]]))=TRUE),\"Oui --> Priorité d'action\",\"Non\"))","v":""},null,null,null,null,{"$f":"IF(ISBLANK(Risque[[#This Row],[Catégorie de risque]]),\"\",CONCATENATE(Risque[[#This Row],[Catégorie de risque]],2))","v":""},null,{"$f":"IF(ISBLANK(Risque[[#This Row],[Moyens de prévention]]),\"\",CONCATENATE(Risque[[#This Row],[Moyens de prévention]],1))","v":""},null,null,null,null,null,{"$f":"IF(ISBLANK(Risque[[#This Row],[Catégorie de risque]]),\"\",CONCATENATE(Risque[[#This Row],[Catégorie de risque]],3))","v":""},null,null,null,{"$f":"IF(ISBLANK(Risque[[#This Row],[Catégorie de risque]]),\"\",CONCATENATE(Risque[[#This Row],[Catégorie de risque]],4))","v":""},null,null,null,null,null,{"$f":"IF(Risque[[#This Row],[Date d''inscription du risque]]<>\"\",YEAR(Risque[[#This Row],[Date d''inscription du risque]]),\"\")","v":""}]
[null,null,{"$f":"IF(ISBLANK(Risque[[#This Row],[Catégorie de risque]]),\"\",CONCATENATE(Risque[[#This Row],[Catégorie de risque]],1))","v":""},null,null,null,null,null,{"$f":"IF(ISBLANK(Risque[[#This Row],[Catégorie de risque]]),\"\",IF(OR(ISNUMBER(SEARCH(\"RZ\",Risque[[#This Row],[Source de danger]]))=TRUE,ISNUMBER(SEARCH(\"RP\",Risque[[#This Row],[Source de danger]]))=TRUE,ISNUMBER(SEARCH(\"RZ\",Risque[[#This Row],[Risques associés]]))=TRUE,ISNUMBER(SEARCH(\"RP\",Risque[[#This Row],[Risques associés]]))=TRUE,ISNUMBER(SEARCH(\"RZ\",Risque[[#This Row],[Précision du risque\n(si liste déroulante présente)]]))=TRUE,ISNUMBER(SEARCH(\"RP\",Risque[[#This Row],[Précision du risque\n(si liste déroulante présente)]]))=TRUE),\"Oui --> Priorité d'action\",\"Non\"))","v":""},null,null,null,null,{"$f":"IF(ISBLANK(Risque[[#This Row],[Catégorie de risque]]),\"\",CONCATENATE(Risque[[#This Row],[Catégorie de risque]],2))","v":""},null,{"$f":"IF(ISBLANK(Risque[[#This Row],[Moyens de prévention]]),\"\",CONCATENATE(Risque[[#This Row],[Moyens de prévention]],1))","v":""},null,null,null,null,null,{"$f":"IF(ISBLANK(Risque[[#This Row],[Catégorie de risque]]),\"\",CONCATENATE(Risque[[#This Row],[Catégorie de risque]],3))","v":""},null,null,null,{"$f":"IF(ISBLANK(Risque[[#This Row],[Catégorie de risque]]),\"\",CONCATENATE(Risque[[#This Row],[Catégorie de risque]],4))","v":""},null,null,null,null,null,{"$f":"IF(Risque[[#This Row],[Date d''inscription du risque]]<>\"\",YEAR(Risque[[#This Row],[Date d''inscription du risque]]),\"\")","v":""}]
[null,null,{"$f":"IF(ISBLANK(Risque[[#This Row],[Catégorie de risque]]),\"\",CONCATENATE(Risque[[#This Row],[Catégorie de risque]],1))","v":""},null,null,null,null,null,{"$f":"IF(ISBLANK(Risque[[#This Row],[Catégorie de risque]]),\"\",IF(OR(ISNUMBER(SEARCH(\"RZ\",Risque[[#This Row],[Source de danger]]))=TRUE,ISNUMBER(SEARCH(\"RP\",Risque[[#This Row],[Source de danger]]))=TRUE,ISNUMBER(SEARCH(\"RZ\",Risque[[#This Row],[Risques associés]]))=TRUE,ISNUMBER(SEARCH(\"RP\",Risque[[#This Row],[Risques associés]]))=TRUE,ISNUMBER(SEARCH(\"RZ\",Risque[[#This Row],[Précision du risque\n(si liste déroulante présente)]]))=TRUE,ISNUMBER(SEARCH(\"RP\",Risque[[#This Row],[Précision du risque\n(si liste déroulante présente)]]))=TRUE),\"Oui --> Priorité d'action\",\"Non\"))","v":""},null,null,null,null,{"$f":"IF(ISBLANK(Risque[[#This Row],[Catégorie de risque]]),\"\",CONCATENATE(Risque[[#This Row],[Catégorie de risque]],2))","v":""},null,{"$f":"IF(ISBLANK(Risque[[#This Row],[Moyens de prévention]]),\"\",CONCATENATE(Risque[[#This Row],[Moyens de prévention]],1))","v":""},null,null,null,null,null,{"$f":"IF(ISBLANK(Risque[[#This Row],[Catégorie de risque]]),\"\",CONCATENATE(Risque[[#This Row],[Catégorie de risque]],3))","v":""},null,null,null,{"$f":"IF(ISBLANK(Risque[[#This Row],[Catégorie de risque]]),\"\",CONCATENATE(Risque[[#This Row],[Catégorie de risque]],4))","v":""},null,null,null,null,null,{"$f":"IF(Risque[[#This Row],[Date d''inscription du risque]]<>\"\",YEAR(Risque[[#This Row],[Date d''inscription du risque]]),\"\")","v":""}]
[null,null,{"$f":"IF(ISBLANK(Risque[[#This Row],[Catégorie de risque]]),\"\",CONCATENATE(Risque[[#This Row],[Catégorie de risque]],1))","v":""},null,null,null,null,null,{"$f":"IF(ISBLANK(Risque[[#This Row],[Catégorie de risque]]),\"\",IF(OR(ISNUMBER(SEARCH(\"RZ\",Risque[[#This Row],[Source de danger]]))=TRUE,ISNUMBER(SEARCH(\"RP\",Risque[[#This Row],[Source de danger]]))=TRUE,ISNUMBER(SEARCH(\"RZ\",Risque[[#This Row],[Risques associés]]))=TRUE,ISNUMBER(SEARCH(\"RP\",Risque[[#This Row],[Risques associés]]))=TRUE,ISNUMBER(SEARCH(\"RZ\",Risque[[#This Row],[Précision du risque\n(si liste déroulante présente)]]))=TRUE,ISNUMBER(SEARCH(\"RP\",Risque[[#This Row],[Précision du risque\n(si liste déroulante présente)]]))=TRUE),\"Oui --> Priorité d'action\",\"Non\"))","v":""},null,null,null,null,{"$f":"IF(ISBLANK(Risque[[#This Row],[Catégorie de risque]]),\"\",CONCATENATE(Risque[[#This Row],[Catégorie de risque]],2))","v":""},null,{"$f":"IF(ISBLANK(Risque[[#This Row],[Moyens de prévention]]),\"\",CONCATENATE(Risque[[#This Row],[Moyens de prévention]],1))","v":""},null,null,null,null,null,{"$f":"IF(ISBLANK(Risque[[#This Row],[Catégorie de risque]]),\"\",CONCATENATE(Risque[[#This Row],[Catégorie de risque]],3))","v":""},null,null,null,{"$f":"IF(ISBLANK(Risque[[#This Row],[Catégorie de risque]]),\"\",CONCATENATE(Risque[[#This Row],[Catégorie de risque]],4))","v":""},null,null,null,null,null,{"$f":"IF(Risque[[#This Row],[Date d''inscription du risque]]<>\"\",YEAR(Risque[[#This Row],[Date d''inscription du risque]]),\"\")","v":""}]
[null,null,{"$f":"IF(ISBLANK(Risque[[#This Row],[Catégorie de risque]]),\"\",CONCATENATE(Risque[[#This Row],[Catégorie de risque]],1))","v":""},null,null,null,null,null,{"$f":"IF(ISBLANK(Risque[[#This Row],[Catégorie de risque]]),\"\",IF(OR(ISNUMBER(SEARCH(\"RZ\",Risque[[#This Row],[Source de danger]]))=TRUE,ISNUMBER(SEARCH(\"RP\",Risque[[#This Row],[Source de danger]]))=TRUE,ISNUMBER(SEARCH(\"RZ\",Risque[[#This Row],[Risques associés]]))=TRUE,ISNUMBER(SEARCH(\"RP\",Risque[[#This Row],[Risques associés]]))=TRUE,ISNUMBER(SEARCH(\"RZ\",Risque[[#This Row],[Précision du risque\n(si liste déroulante présente)]]))=TRUE,ISNUMBER(SEARCH(\"RP\",Risque[[#This Row],[Précision du risque\n(si liste déroulante présente)]]))=TRUE),\"Oui --> Priorité d'action\",\"Non\"))","v":""},null,null,null,null,{"$f":"IF(ISBLANK(Risque[[#This Row],[Catégorie de risque]]),\"\",CONCATENATE(Risque[[#This Row],[Catégorie de risque]],2))","v":""},null,{"$f":"IF(ISBLANK(Risque[[#This Row],[Moyens de prévention]]),\"\",CONCATENATE(Risque[[#This Row],[Moyens de prévention]],1))","v":""},null,null,null,null,null,{"$f":"IF(ISBLANK(Risque[[#This Row],[Catégorie de risque]]),\"\",CONCATENATE(Risque[[#This Row],[Catégorie de risque]],3))","v":""},null,null,null,{"$f":"IF(ISBLANK(Risque[[#This Row],[Catégorie de risque]]),\"\",CONCATENATE(Risque[[#This Row],[Catégorie de risque]],4))","v":""},null,null,null,null,null,{"$f":"IF(Risque[[#This Row],[Date d''inscription du risque]]<>\"\",YEAR(Risque[[#This Row],[Date d''inscription du risque]]),\"\")","v":""}]
[null,null,{"$f":"IF(ISBLANK(Risque[[#This Row],[Catégorie de risque]]),\"\",CONCATENATE(Risque[[#This Row],[Catégorie de risque]],1))","v":""},null,null,null,null,null,{"$f":"IF(ISBLANK(Risque[[#This Row],[Catégorie de risque]]),\"\",IF(OR(ISNUMBER(SEARCH(\"RZ\",Risque[[#This Row],[Source de danger]]))=TRUE,ISNUMBER(SEARCH(\"RP\",Risque[[#This Row],[Source de danger]]))=TRUE,ISNUMBER(SEARCH(\"RZ\",Risque[[#This Row],[Risques associés]]))=TRUE,ISNUMBER(SEARCH(\"RP\",Risque[[#This Row],[Risques associés]]))=TRUE,ISNUMBER(SEARCH(\"RZ\",Risque[[#This Row],[Précision du risque\n(si liste déroulante présente)]]))=TRUE,ISNUMBER(SEARCH(\"RP\",Risque[[#This Row],[Précision du risque\n(si liste déroulante présente)]]))=TRUE),\"Oui --> Priorité d'action\",\"Non\"))","v":""},null,null,null,null,{"$f":"IF(ISBLANK(Risque[[#This Row],[Catégorie de risque]]),\"\",CONCATENATE(Risque[[#This Row],[Catégorie de risque]],2))","v":""},null,{"$f":"IF(ISBLANK(Risque[[#This Row],[Moyens de prévention]]),\"\",CONCATENATE(Risque[[#This Row],[Moyens de prévention]],1))","v":""},null,null,null,null,null,{"$f":"IF(ISBLANK(Risque[[#This Row],[Catégorie de risque]]),\"\",CONCATENATE(Risque[[#This Row],[Catégorie de risque]],3))","v":""},null,null,null,{"$f":"IF(ISBLANK(Risque[[#This Row],[Catégorie de risque]]),\"\",CONCATENATE(Risque[[#This Row],[Catégorie de risque]],4))","v":""},null,null,null,null,null,{"$f":"IF(Risque[[#This Row],[Date d''inscription du risque]]<>\"\",YEAR(Risque[[#This Row],[Date d''inscription du risque]]),\"\")","v":""}]
[null,null,{"$f":"IF(ISBLANK(Risque[[#This Row],[Catégorie de risque]]),\"\",CONCATENATE(Risque[[#This Row],[Catégorie de risque]],1))","v":""},null,null,null,null,null,{"$f":"IF(ISBLANK(Risque[[#This Row],[Catégorie de risque]]),\"\",IF(OR(ISNUMBER(SEARCH(\"RZ\",Risque[[#This Row],[Source de danger]]))=TRUE,ISNUMBER(SEARCH(\"RP\",Risque[[#This Row],[Source de danger]]))=TRUE,ISNUMBER(SEARCH(\"RZ\",Risque[[#This Row],[Risques associés]]))=TRUE,ISNUMBER(SEARCH(\"RP\",Risque[[#This Row],[Risques associés]]))=TRUE,ISNUMBER(SEARCH(\"RZ\",Risque[[#This Row],[Précision du risque\n(si liste déroulante présente)]]))=TRUE,ISNUMBER(SEARCH(\"RP\",Risque[[#This Row],[Précision du risque\n(si liste déroulante présente)]]))=TRUE),\"Oui --> Priorité d'action\",\"Non\"))","v":""},null,null,null,null,{"$f":"IF(ISBLANK(Risque[[#This Row],[Catégorie de risque]]),\"\",CONCATENATE(Risque[[#This Row],[Catégorie de risque]],2))","v":""},null,{"$f":"IF(ISBLANK(Risque[[#This Row],[Moyens de prévention]]),\"\",CONCATENATE(Risque[[#This Row],[Moyens de prévention]],1))","v":""},null,null,null,null,null,{"$f":"IF(ISBLANK(Risque[[#This Row],[Catégorie de risque]]),\"\",CONCATENATE(Risque[[#This Row],[Catégorie de risque]],3))","v":""},null,null,null,{"$f":"IF(ISBLANK(Risque[[#This Row],[Catégorie de risque]]),\"\",CONCATENATE(Risque[[#This Row],[Catégorie de risque]],4))","v":""},null,null,null,null,null,{"$f":"IF(Risque[[#This Row],[Date d''inscription du risque]]<>\"\",YEAR(Risque[[#This Row],[Date d''inscription du risque]]),\"\")","v":""}]
[null,null,{"$f":"IF(ISBLANK(Risque[[#This Row],[Catégorie de risque]]),\"\",CONCATENATE(Risque[[#This Row],[Catégorie de risque]],1))","v":""},null,null,null,null,null,{"$f":"IF(ISBLANK(Risque[[#This Row],[Catégorie de risque]]),\"\",IF(OR(ISNUMBER(SEARCH(\"RZ\",Risque[[#This Row],[Source de danger]]))=TRUE,ISNUMBER(SEARCH(\"RP\",Risque[[#This Row],[Source de danger]]))=TRUE,ISNUMBER(SEARCH(\"RZ\",Risque[[#This Row],[Risques associés]]))=TRUE,ISNUMBER(SEARCH(\"RP\",Risque[[#This Row],[Risques associés]]))=TRUE,ISNUMBER(SEARCH(\"RZ\",Risque[[#This Row],[Précision du risque\n(si liste déroulante présente)]]))=TRUE,ISNUMBER(SEARCH(\"RP\",Risque[[#This Row],[Précision du risque\n(si liste déroulante présente)]]))=TRUE),\"Oui --> Priorité d'action\",\"Non\"))","v":""},null,null,null,null,{"$f":"IF(ISBLANK(Risque[[#This Row],[Catégorie de risque]]),\"\",CONCATENATE(Risque[[#This Row],[Catégorie de risque]],2))","v":""},null,{"$f":"IF(ISBLANK(Risque[[#This Row],[Moyens de prévention]]),\"\",CONCATENATE(Risque[[#This Row],[Moyens de prévention]],1))","v":""},null,null,null,null,null,{"$f":"IF(ISBLANK(Risque[[#This Row],[Catégorie de risque]]),\"\",CONCATENATE(Risque[[#This Row],[Catégorie de risque]],3))","v":""},null,null,null,{"$f":"IF(ISBLANK(Risque[[#This Row],[Catégorie de risque]]),\"\",CONCATENATE(Risque[[#This Row],[Catégorie de risque]],4))","v":""},null,null,null,null,null,{"$f":"IF(Risque[[#This Row],[Date d''inscription du risque]]<>\"\",YEAR(Risque[[#This Row],[Date d''inscription du risque]]),\"\")","v":""}]
[null,null,{"$f":"IF(ISBLANK(Risque[[#This Row],[Catégorie de risque]]),\"\",CONCATENATE(Risque[[#This Row],[Catégorie de risque]],1))","v":""},null,null,null,null,null,{"$f":"IF(ISBLANK(Risque[[#This Row],[Catégorie de risque]]),\"\",IF(OR(ISNUMBER(SEARCH(\"RZ\",Risque[[#This Row],[Source de danger]]))=TRUE,ISNUMBER(SEARCH(\"RP\",Risque[[#This Row],[Source de danger]]))=TRUE,ISNUMBER(SEARCH(\"RZ\",Risque[[#This Row],[Risques associés]]))=TRUE,ISNUMBER(SEARCH(\"RP\",Risque[[#This Row],[Risques associés]]))=TRUE,ISNUMBER(SEARCH(\"RZ\",Risque[[#This Row],[Précision du risque\n(si liste déroulante présente)]]))=TRUE,ISNUMBER(SEARCH(\"RP\",Risque[[#This Row],[Précision du risque\n(si liste déroulante présente)]]))=TRUE),\"Oui --> Priorité d'action\",\"Non\"))","v":""},null,null,null,null,{"$f":"IF(ISBLANK(Risque[[#This Row],[Catégorie de risque]]),\"\",CONCATENATE(Risque[[#This Row],[Catégorie de risque]],2))","v":""},null,{"$f":"IF(ISBLANK(Risque[[#This Row],[Moyens de prévention]]),\"\",CONCATENATE(Risque[[#This Row],[Moyens de prévention]],1))","v":""},null,null,null,null,null,{"$f":"IF(ISBLANK(Risque[[#This Row],[Catégorie de risque]]),\"\",CONCATENATE(Risque[[#This Row],[Catégorie de risque]],3))","v":""},null,null,null,{"$f":"IF(ISBLANK(Risque[[#This Row],[Catégorie de risque]]),\"\",CONCATENATE(Risque[[#This Row],[Catégorie de risque]],4))","v":""},null,null,null,null,null,{"$f":"IF(Risque[[#This Row],[Date d''inscription du risque]]<>\"\",YEAR(Risque[[#This Row],[Date d''inscription du risque]]),\"\")","v":""}]
[null,null,{"$f":"IF(ISBLANK(Risque[[#This Row],[Catégorie de risque]]),\"\",CONCATENATE(Risque[[#This Row],[Catégorie de risque]],1))","v":""},null,null,null,null,null,{"$f":"IF(ISBLANK(Risque[[#This Row],[Catégorie de risque]]),\"\",IF(OR(ISNUMBER(SEARCH(\"RZ\",Risque[[#This Row],[Source de danger]]))=TRUE,ISNUMBER(SEARCH(\"RP\",Risque[[#This Row],[Source de danger]]))=TRUE,ISNUMBER(SEARCH(\"RZ\",Risque[[#This Row],[Risques associés]]))=TRUE,ISNUMBER(SEARCH(\"RP\",Risque[[#This Row],[Risques associés]]))=TRUE,ISNUMBER(SEARCH(\"RZ\",Risque[[#This Row],[Précision du risque\n(si liste déroulante présente)]]))=TRUE,ISNUMBER(SEARCH(\"RP\",Risque[[#This Row],[Précision du risque\n(si liste déroulante présente)]]))=TRUE),\"Oui --> Priorité d'action\",\"Non\"))","v":""},null,null,null,null,{"$f":"IF(ISBLANK(Risque[[#This Row],[Catégorie de risque]]),\"\",CONCATENATE(Risque[[#This Row],[Catégorie de risque]],2))","v":""},null,{"$f":"IF(ISBLANK(Risque[[#This Row],[Moyens de prévention]]),\"\",CONCATENATE(Risque[[#This Row],[Moyens de prévention]],1))","v":""},null,null,null,null,null,{"$f":"IF(ISBLANK(Risque[[#This Row],[Catégorie de risque]]),\"\",CONCATENATE(Risque[[#This Row],[Catégorie de risque]],3))","v":""},null,null,null,{"$f":"IF(ISBLANK(Risque[[#This Row],[Catégorie de risque]]),\"\",CONCATENATE(Risque[[#This Row],[Catégorie de risque]],4))","v":""},null,null,null,null,null,{"$f":"IF(Risque[[#This Row],[Date d''inscription du risque]]<>\"\",YEAR(Risque[[#This Row],[Date d''inscription du risque]]),\"\")","v":""}]
[null,null,{"$f":"IF(ISBLANK(Risque[[#This Row],[Catégorie de risque]]),\"\",CONCATENATE(Risque[[#This Row],[Catégorie de risque]],1))","v":""},null,null,null,null,null,{"$f":"IF(ISBLANK(Risque[[#This Row],[Catégorie de risque]]),\"\",IF(OR(ISNUMBER(SEARCH(\"RZ\",Risque[[#This Row],[Source de danger]]))=TRUE,ISNUMBER(SEARCH(\"RP\",Risque[[#This Row],[Source de danger]]))=TRUE,ISNUMBER(SEARCH(\"RZ\",Risque[[#This Row],[Risques associés]]))=TRUE,ISNUMBER(SEARCH(\"RP\",Risque[[#This Row],[Risques associés]]))=TRUE,ISNUMBER(SEARCH(\"RZ\",Risque[[#This Row],[Précision du risque\n(si liste déroulante présente)]]))=TRUE,ISNUMBER(SEARCH(\"RP\",Risque[[#This Row],[Précision du risque\n(si liste déroulante présente)]]))=TRUE),\"Oui --> Priorité d'action\",\"Non\"))","v":""},null,null,null,null,{"$f":"IF(ISBLANK(Risque[[#This Row],[Catégorie de risque]]),\"\",CONCATENATE(Risque[[#This Row],[Catégorie de risque]],2))","v":""},null,{"$f":"IF(ISBLANK(Risque[[#This Row],[Moyens de prévention]]),\"\",CONCATENATE(Risque[[#This Row],[Moyens de prévention]],1))","v":""},null,null,null,null,null,{"$f":"IF(ISBLANK(Risque[[#This Row],[Catégorie de risque]]),\"\",CONCATENATE(Risque[[#This Row],[Catégorie de risque]],3))","v":""},null,null,null,{"$f":"IF(ISBLANK(Risque[[#This Row],[Catégorie de risque]]),\"\",CONCATENATE(Risque[[#This Row],[Catégorie de risque]],4))","v":""},null,null,null,null,null,{"$f":"IF(Risque[[#This Row],[Date d''inscription du risque]]<>\"\",YEAR(Risque[[#This Row],[Date d''inscription du risque]]),\"\")","v":""}]
[null,null,{"$f":"IF(ISBLANK(Risque[[#This Row],[Catégorie de risque]]),\"\",CONCATENATE(Risque[[#This Row],[Catégorie de risque]],1))","v":""},null,null,null,null,null,{"$f":"IF(ISBLANK(Risque[[#This Row],[Catégorie de risque]]),\"\",IF(OR(ISNUMBER(SEARCH(\"RZ\",Risque[[#This Row],[Source de danger]]))=TRUE,ISNUMBER(SEARCH(\"RP\",Risque[[#This Row],[Source de danger]]))=TRUE,ISNUMBER(SEARCH(\"RZ\",Risque[[#This Row],[Risques associés]]))=TRUE,ISNUMBER(SEARCH(\"RP\",Risque[[#This Row],[Risques associés]]))=TRUE,ISNUMBER(SEARCH(\"RZ\",Risque[[#This Row],[Précision du risque\n(si liste déroulante présente)]]))=TRUE,ISNUMBER(SEARCH(\"RP\",Risque[[#This Row],[Précision du risque\n(si liste déroulante présente)]]))=TRUE),\"Oui --> Priorité d'action\",\"Non\"))","v":""},null,null,null,null,{"$f":"IF(ISBLANK(Risque[[#This Row],[Catégorie de risque]]),\"\",CONCATENATE(Risque[[#This Row],[Catégorie de risque]],2))","v":""},null,{"$f":"IF(ISBLANK(Risque[[#This Row],[Moyens de prévention]]),\"\",CONCATENATE(Risque[[#This Row],[Moyens de prévention]],1))","v":""},null,null,null,null,null,{"$f":"IF(ISBLANK(Risque[[#This Row],[Catégorie de risque]]),\"\",CONCATENATE(Risque[[#This Row],[Catégorie de risque]],3))","v":""},null,null,null,{"$f":"IF(ISBLANK(Risque[[#This Row],[Catégorie de risque]]),\"\",CONCATENATE(Risque[[#This Row],[Catégorie de risque]],4))","v":""},null,null,null,null,null,{"$f":"IF(Risque[[#This Row],[Date d''inscription du risque]]<>\"\",YEAR(Risque[[#This Row],[Date d''inscription du risque]]),\"\")","v":""}]
[null,null,{"$f":"IF(ISBLANK(Risque[[#This Row],[Catégorie de risque]]),\"\",CONCATENATE(Risque[[#This Row],[Catégorie de risque]],1))","v":""},null,null,null,null,null,{"$f":"IF(ISBLANK(Risque[[#This Row],[Catégorie de risque]]),\"\",IF(OR(ISNUMBER(SEARCH(\"RZ\",Risque[[#This Row],[Source de danger]]))=TRUE,ISNUMBER(SEARCH(\"RP\",Risque[[#This Row],[Source de danger]]))=TRUE,ISNUMBER(SEARCH(\"RZ\",Risque[[#This Row],[Risques associés]]))=TRUE,ISNUMBER(SEARCH(\"RP\",Risque[[#This Row],[Risques associés]]))=TRUE,ISNUMBER(SEARCH(\"RZ\",Risque[[#This Row],[Précision du risque\n(si liste déroulante présente)]]))=TRUE,ISNUMBER(SEARCH(\"RP\",Risque[[#This Row],[Précision du risque\n(si liste déroulante présente)]]))=TRUE),\"Oui --> Priorité d'action\",\"Non\"))","v":""},null,null,null,null,{"$f":"IF(ISBLANK(Risque[[#This Row],[Catégorie de risque]]),\"\",CONCATENATE(Risque[[#This Row],[Catégorie de risque]],2))","v":""},null,{"$f":"IF(ISBLANK(Risque[[#This Row],[Moyens de prévention]]),\"\",CONCATENATE(Risque[[#This Row],[Moyens de prévention]],1))","v":""},null,null,null,null,null,{"$f":"IF(ISBLANK(Risque[[#This Row],[Catégorie de risque]]),\"\",CONCATENATE(Risque[[#This Row],[Catégorie de risque]],3))","v":""},null,null,null,{"$f":"IF(ISBLANK(Risque[[#This Row],[Catégorie de risque]]),\"\",CONCATENATE(Risque[[#This Row],[Catégorie de risque]],4))","v":""},null,null,null,null,null,{"$f":"IF(Risque[[#This Row],[Date d''inscription du risque]]<>\"\",YEAR(Risque[[#This Row],[Date d''inscription du risque]]),\"\")","v":""}]
[null,null,{"$f":"IF(ISBLANK(Risque[[#This Row],[Catégorie de risque]]),\"\",CONCATENATE(Risque[[#This Row],[Catégorie de risque]],1))","v":""},null,null,null,null,null,{"$f":"IF(ISBLANK(Risque[[#This Row],[Catégorie de risque]]),\"\",IF(OR(ISNUMBER(SEARCH(\"RZ\",Risque[[#This Row],[Source de danger]]))=TRUE,ISNUMBER(SEARCH(\"RP\",Risque[[#This Row],[Source de danger]]))=TRUE,ISNUMBER(SEARCH(\"RZ\",Risque[[#This Row],[Risques associés]]))=TRUE,ISNUMBER(SEARCH(\"RP\",Risque[[#This Row],[Risques associés]]))=TRUE,ISNUMBER(SEARCH(\"RZ\",Risque[[#This Row],[Précision du risque\n(si liste déroulante présente)]]))=TRUE,ISNUMBER(SEARCH(\"RP\",Risque[[#This Row],[Précision du risque\n(si liste déroulante présente)]]))=TRUE),\"Oui --> Priorité d'action\",\"Non\"))","v":""},null,null,null,null,{"$f":"IF(ISBLANK(Risque[[#This Row],[Catégorie de risque]]),\"\",CONCATENATE(Risque[[#This Row],[Catégorie de risque]],2))","v":""},null,{"$f":"IF(ISBLANK(Risque[[#This Row],[Moyens de prévention]]),\"\",CONCATENATE(Risque[[#This Row],[Moyens de prévention]],1))","v":""},null,null,null,null,null,{"$f":"IF(ISBLANK(Risque[[#This Row],[Catégorie de risque]]),\"\",CONCATENATE(Risque[[#This Row],[Catégorie de risque]],3))","v":""},null,null,null,{"$f":"IF(ISBLANK(Risque[[#This Row],[Catégorie de risque]]),\"\",CONCATENATE(Risque[[#This Row],[Catégorie de risque]],4))","v":""},null,null,null,null,null,{"$f":"IF(Risque[[#This Row],[Date d''inscription du risque]]<>\"\",YEAR(Risque[[#This Row],[Date d''inscription du risque]]),\"\")","v":""}]
[null,null,{"$f":"IF(ISBLANK(Risque[[#This Row],[Catégorie de risque]]),\"\",CONCATENATE(Risque[[#This Row],[Catégorie de risque]],1))","v":""},null,null,null,null,null,{"$f":"IF(ISBLANK(Risque[[#This Row],[Catégorie de risque]]),\"\",IF(OR(ISNUMBER(SEARCH(\"RZ\",Risque[[#This Row],[Source de danger]]))=TRUE,ISNUMBER(SEARCH(\"RP\",Risque[[#This Row],[Source de danger]]))=TRUE,ISNUMBER(SEARCH(\"RZ\",Risque[[#This Row],[Risques associés]]))=TRUE,ISNUMBER(SEARCH(\"RP\",Risque[[#This Row],[Risques associés]]))=TRUE,ISNUMBER(SEARCH(\"RZ\",Risque[[#This Row],[Précision du risque\n(si liste déroulante présente)]]))=TRUE,ISNUMBER(SEARCH(\"RP\",Risque[[#This Row],[Précision du risque\n(si liste déroulante présente)]]))=TRUE),\"Oui --> Priorité d'action\",\"Non\"))","v":""},null,null,null,null,{"$f":"IF(ISBLANK(Risque[[#This Row],[Catégorie de risque]]),\"\",CONCATENATE(Risque[[#This Row],[Catégorie de risque]],2))","v":""},null,{"$f":"IF(ISBLANK(Risque[[#This Row],[Moyens de prévention]]),\"\",CONCATENATE(Risque[[#This Row],[Moyens de prévention]],1))","v":""},null,null,null,null,null,{"$f":"IF(ISBLANK(Risque[[#This Row],[Catégorie de risque]]),\"\",CONCATENATE(Risque[[#This Row],[Catégorie de risque]],3))","v":""},null,null,null,{"$f":"IF(ISBLANK(Risque[[#This Row],[Catégorie de risque]]),\"\",CONCATENATE(Risque[[#This Row],[Catégorie de risque]],4))","v":""},null,null,null,null,null,{"$f":"IF(Risque[[#This Row],[Date d''inscription du risque]]<>\"\",YEAR(Risque[[#This Row],[Date d''inscription du risque]]),\"\")","v":""}]
[null,null,{"$f":"IF(ISBLANK(Risque[[#This Row],[Catégorie de risque]]),\"\",CONCATENATE(Risque[[#This Row],[Catégorie de risque]],1))","v":""},null,null,null,null,null,{"$f":"IF(ISBLANK(Risque[[#This Row],[Catégorie de risque]]),\"\",IF(OR(ISNUMBER(SEARCH(\"RZ\",Risque[[#This Row],[Source de danger]]))=TRUE,ISNUMBER(SEARCH(\"RP\",Risque[[#This Row],[Source de danger]]))=TRUE,ISNUMBER(SEARCH(\"RZ\",Risque[[#This Row],[Risques associés]]))=TRUE,ISNUMBER(SEARCH(\"RP\",Risque[[#This Row],[Risques associés]]))=TRUE,ISNUMBER(SEARCH(\"RZ\",Risque[[#This Row],[Précision du risque\n(si liste déroulante présente)]]))=TRUE,ISNUMBER(SEARCH(\"RP\",Risque[[#This Row],[Précision du risque\n(si liste déroulante présente)]]))=TRUE),\"Oui --> Priorité d'action\",\"Non\"))","v":""},null,null,null,null,{"$f":"IF(ISBLANK(Risque[[#This Row],[Catégorie de risque]]),\"\",CONCATENATE(Risque[[#This Row],[Catégorie de risque]],2))","v":""},null,{"$f":"IF(ISBLANK(Risque[[#This Row],[Moyens de prévention]]),\"\",CONCATENATE(Risque[[#This Row],[Moyens de prévention]],1))","v":""},null,null,null,null,null,{"$f":"IF(ISBLANK(Risque[[#This Row],[Catégorie de risque]]),\"\",CONCATENATE(Risque[[#This Row],[Catégorie de risque]],3))","v":""},null,null,null,{"$f":"IF(ISBLANK(Risque[[#This Row],[Catégorie de risque]]),\"\",CONCATENATE(Risque[[#This Row],[Catégorie de risque]],4))","v":""},null,null,null,null,null,{"$f":"IF(Risque[[#This Row],[Date d''inscription du risque]]<>\"\",YEAR(Risque[[#This Row],[Date d''inscription du risque]]),\"\")","v":""}]
[null,null,{"$f":"IF(ISBLANK(Risque[[#This Row],[Catégorie de risque]]),\"\",CONCATENATE(Risque[[#This Row],[Catégorie de risque]],1))","v":""},null,null,null,null,null,{"$f":"IF(ISBLANK(Risque[[#This Row],[Catégorie de risque]]),\"\",IF(OR(ISNUMBER(SEARCH(\"RZ\",Risque[[#This Row],[Source de danger]]))=TRUE,ISNUMBER(SEARCH(\"RP\",Risque[[#This Row],[Source de danger]]))=TRUE,ISNUMBER(SEARCH(\"RZ\",Risque[[#This Row],[Risques associés]]))=TRUE,ISNUMBER(SEARCH(\"RP\",Risque[[#This Row],[Risques associés]]))=TRUE,ISNUMBER(SEARCH(\"RZ\",Risque[[#This Row],[Précision du risque\n(si liste déroulante présente)]]))=TRUE,ISNUMBER(SEARCH(\"RP\",Risque[[#This Row],[Précision du risque\n(si liste déroulante présente)]]))=TRUE),\"Oui --> Priorité d'action\",\"Non\"))","v":""},null,null,null,null,{"$f":"IF(ISBLANK(Risque[[#This Row],[Catégorie de risque]]),\"\",CONCATENATE(Risque[[#This Row],[Catégorie de risque]],2))","v":""},null,{"$f":"IF(ISBLANK(Risque[[#This Row],[Moyens de prévention]]),\"\",CONCATENATE(Risque[[#This Row],[Moyens de prévention]],1))","v":""},null,null,null,null,null,{"$f":"IF(ISBLANK(Risque[[#This Row],[Catégorie de risque]]),\"\",CONCATENATE(Risque[[#This Row],[Catégorie de risque]],3))","v":""},null,null,null,{"$f":"IF(ISBLANK(Risque[[#This Row],[Catégorie de risque]]),\"\",CONCATENATE(Risque[[#This Row],[Catégorie de risque]],4))","v":""},null,null,null,null,null,{"$f":"IF(Risque[[#This Row],[Date d''inscription du risque]]<>\"\",YEAR(Risque[[#This Row],[Date d''inscription du risque]]),\"\")","v":""}]
[null,null,{"$f":"IF(ISBLANK(Risque[[#This Row],[Catégorie de risque]]),\"\",CONCATENATE(Risque[[#This Row],[Catégorie de risque]],1))","v":""},null,null,null,null,null,{"$f":"IF(ISBLANK(Risque[[#This Row],[Catégorie de risque]]),\"\",IF(OR(ISNUMBER(SEARCH(\"RZ\",Risque[[#This Row],[Source de danger]]))=TRUE,ISNUMBER(SEARCH(\"RP\",Risque[[#This Row],[Source de danger]]))=TRUE,ISNUMBER(SEARCH(\"RZ\",Risque[[#This Row],[Risques associés]]))=TRUE,ISNUMBER(SEARCH(\"RP\",Risque[[#This Row],[Risques associés]]))=TRUE,ISNUMBER(SEARCH(\"RZ\",Risque[[#This Row],[Précision du risque\n(si liste déroulante présente)]]))=TRUE,ISNUMBER(SEARCH(\"RP\",Risque[[#This Row],[Précision du risque\n(si liste déroulante présente)]]))=TRUE),\"Oui --> Priorité d'action\",\"Non\"))","v":""},null,null,null,null,{"$f":"IF(ISBLANK(Risque[[#This Row],[Catégorie de risque]]),\"\",CONCATENATE(Risque[[#This Row],[Catégorie de risque]],2))","v":""},null,{"$f":"IF(ISBLANK(Risque[[#This Row],[Moyens de prévention]]),\"\",CONCATENATE(Risque[[#This Row],[Moyens de prévention]],1))","v":""},null,null,null,null,null,{"$f":"IF(ISBLANK(Risque[[#This Row],[Catégorie de risque]]),\"\",CONCATENATE(Risque[[#This Row],[Catégorie de risque]],3))","v":""},null,null,null,{"$f":"IF(ISBLANK(Risque[[#This Row],[Catégorie de risque]]),\"\",CONCATENATE(Risque[[#This Row],[Catégorie de risque]],4))","v":""},null,null,null,null,null,{"$f":"IF(Risque[[#This Row],[Date d''inscription du risque]]<>\"\",YEAR(Risque[[#This Row],[Date d''inscription du risque]]),\"\")","v":""}]
[null,null,{"$f":"IF(ISBLANK(Risque[[#This Row],[Catégorie de risque]]),\"\",CONCATENATE(Risque[[#This Row],[Catégorie de risque]],1))","v":""},null,null,null,null,null,{"$f":"IF(ISBLANK(Risque[[#This Row],[Catégorie de risque]]),\"\",IF(OR(ISNUMBER(SEARCH(\"RZ\",Risque[[#This Row],[Source de danger]]))=TRUE,ISNUMBER(SEARCH(\"RP\",Risque[[#This Row],[Source de danger]]))=TRUE,ISNUMBER(SEARCH(\"RZ\",Risque[[#This Row],[Risques associés]]))=TRUE,ISNUMBER(SEARCH(\"RP\",Risque[[#This Row],[Risques associés]]))=TRUE,ISNUMBER(SEARCH(\"RZ\",Risque[[#This Row],[Précision du risque\n(si liste déroulante présente)]]))=TRUE,ISNUMBER(SEARCH(\"RP\",Risque[[#This Row],[Précision du risque\n(si liste déroulante présente)]]))=TRUE),\"Oui --> Priorité d'action\",\"Non\"))","v":""},null,null,null,null,{"$f":"IF(ISBLANK(Risque[[#This Row],[Catégorie de risque]]),\"\",CONCATENATE(Risque[[#This Row],[Catégorie de risque]],2))","v":""},null,{"$f":"IF(ISBLANK(Risque[[#This Row],[Moyens de prévention]]),\"\",CONCATENATE(Risque[[#This Row],[Moyens de prévention]],1))","v":""},null,null,null,null,null,{"$f":"IF(ISBLANK(Risque[[#This Row],[Catégorie de risque]]),\"\",CONCATENATE(Risque[[#This Row],[Catégorie de risque]],3))","v":""},null,null,null,{"$f":"IF(ISBLANK(Risque[[#This Row],[Catégorie de risque]]),\"\",CONCATENATE(Risque[[#This Row],[Catégorie de risque]],4))","v":""},null,null,null,null,null,{"$f":"IF(Risque[[#This Row],[Date d''inscription du risque]]<>\"\",YEAR(Risque[[#This Row],[Date d''inscription du risque]]),\"\")","v":""}]
[null,null,{"$f":"IF(ISBLANK(Risque[[#This Row],[Catégorie de risque]]),\"\",CONCATENATE(Risque[[#This Row],[Catégorie de risque]],1))","v":""},null,null,null,null,null,{"$f":"IF(ISBLANK(Risque[[#This Row],[Catégorie de risque]]),\"\",IF(OR(ISNUMBER(SEARCH(\"RZ\",Risque[[#This Row],[Source de danger]]))=TRUE,ISNUMBER(SEARCH(\"RP\",Risque[[#This Row],[Source de danger]]))=TRUE,ISNUMBER(SEARCH(\"RZ\",Risque[[#This Row],[Risques associés]]))=TRUE,ISNUMBER(SEARCH(\"RP\",Risque[[#This Row],[Risques associés]]))=TRUE,ISNUMBER(SEARCH(\"RZ\",Risque[[#This Row],[Précision du risque\n(si liste déroulante présente)]]))=TRUE,ISNUMBER(SEARCH(\"RP\",Risque[[#This Row],[Précision du risque\n(si liste déroulante présente)]]))=TRUE),\"Oui --> Priorité d'action\",\"Non\"))","v":""},null,null,null,null,{"$f":"IF(ISBLANK(Risque[[#This Row],[Catégorie de risque]]),\"\",CONCATENATE(Risque[[#This Row],[Catégorie de risque]],2))","v":""},null,{"$f":"IF(ISBLANK(Risque[[#This Row],[Moyens de prévention]]),\"\",CONCATENATE(Risque[[#This Row],[Moyens de prévention]],1))","v":""},null,null,null,null,null,{"$f":"IF(ISBLANK(Risque[[#This Row],[Catégorie de risque]]),\"\",CONCATENATE(Risque[[#This Row],[Catégorie de risque]],3))","v":""},null,null,null,{"$f":"IF(ISBLANK(Risque[[#This Row],[Catégorie de risque]]),\"\",CONCATENATE(Risque[[#This Row],[Catégorie de risque]],4))","v":""},null,null,null,null,null,{"$f":"IF(Risque[[#This Row],[Date d''inscription du risque]]<>\"\",YEAR(Risque[[#This Row],[Date d''inscription du risque]]),\"\")","v":""}]
[null,null,{"$f":"IF(ISBLANK(Risque[[#This Row],[Catégorie de risque]]),\"\",CONCATENATE(Risque[[#This Row],[Catégorie de risque]],1))","v":""},null,null,null,null,null,{"$f":"IF(ISBLANK(Risque[[#This Row],[Catégorie de risque]]),\"\",IF(OR(ISNUMBER(SEARCH(\"RZ\",Risque[[#This Row],[Source de danger]]))=TRUE,ISNUMBER(SEARCH(\"RP\",Risque[[#This Row],[Source de danger]]))=TRUE,ISNUMBER(SEARCH(\"RZ\",Risque[[#This Row],[Risques associés]]))=TRUE,ISNUMBER(SEARCH(\"RP\",Risque[[#This Row],[Risques associés]]))=TRUE,ISNUMBER(SEARCH(\"RZ\",Risque[[#This Row],[Précision du risque\n(si liste déroulante présente)]]))=TRUE,ISNUMBER(SEARCH(\"RP\",Risque[[#This Row],[Précision du risque\n(si liste déroulante présente)]]))=TRUE),\"Oui --> Priorité d'action\",\"Non\"))","v":""},null,null,null,null,{"$f":"IF(ISBLANK(Risque[[#This Row],[Catégorie de risque]]),\"\",CONCATENATE(Risque[[#This Row],[Catégorie de risque]],2))","v":""},null,{"$f":"IF(ISBLANK(Risque[[#This Row],[Moyens de prévention]]),\"\",CONCATENATE(Risque[[#This Row],[Moyens de prévention]],1))","v":""},null,null,null,null,null,{"$f":"IF(ISBLANK(Risque[[#This Row],[Catégorie de risque]]),\"\",CONCATENATE(Risque[[#This Row],[Catégorie de risque]],3))","v":""},null,null,null,{"$f":"IF(ISBLANK(Risque[[#This Row],[Catégorie de risque]]),\"\",CONCATENATE(Risque[[#This Row],[Catégorie de risque]],4))","v":""},null,null,null,null,null,{"$f":"IF(Risque[[#This Row],[Date d''inscription du risque]]<>\"\",YEAR(Risque[[#This Row],[Date d''inscription du risque]]),\"\")","v":""}]
[null,null,{"$f":"IF(ISBLANK(Risque[[#This Row],[Catégorie de risque]]),\"\",CONCATENATE(Risque[[#This Row],[Catégorie de risque]],1))","v":""},null,null,null,null,null,{"$f":"IF(ISBLANK(Risque[[#This Row],[Catégorie de risque]]),\"\",IF(OR(ISNUMBER(SEARCH(\"RZ\",Risque[[#This Row],[Source de danger]]))=TRUE,ISNUMBER(SEARCH(\"RP\",Risque[[#This Row],[Source de danger]]))=TRUE,ISNUMBER(SEARCH(\"RZ\",Risque[[#This Row],[Risques associés]]))=TRUE,ISNUMBER(SEARCH(\"RP\",Risque[[#This Row],[Risques associés]]))=TRUE,ISNUMBER(SEARCH(\"RZ\",Risque[[#This Row],[Précision du risque\n(si liste déroulante présente)]]))=TRUE,ISNUMBER(SEARCH(\"RP\",Risque[[#This Row],[Précision du risque\n(si liste déroulante présente)]]))=TRUE),\"Oui --> Priorité d'action\",\"Non\"))","v":""},null,null,null,null,{"$f":"IF(ISBLANK(Risque[[#This Row],[Catégorie de risque]]),\"\",CONCATENATE(Risque[[#This Row],[Catégorie de risque]],2))","v":""},null,{"$f":"IF(ISBLANK(Risque[[#This Row],[Moyens de prévention]]),\"\",CONCATENATE(Risque[[#This Row],[Moyens de prévention]],1))","v":""},null,null,null,null,null,{"$f":"IF(ISBLANK(Risque[[#This Row],[Catégorie de risque]]),\"\",CONCATENATE(Risque[[#This Row],[Catégorie de risque]],3))","v":""},null,null,null,{"$f":"IF(ISBLANK(Risque[[#This Row],[Catégorie de risque]]),\"\",CONCATENATE(Risque[[#This Row],[Catégorie de risque]],4))","v":""},null,null,null,null,null,{"$f":"IF(Risque[[#This Row],[Date d''inscription du risque]]<>\"\",YEAR(Risque[[#This Row],[Date d''inscription du risque]]),\"\")","v":""}]
[null,null,{"$f":"IF(ISBLANK(Risque[[#This Row],[Catégorie de risque]]),\"\",CONCATENATE(Risque[[#This Row],[Catégorie de risque]],1))","v":""},null,null,null,null,null,{"$f":"IF(ISBLANK(Risque[[#This Row],[Catégorie de risque]]),\"\",IF(OR(ISNUMBER(SEARCH(\"RZ\",Risque[[#This Row],[Source de danger]]))=TRUE,ISNUMBER(SEARCH(\"RP\",Risque[[#This Row],[Source de danger]]))=TRUE,ISNUMBER(SEARCH(\"RZ\",Risque[[#This Row],[Risques associés]]))=TRUE,ISNUMBER(SEARCH(\"RP\",Risque[[#This Row],[Risques associés]]))=TRUE,ISNUMBER(SEARCH(\"RZ\",Risque[[#This Row],[Précision du risque\n(si liste déroulante présente)]]))=TRUE,ISNUMBER(SEARCH(\"RP\",Risque[[#This Row],[Précision du risque\n(si liste déroulante présente)]]))=TRUE),\"Oui --> Priorité d'action\",\"Non\"))","v":""},null,null,null,null,{"$f":"IF(ISBLANK(Risque[[#This Row],[Catégorie de risque]]),\"\",CONCATENATE(Risque[[#This Row],[Catégorie de risque]],2))","v":""},null,{"$f":"IF(ISBLANK(Risque[[#This Row],[Moyens de prévention]]),\"\",CONCATENATE(Risque[[#This Row],[Moyens de prévention]],1))","v":""},null,null,null,null,null,{"$f":"IF(ISBLANK(Risque[[#This Row],[Catégorie de risque]]),\"\",CONCATENATE(Risque[[#This Row],[Catégorie de risque]],3))","v":""},null,null,null,{"$f":"IF(ISBLANK(Risque[[#This Row],[Catégorie de risque]]),\"\",CONCATENATE(Risque[[#This Row],[Catégorie de risque]],4))","v":""},null,null,null,null,null,{"$f":"IF(Risque[[#This Row],[Date d''inscription du risque]]<>\"\",YEAR(Risque[[#This Row],[Date d''inscription du risque]]),\"\")","v":""}]
[null,null,{"$f":"IF(ISBLANK(Risque[[#This Row],[Catégorie de risque]]),\"\",CONCATENATE(Risque[[#This Row],[Catégorie de risque]],1))","v":""},null,null,null,null,null,{"$f":"IF(ISBLANK(Risque[[#This Row],[Catégorie de risque]]),\"\",IF(OR(ISNUMBER(SEARCH(\"RZ\",Risque[[#This Row],[Source de danger]]))=TRUE,ISNUMBER(SEARCH(\"RP\",Risque[[#This Row],[Source de danger]]))=TRUE,ISNUMBER(SEARCH(\"RZ\",Risque[[#This Row],[Risques associés]]))=TRUE,ISNUMBER(SEARCH(\"RP\",Risque[[#This Row],[Risques associés]]))=TRUE,ISNUMBER(SEARCH(\"RZ\",Risque[[#This Row],[Précision du risque\n(si liste déroulante présente)]]))=TRUE,ISNUMBER(SEARCH(\"RP\",Risque[[#This Row],[Précision du risque\n(si liste déroulante présente)]]))=TRUE),\"Oui --> Priorité d'action\",\"Non\"))","v":""},null,null,null,null,{"$f":"IF(ISBLANK(Risque[[#This Row],[Catégorie de risque]]),\"\",CONCATENATE(Risque[[#This Row],[Catégorie de risque]],2))","v":""},null,{"$f":"IF(ISBLANK(Risque[[#This Row],[Moyens de prévention]]),\"\",CONCATENATE(Risque[[#This Row],[Moyens de prévention]],1))","v":""},null,null,null,null,null,{"$f":"IF(ISBLANK(Risque[[#This Row],[Catégorie de risque]]),\"\",CONCATENATE(Risque[[#This Row],[Catégorie de risque]],3))","v":""},null,null,null,{"$f":"IF(ISBLANK(Risque[[#This Row],[Catégorie de risque]]),\"\",CONCATENATE(Risque[[#This Row],[Catégorie de risque]],4))","v":""},null,null,null,null,null,{"$f":"IF(Risque[[#This Row],[Date d''inscription du risque]]<>\"\",YEAR(Risque[[#This Row],[Date d''inscription du risque]]),\"\")","v":""}]
[null,null,{"$f":"IF(ISBLANK(Risque[[#This Row],[Catégorie de risque]]),\"\",CONCATENATE(Risque[[#This Row],[Catégorie de risque]],1))","v":""},null,null,null,null,null,{"$f":"IF(ISBLANK(Risque[[#This Row],[Catégorie de risque]]),\"\",IF(OR(ISNUMBER(SEARCH(\"RZ\",Risque[[#This Row],[Source de danger]]))=TRUE,ISNUMBER(SEARCH(\"RP\",Risque[[#This Row],[Source de danger]]))=TRUE,ISNUMBER(SEARCH(\"RZ\",Risque[[#This Row],[Risques associés]]))=TRUE,ISNUMBER(SEARCH(\"RP\",Risque[[#This Row],[Risques associés]]))=TRUE,ISNUMBER(SEARCH(\"RZ\",Risque[[#This Row],[Précision du risque\n(si liste déroulante présente)]]))=TRUE,ISNUMBER(SEARCH(\"RP\",Risque[[#This Row],[Précision du risque\n(si liste déroulante présente)]]))=TRUE),\"Oui --> Priorité d'action\",\"Non\"))","v":""},null,null,null,null,{"$f":"IF(ISBLANK(Risque[[#This Row],[Catégorie de risque]]),\"\",CONCATENATE(Risque[[#This Row],[Catégorie de risque]],2))","v":""},null,{"$f":"IF(ISBLANK(Risque[[#This Row],[Moyens de prévention]]),\"\",CONCATENATE(Risque[[#This Row],[Moyens de prévention]],1))","v":""},null,null,null,null,null,{"$f":"IF(ISBLANK(Risque[[#This Row],[Catégorie de risque]]),\"\",CONCATENATE(Risque[[#This Row],[Catégorie de risque]],3))","v":""},null,null,null,{"$f":"IF(ISBLANK(Risque[[#This Row],[Catégorie de risque]]),\"\",CONCATENATE(Risque[[#This Row],[Catégorie de risque]],4))","v":""},null,null,null,null,null,{"$f":"IF(Risque[[#This Row],[Date d''inscription du risque]]<>\"\",YEAR(Risque[[#This Row],[Date d''inscription du risque]]),\"\")","v":""}]
[null,null,{"$f":"IF(ISBLANK(Risque[[#This Row],[Catégorie de risque]]),\"\",CONCATENATE(Risque[[#This Row],[Catégorie de risque]],1))","v":""},null,null,null,null,null,{"$f":"IF(ISBLANK(Risque[[#This Row],[Catégorie de risque]]),\"\",IF(OR(ISNUMBER(SEARCH(\"RZ\",Risque[[#This Row],[Source de danger]]))=TRUE,ISNUMBER(SEARCH(\"RP\",Risque[[#This Row],[Source de danger]]))=TRUE,ISNUMBER(SEARCH(\"RZ\",Risque[[#This Row],[Risques associés]]))=TRUE,ISNUMBER(SEARCH(\"RP\",Risque[[#This Row],[Risques associés]]))=TRUE,ISNUMBER(SEARCH(\"RZ\",Risque[[#This Row],[Précision du risque\n(si liste déroulante présente)]]))=TRUE,ISNUMBER(SEARCH(\"RP\",Risque[[#This Row],[Précision du risque\n(si liste déroulante présente)]]))=TRUE),\"Oui --> Priorité d'action\",\"Non\"))","v":""},null,null,null,null,{"$f":"IF(ISBLANK(Risque[[#This Row],[Catégorie de risque]]),\"\",CONCATENATE(Risque[[#This Row],[Catégorie de risque]],2))","v":""},null,{"$f":"IF(ISBLANK(Risque[[#This Row],[Moyens de prévention]]),\"\",CONCATENATE(Risque[[#This Row],[Moyens de prévention]],1))","v":""},null,null,null,null,null,{"$f":"IF(ISBLANK(Risque[[#This Row],[Catégorie de risque]]),\"\",CONCATENATE(Risque[[#This Row],[Catégorie de risque]],3))","v":""},null,null,null,{"$f":"IF(ISBLANK(Risque[[#This Row],[Catégorie de risque]]),\"\",CONCATENATE(Risque[[#This Row],[Catégorie de risque]],4))","v":""},null,null,null,null,null,{"$f":"IF(Risque[[#This Row],[Date d''inscription du risque]]<>\"\",YEAR(Risque[[#This Row],[Date d''inscription du risque]]),\"\")","v":""}]
[null,null,{"$f":"IF(ISBLANK(Risque[[#This Row],[Catégorie de risque]]),\"\",CONCATENATE(Risque[[#This Row],[Catégorie de risque]],1))","v":""},null,null,null,null,null,{"$f":"IF(ISBLANK(Risque[[#This Row],[Catégorie de risque]]),\"\",IF(OR(ISNUMBER(SEARCH(\"RZ\",Risque[[#This Row],[Source de danger]]))=TRUE,ISNUMBER(SEARCH(\"RP\",Risque[[#This Row],[Source de danger]]))=TRUE,ISNUMBER(SEARCH(\"RZ\",Risque[[#This Row],[Risques associés]]))=TRUE,ISNUMBER(SEARCH(\"RP\",Risque[[#This Row],[Risques associés]]))=TRUE,ISNUMBER(SEARCH(\"RZ\",Risque[[#This Row],[Précision du risque\n(si liste déroulante présente)]]))=TRUE,ISNUMBER(SEARCH(\"RP\",Risque[[#This Row],[Précision du risque\n(si liste déroulante présente)]]))=TRUE),\"Oui --> Priorité d'action\",\"Non\"))","v":""},null,null,null,null,{"$f":"IF(ISBLANK(Risque[[#This Row],[Catégorie de risque]]),\"\",CONCATENATE(Risque[[#This Row],[Catégorie de risque]],2))","v":""},null,{"$f":"IF(ISBLANK(Risque[[#This Row],[Moyens de prévention]]),\"\",CONCATENATE(Risque[[#This Row],[Moyens de prévention]],1))","v":""},null,null,null,null,null,{"$f":"IF(ISBLANK(Risque[[#This Row],[Catégorie de risque]]),\"\",CONCATENATE(Risque[[#This Row],[Catégorie de risque]],3))","v":""},null,null,null,{"$f":"IF(ISBLANK(Risque[[#This Row],[Catégorie de risque]]),\"\",CONCATENATE(Risque[[#This Row],[Catégorie de risque]],4))","v":""},null,null,null,null,null,{"$f":"IF(Risque[[#This Row],[Date d''inscription du risque]]<>\"\",YEAR(Risque[[#This Row],[Date d''inscription du risque]]),\"\")","v":""}]
[null,null,{"$f":"IF(ISBLANK(Risque[[#This Row],[Catégorie de risque]]),\"\",CONCATENATE(Risque[[#This Row],[Catégorie de risque]],1))","v":""},null,null,null,null,null,{"$f":"IF(ISBLANK(Risque[[#This Row],[Catégorie de risque]]),\"\",IF(OR(ISNUMBER(SEARCH(\"RZ\",Risque[[#This Row],[Source de danger]]))=TRUE,ISNUMBER(SEARCH(\"RP\",Risque[[#This Row],[Source de danger]]))=TRUE,ISNUMBER(SEARCH(\"RZ\",Risque[[#This Row],[Risques associés]]))=TRUE,ISNUMBER(SEARCH(\"RP\",Risque[[#This Row],[Risques associés]]))=TRUE,ISNUMBER(SEARCH(\"RZ\",Risque[[#This Row],[Précision du risque\n(si liste déroulante présente)]]))=TRUE,ISNUMBER(SEARCH(\"RP\",Risque[[#This Row],[Précision du risque\n(si liste déroulante présente)]]))=TRUE),\"Oui --> Priorité d'action\",\"Non\"))","v":""},null,null,null,null,{"$f":"IF(ISBLANK(Risque[[#This Row],[Catégorie de risque]]),\"\",CONCATENATE(Risque[[#This Row],[Catégorie de risque]],2))","v":""},null,{"$f":"IF(ISBLANK(Risque[[#This Row],[Moyens de prévention]]),\"\",CONCATENATE(Risque[[#This Row],[Moyens de prévention]],1))","v":""},null,null,null,null,null,{"$f":"IF(ISBLANK(Risque[[#This Row],[Catégorie de risque]]),\"\",CONCATENATE(Risque[[#This Row],[Catégorie de risque]],3))","v":""},null,null,null,{"$f":"IF(ISBLANK(Risque[[#This Row],[Catégorie de risque]]),\"\",CONCATENATE(Risque[[#This Row],[Catégorie de risque]],4))","v":""},null,null,null,null,null,{"$f":"IF(Risque[[#This Row],[Date d''inscription du risque]]<>\"\",YEAR(Risque[[#This Row],[Date d''inscription du risque]]),\"\")","v":""}]
[null,null,{"$f":"IF(ISBLANK(Risque[[#This Row],[Catégorie de risque]]),\"\",CONCATENATE(Risque[[#This Row],[Catégorie de risque]],1))","v":""},null,null,null,null,null,{"$f":"IF(ISBLANK(Risque[[#This Row],[Catégorie de risque]]),\"\",IF(OR(ISNUMBER(SEARCH(\"RZ\",Risque[[#This Row],[Source de danger]]))=TRUE,ISNUMBER(SEARCH(\"RP\",Risque[[#This Row],[Source de danger]]))=TRUE,ISNUMBER(SEARCH(\"RZ\",Risque[[#This Row],[Risques associés]]))=TRUE,ISNUMBER(SEARCH(\"RP\",Risque[[#This Row],[Risques associés]]))=TRUE,ISNUMBER(SEARCH(\"RZ\",Risque[[#This Row],[Précision du risque\n(si liste déroulante présente)]]))=TRUE,ISNUMBER(SEARCH(\"RP\",Risque[[#This Row],[Précision du risque\n(si liste déroulante présente)]]))=TRUE),\"Oui --> Priorité d'action\",\"Non\"))","v":""},null,null,null,null,{"$f":"IF(ISBLANK(Risque[[#This Row],[Catégorie de risque]]),\"\",CONCATENATE(Risque[[#This Row],[Catégorie de risque]],2))","v":""},null,{"$f":"IF(ISBLANK(Risque[[#This Row],[Moyens de prévention]]),\"\",CONCATENATE(Risque[[#This Row],[Moyens de prévention]],1))","v":""},null,null,null,null,null,{"$f":"IF(ISBLANK(Risque[[#This Row],[Catégorie de risque]]),\"\",CONCATENATE(Risque[[#This Row],[Catégorie de risque]],3))","v":""},null,null,null,{"$f":"IF(ISBLANK(Risque[[#This Row],[Catégorie de risque]]),\"\",CONCATENATE(Risque[[#This Row],[Catégorie de risque]],4))","v":""},null,null,null,null,null,{"$f":"IF(Risque[[#This Row],[Date d''inscription du risque]]<>\"\",YEAR(Risque[[#This Row],[Date d''inscription du risque]]),\"\")","v":""}]
[null,null,{"$f":"IF(ISBLANK(Risque[[#This Row],[Catégorie de risque]]),\"\",CONCATENATE(Risque[[#This Row],[Catégorie de risque]],1))","v":""},null,null,null,null,null,{"$f":"IF(ISBLANK(Risque[[#This Row],[Catégorie de risque]]),\"\",IF(OR(ISNUMBER(SEARCH(\"RZ\",Risque[[#This Row],[Source de danger]]))=TRUE,ISNUMBER(SEARCH(\"RP\",Risque[[#This Row],[Source de danger]]))=TRUE,ISNUMBER(SEARCH(\"RZ\",Risque[[#This Row],[Risques associés]]))=TRUE,ISNUMBER(SEARCH(\"RP\",Risque[[#This Row],[Risques associés]]))=TRUE,ISNUMBER(SEARCH(\"RZ\",Risque[[#This Row],[Précision du risque\n(si liste déroulante présente)]]))=TRUE,ISNUMBER(SEARCH(\"RP\",Risque[[#This Row],[Précision du risque\n(si liste déroulante présente)]]))=TRUE),\"Oui --> Priorité d'action\",\"Non\"))","v":""},null,null,null,null,{"$f":"IF(ISBLANK(Risque[[#This Row],[Catégorie de risque]]),\"\",CONCATENATE(Risque[[#This Row],[Catégorie de risque]],2))","v":""},null,{"$f":"IF(ISBLANK(Risque[[#This Row],[Moyens de prévention]]),\"\",CONCATENATE(Risque[[#This Row],[Moyens de prévention]],1))","v":""},null,null,null,null,null,{"$f":"IF(ISBLANK(Risque[[#This Row],[Catégorie de risque]]),\"\",CONCATENATE(Risque[[#This Row],[Catégorie de risque]],3))","v":""},null,null,null,{"$f":"IF(ISBLANK(Risque[[#This Row],[Catégorie de risque]]),\"\",CONCATENATE(Risque[[#This Row],[Catégorie de risque]],4))","v":""},null,null,null,null,null,{"$f":"IF(Risque[[#This Row],[Date d''inscription du risque]]<>\"\",YEAR(Risque[[#This Row],[Date d''inscription du risque]]),\"\")","v":""}]
[null,null,{"$f":"IF(ISBLANK(Risque[[#This Row],[Catégorie de risque]]),\"\",CONCATENATE(Risque[[#This Row],[Catégorie de risque]],1))","v":""},null,null,null,null,null,{"$f":"IF(ISBLANK(Risque[[#This Row],[Catégorie de risque]]),\"\",IF(OR(ISNUMBER(SEARCH(\"RZ\",Risque[[#This Row],[Source de danger]]))=TRUE,ISNUMBER(SEARCH(\"RP\",Risque[[#This Row],[Source de danger]]))=TRUE,ISNUMBER(SEARCH(\"RZ\",Risque[[#This Row],[Risques associés]]))=TRUE,ISNUMBER(SEARCH(\"RP\",Risque[[#This Row],[Risques associés]]))=TRUE,ISNUMBER(SEARCH(\"RZ\",Risque[[#This Row],[Précision du risque\n(si liste déroulante présente)]]))=TRUE,ISNUMBER(SEARCH(\"RP\",Risque[[#This Row],[Précision du risque\n(si liste déroulante présente)]]))=TRUE),\"Oui --> Priorité d'action\",\"Non\"))","v":""},null,null,null,null,{"$f":"IF(ISBLANK(Risque[[#This Row],[Catégorie de risque]]),\"\",CONCATENATE(Risque[[#This Row],[Catégorie de risque]],2))","v":""},null,{"$f":"IF(ISBLANK(Risque[[#This Row],[Moyens de prévention]]),\"\",CONCATENATE(Risque[[#This Row],[Moyens de prévention]],1))","v":""},null,null,null,null,null,{"$f":"IF(ISBLANK(Risque[[#This Row],[Catégorie de risque]]),\"\",CONCATENATE(Risque[[#This Row],[Catégorie de risque]],3))","v":""},null,null,null,{"$f":"IF(ISBLANK(Risque[[#This Row],[Catégorie de risque]]),\"\",CONCATENATE(Risque[[#This Row],[Catégorie de risque]],4))","v":""},null,null,null,null,null,{"$f":"IF(Risque[[#This Row],[Date d''inscription du risque]]<>\"\",YEAR(Risque[[#This Row],[Date d''inscription du risque]]),\"\")","v":""}]
[null,null,{"$f":"IF(ISBLANK(Risque[[#This Row],[Catégorie de risque]]),\"\",CONCATENATE(Risque[[#This Row],[Catégorie de risque]],1))","v":""},null,null,null,null,null,{"$f":"IF(ISBLANK(Risque[[#This Row],[Catégorie de risque]]),\"\",IF(OR(ISNUMBER(SEARCH(\"RZ\",Risque[[#This Row],[Source de danger]]))=TRUE,ISNUMBER(SEARCH(\"RP\",Risque[[#This Row],[Source de danger]]))=TRUE,ISNUMBER(SEARCH(\"RZ\",Risque[[#This Row],[Risques associés]]))=TRUE,ISNUMBER(SEARCH(\"RP\",Risque[[#This Row],[Risques associés]]))=TRUE,ISNUMBER(SEARCH(\"RZ\",Risque[[#This Row],[Précision du risque\n(si liste déroulante présente)]]))=TRUE,ISNUMBER(SEARCH(\"RP\",Risque[[#This Row],[Précision du risque\n(si liste déroulante présente)]]))=TRUE),\"Oui --> Priorité d'action\",\"Non\"))","v":""},null,null,null,null,{"$f":"IF(ISBLANK(Risque[[#This Row],[Catégorie de risque]]),\"\",CONCATENATE(Risque[[#This Row],[Catégorie de risque]],2))","v":""},null,{"$f":"IF(ISBLANK(Risque[[#This Row],[Moyens de prévention]]),\"\",CONCATENATE(Risque[[#This Row],[Moyens de prévention]],1))","v":""},null,null,null,null,null,{"$f":"IF(ISBLANK(Risque[[#This Row],[Catégorie de risque]]),\"\",CONCATENATE(Risque[[#This Row],[Catégorie de risque]],3))","v":""},null,null,null,{"$f":"IF(ISBLANK(Risque[[#This Row],[Catégorie de risque]]),\"\",CONCATENATE(Risque[[#This Row],[Catégorie de risque]],4))","v":""},null,null,null,null,null,{"$f":"IF(Risque[[#This Row],[Date d''inscription du risque]]<>\"\",YEAR(Risque[[#This Row],[Date d''inscription du risque]]),\"\")","v":""}]
[null,null,{"$f":"IF(ISBLANK(Risque[[#This Row],[Catégorie de risque]]),\"\",CONCATENATE(Risque[[#This Row],[Catégorie de risque]],1))","v":""},null,null,null,null,null,{"$f":"IF(ISBLANK(Risque[[#This Row],[Catégorie de risque]]),\"\",IF(OR(ISNUMBER(SEARCH(\"RZ\",Risque[[#This Row],[Source de danger]]))=TRUE,ISNUMBER(SEARCH(\"RP\",Risque[[#This Row],[Source de danger]]))=TRUE,ISNUMBER(SEARCH(\"RZ\",Risque[[#This Row],[Risques associés]]))=TRUE,ISNUMBER(SEARCH(\"RP\",Risque[[#This Row],[Risques associés]]))=TRUE,ISNUMBER(SEARCH(\"RZ\",Risque[[#This Row],[Précision du risque\n(si liste déroulante présente)]]))=TRUE,ISNUMBER(SEARCH(\"RP\",Risque[[#This Row],[Précision du risque\n(si liste déroulante présente)]]))=TRUE),\"Oui --> Priorité d'action\",\"Non\"))","v":""},null,null,null,null,{"$f":"IF(ISBLANK(Risque[[#This Row],[Catégorie de risque]]),\"\",CONCATENATE(Risque[[#This Row],[Catégorie de risque]],2))","v":""},null,{"$f":"IF(ISBLANK(Risque[[#This Row],[Moyens de prévention]]),\"\",CONCATENATE(Risque[[#This Row],[Moyens de prévention]],1))","v":""},null,null,null,null,null,{"$f":"IF(ISBLANK(Risque[[#This Row],[Catégorie de risque]]),\"\",CONCATENATE(Risque[[#This Row],[Catégorie de risque]],3))","v":""},null,null,null,{"$f":"IF(ISBLANK(Risque[[#This Row],[Catégorie de risque]]),\"\",CONCATENATE(Risque[[#This Row],[Catégorie de risque]],4))","v":""},null,null,null,null,null,{"$f":"IF(Risque[[#This Row],[Date d''inscription du risque]]<>\"\",YEAR(Risque[[#This Row],[Date d''inscription du risque]]),\"\")","v":""}]
[null,null,{"$f":"IF(ISBLANK(Risque[[#This Row],[Catégorie de risque]]),\"\",CONCATENATE(Risque[[#This Row],[Catégorie de risque]],1))","v":""},null,null,null,null,null,{"$f":"IF(ISBLANK(Risque[[#This Row],[Catégorie de risque]]),\"\",IF(OR(ISNUMBER(SEARCH(\"RZ\",Risque[[#This Row],[Source de danger]]))=TRUE,ISNUMBER(SEARCH(\"RP\",Risque[[#This Row],[Source de danger]]))=TRUE,ISNUMBER(SEARCH(\"RZ\",Risque[[#This Row],[Risques associés]]))=TRUE,ISNUMBER(SEARCH(\"RP\",Risque[[#This Row],[Risques associés]]))=TRUE,ISNUMBER(SEARCH(\"RZ\",Risque[[#This Row],[Précision du risque\n(si liste déroulante présente)]]))=TRUE,ISNUMBER(SEARCH(\"RP\",Risque[[#This Row],[Précision du risque\n(si liste déroulante présente)]]))=TRUE),\"Oui --> Priorité d'action\",\"Non\"))","v":""},null,null,null,null,{"$f":"IF(ISBLANK(Risque[[#This Row],[Catégorie de risque]]),\"\",CONCATENATE(Risque[[#This Row],[Catégorie de risque]],2))","v":""},null,{"$f":"IF(ISBLANK(Risque[[#This Row],[Moyens de prévention]]),\"\",CONCATENATE(Risque[[#This Row],[Moyens de prévention]],1))","v":""},null,null,null,null,null,{"$f":"IF(ISBLANK(Risque[[#This Row],[Catégorie de risque]]),\"\",CONCATENATE(Risque[[#This Row],[Catégorie de risque]],3))","v":""},null,null,null,{"$f":"IF(ISBLANK(Risque[[#This Row],[Catégorie de risque]]),\"\",CONCATENATE(Risque[[#This Row],[Catégorie de risque]],4))","v":""},null,null,null,null,null,{"$f":"IF(Risque[[#This Row],[Date d''inscription du risque]]<>\"\",YEAR(Risque[[#This Row],[Date d''inscription du risque]]),\"\")","v":""}]
[null,null,{"$f":"IF(ISBLANK(Risque[[#This Row],[Catégorie de risque]]),\"\",CONCATENATE(Risque[[#This Row],[Catégorie de risque]],1))","v":""},null,null,null,null,null,{"$f":"IF(ISBLANK(Risque[[#This Row],[Catégorie de risque]]),\"\",IF(OR(ISNUMBER(SEARCH(\"RZ\",Risque[[#This Row],[Source de danger]]))=TRUE,ISNUMBER(SEARCH(\"RP\",Risque[[#This Row],[Source de danger]]))=TRUE,ISNUMBER(SEARCH(\"RZ\",Risque[[#This Row],[Risques associés]]))=TRUE,ISNUMBER(SEARCH(\"RP\",Risque[[#This Row],[Risques associés]]))=TRUE,ISNUMBER(SEARCH(\"RZ\",Risque[[#This Row],[Précision du risque\n(si liste déroulante présente)]]))=TRUE,ISNUMBER(SEARCH(\"RP\",Risque[[#This Row],[Précision du risque\n(si liste déroulante présente)]]))=TRUE),\"Oui --> Priorité d'action\",\"Non\"))","v":""},null,null,null,null,{"$f":"IF(ISBLANK(Risque[[#This Row],[Catégorie de risque]]),\"\",CONCATENATE(Risque[[#This Row],[Catégorie de risque]],2))","v":""},null,{"$f":"IF(ISBLANK(Risque[[#This Row],[Moyens de prévention]]),\"\",CONCATENATE(Risque[[#This Row],[Moyens de prévention]],1))","v":""},null,null,null,null,null,{"$f":"IF(ISBLANK(Risque[[#This Row],[Catégorie de risque]]),\"\",CONCATENATE(Risque[[#This Row],[Catégorie de risque]],3))","v":""},null,null,null,{"$f":"IF(ISBLANK(Risque[[#This Row],[Catégorie de risque]]),\"\",CONCATENATE(Risque[[#This Row],[Catégorie de risque]],4))","v":""},null,null,null,null,null,{"$f":"IF(Risque[[#This Row],[Date d''inscription du risque]]<>\"\",YEAR(Risque[[#This Row],[Date d''inscription du risque]]),\"\")","v":""}]
[null,null,{"$f":"IF(ISBLANK(Risque[[#This Row],[Catégorie de risque]]),\"\",CONCATENATE(Risque[[#This Row],[Catégorie de risque]],1))","v":""},null,null,null,null,null,{"$f":"IF(ISBLANK(Risque[[#This Row],[Catégorie de risque]]),\"\",IF(OR(ISNUMBER(SEARCH(\"RZ\",Risque[[#This Row],[Source de danger]]))=TRUE,ISNUMBER(SEARCH(\"RP\",Risque[[#This Row],[Source de danger]]))=TRUE,ISNUMBER(SEARCH(\"RZ\",Risque[[#This Row],[Risques associés]]))=TRUE,ISNUMBER(SEARCH(\"RP\",Risque[[#This Row],[Risques associés]]))=TRUE,ISNUMBER(SEARCH(\"RZ\",Risque[[#This Row],[Précision du risque\n(si liste déroulante présente)]]))=TRUE,ISNUMBER(SEARCH(\"RP\",Risque[[#This Row],[Précision du risque\n(si liste déroulante présente)]]))=TRUE),\"Oui --> Priorité d'action\",\"Non\"))","v":""},null,null,null,null,{"$f":"IF(ISBLANK(Risque[[#This Row],[Catégorie de risque]]),\"\",CONCATENATE(Risque[[#This Row],[Catégorie de risque]],2))","v":""},null,{"$f":"IF(ISBLANK(Risque[[#This Row],[Moyens de prévention]]),\"\",CONCATENATE(Risque[[#This Row],[Moyens de prévention]],1))","v":""},null,null,null,null,null,{"$f":"IF(ISBLANK(Risque[[#This Row],[Catégorie de risque]]),\"\",CONCATENATE(Risque[[#This Row],[Catégorie de risque]],3))","v":""},null,null,null,{"$f":"IF(ISBLANK(Risque[[#This Row],[Catégorie de risque]]),\"\",CONCATENATE(Risque[[#This Row],[Catégorie de risque]],4))","v":""},null,null,null,null,null,{"$f":"IF(Risque[[#This Row],[Date d''inscription du risque]]<>\"\",YEAR(Risque[[#This Row],[Date d''inscription du risque]]),\"\")","v":""}]
[null,null,{"$f":"IF(ISBLANK(Risque[[#This Row],[Catégorie de risque]]),\"\",CONCATENATE(Risque[[#This Row],[Catégorie de risque]],1))","v":""},null,null,null,null,null,{"$f":"IF(ISBLANK(Risque[[#This Row],[Catégorie de risque]]),\"\",IF(OR(ISNUMBER(SEARCH(\"RZ\",Risque[[#This Row],[Source de danger]]))=TRUE,ISNUMBER(SEARCH(\"RP\",Risque[[#This Row],[Source de danger]]))=TRUE,ISNUMBER(SEARCH(\"RZ\",Risque[[#This Row],[Risques associés]]))=TRUE,ISNUMBER(SEARCH(\"RP\",Risque[[#This Row],[Risques associés]]))=TRUE,ISNUMBER(SEARCH(\"RZ\",Risque[[#This Row],[Précision du risque\n(si liste déroulante présente)]]))=TRUE,ISNUMBER(SEARCH(\"RP\",Risque[[#This Row],[Précision du risque\n(si liste déroulante présente)]]))=TRUE),\"Oui --> Priorité d'action\",\"Non\"))","v":""},null,null,null,null,{"$f":"IF(ISBLANK(Risque[[#This Row],[Catégorie de risque]]),\"\",CONCATENATE(Risque[[#This Row],[Catégorie de risque]],2))","v":""},null,{"$f":"IF(ISBLANK(Risque[[#This Row],[Moyens de prévention]]),\"\",CONCATENATE(Risque[[#This Row],[Moyens de prévention]],1))","v":""},null,null,null,null,null,{"$f":"IF(ISBLANK(Risque[[#This Row],[Catégorie de risque]]),\"\",CONCATENATE(Risque[[#This Row],[Catégorie de risque]],3))","v":""},null,null,null,{"$f":"IF(ISBLANK(Risque[[#This Row],[Catégorie de risque]]),\"\",CONCATENATE(Risque[[#This Row],[Catégorie de risque]],4))","v":""},null,null,null,null,null,{"$f":"IF(Risque[[#This Row],[Date d''inscription du risque]]<>\"\",YEAR(Risque[[#This Row],[Date d''inscription du risque]]),\"\")","v":""}]
[null,null,{"$f":"IF(ISBLANK(Risque[[#This Row],[Catégorie de risque]]),\"\",CONCATENATE(Risque[[#This Row],[Catégorie de risque]],1))","v":""},null,null,null,null,null,{"$f":"IF(ISBLANK(Risque[[#This Row],[Catégorie de risque]]),\"\",IF(OR(ISNUMBER(SEARCH(\"RZ\",Risque[[#This Row],[Source de danger]]))=TRUE,ISNUMBER(SEARCH(\"RP\",Risque[[#This Row],[Source de danger]]))=TRUE,ISNUMBER(SEARCH(\"RZ\",Risque[[#This Row],[Risques associés]]))=TRUE,ISNUMBER(SEARCH(\"RP\",Risque[[#This Row],[Risques associés]]))=TRUE,ISNUMBER(SEARCH(\"RZ\",Risque[[#This Row],[Précision du risque\n(si liste déroulante présente)]]))=TRUE,ISNUMBER(SEARCH(\"RP\",Risque[[#This Row],[Précision du risque\n(si liste déroulante présente)]]))=TRUE),\"Oui --> Priorité d'action\",\"Non\"))","v":""},null,null,null,null,{"$f":"IF(ISBLANK(Risque[[#This Row],[Catégorie de risque]]),\"\",CONCATENATE(Risque[[#This Row],[Catégorie de risque]],2))","v":""},null,{"$f":"IF(ISBLANK(Risque[[#This Row],[Moyens de prévention]]),\"\",CONCATENATE(Risque[[#This Row],[Moyens de prévention]],1))","v":""},null,null,null,null,null,{"$f":"IF(ISBLANK(Risque[[#This Row],[Catégorie de risque]]),\"\",CONCATENATE(Risque[[#This Row],[Catégorie de risque]],3))","v":""},null,null,null,{"$f":"IF(ISBLANK(Risque[[#This Row],[Catégorie de risque]]),\"\",CONCATENATE(Risque[[#This Row],[Catégorie de risque]],4))","v":""},null,null,null,null,null,{"$f":"IF(Risque[[#This Row],[Date d''inscription du risque]]<>\"\",YEAR(Risque[[#This Row],[Date d''inscription du risque]]),\"\")","v":""}]
[null,null,{"$f":"IF(ISBLANK(Risque[[#This Row],[Catégorie de risque]]),\"\",CONCATENATE(Risque[[#This Row],[Catégorie de risque]],1))","v":""},null,null,null,null,null,{"$f":"IF(ISBLANK(Risque[[#This Row],[Catégorie de risque]]),\"\",IF(OR(ISNUMBER(SEARCH(\"RZ\",Risque[[#This Row],[Source de danger]]))=TRUE,ISNUMBER(SEARCH(\"RP\",Risque[[#This Row],[Source de danger]]))=TRUE,ISNUMBER(SEARCH(\"RZ\",Risque[[#This Row],[Risques associés]]))=TRUE,ISNUMBER(SEARCH(\"RP\",Risque[[#This Row],[Risques associés]]))=TRUE,ISNUMBER(SEARCH(\"RZ\",Risque[[#This Row],[Précision du risque\n(si liste déroulante présente)]]))=TRUE,ISNUMBER(SEARCH(\"RP\",Risque[[#This Row],[Précision du risque\n(si liste déroulante présente)]]))=TRUE),\"Oui --> Priorité d'action\",\"Non\"))","v":""},null,null,null,null,{"$f":"IF(ISBLANK(Risque[[#This Row],[Catégorie de risque]]),\"\",CONCATENATE(Risque[[#This Row],[Catégorie de risque]],2))","v":""},null,{"$f":"IF(ISBLANK(Risque[[#This Row],[Moyens de prévention]]),\"\",CONCATENATE(Risque[[#This Row],[Moyens de prévention]],1))","v":""},null,null,null,null,null,{"$f":"IF(ISBLANK(Risque[[#This Row],[Catégorie de risque]]),\"\",CONCATENATE(Risque[[#This Row],[Catégorie de risque]],3))","v":""},null,null,null,{"$f":"IF(ISBLANK(Risque[[#This Row],[Catégorie de risque]]),\"\",CONCATENATE(Risque[[#This Row],[Catégorie de risque]],4))","v":""},null,null,null,null,null,{"$f":"IF(Risque[[#This Row],[Date d''inscription du risque]]<>\"\",YEAR(Risque[[#This Row],[Date d''inscription du risque]]),\"\")","v":""}]
[null,null,{"$f":"IF(ISBLANK(Risque[[#This Row],[Catégorie de risque]]),\"\",CONCATENATE(Risque[[#This Row],[Catégorie de risque]],1))","v":""},null,null,null,null,null,{"$f":"IF(ISBLANK(Risque[[#This Row],[Catégorie de risque]]),\"\",IF(OR(ISNUMBER(SEARCH(\"RZ\",Risque[[#This Row],[Source de danger]]))=TRUE,ISNUMBER(SEARCH(\"RP\",Risque[[#This Row],[Source de danger]]))=TRUE,ISNUMBER(SEARCH(\"RZ\",Risque[[#This Row],[Risques associés]]))=TRUE,ISNUMBER(SEARCH(\"RP\",Risque[[#This Row],[Risques associés]]))=TRUE,ISNUMBER(SEARCH(\"RZ\",Risque[[#This Row],[Précision du risque\n(si liste déroulante présente)]]))=TRUE,ISNUMBER(SEARCH(\"RP\",Risque[[#This Row],[Précision du risque\n(si liste déroulante présente)]]))=TRUE),\"Oui --> Priorité d'action\",\"Non\"))","v":""},null,null,null,null,{"$f":"IF(ISBLANK(Risque[[#This Row],[Catégorie de risque]]),\"\",CONCATENATE(Risque[[#This Row],[Catégorie de risque]],2))","v":""},null,{"$f":"IF(ISBLANK(Risque[[#This Row],[Moyens de prévention]]),\"\",CONCATENATE(Risque[[#This Row],[Moyens de prévention]],1))","v":""},null,null,null,null,null,{"$f":"IF(ISBLANK(Risque[[#This Row],[Catégorie de risque]]),\"\",CONCATENATE(Risque[[#This Row],[Catégorie de risque]],3))","v":""},null,null,null,{"$f":"IF(ISBLANK(Risque[[#This Row],[Catégorie de risque]]),\"\",CONCATENATE(Risque[[#This Row],[Catégorie de risque]],4))","v":""},null,null,null,null,null,{"$f":"IF(Risque[[#This Row],[Date d''inscription du risque]]<>\"\",YEAR(Risque[[#This Row],[Date d''inscription du risque]]),\"\")","v":""}]
[null,null,{"$f":"IF(ISBLANK(Risque[[#This Row],[Catégorie de risque]]),\"\",CONCATENATE(Risque[[#This Row],[Catégorie de risque]],1))","v":""},null,null,null,null,null,{"$f":"IF(ISBLANK(Risque[[#This Row],[Catégorie de risque]]),\"\",IF(OR(ISNUMBER(SEARCH(\"RZ\",Risque[[#This Row],[Source de danger]]))=TRUE,ISNUMBER(SEARCH(\"RP\",Risque[[#This Row],[Source de danger]]))=TRUE,ISNUMBER(SEARCH(\"RZ\",Risque[[#This Row],[Risques associés]]))=TRUE,ISNUMBER(SEARCH(\"RP\",Risque[[#This Row],[Risques associés]]))=TRUE,ISNUMBER(SEARCH(\"RZ\",Risque[[#This Row],[Précision du risque\n(si liste déroulante présente)]]))=TRUE,ISNUMBER(SEARCH(\"RP\",Risque[[#This Row],[Précision du risque\n(si liste déroulante présente)]]))=TRUE),\"Oui --> Priorité d'action\",\"Non\"))","v":""},null,null,null,null,{"$f":"IF(ISBLANK(Risque[[#This Row],[Catégorie de risque]]),\"\",CONCATENATE(Risque[[#This Row],[Catégorie de risque]],2))","v":""},null,{"$f":"IF(ISBLANK(Risque[[#This Row],[Moyens de prévention]]),\"\",CONCATENATE(Risque[[#This Row],[Moyens de prévention]],1))","v":""},null,null,null,null,null,{"$f":"IF(ISBLANK(Risque[[#This Row],[Catégorie de risque]]),\"\",CONCATENATE(Risque[[#This Row],[Catégorie de risque]],3))","v":""},null,null,null,{"$f":"IF(ISBLANK(Risque[[#This Row],[Catégorie de risque]]),\"\",CONCATENATE(Risque[[#This Row],[Catégorie de risque]],4))","v":""},null,null,null,null,null,{"$f":"IF(Risque[[#This Row],[Date d''inscription du risque]]<>\"\",YEAR(Risque[[#This Row],[Date d''inscription du risque]]),\"\")","v":""}]
[null,null,{"$f":"IF(ISBLANK(Risque[[#This Row],[Catégorie de risque]]),\"\",CONCATENATE(Risque[[#This Row],[Catégorie de risque]],1))","v":""},null,null,null,null,null,{"$f":"IF(ISBLANK(Risque[[#This Row],[Catégorie de risque]]),\"\",IF(OR(ISNUMBER(SEARCH(\"RZ\",Risque[[#This Row],[Source de danger]]))=TRUE,ISNUMBER(SEARCH(\"RP\",Risque[[#This Row],[Source de danger]]))=TRUE,ISNUMBER(SEARCH(\"RZ\",Risque[[#This Row],[Risques associés]]))=TRUE,ISNUMBER(SEARCH(\"RP\",Risque[[#This Row],[Risques associés]]))=TRUE,ISNUMBER(SEARCH(\"RZ\",Risque[[#This Row],[Précision du risque\n(si liste déroulante présente)]]))=TRUE,ISNUMBER(SEARCH(\"RP\",Risque[[#This Row],[Précision du risque\n(si liste déroulante présente)]]))=TRUE),\"Oui --> Priorité d'action\",\"Non\"))","v":""},null,null,null,null,{"$f":"IF(ISBLANK(Risque[[#This Row],[Catégorie de risque]]),\"\",CONCATENATE(Risque[[#This Row],[Catégorie de risque]],2))","v":""},null,{"$f":"IF(ISBLANK(Risque[[#This Row],[Moyens de prévention]]),\"\",CONCATENATE(Risque[[#This Row],[Moyens de prévention]],1))","v":""},null,null,null,null,null,{"$f":"IF(ISBLANK(Risque[[#This Row],[Catégorie de risque]]),\"\",CONCATENATE(Risque[[#This Row],[Catégorie de risque]],3))","v":""},null,null,null,{"$f":"IF(ISBLANK(Risque[[#This Row],[Catégorie de risque]]),\"\",CONCATENATE(Risque[[#This Row],[Catégorie de risque]],4))","v":""},null,null,null,null,null,{"$f":"IF(Risque[[#This Row],[Date d''inscription du risque]]<>\"\",YEAR(Risque[[#This Row],[Date d''inscription du risque]]),\"\")","v":""}]
[null,null,{"$f":"IF(ISBLANK(Risque[[#This Row],[Catégorie de risque]]),\"\",CONCATENATE(Risque[[#This Row],[Catégorie de risque]],1))","v":""},null,null,null,null,null,{"$f":"IF(ISBLANK(Risque[[#This Row],[Catégorie de risque]]),\"\",IF(OR(ISNUMBER(SEARCH(\"RZ\",Risque[[#This Row],[Source de danger]]))=TRUE,ISNUMBER(SEARCH(\"RP\",Risque[[#This Row],[Source de danger]]))=TRUE,ISNUMBER(SEARCH(\"RZ\",Risque[[#This Row],[Risques associés]]))=TRUE,ISNUMBER(SEARCH(\"RP\",Risque[[#This Row],[Risques associés]]))=TRUE,ISNUMBER(SEARCH(\"RZ\",Risque[[#This Row],[Précision du risque\n(si liste déroulante présente)]]))=TRUE,ISNUMBER(SEARCH(\"RP\",Risque[[#This Row],[Précision du risque\n(si liste déroulante présente)]]))=TRUE),\"Oui --> Priorité d'action\",\"Non\"))","v":""},null,null,null,null,{"$f":"IF(ISBLANK(Risque[[#This Row],[Catégorie de risque]]),\"\",CONCATENATE(Risque[[#This Row],[Catégorie de risque]],2))","v":""},null,{"$f":"IF(ISBLANK(Risque[[#This Row],[Moyens de prévention]]),\"\",CONCATENATE(Risque[[#This Row],[Moyens de prévention]],1))","v":""},null,null,null,null,null,{"$f":"IF(ISBLANK(Risque[[#This Row],[Catégorie de risque]]),\"\",CONCATENATE(Risque[[#This Row],[Catégorie de risque]],3))","v":""},null,null,null,{"$f":"IF(ISBLANK(Risque[[#This Row],[Catégorie de risque]]),\"\",CONCATENATE(Risque[[#This Row],[Catégorie de risque]],4))","v":""},null,null,null,null,null,{"$f":"IF(Risque[[#This Row],[Date d''inscription du risque]]<>\"\",YEAR(Risque[[#This Row],[Date d''inscription du risque]]),\"\")","v":""}]
[null,null,{"$f":"IF(ISBLANK(Risque[[#This Row],[Catégorie de risque]]),\"\",CONCATENATE(Risque[[#This Row],[Catégorie de risque]],1))","v":""},null,null,null,null,null,{"$f":"IF(ISBLANK(Risque[[#This Row],[Catégorie de risque]]),\"\",IF(OR(ISNUMBER(SEARCH(\"RZ\",Risque[[#This Row],[Source de danger]]))=TRUE,ISNUMBER(SEARCH(\"RP\",Risque[[#This Row],[Source de danger]]))=TRUE,ISNUMBER(SEARCH(\"RZ\",Risque[[#This Row],[Risques associés]]))=TRUE,ISNUMBER(SEARCH(\"RP\",Risque[[#This Row],[Risques associés]]))=TRUE,ISNUMBER(SEARCH(\"RZ\",Risque[[#This Row],[Précision du risque\n(si liste déroulante présente)]]))=TRUE,ISNUMBER(SEARCH(\"RP\",Risque[[#This Row],[Précision du risque\n(si liste déroulante présente)]]))=TRUE),\"Oui --> Priorité d'action\",\"Non\"))","v":""},null,null,null,null,{"$f":"IF(ISBLANK(Risque[[#This Row],[Catégorie de risque]]),\"\",CONCATENATE(Risque[[#This Row],[Catégorie de risque]],2))","v":""},null,{"$f":"IF(ISBLANK(Risque[[#This Row],[Moyens de prévention]]),\"\",CONCATENATE(Risque[[#This Row],[Moyens de prévention]],1))","v":""},null,null,null,null,null,{"$f":"IF(ISBLANK(Risque[[#This Row],[Catégorie de risque]]),\"\",CONCATENATE(Risque[[#This Row],[Catégorie de risque]],3))","v":""},null,null,null,{"$f":"IF(ISBLANK(Risque[[#This Row],[Catégorie de risque]]),\"\",CONCATENATE(Risque[[#This Row],[Catégorie de risque]],4))","v":""},null,null,null,null,null,{"$f":"IF(Risque[[#This Row],[Date d''inscription du risque]]<>\"\",YEAR(Risque[[#This Row],[Date d''inscription du risque]]),\"\")","v":""}]
[null,null,{"$f":"IF(ISBLANK(Risque[[#This Row],[Catégorie de risque]]),\"\",CONCATENATE(Risque[[#This Row],[Catégorie de risque]],1))","v":""},null,null,null,null,null,{"$f":"IF(ISBLANK(Risque[[#This Row],[Catégorie de risque]]),\"\",IF(OR(ISNUMBER(SEARCH(\"RZ\",Risque[[#This Row],[Source de danger]]))=TRUE,ISNUMBER(SEARCH(\"RP\",Risque[[#This Row],[Source de danger]]))=TRUE,ISNUMBER(SEARCH(\"RZ\",Risque[[#This Row],[Risques associés]]))=TRUE,ISNUMBER(SEARCH(\"RP\",Risque[[#This Row],[Risques associés]]))=TRUE,ISNUMBER(SEARCH(\"RZ\",Risque[[#This Row],[Précision du risque\n(si liste déroulante présente)]]))=TRUE,ISNUMBER(SEARCH(\"RP\",Risque[[#This Row],[Précision du risque\n(si liste déroulante présente)]]))=TRUE),\"Oui --> Priorité d'action\",\"Non\"))","v":""},null,null,null,null,{"$f":"IF(ISBLANK(Risque[[#This Row],[Catégorie de risque]]),\"\",CONCATENATE(Risque[[#This Row],[Catégorie de risque]],2))","v":""},null,{"$f":"IF(ISBLANK(Risque[[#This Row],[Moyens de prévention]]),\"\",CONCATENATE(Risque[[#This Row],[Moyens de prévention]],1))","v":""},null,null,null,null,null,{"$f":"IF(ISBLANK(Risque[[#This Row],[Catégorie de risque]]),\"\",CONCATENATE(Risque[[#This Row],[Catégorie de risque]],3))","v":""},null,null,null,{"$f":"IF(ISBLANK(Risque[[#This Row],[Catégorie de risque]]),\"\",CONCATENATE(Risque[[#This Row],[Catégorie de risque]],4))","v":""},null,null,null,null,null,{"$f":"IF(Risque[[#This Row],[Date d''inscription du risque]]<>\"\",YEAR(Risque[[#This Row],[Date d''inscription du risque]]),\"\")","v":""}]
[null,null,{"$f":"IF(ISBLANK(Risque[[#This Row],[Catégorie de risque]]),\"\",CONCATENATE(Risque[[#This Row],[Catégorie de risque]],1))","v":""},null,null,null,null,null,{"$f":"IF(ISBLANK(Risque[[#This Row],[Catégorie de risque]]),\"\",IF(OR(ISNUMBER(SEARCH(\"RZ\",Risque[[#This Row],[Source de danger]]))=TRUE,ISNUMBER(SEARCH(\"RP\",Risque[[#This Row],[Source de danger]]))=TRUE,ISNUMBER(SEARCH(\"RZ\",Risque[[#This Row],[Risques associés]]))=TRUE,ISNUMBER(SEARCH(\"RP\",Risque[[#This Row],[Risques associés]]))=TRUE,ISNUMBER(SEARCH(\"RZ\",Risque[[#This Row],[Précision du risque\n(si liste déroulante présente)]]))=TRUE,ISNUMBER(SEARCH(\"RP\",Risque[[#This Row],[Précision du risque\n(si liste déroulante présente)]]))=TRUE),\"Oui --> Priorité d'action\",\"Non\"))","v":""},null,null,null,null,{"$f":"IF(ISBLANK(Risque[[#This Row],[Catégorie de risque]]),\"\",CONCATENATE(Risque[[#This Row],[Catégorie de risque]],2))","v":""},null,{"$f":"IF(ISBLANK(Risque[[#This Row],[Moyens de prévention]]),\"\",CONCATENATE(Risque[[#This Row],[Moyens de prévention]],1))","v":""},null,null,null,null,null,{"$f":"IF(ISBLANK(Risque[[#This Row],[Catégorie de risque]]),\"\",CONCATENATE(Risque[[#This Row],[Catégorie de risque]],3))","v":""},null,null,null,{"$f":"IF(ISBLANK(Risque[[#This Row],[Catégorie de risque]]),\"\",CONCATENATE(Risque[[#This Row],[Catégorie de risque]],4))","v":""},null,null,null,null,null,{"$f":"IF(Risque[[#This Row],[Date d''inscription du risque]]<>\"\",YEAR(Risque[[#This Row],[Date d''inscription du risque]]),\"\")","v":""}]
[null,null,{"$f":"IF(ISBLANK(Risque[[#This Row],[Catégorie de risque]]),\"\",CONCATENATE(Risque[[#This Row],[Catégorie de risque]],1))","v":""},null,null,null,null,null,{"$f":"IF(ISBLANK(Risque[[#This Row],[Catégorie de risque]]),\"\",IF(OR(ISNUMBER(SEARCH(\"RZ\",Risque[[#This Row],[Source de danger]]))=TRUE,ISNUMBER(SEARCH(\"RP\",Risque[[#This Row],[Source de danger]]))=TRUE,ISNUMBER(SEARCH(\"RZ\",Risque[[#This Row],[Risques associés]]))=TRUE,ISNUMBER(SEARCH(\"RP\",Risque[[#This Row],[Risques associés]]))=TRUE,ISNUMBER(SEARCH(\"RZ\",Risque[[#This Row],[Précision du risque\n(si liste déroulante présente)]]))=TRUE,ISNUMBER(SEARCH(\"RP\",Risque[[#This Row],[Précision du risque\n(si liste déroulante présente)]]))=TRUE),\"Oui --> Priorité d'action\",\"Non\"))","v":""},null,null,null,null,{"$f":"IF(ISBLANK(Risque[[#This Row],[Catégorie de risque]]),\"\",CONCATENATE(Risque[[#This Row],[Catégorie de risque]],2))","v":""},null,{"$f":"IF(ISBLANK(Risque[[#This Row],[Moyens de prévention]]),\"\",CONCATENATE(Risque[[#This Row],[Moyens de prévention]],1))","v":""},null,null,null,null,null,{"$f":"IF(ISBLANK(Risque[[#This Row],[Catégorie de risque]]),\"\",CONCATENATE(Risque[[#This Row],[Catégorie de risque]],3))","v":""},null,null,null,{"$f":"IF(ISBLANK(Risque[[#This Row],[Catégorie de risque]]),\"\",CONCATENATE(Risque[[#This Row],[Catégorie de risque]],4))","v":""},null,null,null,null,null,{"$f":"IF(Risque[[#This Row],[Date d''inscription du risque]]<>\"\",YEAR(Risque[[#This Row],[Date d''inscription du risque]]),\"\")","v":""}]
[null,null,{"$f":"IF(ISBLANK(Risque[[#This Row],[Catégorie de risque]]),\"\",CONCATENATE(Risque[[#This Row],[Catégorie de risque]],1))","v":""},null,null,null,null,null,{"$f":"IF(ISBLANK(Risque[[#This Row],[Catégorie de risque]]),\"\",IF(OR(ISNUMBER(SEARCH(\"RZ\",Risque[[#This Row],[Source de danger]]))=TRUE,ISNUMBER(SEARCH(\"RP\",Risque[[#This Row],[Source de danger]]))=TRUE,ISNUMBER(SEARCH(\"RZ\",Risque[[#This Row],[Risques associés]]))=TRUE,ISNUMBER(SEARCH(\"RP\",Risque[[#This Row],[Risques associés]]))=TRUE,ISNUMBER(SEARCH(\"RZ\",Risque[[#This Row],[Précision du risque\n(si liste déroulante présente)]]))=TRUE,ISNUMBER(SEARCH(\"RP\",Risque[[#This Row],[Précision du risque\n(si liste déroulante présente)]]))=TRUE),\"Oui --> Priorité d'action\",\"Non\"))","v":""},null,null,null,null,{"$f":"IF(ISBLANK(Risque[[#This Row],[Catégorie de risque]]),\"\",CONCATENATE(Risque[[#This Row],[Catégorie de risque]],2))","v":""},null,{"$f":"IF(ISBLANK(Risque[[#This Row],[Moyens de prévention]]),\"\",CONCATENATE(Risque[[#This Row],[Moyens de prévention]],1))","v":""},null,null,null,null,null,{"$f":"IF(ISBLANK(Risque[[#This Row],[Catégorie de risque]]),\"\",CONCATENATE(Risque[[#This Row],[Catégorie de risque]],3))","v":""},null,null,null,{"$f":"IF(ISBLANK(Risque[[#This Row],[Catégorie de risque]]),\"\",CONCATENATE(Risque[[#This Row],[Catégorie de risque]],4))","v":""},null,null,null,null,null,{"$f":"IF(Risque[[#This Row],[Date d''inscription du risque]]<>\"\",YEAR(Risque[[#This Row],[Date d''inscription du risque]]),\"\")","v":""}]
[null,null,{"$f":"IF(ISBLANK(Risque[[#This Row],[Catégorie de risque]]),\"\",CONCATENATE(Risque[[#This Row],[Catégorie de risque]],1))","v":""},null,null,null,null,null,{"$f":"IF(ISBLANK(Risque[[#This Row],[Catégorie de risque]]),\"\",IF(OR(ISNUMBER(SEARCH(\"RZ\",Risque[[#This Row],[Source de danger]]))=TRUE,ISNUMBER(SEARCH(\"RP\",Risque[[#This Row],[Source de danger]]))=TRUE,ISNUMBER(SEARCH(\"RZ\",Risque[[#This Row],[Risques associés]]))=TRUE,ISNUMBER(SEARCH(\"RP\",Risque[[#This Row],[Risques associés]]))=TRUE,ISNUMBER(SEARCH(\"RZ\",Risque[[#This Row],[Précision du risque\n(si liste déroulante présente)]]))=TRUE,ISNUMBER(SEARCH(\"RP\",Risque[[#This Row],[Précision du risque\n(si liste déroulante présente)]]))=TRUE),\"Oui --> Priorité d'action\",\"Non\"))","v":""},null,null,null,null,{"$f":"IF(ISBLANK(Risque[[#This Row],[Catégorie de risque]]),\"\",CONCATENATE(Risque[[#This Row],[Catégorie de risque]],2))","v":""},null,{"$f":"IF(ISBLANK(Risque[[#This Row],[Moyens de prévention]]),\"\",CONCATENATE(Risque[[#This Row],[Moyens de prévention]],1))","v":""},null,null,null,null,null,{"$f":"IF(ISBLANK(Risque[[#This Row],[Catégorie de risque]]),\"\",CONCATENATE(Risque[[#This Row],[Catégorie de risque]],3))","v":""},null,null,null,{"$f":"IF(ISBLANK(Risque[[#This Row],[Catégorie de risque]]),\"\",CONCATENATE(Risque[[#This Row],[Catégorie de risque]],4))","v":""},null,null,null,null,null,{"$f":"IF(Risque[[#This Row],[Date d''inscription du risque]]<>\"\",YEAR(Risque[[#This Row],[Date d''inscription du risque]]),\"\")","v":""}]
[null,null,{"$f":"IF(ISBLANK(Risque[[#This Row],[Catégorie de risque]]),\"\",CONCATENATE(Risque[[#This Row],[Catégorie de risque]],1))","v":""},null,null,null,null,null,{"$f":"IF(ISBLANK(Risque[[#This Row],[Catégorie de risque]]),\"\",IF(OR(ISNUMBER(SEARCH(\"RZ\",Risque[[#This Row],[Source de danger]]))=TRUE,ISNUMBER(SEARCH(\"RP\",Risque[[#This Row],[Source de danger]]))=TRUE,ISNUMBER(SEARCH(\"RZ\",Risque[[#This Row],[Risques associés]]))=TRUE,ISNUMBER(SEARCH(\"RP\",Risque[[#This Row],[Risques associés]]))=TRUE,ISNUMBER(SEARCH(\"RZ\",Risque[[#This Row],[Précision du risque\n(si liste déroulante présente)]]))=TRUE,ISNUMBER(SEARCH(\"RP\",Risque[[#This Row],[Précision du risque\n(si liste déroulante présente)]]))=TRUE),\"Oui --> Priorité d'action\",\"Non\"))","v":""},null,null,null,null,{"$f":"IF(ISBLANK(Risque[[#This Row],[Catégorie de risque]]),\"\",CONCATENATE(Risque[[#This Row],[Catégorie de risque]],2))","v":""},null,{"$f":"IF(ISBLANK(Risque[[#This Row],[Moyens de prévention]]),\"\",CONCATENATE(Risque[[#This Row],[Moyens de prévention]],1))","v":""},null,null,null,null,null,{"$f":"IF(ISBLANK(Risque[[#This Row],[Catégorie de risque]]),\"\",CONCATENATE(Risque[[#This Row],[Catégorie de risque]],3))","v":""},null,null,null,{"$f":"IF(ISBLANK(Risque[[#This Row],[Catégorie de risque]]),\"\",CONCATENATE(Risque[[#This Row],[Catégorie de risque]],4))","v":""},null,null,null,null,null,{"$f":"IF(Risque[[#This Row],[Date d''inscription du risque]]<>\"\",YEAR(Risque[[#This Row],[Date d''inscription du risque]]),\"\")","v":""}]
[null,null,{"$f":"IF(ISBLANK(Risque[[#This Row],[Catégorie de risque]]),\"\",CONCATENATE(Risque[[#This Row],[Catégorie de risque]],1))","v":""},null,null,null,null,null,{"$f":"IF(ISBLANK(Risque[[#This Row],[Catégorie de risque]]),\"\",IF(OR(ISNUMBER(SEARCH(\"RZ\",Risque[[#This Row],[Source de danger]]))=TRUE,ISNUMBER(SEARCH(\"RP\",Risque[[#This Row],[Source de danger]]))=TRUE,ISNUMBER(SEARCH(\"RZ\",Risque[[#This Row],[Risques associés]]))=TRUE,ISNUMBER(SEARCH(\"RP\",Risque[[#This Row],[Risques associés]]))=TRUE,ISNUMBER(SEARCH(\"RZ\",Risque[[#This Row],[Précision du risque\n(si liste déroulante présente)]]))=TRUE,ISNUMBER(SEARCH(\"RP\",Risque[[#This Row],[Précision du risque\n(si liste déroulante présente)]]))=TRUE),\"Oui --> Priorité d'action\",\"Non\"))","v":""},null,null,null,null,{"$f":"IF(ISBLANK(Risque[[#This Row],[Catégorie de risque]]),\"\",CONCATENATE(Risque[[#This Row],[Catégorie de risque]],2))","v":""},null,{"$f":"IF(ISBLANK(Risque[[#This Row],[Moyens de prévention]]),\"\",CONCATENATE(Risque[[#This Row],[Moyens de prévention]],1))","v":""},null,null,null,null,null,{"$f":"IF(ISBLANK(Risque[[#This Row],[Catégorie de risque]]),\"\",CONCATENATE(Risque[[#This Row],[Catégorie de risque]],3))","v":""},null,null,null,{"$f":"IF(ISBLANK(Risque[[#This Row],[Catégorie de risque]]),\"\",CONCATENATE(Risque[[#This Row],[Catégorie de risque]],4))","v":""},null,null,null,null,null,{"$f":"IF(Risque[[#This Row],[Date d''inscription du risque]]<>\"\",YEAR(Risque[[#This Row],[Date d''inscription du risque]]),\"\")","v":""}]
[null,null,{"$f":"IF(ISBLANK(Risque[[#This Row],[Catégorie de risque]]),\"\",CONCATENATE(Risque[[#This Row],[Catégorie de risque]],1))","v":""},null,null,null,null,null,{"$f":"IF(ISBLANK(Risque[[#This Row],[Catégorie de risque]]),\"\",IF(OR(ISNUMBER(SEARCH(\"RZ\",Risque[[#This Row],[Source de danger]]))=TRUE,ISNUMBER(SEARCH(\"RP\",Risque[[#This Row],[Source de danger]]))=TRUE,ISNUMBER(SEARCH(\"RZ\",Risque[[#This Row],[Risques associés]]))=TRUE,ISNUMBER(SEARCH(\"RP\",Risque[[#This Row],[Risques associés]]))=TRUE,ISNUMBER(SEARCH(\"RZ\",Risque[[#This Row],[Précision du risque\n(si liste déroulante présente)]]))=TRUE,ISNUMBER(SEARCH(\"RP\",Risque[[#This Row],[Précision du risque\n(si liste déroulante présente)]]))=TRUE),\"Oui --> Priorité d'action\",\"Non\"))","v":""},null,null,null,null,{"$f":"IF(ISBLANK(Risque[[#This Row],[Catégorie de risque]]),\"\",CONCATENATE(Risque[[#This Row],[Catégorie de risque]],2))","v":""},null,{"$f":"IF(ISBLANK(Risque[[#This Row],[Moyens de prévention]]),\"\",CONCATENATE(Risque[[#This Row],[Moyens de prévention]],1))","v":""},null,null,null,null,null,{"$f":"IF(ISBLANK(Risque[[#This Row],[Catégorie de risque]]),\"\",CONCATENATE(Risque[[#This Row],[Catégorie de risque]],3))","v":""},null,null,null,{"$f":"IF(ISBLANK(Risque[[#This Row],[Catégorie de risque]]),\"\",CONCATENATE(Risque[[#This Row],[Catégorie de risque]],4))","v":""},null,null,null,null,null,{"$f":"IF(Risque[[#This Row],[Date d''inscription du risque]]<>\"\",YEAR(Risque[[#This Row],[Date d''inscription du risque]]),\"\")","v":""}]
[null,null,{"$f":"IF(ISBLANK(Risque[[#This Row],[Catégorie de risque]]),\"\",CONCATENATE(Risque[[#This Row],[Catégorie de risque]],1))","v":""},null,null,null,null,null,{"$f":"IF(ISBLANK(Risque[[#This Row],[Catégorie de risque]]),\"\",IF(OR(ISNUMBER(SEARCH(\"RZ\",Risque[[#This Row],[Source de danger]]))=TRUE,ISNUMBER(SEARCH(\"RP\",Risque[[#This Row],[Source de danger]]))=TRUE,ISNUMBER(SEARCH(\"RZ\",Risque[[#This Row],[Risques associés]]))=TRUE,ISNUMBER(SEARCH(\"RP\",Risque[[#This Row],[Risques associés]]))=TRUE,ISNUMBER(SEARCH(\"RZ\",Risque[[#This Row],[Précision du risque\n(si liste déroulante présente)]]))=TRUE,ISNUMBER(SEARCH(\"RP\",Risque[[#This Row],[Précision du risque\n(si liste déroulante présente)]]))=TRUE),\"Oui --> Priorité d'action\",\"Non\"))","v":""},null,null,null,null,{"$f":"IF(ISBLANK(Risque[[#This Row],[Catégorie de risque]]),\"\",CONCATENATE(Risque[[#This Row],[Catégorie de risque]],2))","v":""},null,{"$f":"IF(ISBLANK(Risque[[#This Row],[Moyens de prévention]]),\"\",CONCATENATE(Risque[[#This Row],[Moyens de prévention]],1))","v":""},null,null,null,null,null,{"$f":"IF(ISBLANK(Risque[[#This Row],[Catégorie de risque]]),\"\",CONCATENATE(Risque[[#This Row],[Catégorie de risque]],3))","v":""},null,null,null,{"$f":"IF(ISBLANK(Risque[[#This Row],[Catégorie de risque]]),\"\",CONCATENATE(Risque[[#This Row],[Catégorie de risque]],4))","v":""},null,null,null,null,null,{"$f":"IF(Risque[[#This Row],[Date d''inscription du risque]]<>\"\",YEAR(Risque[[#This Row],[Date d''inscription du risque]]),\"\")","v":""}]
[null,null,{"$f":"IF(ISBLANK(Risque[[#This Row],[Catégorie de risque]]),\"\",CONCATENATE(Risque[[#This Row],[Catégorie de risque]],1))","v":""},null,null,null,null,null,{"$f":"IF(ISBLANK(Risque[[#This Row],[Catégorie de risque]]),\"\",IF(OR(ISNUMBER(SEARCH(\"RZ\",Risque[[#This Row],[Source de danger]]))=TRUE,ISNUMBER(SEARCH(\"RP\",Risque[[#This Row],[Source de danger]]))=TRUE,ISNUMBER(SEARCH(\"RZ\",Risque[[#This Row],[Risques associés]]))=TRUE,ISNUMBER(SEARCH(\"RP\",Risque[[#This Row],[Risques associés]]))=TRUE,ISNUMBER(SEARCH(\"RZ\",Risque[[#This Row],[Précision du risque\n(si liste déroulante présente)]]))=TRUE,ISNUMBER(SEARCH(\"RP\",Risque[[#This Row],[Précision du risque\n(si liste déroulante présente)]]))=TRUE),\"Oui --> Priorité d'action\",\"Non\"))","v":""},null,null,null,null,{"$f":"IF(ISBLANK(Risque[[#This Row],[Catégorie de risque]]),\"\",CONCATENATE(Risque[[#This Row],[Catégorie de risque]],2))","v":""},null,{"$f":"IF(ISBLANK(Risque[[#This Row],[Moyens de prévention]]),\"\",CONCATENATE(Risque[[#This Row],[Moyens de prévention]],1))","v":""},null,null,null,null,null,{"$f":"IF(ISBLANK(Risque[[#This Row],[Catégorie de risque]]),\"\",CONCATENATE(Risque[[#This Row],[Catégorie de risque]],3))","v":""},null,null,null,{"$f":"IF(ISBLANK(Risque[[#This Row],[Catégorie de risque]]),\"\",CONCATENATE(Risque[[#This Row],[Catégorie de risque]],4))","v":""},null,null,null,null,null,{"$f":"IF(Risque[[#This Row],[Date d''inscription du risque]]<>\"\",YEAR(Risque[[#This Row],[Date d''inscription du risque]]),\"\")","v":""}]
[null,null,{"$f":"IF(ISBLANK(Risque[[#This Row],[Catégorie de risque]]),\"\",CONCATENATE(Risque[[#This Row],[Catégorie de risque]],1))","v":""},null,null,null,null,null,{"$f":"IF(ISBLANK(Risque[[#This Row],[Catégorie de risque]]),\"\",IF(OR(ISNUMBER(SEARCH(\"RZ\",Risque[[#This Row],[Source de danger]]))=TRUE,ISNUMBER(SEARCH(\"RP\",Risque[[#This Row],[Source de danger]]))=TRUE,ISNUMBER(SEARCH(\"RZ\",Risque[[#This Row],[Risques associés]]))=TRUE,ISNUMBER(SEARCH(\"RP\",Risque[[#This Row],[Risques associés]]))=TRUE,ISNUMBER(SEARCH(\"RZ\",Risque[[#This Row],[Précision du risque\n(si liste déroulante présente)]]))=TRUE,ISNUMBER(SEARCH(\"RP\",Risque[[#This Row],[Précision du risque\n(si liste déroulante présente)]]))=TRUE),\"Oui --> Priorité d'action\",\"Non\"))","v":""},null,null,null,null,{"$f":"IF(ISBLANK(Risque[[#This Row],[Catégorie de risque]]),\"\",CONCATENATE(Risque[[#This Row],[Catégorie de risque]],2))","v":""},null,{"$f":"IF(ISBLANK(Risque[[#This Row],[Moyens de prévention]]),\"\",CONCATENATE(Risque[[#This Row],[Moyens de prévention]],1))","v":""},null,null,null,null,null,{"$f":"IF(ISBLANK(Risque[[#This Row],[Catégorie de risque]]),\"\",CONCATENATE(Risque[[#This Row],[Catégorie de risque]],3))","v":""},null,null,null,{"$f":"IF(ISBLANK(Risque[[#This Row],[Catégorie de risque]]),\"\",CONCATENATE(Risque[[#This Row],[Catégorie de risque]],4))","v":""},null,null,null,null,null,{"$f":"IF(Risque[[#This Row],[Date d''inscription du risque]]<>\"\",YEAR(Risque[[#This Row],[Date d''inscription du risque]]),\"\")","v":""}]
[null,null,{"$f":"IF(ISBLANK(Risque[[#This Row],[Catégorie de risque]]),\"\",CONCATENATE(Risque[[#This Row],[Catégorie de risque]],1))","v":""},null,null,null,null,null,{"$f":"IF(ISBLANK(Risque[[#This Row],[Catégorie de risque]]),\"\",IF(OR(ISNUMBER(SEARCH(\"RZ\",Risque[[#This Row],[Source de danger]]))=TRUE,ISNUMBER(SEARCH(\"RP\",Risque[[#This Row],[Source de danger]]))=TRUE,ISNUMBER(SEARCH(\"RZ\",Risque[[#This Row],[Risques associés]]))=TRUE,ISNUMBER(SEARCH(\"RP\",Risque[[#This Row],[Risques associés]]))=TRUE,ISNUMBER(SEARCH(\"RZ\",Risque[[#This Row],[Précision du risque\n(si liste déroulante présente)]]))=TRUE,ISNUMBER(SEARCH(\"RP\",Risque[[#This Row],[Précision du risque\n(si liste déroulante présente)]]))=TRUE),\"Oui --> Priorité d'action\",\"Non\"))","v":""},null,null,null,null,{"$f":"IF(ISBLANK(Risque[[#This Row],[Catégorie de risque]]),\"\",CONCATENATE(Risque[[#This Row],[Catégorie de risque]],2))","v":""},null,{"$f":"IF(ISBLANK(Risque[[#This Row],[Moyens de prévention]]),\"\",CONCATENATE(Risque[[#This Row],[Moyens de prévention]],1))","v":""},null,null,null,null,null,{"$f":"IF(ISBLANK(Risque[[#This Row],[Catégorie de risque]]),\"\",CONCATENATE(Risque[[#This Row],[Catégorie de risque]],3))","v":""},null,null,null,{"$f":"IF(ISBLANK(Risque[[#This Row],[Catégorie de risque]]),\"\",CONCATENATE(Risque[[#This Row],[Catégorie de risque]],4))","v":""},null,null,null,null,null,{"$f":"IF(Risque[[#This Row],[Date d''inscription du risque]]<>\"\",YEAR(Risque[[#This Row],[Date d''inscription du risque]]),\"\")","v":""}]
[null,null,{"$f":"IF(ISBLANK(Risque[[#This Row],[Catégorie de risque]]),\"\",CONCATENATE(Risque[[#This Row],[Catégorie de risque]],1))","v":""},null,null,null,null,null,{"$f":"IF(ISBLANK(Risque[[#This Row],[Catégorie de risque]]),\"\",IF(OR(ISNUMBER(SEARCH(\"RZ\",Risque[[#This Row],[Source de danger]]))=TRUE,ISNUMBER(SEARCH(\"RP\",Risque[[#This Row],[Source de danger]]))=TRUE,ISNUMBER(SEARCH(\"RZ\",Risque[[#This Row],[Risques associés]]))=TRUE,ISNUMBER(SEARCH(\"RP\",Risque[[#This Row],[Risques associés]]))=TRUE,ISNUMBER(SEARCH(\"RZ\",Risque[[#This Row],[Précision du risque\n(si liste déroulante présente)]]))=TRUE,ISNUMBER(SEARCH(\"RP\",Risque[[#This Row],[Précision du risque\n(si liste déroulante présente)]]))=TRUE),\"Oui --> Priorité d'action\",\"Non\"))","v":""},null,null,null,null,{"$f":"IF(ISBLANK(Risque[[#This Row],[Catégorie de risque]]),\"\",CONCATENATE(Risque[[#This Row],[Catégorie de risque]],2))","v":""},null,{"$f":"IF(ISBLANK(Risque[[#This Row],[Moyens de prévention]]),\"\",CONCATENATE(Risque[[#This Row],[Moyens de prévention]],1))","v":""},null,null,null,null,null,{"$f":"IF(ISBLANK(Risque[[#This Row],[Catégorie de risque]]),\"\",CONCATENATE(Risque[[#This Row],[Catégorie de risque]],3))","v":""},null,null,null,{"$f":"IF(ISBLANK(Risque[[#This Row],[Catégorie de risque]]),\"\",CONCATENATE(Risque[[#This Row],[Catégorie de risque]],4))","v":""},null,null,null,null,null,{"$f":"IF(Risque[[#This Row],[Date d''inscription du risque]]<>\"\",YEAR(Risque[[#This Row],[Date d''inscription du risque]]),\"\")","v":""}]
[null,null,{"$f":"IF(ISBLANK(Risque[[#This Row],[Catégorie de risque]]),\"\",CONCATENATE(Risque[[#This Row],[Catégorie de risque]],1))","v":""},null,null,null,null,null,{"$f":"IF(ISBLANK(Risque[[#This Row],[Catégorie de risque]]),\"\",IF(OR(ISNUMBER(SEARCH(\"RZ\",Risque[[#This Row],[Source de danger]]))=TRUE,ISNUMBER(SEARCH(\"RP\",Risque[[#This Row],[Source de danger]]))=TRUE,ISNUMBER(SEARCH(\"RZ\",Risque[[#This Row],[Risques associés]]))=TRUE,ISNUMBER(SEARCH(\"RP\",Risque[[#This Row],[Risques associés]]))=TRUE,ISNUMBER(SEARCH(\"RZ\",Risque[[#This Row],[Précision du risque\n(si liste déroulante présente)]]))=TRUE,ISNUMBER(SEARCH(\"RP\",Risque[[#This Row],[Précision du risque\n(si liste déroulante présente)]]))=TRUE),\"Oui --> Priorité d'action\",\"Non\"))","v":""},null,null,null,null,{"$f":"IF(ISBLANK(Risque[[#This Row],[Catégorie de risque]]),\"\",CONCATENATE(Risque[[#This Row],[Catégorie de risque]],2))","v":""},null,{"$f":"IF(ISBLANK(Risque[[#This Row],[Moyens de prévention]]),\"\",CONCATENATE(Risque[[#This Row],[Moyens de prévention]],1))","v":""},null,null,null,null,null,{"$f":"IF(ISBLANK(Risque[[#This Row],[Catégorie de risque]]),\"\",CONCATENATE(Risque[[#This Row],[Catégorie de risque]],3))","v":""},null,null,null,{"$f":"IF(ISBLANK(Risque[[#This Row],[Catégorie de risque]]),\"\",CONCATENATE(Risque[[#This Row],[Catégorie de risque]],4))","v":""},null,null,null,null,null,{"$f":"IF(Risque[[#This Row],[Date d''inscription du risque]]<>\"\",YEAR(Risque[[#This Row],[Date d''inscription du risque]]),\"\")","v":""}]
[null,null,{"$f":"IF(ISBLANK(Risque[[#This Row],[Catégorie de risque]]),\"\",CONCATENATE(Risque[[#This Row],[Catégorie de risque]],1))","v":""},null,null,null,null,null,{"$f":"IF(ISBLANK(Risque[[#This Row],[Catégorie de risque]]),\"\",IF(OR(ISNUMBER(SEARCH(\"RZ\",Risque[[#This Row],[Source de danger]]))=TRUE,ISNUMBER(SEARCH(\"RP\",Risque[[#This Row],[Source de danger]]))=TRUE,ISNUMBER(SEARCH(\"RZ\",Risque[[#This Row],[Risques associés]]))=TRUE,ISNUMBER(SEARCH(\"RP\",Risque[[#This Row],[Risques associés]]))=TRUE,ISNUMBER(SEARCH(\"RZ\",Risque[[#This Row],[Précision du risque\n(si liste déroulante présente)]]))=TRUE,ISNUMBER(SEARCH(\"RP\",Risque[[#This Row],[Précision du risque\n(si liste déroulante présente)]]))=TRUE),\"Oui --> Priorité d'action\",\"Non\"))","v":""},null,null,null,null,{"$f":"IF(ISBLANK(Risque[[#This Row],[Catégorie de risque]]),\"\",CONCATENATE(Risque[[#This Row],[Catégorie de risque]],2))","v":""},null,{"$f":"IF(ISBLANK(Risque[[#This Row],[Moyens de prévention]]),\"\",CONCATENATE(Risque[[#This Row],[Moyens de prévention]],1))","v":""},null,null,null,null,null,{"$f":"IF(ISBLANK(Risque[[#This Row],[Catégorie de risque]]),\"\",CONCATENATE(Risque[[#This Row],[Catégorie de risque]],3))","v":""},null,null,null,{"$f":"IF(ISBLANK(Risque[[#This Row],[Catégorie de risque]]),\"\",CONCATENATE(Risque[[#This Row],[Catégorie de risque]],4))","v":""},null,null,null,null,null,{"$f":"IF(Risque[[#This Row],[Date d''inscription du risque]]<>\"\",YEAR(Risque[[#This Row],[Date d''inscription du risque]]),\"\")","v":""}]
[null,null,{"$f":"IF(ISBLANK(Risque[[#This Row],[Catégorie de risque]]),\"\",CONCATENATE(Risque[[#This Row],[Catégorie de risque]],1))","v":""},null,null,null,null,null,{"$f":"IF(ISBLANK(Risque[[#This Row],[Catégorie de risque]]),\"\",IF(OR(ISNUMBER(SEARCH(\"RZ\",Risque[[#This Row],[Source de danger]]))=TRUE,ISNUMBER(SEARCH(\"RP\",Risque[[#This Row],[Source de danger]]))=TRUE,ISNUMBER(SEARCH(\"RZ\",Risque[[#This Row],[Risques associés]]))=TRUE,ISNUMBER(SEARCH(\"RP\",Risque[[#This Row],[Risques associés]]))=TRUE,ISNUMBER(SEARCH(\"RZ\",Risque[[#This Row],[Précision du risque\n(si liste déroulante présente)]]))=TRUE,ISNUMBER(SEARCH(\"RP\",Risque[[#This Row],[Précision du risque\n(si liste déroulante présente)]]))=TRUE),\"Oui --> Priorité d'action\",\"Non\"))","v":""},null,null,null,null,{"$f":"IF(ISBLANK(Risque[[#This Row],[Catégorie de risque]]),\"\",CONCATENATE(Risque[[#This Row],[Catégorie de risque]],2))","v":""},null,{"$f":"IF(ISBLANK(Risque[[#This Row],[Moyens de prévention]]),\"\",CONCATENATE(Risque[[#This Row],[Moyens de prévention]],1))","v":""},null,null,null,null,null,{"$f":"IF(ISBLANK(Risque[[#This Row],[Catégorie de risque]]),\"\",CONCATENATE(Risque[[#This Row],[Catégorie de risque]],3))","v":""},null,null,null,{"$f":"IF(ISBLANK(Risque[[#This Row],[Catégorie de risque]]),\"\",CONCATENATE(Risque[[#This Row],[Catégorie de risque]],4))","v":""},null,null,null,null,null,{"$f":"IF(Risque[[#This Row],[Date d''inscription du risque]]<>\"\",YEAR(Risque[[#This Row],[Date d''inscription du risque]]),\"\")","v":""}]
[null,null,{"$f":"IF(ISBLANK(Risque[[#This Row],[Catégorie de risque]]),\"\",CONCATENATE(Risque[[#This Row],[Catégorie de risque]],1))","v":""},null,null,null,null,null,{"$f":"IF(ISBLANK(Risque[[#This Row],[Catégorie de risque]]),\"\",IF(OR(ISNUMBER(SEARCH(\"RZ\",Risque[[#This Row],[Source de danger]]))=TRUE,ISNUMBER(SEARCH(\"RP\",Risque[[#This Row],[Source de danger]]))=TRUE,ISNUMBER(SEARCH(\"RZ\",Risque[[#This Row],[Risques associés]]))=TRUE,ISNUMBER(SEARCH(\"RP\",Risque[[#This Row],[Risques associés]]))=TRUE,ISNUMBER(SEARCH(\"RZ\",Risque[[#This Row],[Précision du risque\n(si liste déroulante présente)]]))=TRUE,ISNUMBER(SEARCH(\"RP\",Risque[[#This Row],[Précision du risque\n(si liste déroulante présente)]]))=TRUE),\"Oui --> Priorité d'action\",\"Non\"))","v":""},null,null,null,null,{"$f":"IF(ISBLANK(Risque[[#This Row],[Catégorie de risque]]),\"\",CONCATENATE(Risque[[#This Row],[Catégorie de risque]],2))","v":""},null,{"$f":"IF(ISBLANK(Risque[[#This Row],[Moyens de prévention]]),\"\",CONCATENATE(Risque[[#This Row],[Moyens de prévention]],1))","v":""},null,null,null,null,null,{"$f":"IF(ISBLANK(Risque[[#This Row],[Catégorie de risque]]),\"\",CONCATENATE(Risque[[#This Row],[Catégorie de risque]],3))","v":""},null,null,null,{"$f":"IF(ISBLANK(Risque[[#This Row],[Catégorie de risque]]),\"\",CONCATENATE(Risque[[#This Row],[Catégorie de risque]],4))","v":""},null,null,null,null,null,{"$f":"IF(Risque[[#This Row],[Date d''inscription du risque]]<>\"\",YEAR(Risque[[#This Row],[Date d''inscription du risque]]),\"\")","v":""}]
[null,null,{"$f":"IF(ISBLANK(Risque[[#This Row],[Catégorie de risque]]),\"\",CONCATENATE(Risque[[#This Row],[Catégorie de risque]],1))","v":""},null,null,null,null,null,{"$f":"IF(ISBLANK(Risque[[#This Row],[Catégorie de risque]]),\"\",IF(OR(ISNUMBER(SEARCH(\"RZ\",Risque[[#This Row],[Source de danger]]))=TRUE,ISNUMBER(SEARCH(\"RP\",Risque[[#This Row],[Source de danger]]))=TRUE,ISNUMBER(SEARCH(\"RZ\",Risque[[#This Row],[Risques associés]]))=TRUE,ISNUMBER(SEARCH(\"RP\",Risque[[#This Row],[Risques associés]]))=TRUE,ISNUMBER(SEARCH(\"RZ\",Risque[[#This Row],[Précision du risque\n(si liste déroulante présente)]]))=TRUE,ISNUMBER(SEARCH(\"RP\",Risque[[#This Row],[Précision du risque\n(si liste déroulante présente)]]))=TRUE),\"Oui --> Priorité d'action\",\"Non\"))","v":""},null,null,null,null,{"$f":"IF(ISBLANK(Risque[[#This Row],[Catégorie de risque]]),\"\",CONCATENATE(Risque[[#This Row],[Catégorie de risque]],2))","v":""},null,{"$f":"IF(ISBLANK(Risque[[#This Row],[Moyens de prévention]]),\"\",CONCATENATE(Risque[[#This Row],[Moyens de prévention]],1))","v":""},null,null,null,null,null,{"$f":"IF(ISBLANK(Risque[[#This Row],[Catégorie de risque]]),\"\",CONCATENATE(Risque[[#This Row],[Catégorie de risque]],3))","v":""},null,null,null,{"$f":"IF(ISBLANK(Risque[[#This Row],[Catégorie de risque]]),\"\",CONCATENATE(Risque[[#This Row],[Catégorie de risque]],4))","v":""},null,null,null,null,null,{"$f":"IF(Risque[[#This Row],[Date d''inscription du risque]]<>\"\",YEAR(Risque[[#This Row],[Date d''inscription du risque]]),\"\")","v":""}]
[null,null,{"$f":"IF(ISBLANK(Risque[[#This Row],[Catégorie de risque]]),\"\",CONCATENATE(Risque[[#This Row],[Catégorie de risque]],1))","v":""},null,null,null,null,null,{"$f":"IF(ISBLANK(Risque[[#This Row],[Catégorie de risque]]),\"\",IF(OR(ISNUMBER(SEARCH(\"RZ\",Risque[[#This Row],[Source de danger]]))=TRUE,ISNUMBER(SEARCH(\"RP\",Risque[[#This Row],[Source de danger]]))=TRUE,ISNUMBER(SEARCH(\"RZ\",Risque[[#This Row],[Risques associés]]))=TRUE,ISNUMBER(SEARCH(\"RP\",Risque[[#This Row],[Risques associés]]))=TRUE,ISNUMBER(SEARCH(\"RZ\",Risque[[#This Row],[Précision du risque\n(si liste déroulante présente)]]))=TRUE,ISNUMBER(SEARCH(\"RP\",Risque[[#This Row],[Précision du risque\n(si liste déroulante présente)]]))=TRUE),\"Oui --> Priorité d'action\",\"Non\"))","v":""},null,null,null,null,{"$f":"IF(ISBLANK(Risque[[#This Row],[Catégorie de risque]]),\"\",CONCATENATE(Risque[[#This Row],[Catégorie de risque]],2))","v":""},null,{"$f":"IF(ISBLANK(Risque[[#This Row],[Moyens de prévention]]),\"\",CONCATENATE(Risque[[#This Row],[Moyens de prévention]],1))","v":""},null,null,null,null,null,{"$f":"IF(ISBLANK(Risque[[#This Row],[Catégorie de risque]]),\"\",CONCATENATE(Risque[[#This Row],[Catégorie de risque]],3))","v":""},null,null,null,{"$f":"IF(ISBLANK(Risque[[#This Row],[Catégorie de risque]]),\"\",CONCATENATE(Risque[[#This Row],[Catégorie de risque]],4))","v":""},null,null,null,null,null,{"$f":"IF(Risque[[#This Row],[Date d''inscription du risque]]<>\"\",YEAR(Risque[[#This Row],[Date d''inscription du risque]]),\"\")","v":""}]
[null,null,{"$f":"IF(ISBLANK(Risque[[#This Row],[Catégorie de risque]]),\"\",CONCATENATE(Risque[[#This Row],[Catégorie de risque]],1))","v":""},null,null,null,null,null,{"$f":"IF(ISBLANK(Risque[[#This Row],[Catégorie de risque]]),\"\",IF(OR(ISNUMBER(SEARCH(\"RZ\",Risque[[#This Row],[Source de danger]]))=TRUE,ISNUMBER(SEARCH(\"RP\",Risque[[#This Row],[Source de danger]]))=TRUE,ISNUMBER(SEARCH(\"RZ\",Risque[[#This Row],[Risques associés]]))=TRUE,ISNUMBER(SEARCH(\"RP\",Risque[[#This Row],[Risques associés]]))=TRUE,ISNUMBER(SEARCH(\"RZ\",Risque[[#This Row],[Précision du risque\n(si liste déroulante présente)]]))=TRUE,ISNUMBER(SEARCH(\"RP\",Risque[[#This Row],[Précision du risque\n(si liste déroulante présente)]]))=TRUE),\"Oui --> Priorité d'action\",\"Non\"))","v":""},null,null,null,null,{"$f":"IF(ISBLANK(Risque[[#This Row],[Catégorie de risque]]),\"\",CONCATENATE(Risque[[#This Row],[Catégorie de risque]],2))","v":""},null,{"$f":"IF(ISBLANK(Risque[[#This Row],[Moyens de prévention]]),\"\",CONCATENATE(Risque[[#This Row],[Moyens de prévention]],1))","v":""},null,null,null,null,null,{"$f":"IF(ISBLANK(Risque[[#This Row],[Catégorie de risque]]),\"\",CONCATENATE(Risque[[#This Row],[Catégorie de risque]],3))","v":""},null,null,null,{"$f":"IF(ISBLANK(Risque[[#This Row],[Catégorie de risque]]),\"\",CONCATENATE(Risque[[#This Row],[Catégorie de risque]],4))","v":""},null,null,null,null,null,{"$f":"IF(Risque[[#This Row],[Date d''inscription du risque]]<>\"\",YEAR(Risque[[#This Row],[Date d''inscription du risque]]),\"\")","v":""}]
[null,null,{"$f":"IF(ISBLANK(Risque[[#This Row],[Catégorie de risque]]),\"\",CONCATENATE(Risque[[#This Row],[Catégorie de risque]],1))","v":""},null,null,null,null,null,{"$f":"IF(ISBLANK(Risque[[#This Row],[Catégorie de risque]]),\"\",IF(OR(ISNUMBER(SEARCH(\"RZ\",Risque[[#This Row],[Source de danger]]))=TRUE,ISNUMBER(SEARCH(\"RP\",Risque[[#This Row],[Source de danger]]))=TRUE,ISNUMBER(SEARCH(\"RZ\",Risque[[#This Row],[Risques associés]]))=TRUE,ISNUMBER(SEARCH(\"RP\",Risque[[#This Row],[Risques associés]]))=TRUE,ISNUMBER(SEARCH(\"RZ\",Risque[[#This Row],[Précision du risque\n(si liste déroulante présente)]]))=TRUE,ISNUMBER(SEARCH(\"RP\",Risque[[#This Row],[Précision du risque\n(si liste déroulante présente)]]))=TRUE),\"Oui --> Priorité d'action\",\"Non\"))","v":""},null,null,null,null,{"$f":"IF(ISBLANK(Risque[[#This Row],[Catégorie de risque]]),\"\",CONCATENATE(Risque[[#This Row],[Catégorie de risque]],2))","v":""},null,{"$f":"IF(ISBLANK(Risque[[#This Row],[Moyens de prévention]]),\"\",CONCATENATE(Risque[[#This Row],[Moyens de prévention]],1))","v":""},null,null,null,null,null,{"$f":"IF(ISBLANK(Risque[[#This Row],[Catégorie de risque]]),\"\",CONCATENATE(Risque[[#This Row],[Catégorie de risque]],3))","v":""},null,null,null,{"$f":"IF(ISBLANK(Risque[[#This Row],[Catégorie de risque]]),\"\",CONCATENATE(Risque[[#This Row],[Catégorie de risque]],4))","v":""},null,null,null,null,null,{"$f":"IF(Risque[[#This Row],[Date d''inscription du risque]]<>\"\",YEAR(Risque[[#This Row],[Date d''inscription du risque]]),\"\")","v":""}]
[null,null,{"$f":"IF(ISBLANK(Risque[[#This Row],[Catégorie de risque]]),\"\",CONCATENATE(Risque[[#This Row],[Catégorie de risque]],1))","v":""},null,null,null,null,null,{"$f":"IF(ISBLANK(Risque[[#This Row],[Catégorie de risque]]),\"\",IF(OR(ISNUMBER(SEARCH(\"RZ\",Risque[[#This Row],[Source de danger]]))=TRUE,ISNUMBER(SEARCH(\"RP\",Risque[[#This Row],[Source de danger]]))=TRUE,ISNUMBER(SEARCH(\"RZ\",Risque[[#This Row],[Risques associés]]))=TRUE,ISNUMBER(SEARCH(\"RP\",Risque[[#This Row],[Risques associés]]))=TRUE,ISNUMBER(SEARCH(\"RZ\",Risque[[#This Row],[Précision du risque\n(si liste déroulante présente)]]))=TRUE,ISNUMBER(SEARCH(\"RP\",Risque[[#This Row],[Précision du risque\n(si liste déroulante présente)]]))=TRUE),\"Oui --> Priorité d'action\",\"Non\"))","v":""},null,null,null,null,{"$f":"IF(ISBLANK(Risque[[#This Row],[Catégorie de risque]]),\"\",CONCATENATE(Risque[[#This Row],[Catégorie de risque]],2))","v":""},null,{"$f":"IF(ISBLANK(Risque[[#This Row],[Moyens de prévention]]),\"\",CONCATENATE(Risque[[#This Row],[Moyens de prévention]],1))","v":""},null,null,null,null,null,{"$f":"IF(ISBLANK(Risque[[#This Row],[Catégorie de risque]]),\"\",CONCATENATE(Risque[[#This Row],[Catégorie de risque]],3))","v":""},null,null,null,{"$f":"IF(ISBLANK(Risque[[#This Row],[Catégorie de risque]]),\"\",CONCATENATE(Risque[[#This Row],[Catégorie de risque]],4))","v":""},null,null,null,null,null,{"$f":"IF(Risque[[#This Row],[Date d''inscription du risque]]<>\"\",YEAR(Risque[[#This Row],[Date d''inscription du risque]]),\"\")","v":""}]
[null,null,{"$f":"IF(ISBLANK(Risque[[#This Row],[Catégorie de risque]]),\"\",CONCATENATE(Risque[[#This Row],[Catégorie de risque]],1))","v":""},null,null,null,null,null,{"$f":"IF(ISBLANK(Risque[[#This Row],[Catégorie de risque]]),\"\",IF(OR(ISNUMBER(SEARCH(\"RZ\",Risque[[#This Row],[Source de danger]]))=TRUE,ISNUMBER(SEARCH(\"RP\",Risque[[#This Row],[Source de danger]]))=TRUE,ISNUMBER(SEARCH(\"RZ\",Risque[[#This Row],[Risques associés]]))=TRUE,ISNUMBER(SEARCH(\"RP\",Risque[[#This Row],[Risques associés]]))=TRUE,ISNUMBER(SEARCH(\"RZ\",Risque[[#This Row],[Précision du risque\n(si liste déroulante présente)]]))=TRUE,ISNUMBER(SEARCH(\"RP\",Risque[[#This Row],[Précision du risque\n(si liste déroulante présente)]]))=TRUE),\"Oui --> Priorité d'action\",\"Non\"))","v":""},null,null,null,null,{"$f":"IF(ISBLANK(Risque[[#This Row],[Catégorie de risque]]),\"\",CONCATENATE(Risque[[#This Row],[Catégorie de risque]],2))","v":""},null,{"$f":"IF(ISBLANK(Risque[[#This Row],[Moyens de prévention]]),\"\",CONCATENATE(Risque[[#This Row],[Moyens de prévention]],1))","v":""},null,null,null,null,null,{"$f":"IF(ISBLANK(Risque[[#This Row],[Catégorie de risque]]),\"\",CONCATENATE(Risque[[#This Row],[Catégorie de risque]],3))","v":""},null,null,null,{"$f":"IF(ISBLANK(Risque[[#This Row],[Catégorie de risque]]),\"\",CONCATENATE(Risque[[#This Row],[Catégorie de risque]],4))","v":""},null,null,null,null,null,{"$f":"IF(Risque[[#This Row],[Date d''inscription du risque]]<>\"\",YEAR(Risque[[#This Row],[Date d''inscription du risque]]),\"\")","v":""}]
[null,null,{"$f":"IF(ISBLANK(Risque[[#This Row],[Catégorie de risque]]),\"\",CONCATENATE(Risque[[#This Row],[Catégorie de risque]],1))","v":""},null,null,null,null,null,{"$f":"IF(ISBLANK(Risque[[#This Row],[Catégorie de risque]]),\"\",IF(OR(ISNUMBER(SEARCH(\"RZ\",Risque[[#This Row],[Source de danger]]))=TRUE,ISNUMBER(SEARCH(\"RP\",Risque[[#This Row],[Source de danger]]))=TRUE,ISNUMBER(SEARCH(\"RZ\",Risque[[#This Row],[Risques associés]]))=TRUE,ISNUMBER(SEARCH(\"RP\",Risque[[#This Row],[Risques associés]]))=TRUE,ISNUMBER(SEARCH(\"RZ\",Risque[[#This Row],[Précision du risque\n(si liste déroulante présente)]]))=TRUE,ISNUMBER(SEARCH(\"RP\",Risque[[#This Row],[Précision du risque\n(si liste déroulante présente)]]))=TRUE),\"Oui --> Priorité d'action\",\"Non\"))","v":""},null,null,null,null,{"$f":"IF(ISBLANK(Risque[[#This Row],[Catégorie de risque]]),\"\",CONCATENATE(Risque[[#This Row],[Catégorie de risque]],2))","v":""},null,{"$f":"IF(ISBLANK(Risque[[#This Row],[Moyens de prévention]]),\"\",CONCATENATE(Risque[[#This Row],[Moyens de prévention]],1))","v":""},null,null,null,null,null,{"$f":"IF(ISBLANK(Risque[[#This Row],[Catégorie de risque]]),\"\",CONCATENATE(Risque[[#This Row],[Catégorie de risque]],3))","v":""},null,null,null,{"$f":"IF(ISBLANK(Risque[[#This Row],[Catégorie de risque]]),\"\",CONCATENATE(Risque[[#This Row],[Catégorie de risque]],4))","v":""},null,null,null,null,null,{"$f":"IF(Risque[[#This Row],[Date d''inscription du risque]]<>\"\",YEAR(Risque[[#This Row],[Date d''inscription du risque]]),\"\")","v":""}]
[null,null,{"$f":"IF(ISBLANK(Risque[[#This Row],[Catégorie de risque]]),\"\",CONCATENATE(Risque[[#This Row],[Catégorie de risque]],1))","v":""},null,null,null,null,null,{"$f":"IF(ISBLANK(Risque[[#This Row],[Catégorie de risque]]),\"\",IF(OR(ISNUMBER(SEARCH(\"RZ\",Risque[[#This Row],[Source de danger]]))=TRUE,ISNUMBER(SEARCH(\"RP\",Risque[[#This Row],[Source de danger]]))=TRUE,ISNUMBER(SEARCH(\"RZ\",Risque[[#This Row],[Risques associés]]))=TRUE,ISNUMBER(SEARCH(\"RP\",Risque[[#This Row],[Risques associés]]))=TRUE,ISNUMBER(SEARCH(\"RZ\",Risque[[#This Row],[Précision du risque\n(si liste déroulante présente)]]))=TRUE,ISNUMBER(SEARCH(\"RP\",Risque[[#This Row],[Précision du risque\n(si liste déroulante présente)]]))=TRUE),\"Oui --> Priorité d'action\",\"Non\"))","v":""},null,null,null,null,{"$f":"IF(ISBLANK(Risque[[#This Row],[Catégorie de risque]]),\"\",CONCATENATE(Risque[[#This Row],[Catégorie de risque]],2))","v":""},null,{"$f":"IF(ISBLANK(Risque[[#This Row],[Moyens de prévention]]),\"\",CONCATENATE(Risque[[#This Row],[Moyens de prévention]],1))","v":""},null,null,null,null,null,{"$f":"IF(ISBLANK(Risque[[#This Row],[Catégorie de risque]]),\"\",CONCATENATE(Risque[[#This Row],[Catégorie de risque]],3))","v":""},null,null,null,{"$f":"IF(ISBLANK(Risque[[#This Row],[Catégorie de risque]]),\"\",CONCATENATE(Risque[[#This Row],[Catégorie de risque]],4))","v":""},null,null,null,null,null,{"$f":"IF(Risque[[#This Row],[Date d''inscription du risque]]<>\"\",YEAR(Risque[[#This Row],[Date d''inscription du risque]]),\"\")","v":""}]
[null,null,{"$f":"IF(ISBLANK(Risque[[#This Row],[Catégorie de risque]]),\"\",CONCATENATE(Risque[[#This Row],[Catégorie de risque]],1))","v":""},null,null,null,null,null,{"$f":"IF(ISBLANK(Risque[[#This Row],[Catégorie de risque]]),\"\",IF(OR(ISNUMBER(SEARCH(\"RZ\",Risque[[#This Row],[Source de danger]]))=TRUE,ISNUMBER(SEARCH(\"RP\",Risque[[#This Row],[Source de danger]]))=TRUE,ISNUMBER(SEARCH(\"RZ\",Risque[[#This Row],[Risques associés]]))=TRUE,ISNUMBER(SEARCH(\"RP\",Risque[[#This Row],[Risques associés]]))=TRUE,ISNUMBER(SEARCH(\"RZ\",Risque[[#This Row],[Précision du risque\n(si liste déroulante présente)]]))=TRUE,ISNUMBER(SEARCH(\"RP\",Risque[[#This Row],[Précision du risque\n(si liste déroulante présente)]]))=TRUE),\"Oui --> Priorité d'action\",\"Non\"))","v":""},null,null,null,null,{"$f":"IF(ISBLANK(Risque[[#This Row],[Catégorie de risque]]),\"\",CONCATENATE(Risque[[#This Row],[Catégorie de risque]],2))","v":""},null,{"$f":"IF(ISBLANK(Risque[[#This Row],[Moyens de prévention]]),\"\",CONCATENATE(Risque[[#This Row],[Moyens de prévention]],1))","v":""},null,null,null,null,null,{"$f":"IF(ISBLANK(Risque[[#This Row],[Catégorie de risque]]),\"\",CONCATENATE(Risque[[#This Row],[Catégorie de risque]],3))","v":""},null,null,null,{"$f":"IF(ISBLANK(Risque[[#This Row],[Catégorie de risque]]),\"\",CONCATENATE(Risque[[#This Row],[Catégorie de risque]],4))","v":""},null,null,null,null,null,{"$f":"IF(Risque[[#This Row],[Date d''inscription du risque]]<>\"\",YEAR(Risque[[#This Row],[Date d''inscription du risque]]),\"\")","v":""}]
[null,null,{"$f":"IF(ISBLANK(Risque[[#This Row],[Catégorie de risque]]),\"\",CONCATENATE(Risque[[#This Row],[Catégorie de risque]],1))","v":""},null,null,null,null,null,{"$f":"IF(ISBLANK(Risque[[#This Row],[Catégorie de risque]]),\"\",IF(OR(ISNUMBER(SEARCH(\"RZ\",Risque[[#This Row],[Source de danger]]))=TRUE,ISNUMBER(SEARCH(\"RP\",Risque[[#This Row],[Source de danger]]))=TRUE,ISNUMBER(SEARCH(\"RZ\",Risque[[#This Row],[Risques associés]]))=TRUE,ISNUMBER(SEARCH(\"RP\",Risque[[#This Row],[Risques associés]]))=TRUE,ISNUMBER(SEARCH(\"RZ\",Risque[[#This Row],[Précision du risque\n(si liste déroulante présente)]]))=TRUE,ISNUMBER(SEARCH(\"RP\",Risque[[#This Row],[Précision du risque\n(si liste déroulante présente)]]))=TRUE),\"Oui --> Priorité d'action\",\"Non\"))","v":""},null,null,null,null,{"$f":"IF(ISBLANK(Risque[[#This Row],[Catégorie de risque]]),\"\",CONCATENATE(Risque[[#This Row],[Catégorie de risque]],2))","v":""},null,{"$f":"IF(ISBLANK(Risque[[#This Row],[Moyens de prévention]]),\"\",CONCATENATE(Risque[[#This Row],[Moyens de prévention]],1))","v":""},null,null,null,null,null,{"$f":"IF(ISBLANK(Risque[[#This Row],[Catégorie de risque]]),\"\",CONCATENATE(Risque[[#This Row],[Catégorie de risque]],3))","v":""},null,null,null,{"$f":"IF(ISBLANK(Risque[[#This Row],[Catégorie de risque]]),\"\",CONCATENATE(Risque[[#This Row],[Catégorie de risque]],4))","v":""},null,null,null,null,null,{"$f":"IF(Risque[[#This Row],[Date d''inscription du risque]]<>\"\",YEAR(Risque[[#This Row],[Date d''inscription du risque]]),\"\")","v":""}]
[null,null,{"$f":"IF(ISBLANK(Risque[[#This Row],[Catégorie de risque]]),\"\",CONCATENATE(Risque[[#This Row],[Catégorie de risque]],1))","v":""},null,null,null,null,null,{"$f":"IF(ISBLANK(Risque[[#This Row],[Catégorie de risque]]),\"\",IF(OR(ISNUMBER(SEARCH(\"RZ\",Risque[[#This Row],[Source de danger]]))=TRUE,ISNUMBER(SEARCH(\"RP\",Risque[[#This Row],[Source de danger]]))=TRUE,ISNUMBER(SEARCH(\"RZ\",Risque[[#This Row],[Risques associés]]))=TRUE,ISNUMBER(SEARCH(\"RP\",Risque[[#This Row],[Risques associés]]))=TRUE,ISNUMBER(SEARCH(\"RZ\",Risque[[#This Row],[Précision du risque\n(si liste déroulante présente)]]))=TRUE,ISNUMBER(SEARCH(\"RP\",Risque[[#This Row],[Précision du risque\n(si liste déroulante présente)]]))=TRUE),\"Oui --> Priorité d'action\",\"Non\"))","v":""},null,null,null,null,{"$f":"IF(ISBLANK(Risque[[#This Row],[Catégorie de risque]]),\"\",CONCATENATE(Risque[[#This Row],[Catégorie de risque]],2))","v":""},null,{"$f":"IF(ISBLANK(Risque[[#This Row],[Moyens de prévention]]),\"\",CONCATENATE(Risque[[#This Row],[Moyens de prévention]],1))","v":""},null,null,null,null,null,{"$f":"IF(ISBLANK(Risque[[#This Row],[Catégorie de risque]]),\"\",CONCATENATE(Risque[[#This Row],[Catégorie de risque]],3))","v":""},null,null,null,{"$f":"IF(ISBLANK(Risque[[#This Row],[Catégorie de risque]]),\"\",CONCATENATE(Risque[[#This Row],[Catégorie de risque]],4))","v":""},null,null,null,null,null,{"$f":"IF(Risque[[#This Row],[Date d''inscription du risque]]<>\"\",YEAR(Risque[[#This Row],[Date d''inscription du risque]]),\"\")","v":""}]
[null,null,{"$f":"IF(ISBLANK(Risque[[#This Row],[Catégorie de risque]]),\"\",CONCATENATE(Risque[[#This Row],[Catégorie de risque]],1))","v":""},null,null,null,null,null,{"$f":"IF(ISBLANK(Risque[[#This Row],[Catégorie de risque]]),\"\",IF(OR(ISNUMBER(SEARCH(\"RZ\",Risque[[#This Row],[Source de danger]]))=TRUE,ISNUMBER(SEARCH(\"RP\",Risque[[#This Row],[Source de danger]]))=TRUE,ISNUMBER(SEARCH(\"RZ\",Risque[[#This Row],[Risques associés]]))=TRUE,ISNUMBER(SEARCH(\"RP\",Risque[[#This Row],[Risques associés]]))=TRUE,ISNUMBER(SEARCH(\"RZ\",Risque[[#This Row],[Précision du risque\n(si liste déroulante présente)]]))=TRUE,ISNUMBER(SEARCH(\"RP\",Risque[[#This Row],[Précision du risque\n(si liste déroulante présente)]]))=TRUE),\"Oui --> Priorité d'action\",\"Non\"))","v":""},null,null,null,null,{"$f":"IF(ISBLANK(Risque[[#This Row],[Catégorie de risque]]),\"\",CONCATENATE(Risque[[#This Row],[Catégorie de risque]],2))","v":""},null,{"$f":"IF(ISBLANK(Risque[[#This Row],[Moyens de prévention]]),\"\",CONCATENATE(Risque[[#This Row],[Moyens de prévention]],1))","v":""},null,null,null,null,null,{"$f":"IF(ISBLANK(Risque[[#This Row],[Catégorie de risque]]),\"\",CONCATENATE(Risque[[#This Row],[Catégorie de risque]],3))","v":""},null,null,null,{"$f":"IF(ISBLANK(Risque[[#This Row],[Catégorie de risque]]),\"\",CONCATENATE(Risque[[#This Row],[Catégorie de risque]],4))","v":""},null,null,null,null,null,{"$f":"IF(Risque[[#This Row],[Date d''inscription du risque]]<>\"\",YEAR(Risque[[#This Row],[Date d''inscription du risque]]),\"\")","v":""}]
[null,null,{"$f":"IF(ISBLANK(Risque[[#This Row],[Catégorie de risque]]),\"\",CONCATENATE(Risque[[#This Row],[Catégorie de risque]],1))","v":""},null,null,null,null,null,{"$f":"IF(ISBLANK(Risque[[#This Row],[Catégorie de risque]]),\"\",IF(OR(ISNUMBER(SEARCH(\"RZ\",Risque[[#This Row],[Source de danger]]))=TRUE,ISNUMBER(SEARCH(\"RP\",Risque[[#This Row],[Source de danger]]))=TRUE,ISNUMBER(SEARCH(\"RZ\",Risque[[#This Row],[Risques associés]]))=TRUE,ISNUMBER(SEARCH(\"RP\",Risque[[#This Row],[Risques associés]]))=TRUE,ISNUMBER(SEARCH(\"RZ\",Risque[[#This Row],[Précision du risque\n(si liste déroulante présente)]]))=TRUE,ISNUMBER(SEARCH(\"RP\",Risque[[#This Row],[Précision du risque\n(si liste déroulante présente)]]))=TRUE),\"Oui --> Priorité d'action\",\"Non\"))","v":""},null,null,null,null,{"$f":"IF(ISBLANK(Risque[[#This Row],[Catégorie de risque]]),\"\",CONCATENATE(Risque[[#This Row],[Catégorie de risque]],2))","v":""},null,{"$f":"IF(ISBLANK(Risque[[#This Row],[Moyens de prévention]]),\"\",CONCATENATE(Risque[[#This Row],[Moyens de prévention]],1))","v":""},null,null,null,null,null,{"$f":"IF(ISBLANK(Risque[[#This Row],[Catégorie de risque]]),\"\",CONCATENATE(Risque[[#This Row],[Catégorie de risque]],3))","v":""},null,null,null,{"$f":"IF(ISBLANK(Risque[[#This Row],[Catégorie de risque]]),\"\",CONCATENATE(Risque[[#This Row],[Catégorie de risque]],4))","v":""},null,null,null,null,null,{"$f":"IF(Risque[[#This Row],[Date d''inscription du risque]]<>\"\",YEAR(Risque[[#This Row],[Date d''inscription du risque]]),\"\")","v":""}]
[null,null,{"$f":"IF(ISBLANK(Risque[[#This Row],[Catégorie de risque]]),\"\",CONCATENATE(Risque[[#This Row],[Catégorie de risque]],1))","v":""},null,null,null,null,null,{"$f":"IF(ISBLANK(Risque[[#This Row],[Catégorie de risque]]),\"\",IF(OR(ISNUMBER(SEARCH(\"RZ\",Risque[[#This Row],[Source de danger]]))=TRUE,ISNUMBER(SEARCH(\"RP\",Risque[[#This Row],[Source de danger]]))=TRUE,ISNUMBER(SEARCH(\"RZ\",Risque[[#This Row],[Risques associés]]))=TRUE,ISNUMBER(SEARCH(\"RP\",Risque[[#This Row],[Risques associés]]))=TRUE,ISNUMBER(SEARCH(\"RZ\",Risque[[#This Row],[Précision du risque\n(si liste déroulante présente)]]))=TRUE,ISNUMBER(SEARCH(\"RP\",Risque[[#This Row],[Précision du risque\n(si liste déroulante présente)]]))=TRUE),\"Oui --> Priorité d'action\",\"Non\"))","v":""},null,null,null,null,{"$f":"IF(ISBLANK(Risque[[#This Row],[Catégorie de risque]]),\"\",CONCATENATE(Risque[[#This Row],[Catégorie de risque]],2))","v":""},null,{"$f":"IF(ISBLANK(Risque[[#This Row],[Moyens de prévention]]),\"\",CONCATENATE(Risque[[#This Row],[Moyens de prévention]],1))","v":""},null,null,null,null,null,{"$f":"IF(ISBLANK(Risque[[#This Row],[Catégorie de risque]]),\"\",CONCATENATE(Risque[[#This Row],[Catégorie de risque]],3))","v":""},null,null,null,{"$f":"IF(ISBLANK(Risque[[#This Row],[Catégorie de risque]]),\"\",CONCATENATE(Risque[[#This Row],[Catégorie de risque]],4))","v":""},null,null,null,null,null,{"$f":"IF(Risque[[#This Row],[Date d''inscription du risque]]<>\"\",YEAR(Risque[[#This Row],[Date d''inscription du risque]]),\"\")","v":""}]
[null,null,{"$f":"IF(ISBLANK(Risque[[#This Row],[Catégorie de risque]]),\"\",CONCATENATE(Risque[[#This Row],[Catégorie de risque]],1))","v":""},null,null,null,null,null,{"$f":"IF(ISBLANK(Risque[[#This Row],[Catégorie de risque]]),\"\",IF(OR(ISNUMBER(SEARCH(\"RZ\",Risque[[#This Row],[Source de danger]]))=TRUE,ISNUMBER(SEARCH(\"RP\",Risque[[#This Row],[Source de danger]]))=TRUE,ISNUMBER(SEARCH(\"RZ\",Risque[[#This Row],[Risques associés]]))=TRUE,ISNUMBER(SEARCH(\"RP\",Risque[[#This Row],[Risques associés]]))=TRUE,ISNUMBER(SEARCH(\"RZ\",Risque[[#This Row],[Précision du risque\n(si liste déroulante présente)]]))=TRUE,ISNUMBER(SEARCH(\"RP\",Risque[[#This Row],[Précision du risque\n(si liste déroulante présente)]]))=TRUE),\"Oui --> Priorité d'action\",\"Non\"))","v":""},null,null,null,null,{"$f":"IF(ISBLANK(Risque[[#This Row],[Catégorie de risque]]),\"\",CONCATENATE(Risque[[#This Row],[Catégorie de risque]],2))","v":""},null,{"$f":"IF(ISBLANK(Risque[[#This Row],[Moyens de prévention]]),\"\",CONCATENATE(Risque[[#This Row],[Moyens de prévention]],1))","v":""},null,null,null,null,null,{"$f":"IF(ISBLANK(Risque[[#This Row],[Catégorie de risque]]),\"\",CONCATENATE(Risque[[#This Row],[Catégorie de risque]],3))","v":""},null,null,null,{"$f":"IF(ISBLANK(Risque[[#This Row],[Catégorie de risque]]),\"\",CONCATENATE(Risque[[#This Row],[Catégorie de risque]],4))","v":""},null,null,null,null,null,{"$f":"IF(Risque[[#This Row],[Date d''inscription du risque]]<>\"\",YEAR(Risque[[#This Row],[Date d''inscription du risque]]),\"\")","v":""}]
[null,null,{"$f":"IF(ISBLANK(Risque[[#This Row],[Catégorie de risque]]),\"\",CONCATENATE(Risque[[#This Row],[Catégorie de risque]],1))","v":""},null,null,null,null,null,{"$f":"IF(ISBLANK(Risque[[#This Row],[Catégorie de risque]]),\"\",IF(OR(ISNUMBER(SEARCH(\"RZ\",Risque[[#This Row],[Source de danger]]))=TRUE,ISNUMBER(SEARCH(\"RP\",Risque[[#This Row],[Source de danger]]))=TRUE,ISNUMBER(SEARCH(\"RZ\",Risque[[#This Row],[Risques associés]]))=TRUE,ISNUMBER(SEARCH(\"RP\",Risque[[#This Row],[Risques associés]]))=TRUE,ISNUMBER(SEARCH(\"RZ\",Risque[[#This Row],[Précision du risque\n(si liste déroulante présente)]]))=TRUE,ISNUMBER(SEARCH(\"RP\",Risque[[#This Row],[Précision du risque\n(si liste déroulante présente)]]))=TRUE),\"Oui --> Priorité d'action\",\"Non\"))","v":""},null,null,null,null,{"$f":"IF(ISBLANK(Risque[[#This Row],[Catégorie de risque]]),\"\",CONCATENATE(Risque[[#This Row],[Catégorie de risque]],2))","v":""},null,{"$f":"IF(ISBLANK(Risque[[#This Row],[Moyens de prévention]]),\"\",CONCATENATE(Risque[[#This Row],[Moyens de prévention]],1))","v":""},null,null,null,null,null,{"$f":"IF(ISBLANK(Risque[[#This Row],[Catégorie de risque]]),\"\",CONCATENATE(Risque[[#This Row],[Catégorie de risque]],3))","v":""},null,null,null,{"$f":"IF(ISBLANK(Risque[[#This Row],[Catégorie de risque]]),\"\",CONCATENATE(Risque[[#This Row],[Catégorie de risque]],4))","v":""},null,null,null,null,null,{"$f":"IF(Risque[[#This Row],[Date d''inscription du risque]]<>\"\",YEAR(Risque[[#This Row],[Date d''inscription du risque]]),\"\")","v":""}]
[null,null,{"$f":"IF(ISBLANK(Risque[[#This Row],[Catégorie de risque]]),\"\",CONCATENATE(Risque[[#This Row],[Catégorie de risque]],1))","v":""},null,null,null,null,null,{"$f":"IF(ISBLANK(Risque[[#This Row],[Catégorie de risque]]),\"\",IF(OR(ISNUMBER(SEARCH(\"RZ\",Risque[[#This Row],[Source de danger]]))=TRUE,ISNUMBER(SEARCH(\"RP\",Risque[[#This Row],[Source de danger]]))=TRUE,ISNUMBER(SEARCH(\"RZ\",Risque[[#This Row],[Risques associés]]))=TRUE,ISNUMBER(SEARCH(\"RP\",Risque[[#This Row],[Risques associés]]))=TRUE,ISNUMBER(SEARCH(\"RZ\",Risque[[#This Row],[Précision du risque\n(si liste déroulante présente)]]))=TRUE,ISNUMBER(SEARCH(\"RP\",Risque[[#This Row],[Précision du risque\n(si liste déroulante présente)]]))=TRUE),\"Oui --> Priorité d'action\",\"Non\"))","v":""},null,null,null,null,{"$f":"IF(ISBLANK(Risque[[#This Row],[Catégorie de risque]]),\"\",CONCATENATE(Risque[[#This Row],[Catégorie de risque]],2))","v":""},null,{"$f":"IF(ISBLANK(Risque[[#This Row],[Moyens de prévention]]),\"\",CONCATENATE(Risque[[#This Row],[Moyens de prévention]],1))","v":""},null,null,null,null,null,{"$f":"IF(ISBLANK(Risque[[#This Row],[Catégorie de risque]]),\"\",CONCATENATE(Risque[[#This Row],[Catégorie de risque]],3))","v":""},null,null,null,{"$f":"IF(ISBLANK(Risque[[#This Row],[Catégorie de risque]]),\"\",CONCATENATE(Risque[[#This Row],[Catégorie de risque]],4))","v":""},null,null,null,null,null,{"$f":"IF(Risque[[#This Row],[Date d''inscription du risque]]<>\"\",YEAR(Risque[[#This Row],[Date d''inscription du risque]]),\"\")","v":""}]
[null,null,{"$f":"IF(ISBLANK(Risque[[#This Row],[Catégorie de risque]]),\"\",CONCATENATE(Risque[[#This Row],[Catégorie de risque]],1))","v":""},null,null,null,null,null,{"$f":"IF(ISBLANK(Risque[[#This Row],[Catégorie de risque]]),\"\",IF(OR(ISNUMBER(SEARCH(\"RZ\",Risque[[#This Row],[Source de danger]]))=TRUE,ISNUMBER(SEARCH(\"RP\",Risque[[#This Row],[Source de danger]]))=TRUE,ISNUMBER(SEARCH(\"RZ\",Risque[[#This Row],[Risques associés]]))=TRUE,ISNUMBER(SEARCH(\"RP\",Risque[[#This Row],[Risques associés]]))=TRUE,ISNUMBER(SEARCH(\"RZ\",Risque[[#This Row],[Précision du risque\n(si liste déroulante présente)]]))=TRUE,ISNUMBER(SEARCH(\"RP\",Risque[[#This Row],[Précision du risque\n(si liste déroulante présente)]]))=TRUE),\"Oui --> Priorité d'action\",\"Non\"))","v":""},null,null,null,null,{"$f":"IF(ISBLANK(Risque[[#This Row],[Catégorie de risque]]),\"\",CONCATENATE(Risque[[#This Row],[Catégorie de risque]],2))","v":""},null,{"$f":"IF(ISBLANK(Risque[[#This Row],[Moyens de prévention]]),\"\",CONCATENATE(Risque[[#This Row],[Moyens de prévention]],1))","v":""},null,null,null,null,null,{"$f":"IF(ISBLANK(Risque[[#This Row],[Catégorie de risque]]),\"\",CONCATENATE(Risque[[#This Row],[Catégorie de risque]],3))","v":""},null,null,null,{"$f":"IF(ISBLANK(Risque[[#This Row],[Catégorie de risque]]),\"\",CONCATENATE(Risque[[#This Row],[Catégorie de risque]],4))","v":""},null,null,null,null,null,{"$f":"IF(Risque[[#This Row],[Date d''inscription du risque]]<>\"\",YEAR(Risque[[#This Row],[Date d''inscription du risque]]),\"\")","v":""}]
[null,null,{"$f":"IF(ISBLANK(Risque[[#This Row],[Catégorie de risque]]),\"\",CONCATENATE(Risque[[#This Row],[Catégorie de risque]],1))","v":""},null,null,null,null,null,{"$f":"IF(ISBLANK(Risque[[#This Row],[Catégorie de risque]]),\"\",IF(OR(ISNUMBER(SEARCH(\"RZ\",Risque[[#This Row],[Source de danger]]))=TRUE,ISNUMBER(SEARCH(\"RP\",Risque[[#This Row],[Source de danger]]))=TRUE,ISNUMBER(SEARCH(\"RZ\",Risque[[#This Row],[Risques associés]]))=TRUE,ISNUMBER(SEARCH(\"RP\",Risque[[#This Row],[Risques associés]]))=TRUE,ISNUMBER(SEARCH(\"RZ\",Risque[[#This Row],[Précision du risque\n(si liste déroulante présente)]]))=TRUE,ISNUMBER(SEARCH(\"RP\",Risque[[#This Row],[Précision du risque\n(si liste déroulante présente)]]))=TRUE),\"Oui --> Priorité d'action\",\"Non\"))","v":""},null,null,null,null,{"$f":"IF(ISBLANK(Risque[[#This Row],[Catégorie de risque]]),\"\",CONCATENATE(Risque[[#This Row],[Catégorie de risque]],2))","v":""},null,{"$f":"IF(ISBLANK(Risque[[#This Row],[Moyens de prévention]]),\"\",CONCATENATE(Risque[[#This Row],[Moyens de prévention]],1))","v":""},null,null,null,null,null,{"$f":"IF(ISBLANK(Risque[[#This Row],[Catégorie de risque]]),\"\",CONCATENATE(Risque[[#This Row],[Catégorie de risque]],3))","v":""},null,null,null,{"$f":"IF(ISBLANK(Risque[[#This Row],[Catégorie de risque]]),\"\",CONCATENATE(Risque[[#This Row],[Catégorie de risque]],4))","v":""},null,null,null,null,null,{"$f":"IF(Risque[[#This Row],[Date d''inscription du risque]]<>\"\",YEAR(Risque[[#This Row],[Date d''inscription du risque]]),\"\")","v":""}]
[null,null,{"$f":"IF(ISBLANK(Risque[[#This Row],[Catégorie de risque]]),\"\",CONCATENATE(Risque[[#This Row],[Catégorie de risque]],1))","v":""},null,null,null,null,null,{"$f":"IF(ISBLANK(Risque[[#This Row],[Catégorie de risque]]),\"\",IF(OR(ISNUMBER(SEARCH(\"RZ\",Risque[[#This Row],[Source de danger]]))=TRUE,ISNUMBER(SEARCH(\"RP\",Risque[[#This Row],[Source de danger]]))=TRUE,ISNUMBER(SEARCH(\"RZ\",Risque[[#This Row],[Risques associés]]))=TRUE,ISNUMBER(SEARCH(\"RP\",Risque[[#This Row],[Risques associés]]))=TRUE,ISNUMBER(SEARCH(\"RZ\",Risque[[#This Row],[Précision du risque\n(si liste déroulante présente)]]))=TRUE,ISNUMBER(SEARCH(\"RP\",Risque[[#This Row],[Précision du risque\n(si liste déroulante présente)]]))=TRUE),\"Oui --> Priorité d'action\",\"Non\"))","v":""},null,null,null,null,{"$f":"IF(ISBLANK(Risque[[#This Row],[Catégorie de risque]]),\"\",CONCATENATE(Risque[[#This Row],[Catégorie de risque]],2))","v":""},null,{"$f":"IF(ISBLANK(Risque[[#This Row],[Moyens de prévention]]),\"\",CONCATENATE(Risque[[#This Row],[Moyens de prévention]],1))","v":""},null,null,null,null,null,{"$f":"IF(ISBLANK(Risque[[#This Row],[Catégorie de risque]]),\"\",CONCATENATE(Risque[[#This Row],[Catégorie de risque]],3))","v":""},null,null,null,{"$f":"IF(ISBLANK(Risque[[#This Row],[Catégorie de risque]]),\"\",CONCATENATE(Risque[[#This Row],[Catégorie de risque]],4))","v":""},null,null,null,null,null,{"$f":"IF(Risque[[#This Row],[Date d''inscription du risque]]<>\"\",YEAR(Risque[[#This Row],[Date d''inscription du risque]]),\"\")","v":""}]
[null,null,{"$f":"IF(ISBLANK(Risque[[#This Row],[Catégorie de risque]]),\"\",CONCATENATE(Risque[[#This Row],[Catégorie de risque]],1))","v":""},null,null,null,null,null,{"$f":"IF(ISBLANK(Risque[[#This Row],[Catégorie de risque]]),\"\",IF(OR(ISNUMBER(SEARCH(\"RZ\",Risque[[#This Row],[Source de danger]]))=TRUE,ISNUMBER(SEARCH(\"RP\",Risque[[#This Row],[Source de danger]]))=TRUE,ISNUMBER(SEARCH(\"RZ\",Risque[[#This Row],[Risques associés]]))=TRUE,ISNUMBER(SEARCH(\"RP\",Risque[[#This Row],[Risques associés]]))=TRUE,ISNUMBER(SEARCH(\"RZ\",Risque[[#This Row],[Précision du risque\n(si liste déroulante présente)]]))=TRUE,ISNUMBER(SEARCH(\"RP\",Risque[[#This Row],[Précision du risque\n(si liste déroulante présente)]]))=TRUE),\"Oui --> Priorité d'action\",\"Non\"))","v":""},null,null,null,null,{"$f":"IF(ISBLANK(Risque[[#This Row],[Catégorie de risque]]),\"\",CONCATENATE(Risque[[#This Row],[Catégorie de risque]],2))","v":""},null,{"$f":"IF(ISBLANK(Risque[[#This Row],[Moyens de prévention]]),\"\",CONCATENATE(Risque[[#This Row],[Moyens de prévention]],1))","v":""},null,null,null,null,null,{"$f":"IF(ISBLANK(Risque[[#This Row],[Catégorie de risque]]),\"\",CONCATENATE(Risque[[#This Row],[Catégorie de risque]],3))","v":""},null,null,null,{"$f":"IF(ISBLANK(Risque[[#This Row],[Catégorie de risque]]),\"\",CONCATENATE(Risque[[#This Row],[Catégorie de risque]],4))","v":""},null,null,null,null,null,{"$f":"IF(Risque[[#This Row],[Date d''inscription du risque]]<>\"\",YEAR(Risque[[#This Row],[Date d''inscription du risque]]),\"\")","v":""}]
[null,null,{"$f":"IF(ISBLANK(Risque[[#This Row],[Catégorie de risque]]),\"\",CONCATENATE(Risque[[#This Row],[Catégorie de risque]],1))","v":""},null,null,null,null,null,{"$f":"IF(ISBLANK(Risque[[#This Row],[Catégorie de risque]]),\"\",IF(OR(ISNUMBER(SEARCH(\"RZ\",Risque[[#This Row],[Source de danger]]))=TRUE,ISNUMBER(SEARCH(\"RP\",Risque[[#This Row],[Source de danger]]))=TRUE,ISNUMBER(SEARCH(\"RZ\",Risque[[#This Row],[Risques associés]]))=TRUE,ISNUMBER(SEARCH(\"RP\",Risque[[#This Row],[Risques associés]]))=TRUE,ISNUMBER(SEARCH(\"RZ\",Risque[[#This Row],[Précision du risque\n(si liste déroulante présente)]]))=TRUE,ISNUMBER(SEARCH(\"RP\",Risque[[#This Row],[Précision du risque\n(si liste déroulante présente)]]))=TRUE),\"Oui --> Priorité d'action\",\"Non\"))","v":""},null,null,null,null,{"$f":"IF(ISBLANK(Risque[[#This Row],[Catégorie de risque]]),\"\",CONCATENATE(Risque[[#This Row],[Catégorie de risque]],2))","v":""},null,{"$f":"IF(ISBLANK(Risque[[#This Row],[Moyens de prévention]]),\"\",CONCATENATE(Risque[[#This Row],[Moyens de prévention]],1))","v":""},null,null,null,null,null,{"$f":"IF(ISBLANK(Risque[[#This Row],[Catégorie de risque]]),\"\",CONCATENATE(Risque[[#This Row],[Catégorie de risque]],3))","v":""},null,null,null,{"$f":"IF(ISBLANK(Risque[[#This Row],[Catégorie de risque]]),\"\",CONCATENATE(Risque[[#This Row],[Catégorie de risque]],4))","v":""},null,null,null,null,null,{"$f":"IF(Risque[[#This Row],[Date d''inscription du risque]]<>\"\",YEAR(Risque[[#This Row],[Date d''inscription du risque]]),\"\")","v":""}]
[null,null,{"$f":"IF(ISBLANK(Risque[[#This Row],[Catégorie de risque]]),\"\",CONCATENATE(Risque[[#This Row],[Catégorie de risque]],1))","v":""},null,null,null,null,null,{"$f":"IF(ISBLANK(Risque[[#This Row],[Catégorie de risque]]),\"\",IF(OR(ISNUMBER(SEARCH(\"RZ\",Risque[[#This Row],[Source de danger]]))=TRUE,ISNUMBER(SEARCH(\"RP\",Risque[[#This Row],[Source de danger]]))=TRUE,ISNUMBER(SEARCH(\"RZ\",Risque[[#This Row],[Risques associés]]))=TRUE,ISNUMBER(SEARCH(\"RP\",Risque[[#This Row],[Risques associés]]))=TRUE,ISNUMBER(SEARCH(\"RZ\",Risque[[#This Row],[Précision du risque\n(si liste déroulante présente)]]))=TRUE,ISNUMBER(SEARCH(\"RP\",Risque[[#This Row],[Précision du risque\n(si liste déroulante présente)]]))=TRUE),\"Oui --> Priorité d'action\",\"Non\"))","v":""},null,null,null,null,{"$f":"IF(ISBLANK(Risque[[#This Row],[Catégorie de risque]]),\"\",CONCATENATE(Risque[[#This Row],[Catégorie de risque]],2))","v":""},null,{"$f":"IF(ISBLANK(Risque[[#This Row],[Moyens de prévention]]),\"\",CONCATENATE(Risque[[#This Row],[Moyens de prévention]],1))","v":""},null,null,null,null,null,{"$f":"IF(ISBLANK(Risque[[#This Row],[Catégorie de risque]]),\"\",CONCATENATE(Risque[[#This Row],[Catégorie de risque]],3))","v":""},null,null,null,{"$f":"IF(ISBLANK(Risque[[#This Row],[Catégorie de risque]]),\"\",CONCATENATE(Risque[[#This Row],[Catégorie de risque]],4))","v":""},null,null,null,null,null,{"$f":"IF(Risque[[#This Row],[Date d''inscription du risque]]<>\"\",YEAR(Risque[[#This Row],[Date d''inscription du risque]]),\"\")","v":""}]
[null,null,{"$f":"IF(ISBLANK(Risque[[#This Row],[Catégorie de risque]]),\"\",CONCATENATE(Risque[[#This Row],[Catégorie de risque]],1))","v":""},null,null,null,null,null,{"$f":"IF(ISBLANK(Risque[[#This Row],[Catégorie de risque]]),\"\",IF(OR(ISNUMBER(SEARCH(\"RZ\",Risque[[#This Row],[Source de danger]]))=TRUE,ISNUMBER(SEARCH(\"RP\",Risque[[#This Row],[Source de danger]]))=TRUE,ISNUMBER(SEARCH(\"RZ\",Risque[[#This Row],[Risques associés]]))=TRUE,ISNUMBER(SEARCH(\"RP\",Risque[[#This Row],[Risques associés]]))=TRUE,ISNUMBER(SEARCH(\"RZ\",Risque[[#This Row],[Précision du risque\n(si liste déroulante présente)]]))=TRUE,ISNUMBER(SEARCH(\"RP\",Risque[[#This Row],[Précision du risque\n(si liste déroulante présente)]]))=TRUE),\"Oui --> Priorité d'action\",\"Non\"))","v":""},null,null,null,null,{"$f":"IF(ISBLANK(Risque[[#This Row],[Catégorie de risque]]),\"\",CONCATENATE(Risque[[#This Row],[Catégorie de risque]],2))","v":""},null,{"$f":"IF(ISBLANK(Risque[[#This Row],[Moyens de prévention]]),\"\",CONCATENATE(Risque[[#This Row],[Moyens de prévention]],1))","v":""},null,null,null,null,null,{"$f":"IF(ISBLANK(Risque[[#This Row],[Catégorie de risque]]),\"\",CONCATENATE(Risque[[#This Row],[Catégorie de risque]],3))","v":""},null,null,null,{"$f":"IF(ISBLANK(Risque[[#This Row],[Catégorie de risque]]),\"\",CONCATENATE(Risque[[#This Row],[Catégorie de risque]],4))","v":""},null,null,null,null,null,{"$f":"IF(Risque[[#This Row],[Date d''inscription du risque]]<>\"\",YEAR(Risque[[#This Row],[Date d''inscription du risque]]),\"\")","v":""}]
[null,null,{"$f":"IF(ISBLANK(Risque[[#This Row],[Catégorie de risque]]),\"\",CONCATENATE(Risque[[#This Row],[Catégorie de risque]],1))","v":""},null,null,null,null,null,{"$f":"IF(ISBLANK(Risque[[#This Row],[Catégorie de risque]]),\"\",IF(OR(ISNUMBER(SEARCH(\"RZ\",Risque[[#This Row],[Source de danger]]))=TRUE,ISNUMBER(SEARCH(\"RP\",Risque[[#This Row],[Source de danger]]))=TRUE,ISNUMBER(SEARCH(\"RZ\",Risque[[#This Row],[Risques associés]]))=TRUE,ISNUMBER(SEARCH(\"RP\",Risque[[#This Row],[Risques associés]]))=TRUE,ISNUMBER(SEARCH(\"RZ\",Risque[[#This Row],[Précision du risque\n(si liste déroulante présente)]]))=TRUE,ISNUMBER(SEARCH(\"RP\",Risque[[#This Row],[Précision du risque\n(si liste déroulante présente)]]))=TRUE),\"Oui --> Priorité d'action\",\"Non\"))","v":""},null,null,null,null,{"$f":"IF(ISBLANK(Risque[[#This Row],[Catégorie de risque]]),\"\",CONCATENATE(Risque[[#This Row],[Catégorie de risque]],2))","v":""},null,{"$f":"IF(ISBLANK(Risque[[#This Row],[Moyens de prévention]]),\"\",CONCATENATE(Risque[[#This Row],[Moyens de prévention]],1))","v":""},null,null,null,null,null,{"$f":"IF(ISBLANK(Risque[[#This Row],[Catégorie de risque]]),\"\",CONCATENATE(Risque[[#This Row],[Catégorie de risque]],3))","v":""},null,null,null,{"$f":"IF(ISBLANK(Risque[[#This Row],[Catégorie de risque]]),\"\",CONCATENATE(Risque[[#This Row],[Catégorie de risque]],4))","v":""},null,null,null,null,null,{"$f":"IF(Risque[[#This Row],[Date d''inscription du risque]]<>\"\",YEAR(Risque[[#This Row],[Date d''inscription du risque]]),\"\")","v":""}]
[null,null,{"$f":"IF(ISBLANK(Risque[[#This Row],[Catégorie de risque]]),\"\",CONCATENATE(Risque[[#This Row],[Catégorie de risque]],1))","v":""},null,null,null,null,null,{"$f":"IF(ISBLANK(Risque[[#This Row],[Catégorie de risque]]),\"\",IF(OR(ISNUMBER(SEARCH(\"RZ\",Risque[[#This Row],[Source de danger]]))=TRUE,ISNUMBER(SEARCH(\"RP\",Risque[[#This Row],[Source de danger]]))=TRUE,ISNUMBER(SEARCH(\"RZ\",Risque[[#This Row],[Risques associés]]))=TRUE,ISNUMBER(SEARCH(\"RP\",Risque[[#This Row],[Risques associés]]))=TRUE,ISNUMBER(SEARCH(\"RZ\",Risque[[#This Row],[Précision du risque\n(si liste déroulante présente)]]))=TRUE,ISNUMBER(SEARCH(\"RP\",Risque[[#This Row],[Précision du risque\n(si liste déroulante présente)]]))=TRUE),\"Oui --> Priorité d'action\",\"Non\"))","v":""},null,null,null,null,{"$f":"IF(ISBLANK(Risque[[#This Row],[Catégorie de risque]]),\"\",CONCATENATE(Risque[[#This Row],[Catégorie de risque]],2))","v":""},null,{"$f":"IF(ISBLANK(Risque[[#This Row],[Moyens de prévention]]),\"\",CONCATENATE(Risque[[#This Row],[Moyens de prévention]],1))","v":""},null,null,null,null,null,{"$f":"IF(ISBLANK(Risque[[#This Row],[Catégorie de risque]]),\"\",CONCATENATE(Risque[[#This Row],[Catégorie de risque]],3))","v":""},null,null,null,{"$f":"IF(ISBLANK(Risque[[#This Row],[Catégorie de risque]]),\"\",CONCATENATE(Risque[[#This Row],[Catégorie de risque]],4))","v":""},null,null,null,null,null,{"$f":"IF(Risque[[#This Row],[Date d''inscription du risque]]<>\"\",YEAR(Risque[[#This Row],[Date d''inscription du risque]]),\"\")","v":""}]
[null,null,{"$f":"IF(ISBLANK(Risque[[#This Row],[Catégorie de risque]]),\"\",CONCATENATE(Risque[[#This Row],[Catégorie de risque]],1))","v":""},null,null,null,null,null,{"$f":"IF(ISBLANK(Risque[[#This Row],[Catégorie de risque]]),\"\",IF(OR(ISNUMBER(SEARCH(\"RZ\",Risque[[#This Row],[Source de danger]]))=TRUE,ISNUMBER(SEARCH(\"RP\",Risque[[#This Row],[Source de danger]]))=TRUE,ISNUMBER(SEARCH(\"RZ\",Risque[[#This Row],[Risques associés]]))=TRUE,ISNUMBER(SEARCH(\"RP\",Risque[[#This Row],[Risques associés]]))=TRUE,ISNUMBER(SEARCH(\"RZ\",Risque[[#This Row],[Précision du risque\n(si liste déroulante présente)]]))=TRUE,ISNUMBER(SEARCH(\"RP\",Risque[[#This Row],[Précision du risque\n(si liste déroulante présente)]]))=TRUE),\"Oui --> Priorité d'action\",\"Non\"))","v":""},null,null,null,null,{"$f":"IF(ISBLANK(Risque[[#This Row],[Catégorie de risque]]),\"\",CONCATENATE(Risque[[#This Row],[Catégorie de risque]],2))","v":""},null,{"$f":"IF(ISBLANK(Risque[[#This Row],[Moyens de prévention]]),\"\",CONCATENATE(Risque[[#This Row],[Moyens de prévention]],1))","v":""},null,null,null,null,null,{"$f":"IF(ISBLANK(Risque[[#This Row],[Catégorie de risque]]),\"\",CONCATENATE(Risque[[#This Row],[Catégorie de risque]],3))","v":""},null,null,null,{"$f":"IF(ISBLANK(Risque[[#This Row],[Catégorie de risque]]),\"\",CONCATENATE(Risque[[#This Row],[Catégorie de risque]],4))","v":""},null,null,null,null,null,{"$f":"IF(Risque[[#This Row],[Date d''inscription du risque]]<>\"\",YEAR(Risque[[#This Row],[Date d''inscription du risque]]),\"\")","v":""}]
[null,null,{"$f":"IF(ISBLANK(Risque[[#This Row],[Catégorie de risque]]),\"\",CONCATENATE(Risque[[#This Row],[Catégorie de risque]],1))","v":""},null,null,null,null,null,{"$f":"IF(ISBLANK(Risque[[#This Row],[Catégorie de risque]]),\"\",IF(OR(ISNUMBER(SEARCH(\"RZ\",Risque[[#This Row],[Source de danger]]))=TRUE,ISNUMBER(SEARCH(\"RP\",Risque[[#This Row],[Source de danger]]))=TRUE,ISNUMBER(SEARCH(\"RZ\",Risque[[#This Row],[Risques associés]]))=TRUE,ISNUMBER(SEARCH(\"RP\",Risque[[#This Row],[Risques associés]]))=TRUE,ISNUMBER(SEARCH(\"RZ\",Risque[[#This Row],[Précision du risque\n(si liste déroulante présente)]]))=TRUE,ISNUMBER(SEARCH(\"RP\",Risque[[#This Row],[Précision du risque\n(si liste déroulante présente)]]))=TRUE),\"Oui --> Priorité d'action\",\"Non\"))","v":""},null,null,null,null,{"$f":"IF(ISBLANK(Risque[[#This Row],[Catégorie de risque]]),\"\",CONCATENATE(Risque[[#This Row],[Catégorie de risque]],2))","v":""},null,{"$f":"IF(ISBLANK(Risque[[#This Row],[Moyens de prévention]]),\"\",CONCATENATE(Risque[[#This Row],[Moyens de prévention]],1))","v":""},null,null,null,null,null,{"$f":"IF(ISBLANK(Risque[[#This Row],[Catégorie de risque]]),\"\",CONCATENATE(Risque[[#This Row],[Catégorie de risque]],3))","v":""},null,null,null,{"$f":"IF(ISBLANK(Risque[[#This Row],[Catégorie de risque]]),\"\",CONCATENATE(Risque[[#This Row],[Catégorie de risque]],4))","v":""},null,null,null,null,null,{"$f":"IF(Risque[[#This Row],[Date d''inscription du risque]]<>\"\",YEAR(Risque[[#This Row],[Date d''inscription du risque]]),\"\")","v":""}]
[null,null,{"$f":"IF(ISBLANK(Risque[[#This Row],[Catégorie de risque]]),\"\",CONCATENATE(Risque[[#This Row],[Catégorie de risque]],1))","v":""},null,null,null,null,null,{"$f":"IF(ISBLANK(Risque[[#This Row],[Catégorie de risque]]),\"\",IF(OR(ISNUMBER(SEARCH(\"RZ\",Risque[[#This Row],[Source de danger]]))=TRUE,ISNUMBER(SEARCH(\"RP\",Risque[[#This Row],[Source de danger]]))=TRUE,ISNUMBER(SEARCH(\"RZ\",Risque[[#This Row],[Risques associés]]))=TRUE,ISNUMBER(SEARCH(\"RP\",Risque[[#This Row],[Risques associés]]))=TRUE,ISNUMBER(SEARCH(\"RZ\",Risque[[#This Row],[Précision du risque\n(si liste déroulante présente)]]))=TRUE,ISNUMBER(SEARCH(\"RP\",Risque[[#This Row],[Précision du risque\n(si liste déroulante présente)]]))=TRUE),\"Oui --> Priorité d'action\",\"Non\"))","v":""},null,null,null,null,{"$f":"IF(ISBLANK(Risque[[#This Row],[Catégorie de risque]]),\"\",CONCATENATE(Risque[[#This Row],[Catégorie de risque]],2))","v":""},null,{"$f":"IF(ISBLANK(Risque[[#This Row],[Moyens de prévention]]),\"\",CONCATENATE(Risque[[#This Row],[Moyens de prévention]],1))","v":""},null,null,null,null,null,{"$f":"IF(ISBLANK(Risque[[#This Row],[Catégorie de risque]]),\"\",CONCATENATE(Risque[[#This Row],[Catégorie de risque]],3))","v":""},null,null,null,{"$f":"IF(ISBLANK(Risque[[#This Row],[Catégorie de risque]]),\"\",CONCATENATE(Risque[[#This Row],[Catégorie de risque]],4))","v":""},null,null,null,null,null,{"$f":"IF(Risque[[#This Row],[Date d''inscription du risque]]<>\"\",YEAR(Risque[[#This Row],[Date d''inscription du risque]]),\"\")","v":""}]
[null,null,{"$f":"IF(ISBLANK(Risque[[#This Row],[Catégorie de risque]]),\"\",CONCATENATE(Risque[[#This Row],[Catégorie de risque]],1))","v":""},null,null,null,null,null,{"$f":"IF(ISBLANK(Risque[[#This Row],[Catégorie de risque]]),\"\",IF(OR(ISNUMBER(SEARCH(\"RZ\",Risque[[#This Row],[Source de danger]]))=TRUE,ISNUMBER(SEARCH(\"RP\",Risque[[#This Row],[Source de danger]]))=TRUE,ISNUMBER(SEARCH(\"RZ\",Risque[[#This Row],[Risques associés]]))=TRUE,ISNUMBER(SEARCH(\"RP\",Risque[[#This Row],[Risques associés]]))=TRUE,ISNUMBER(SEARCH(\"RZ\",Risque[[#This Row],[Précision du risque\n(si liste déroulante présente)]]))=TRUE,ISNUMBER(SEARCH(\"RP\",Risque[[#This Row],[Précision du risque\n(si liste déroulante présente)]]))=TRUE),\"Oui --> Priorité d'action\",\"Non\"))","v":""},null,null,null,null,{"$f":"IF(ISBLANK(Risque[[#This Row],[Catégorie de risque]]),\"\",CONCATENATE(Risque[[#This Row],[Catégorie de risque]],2))","v":""},null,{"$f":"IF(ISBLANK(Risque[[#This Row],[Moyens de prévention]]),\"\",CONCATENATE(Risque[[#This Row],[Moyens de prévention]],1))","v":""},null,null,null,null,null,{"$f":"IF(ISBLANK(Risque[[#This Row],[Catégorie de risque]]),\"\",CONCATENATE(Risque[[#This Row],[Catégorie de risque]],3))","v":""},null,null,null,{"$f":"IF(ISBLANK(Risque[[#This Row],[Catégorie de risque]]),\"\",CONCATENATE(Risque[[#This Row],[Catégorie de risque]],4))","v":""},null,null,null,null,null,{"$f":"IF(Risque[[#This Row],[Date d''inscription du risque]]<>\"\",YEAR(Risque[[#This Row],[Date d''inscription du risque]]),\"\")","v":""}]
[null,null,{"$f":"IF(ISBLANK(Risque[[#This Row],[Catégorie de risque]]),\"\",CONCATENATE(Risque[[#This Row],[Catégorie de risque]],1))","v":""},null,null,null,null,null,{"$f":"IF(ISBLANK(Risque[[#This Row],[Catégorie de risque]]),\"\",IF(OR(ISNUMBER(SEARCH(\"RZ\",Risque[[#This Row],[Source de danger]]))=TRUE,ISNUMBER(SEARCH(\"RP\",Risque[[#This Row],[Source de danger]]))=TRUE,ISNUMBER(SEARCH(\"RZ\",Risque[[#This Row],[Risques associés]]))=TRUE,ISNUMBER(SEARCH(\"RP\",Risque[[#This Row],[Risques associés]]))=TRUE,ISNUMBER(SEARCH(\"RZ\",Risque[[#This Row],[Précision du risque\n(si liste déroulante présente)]]))=TRUE,ISNUMBER(SEARCH(\"RP\",Risque[[#This Row],[Précision du risque\n(si liste déroulante présente)]]))=TRUE),\"Oui --> Priorité d'action\",\"Non\"))","v":""},null,null,null,null,{"$f":"IF(ISBLANK(Risque[[#This Row],[Catégorie de risque]]),\"\",CONCATENATE(Risque[[#This Row],[Catégorie de risque]],2))","v":""},null,{"$f":"IF(ISBLANK(Risque[[#This Row],[Moyens de prévention]]),\"\",CONCATENATE(Risque[[#This Row],[Moyens de prévention]],1))","v":""},null,null,null,null,null,{"$f":"IF(ISBLANK(Risque[[#This Row],[Catégorie de risque]]),\"\",CONCATENATE(Risque[[#This Row],[Catégorie de risque]],3))","v":""},null,null,null,{"$f":"IF(ISBLANK(Risque[[#This Row],[Catégorie de risque]]),\"\",CONCATENATE(Risque[[#This Row],[Catégorie de risque]],4))","v":""},null,null,null,null,null,{"$f":"IF(Risque[[#This Row],[Date d''inscription du risque]]<>\"\",YEAR(Risque[[#This Row],[Date d''inscription du risque]]),\"\")","v":""}]
[null,null,{"$f":"IF(ISBLANK(Risque[[#This Row],[Catégorie de risque]]),\"\",CONCATENATE(Risque[[#This Row],[Catégorie de risque]],1))","v":""},null,null,null,null,null,{"$f":"IF(ISBLANK(Risque[[#This Row],[Catégorie de risque]]),\"\",IF(OR(ISNUMBER(SEARCH(\"RZ\",Risque[[#This Row],[Source de danger]]))=TRUE,ISNUMBER(SEARCH(\"RP\",Risque[[#This Row],[Source de danger]]))=TRUE,ISNUMBER(SEARCH(\"RZ\",Risque[[#This Row],[Risques associés]]))=TRUE,ISNUMBER(SEARCH(\"RP\",Risque[[#This Row],[Risques associés]]))=TRUE,ISNUMBER(SEARCH(\"RZ\",Risque[[#This Row],[Précision du risque\n(si liste déroulante présente)]]))=TRUE,ISNUMBER(SEARCH(\"RP\",Risque[[#This Row],[Précision du risque\n(si liste déroulante présente)]]))=TRUE),\"Oui --> Priorité d'action\",\"Non\"))","v":""},null,null,null,null,{"$f":"IF(ISBLANK(Risque[[#This Row],[Catégorie de risque]]),\"\",CONCATENATE(Risque[[#This Row],[Catégorie de risque]],2))","v":""},null,{"$f":"IF(ISBLANK(Risque[[#This Row],[Moyens de prévention]]),\"\",CONCATENATE(Risque[[#This Row],[Moyens de prévention]],1))","v":""},null,null,null,null,null,{"$f":"IF(ISBLANK(Risque[[#This Row],[Catégorie de risque]]),\"\",CONCATENATE(Risque[[#This Row],[Catégorie de risque]],3))","v":""},null,null,null,{"$f":"IF(ISBLANK(Risque[[#This Row],[Catégorie de risque]]),\"\",CONCATENATE(Risque[[#This Row],[Catégorie de risque]],4))","v":""},null,null,null,null,null,{"$f":"IF(Risque[[#This Row],[Date d''inscription du risque]]<>\"\",YEAR(Risque[[#This Row],[Date d''inscription du risque]]),\"\")","v":""}]
[null,null,{"$f":"IF(ISBLANK(Risque[[#This Row],[Catégorie de risque]]),\"\",CONCATENATE(Risque[[#This Row],[Catégorie de risque]],1))","v":""},null,null,null,null,null,{"$f":"IF(ISBLANK(Risque[[#This Row],[Catégorie de risque]]),\"\",IF(OR(ISNUMBER(SEARCH(\"RZ\",Risque[[#This Row],[Source de danger]]))=TRUE,ISNUMBER(SEARCH(\"RP\",Risque[[#This Row],[Source de danger]]))=TRUE,ISNUMBER(SEARCH(\"RZ\",Risque[[#This Row],[Risques associés]]))=TRUE,ISNUMBER(SEARCH(\"RP\",Risque[[#This Row],[Risques associés]]))=TRUE,ISNUMBER(SEARCH(\"RZ\",Risque[[#This Row],[Précision du risque\n(si liste déroulante présente)]]))=TRUE,ISNUMBER(SEARCH(\"RP\",Risque[[#This Row],[Précision du risque\n(si liste déroulante présente)]]))=TRUE),\"Oui --> Priorité d'action\",\"Non\"))","v":""},null,null,null,null,{"$f":"IF(ISBLANK(Risque[[#This Row],[Catégorie de risque]]),\"\",CONCATENATE(Risque[[#This Row],[Catégorie de risque]],2))","v":""},null,{"$f":"IF(ISBLANK(Risque[[#This Row],[Moyens de prévention]]),\"\",CONCATENATE(Risque[[#This Row],[Moyens de prévention]],1))","v":""},null,null,null,null,null,{"$f":"IF(ISBLANK(Risque[[#This Row],[Catégorie de risque]]),\"\",CONCATENATE(Risque[[#This Row],[Catégorie de risque]],3))","v":""},null,null,null,{"$f":"IF(ISBLANK(Risque[[#This Row],[Catégorie de risque]]),\"\",CONCATENATE(Risque[[#This Row],[Catégorie de risque]],4))","v":""},null,null,null,null,null,{"$f":"IF(Risque[[#This Row],[Date d''inscription du risque]]<>\"\",YEAR(Risque[[#This Row],[Date d''inscription du risque]]),\"\")","v":""}]
[null,null,{"$f":"IF(ISBLANK(Risque[[#This Row],[Catégorie de risque]]),\"\",CONCATENATE(Risque[[#This Row],[Catégorie de risque]],1))","v":""},null,null,null,null,null,{"$f":"IF(ISBLANK(Risque[[#This Row],[Catégorie de risque]]),\"\",IF(OR(ISNUMBER(SEARCH(\"RZ\",Risque[[#This Row],[Source de danger]]))=TRUE,ISNUMBER(SEARCH(\"RP\",Risque[[#This Row],[Source de danger]]))=TRUE,ISNUMBER(SEARCH(\"RZ\",Risque[[#This Row],[Risques associés]]))=TRUE,ISNUMBER(SEARCH(\"RP\",Risque[[#This Row],[Risques associés]]))=TRUE,ISNUMBER(SEARCH(\"RZ\",Risque[[#This Row],[Précision du risque\n(si liste déroulante présente)]]))=TRUE,ISNUMBER(SEARCH(\"RP\",Risque[[#This Row],[Précision du risque\n(si liste déroulante présente)]]))=TRUE),\"Oui --> Priorité d'action\",\"Non\"))","v":""},null,null,null,null,{"$f":"IF(ISBLANK(Risque[[#This Row],[Catégorie de risque]]),\"\",CONCATENATE(Risque[[#This Row],[Catégorie de risque]],2))","v":""},null,{"$f":"IF(ISBLANK(Risque[[#This Row],[Moyens de prévention]]),\"\",CONCATENATE(Risque[[#This Row],[Moyens de prévention]],1))","v":""},null,null,null,null,null,{"$f":"IF(ISBLANK(Risque[[#This Row],[Catégorie de risque]]),\"\",CONCATENATE(Risque[[#This Row],[Catégorie de risque]],3))","v":""},null,null,null,{"$f":"IF(ISBLANK(Risque[[#This Row],[Catégorie de risque]]),\"\",CONCATENATE(Risque[[#This Row],[Catégorie de risque]],4))","v":""},null,null,null,null,null,{"$f":"IF(Risque[[#This Row],[Date d''inscription du risque]]<>\"\",YEAR(Risque[[#This Row],[Date d''inscription du risque]]),\"\")","v":""}]
[null,null,{"$f":"IF(ISBLANK(Risque[[#This Row],[Catégorie de risque]]),\"\",CONCATENATE(Risque[[#This Row],[Catégorie de risque]],1))","v":""},null,null,null,null,null,{"$f":"IF(ISBLANK(Risque[[#This Row],[Catégorie de risque]]),\"\",IF(OR(ISNUMBER(SEARCH(\"RZ\",Risque[[#This Row],[Source de danger]]))=TRUE,ISNUMBER(SEARCH(\"RP\",Risque[[#This Row],[Source de danger]]))=TRUE,ISNUMBER(SEARCH(\"RZ\",Risque[[#This Row],[Risques associés]]))=TRUE,ISNUMBER(SEARCH(\"RP\",Risque[[#This Row],[Risques associés]]))=TRUE,ISNUMBER(SEARCH(\"RZ\",Risque[[#This Row],[Précision du risque\n(si liste déroulante présente)]]))=TRUE,ISNUMBER(SEARCH(\"RP\",Risque[[#This Row],[Précision du risque\n(si liste déroulante présente)]]))=TRUE),\"Oui --> Priorité d'action\",\"Non\"))","v":""},null,null,null,null,{"$f":"IF(ISBLANK(Risque[[#This Row],[Catégorie de risque]]),\"\",CONCATENATE(Risque[[#This Row],[Catégorie de risque]],2))","v":""},null,{"$f":"IF(ISBLANK(Risque[[#This Row],[Moyens de prévention]]),\"\",CONCATENATE(Risque[[#This Row],[Moyens de prévention]],1))","v":""},null,null,null,null,null,{"$f":"IF(ISBLANK(Risque[[#This Row],[Catégorie de risque]]),\"\",CONCATENATE(Risque[[#This Row],[Catégorie de risque]],3))","v":""},null,null,null,{"$f":"IF(ISBLANK(Risque[[#This Row],[Catégorie de risque]]),\"\",CONCATENATE(Risque[[#This Row],[Catégorie de risque]],4))","v":""},null,null,null,null,null,{"$f":"IF(Risque[[#This Row],[Date d''inscription du risque]]<>\"\",YEAR(Risque[[#This Row],[Date d''inscription du risque]]),\"\")","v":""}]
[null,null,{"$f":"IF(ISBLANK(Risque[[#This Row],[Catégorie de risque]]),\"\",CONCATENATE(Risque[[#This Row],[Catégorie de risque]],1))","v":""},null,null,null,null,null,{"$f":"IF(ISBLANK(Risque[[#This Row],[Catégorie de risque]]),\"\",IF(OR(ISNUMBER(SEARCH(\"RZ\",Risque[[#This Row],[Source de danger]]))=TRUE,ISNUMBER(SEARCH(\"RP\",Risque[[#This Row],[Source de danger]]))=TRUE,ISNUMBER(SEARCH(\"RZ\",Risque[[#This Row],[Risques associés]]))=TRUE,ISNUMBER(SEARCH(\"RP\",Risque[[#This Row],[Risques associés]]))=TRUE,ISNUMBER(SEARCH(\"RZ\",Risque[[#This Row],[Précision du risque\n(si liste déroulante présente)]]))=TRUE,ISNUMBER(SEARCH(\"RP\",Risque[[#This Row],[Précision du risque\n(si liste déroulante présente)]]))=TRUE),\"Oui --> Priorité d'action\",\"Non\"))","v":""},null,null,null,null,{"$f":"IF(ISBLANK(Risque[[#This Row],[Catégorie de risque]]),\"\",CONCATENATE(Risque[[#This Row],[Catégorie de risque]],2))","v":""},null,{"$f":"IF(ISBLANK(Risque[[#This Row],[Moyens de prévention]]),\"\",CONCATENATE(Risque[[#This Row],[Moyens de prévention]],1))","v":""},null,null,null,null,null,{"$f":"IF(ISBLANK(Risque[[#This Row],[Catégorie de risque]]),\"\",CONCATENATE(Risque[[#This Row],[Catégorie de risque]],3))","v":""},null,null,null,{"$f":"IF(ISBLANK(Risque[[#This Row],[Catégorie de risque]]),\"\",CONCATENATE(Risque[[#This Row],[Catégorie de risque]],4))","v":""},null,null,null,null,null,{"$f":"IF(Risque[[#This Row],[Date d''inscription du risque]]<>\"\",YEAR(Risque[[#This Row],[Date d''inscription du risque]]),\"\")","v":""}]
[null,null,{"$f":"IF(ISBLANK(Risque[[#This Row],[Catégorie de risque]]),\"\",CONCATENATE(Risque[[#This Row],[Catégorie de risque]],1))","v":""},null,null,null,null,null,{"$f":"IF(ISBLANK(Risque[[#This Row],[Catégorie de risque]]),\"\",IF(OR(ISNUMBER(SEARCH(\"RZ\",Risque[[#This Row],[Source de danger]]))=TRUE,ISNUMBER(SEARCH(\"RP\",Risque[[#This Row],[Source de danger]]))=TRUE,ISNUMBER(SEARCH(\"RZ\",Risque[[#This Row],[Risques associés]]))=TRUE,ISNUMBER(SEARCH(\"RP\",Risque[[#This Row],[Risques associés]]))=TRUE,ISNUMBER(SEARCH(\"RZ\",Risque[[#This Row],[Précision du risque\n(si liste déroulante présente)]]))=TRUE,ISNUMBER(SEARCH(\"RP\",Risque[[#This Row],[Précision du risque\n(si liste déroulante présente)]]))=TRUE),\"Oui --> Priorité d'action\",\"Non\"))","v":""},null,null,null,null,{"$f":"IF(ISBLANK(Risque[[#This Row],[Catégorie de risque]]),\"\",CONCATENATE(Risque[[#This Row],[Catégorie de risque]],2))","v":""},null,{"$f":"IF(ISBLANK(Risque[[#This Row],[Moyens de prévention]]),\"\",CONCATENATE(Risque[[#This Row],[Moyens de prévention]],1))","v":""},null,null,null,null,null,{"$f":"IF(ISBLANK(Risque[[#This Row],[Catégorie de risque]]),\"\",CONCATENATE(Risque[[#This Row],[Catégorie de risque]],3))","v":""},null,null,null,{"$f":"IF(ISBLANK(Risque[[#This Row],[Catégorie de risque]]),\"\",CONCATENATE(Risque[[#This Row],[Catégorie de risque]],4))","v":""},null,null,null,null,null,{"$f":"IF(Risque[[#This Row],[Date d''inscription du risque]]<>\"\",YEAR(Risque[[#This Row],[Date d''inscription du risque]]),\"\")","v":""}]
[null,null,{"$f":"IF(ISBLANK(Risque[[#This Row],[Catégorie de risque]]),\"\",CONCATENATE(Risque[[#This Row],[Catégorie de risque]],1))","v":""},null,null,null,null,null,{"$f":"IF(ISBLANK(Risque[[#This Row],[Catégorie de risque]]),\"\",IF(OR(ISNUMBER(SEARCH(\"RZ\",Risque[[#This Row],[Source de danger]]))=TRUE,ISNUMBER(SEARCH(\"RP\",Risque[[#This Row],[Source de danger]]))=TRUE,ISNUMBER(SEARCH(\"RZ\",Risque[[#This Row],[Risques associés]]))=TRUE,ISNUMBER(SEARCH(\"RP\",Risque[[#This Row],[Risques associés]]))=TRUE,ISNUMBER(SEARCH(\"RZ\",Risque[[#This Row],[Précision du risque\n(si liste déroulante présente)]]))=TRUE,ISNUMBER(SEARCH(\"RP\",Risque[[#This Row],[Précision du risque\n(si liste déroulante présente)]]))=TRUE),\"Oui --> Priorité d'action\",\"Non\"))","v":""},null,null,null,null,{"$f":"IF(ISBLANK(Risque[[#This Row],[Catégorie de risque]]),\"\",CONCATENATE(Risque[[#This Row],[Catégorie de risque]],2))","v":""},null,{"$f":"IF(ISBLANK(Risque[[#This Row],[Moyens de prévention]]),\"\",CONCATENATE(Risque[[#This Row],[Moyens de prévention]],1))","v":""},null,null,null,null,null,{"$f":"IF(ISBLANK(Risque[[#This Row],[Catégorie de risque]]),\"\",CONCATENATE(Risque[[#This Row],[Catégorie de risque]],3))","v":""},null,null,null,{"$f":"IF(ISBLANK(Risque[[#This Row],[Catégorie de risque]]),\"\",CONCATENATE(Risque[[#This Row],[Catégorie de risque]],4))","v":""},null,null,null,null,null,{"$f":"IF(Risque[[#This Row],[Date d''inscription du risque]]<>\"\",YEAR(Risque[[#This Row],[Date d''inscription du risque]]),\"\")","v":""}]
[null,null,{"$f":"IF(ISBLANK(Risque[[#This Row],[Catégorie de risque]]),\"\",CONCATENATE(Risque[[#This Row],[Catégorie de risque]],1))","v":""},null,null,null,null,null,{"$f":"IF(ISBLANK(Risque[[#This Row],[Catégorie de risque]]),\"\",IF(OR(ISNUMBER(SEARCH(\"RZ\",Risque[[#This Row],[Source de danger]]))=TRUE,ISNUMBER(SEARCH(\"RP\",Risque[[#This Row],[Source de danger]]))=TRUE,ISNUMBER(SEARCH(\"RZ\",Risque[[#This Row],[Risques associés]]))=TRUE,ISNUMBER(SEARCH(\"RP\",Risque[[#This Row],[Risques associés]]))=TRUE,ISNUMBER(SEARCH(\"RZ\",Risque[[#This Row],[Précision du risque\n(si liste déroulante présente)]]))=TRUE,ISNUMBER(SEARCH(\"RP\",Risque[[#This Row],[Précision du risque\n(si liste déroulante présente)]]))=TRUE),\"Oui --> Priorité d'action\",\"Non\"))","v":""},null,null,null,null,{"$f":"IF(ISBLANK(Risque[[#This Row],[Catégorie de risque]]),\"\",CONCATENATE(Risque[[#This Row],[Catégorie de risque]],2))","v":""},null,{"$f":"IF(ISBLANK(Risque[[#This Row],[Moyens de prévention]]),\"\",CONCATENATE(Risque[[#This Row],[Moyens de prévention]],1))","v":""},null,null,null,null,null,{"$f":"IF(ISBLANK(Risque[[#This Row],[Catégorie de risque]]),\"\",CONCATENATE(Risque[[#This Row],[Catégorie de risque]],3))","v":""},null,null,null,{"$f":"IF(ISBLANK(Risque[[#This Row],[Catégorie de risque]]),\"\",CONCATENATE(Risque[[#This Row],[Catégorie de risque]],4))","v":""},null,null,null,null,null,{"$f":"IF(Risque[[#This Row],[Date d''inscription du risque]]<>\"\",YEAR(Risque[[#This Row],[Date d''inscription du risque]]),\"\")","v":""}]
[null,null,{"$f":"IF(ISBLANK(Risque[[#This Row],[Catégorie de risque]]),\"\",CONCATENATE(Risque[[#This Row],[Catégorie de risque]],1))","v":""},null,null,null,null,null,{"$f":"IF(ISBLANK(Risque[[#This Row],[Catégorie de risque]]),\"\",IF(OR(ISNUMBER(SEARCH(\"RZ\",Risque[[#This Row],[Source de danger]]))=TRUE,ISNUMBER(SEARCH(\"RP\",Risque[[#This Row],[Source de danger]]))=TRUE,ISNUMBER(SEARCH(\"RZ\",Risque[[#This Row],[Risques associés]]))=TRUE,ISNUMBER(SEARCH(\"RP\",Risque[[#This Row],[Risques associés]]))=TRUE,ISNUMBER(SEARCH(\"RZ\",Risque[[#This Row],[Précision du risque\n(si liste déroulante présente)]]))=TRUE,ISNUMBER(SEARCH(\"RP\",Risque[[#This Row],[Précision du risque\n(si liste déroulante présente)]]))=TRUE),\"Oui --> Priorité d'action\",\"Non\"))","v":""},null,null,null,null,{"$f":"IF(ISBLANK(Risque[[#This Row],[Catégorie de risque]]),\"\",CONCATENATE(Risque[[#This Row],[Catégorie de risque]],2))","v":""},null,{"$f":"IF(ISBLANK(Risque[[#This Row],[Moyens de prévention]]),\"\",CONCATENATE(Risque[[#This Row],[Moyens de prévention]],1))","v":""},null,null,null,null,null,{"$f":"IF(ISBLANK(Risque[[#This Row],[Catégorie de risque]]),\"\",CONCATENATE(Risque[[#This Row],[Catégorie de risque]],3))","v":""},null,null,null,{"$f":"IF(ISBLANK(Risque[[#This Row],[Catégorie de risque]]),\"\",CONCATENATE(Risque[[#This Row],[Catégorie de risque]],4))","v":""},null,null,null,null,null,{"$f":"IF(Risque[[#This Row],[Date d''inscription du risque]]<>\"\",YEAR(Risque[[#This Row],[Date d''inscription du risque]]),\"\")","v":""}]
[null,null,{"$f":"IF(ISBLANK(Risque[[#This Row],[Catégorie de risque]]),\"\",CONCATENATE(Risque[[#This Row],[Catégorie de risque]],1))","v":""},null,null,null,null,null,{"$f":"IF(ISBLANK(Risque[[#This Row],[Catégorie de risque]]),\"\",IF(OR(ISNUMBER(SEARCH(\"RZ\",Risque[[#This Row],[Source de danger]]))=TRUE,ISNUMBER(SEARCH(\"RP\",Risque[[#This Row],[Source de danger]]))=TRUE,ISNUMBER(SEARCH(\"RZ\",Risque[[#This Row],[Risques associés]]))=TRUE,ISNUMBER(SEARCH(\"RP\",Risque[[#This Row],[Risques associés]]))=TRUE,ISNUMBER(SEARCH(\"RZ\",Risque[[#This Row],[Précision du risque\n(si liste déroulante présente)]]))=TRUE,ISNUMBER(SEARCH(\"RP\",Risque[[#This Row],[Précision du risque\n(si liste déroulante présente)]]))=TRUE),\"Oui --> Priorité d'action\",\"Non\"))","v":""},null,null,null,null,{"$f":"IF(ISBLANK(Risque[[#This Row],[Catégorie de risque]]),\"\",CONCATENATE(Risque[[#This Row],[Catégorie de risque]],2))","v":""},null,{"$f":"IF(ISBLANK(Risque[[#This Row],[Moyens de prévention]]),\"\",CONCATENATE(Risque[[#This Row],[Moyens de prévention]],1))","v":""},null,null,null,null,null,{"$f":"IF(ISBLANK(Risque[[#This Row],[Catégorie de risque]]),\"\",CONCATENATE(Risque[[#This Row],[Catégorie de risque]],3))","v":""},null,null,null,{"$f":"IF(ISBLANK(Risque[[#This Row],[Catégorie de risque]]),\"\",CONCATENATE(Risque[[#This Row],[Catégorie de risque]],4))","v":""},null,null,null,null,null,{"$f":"IF(Risque[[#This Row],[Date d''inscription du risque]]<>\"\",YEAR(Risque[[#This Row],[Date d''inscription du risque]]),\"\")","v":""}]
[null,null,{"$f":"IF(ISBLANK(Risque[[#This Row],[Catégorie de risque]]),\"\",CONCATENATE(Risque[[#This Row],[Catégorie de risque]],1))","v":""},null,null,null,null,null,{"$f":"IF(ISBLANK(Risque[[#This Row],[Catégorie de risque]]),\"\",IF(OR(ISNUMBER(SEARCH(\"RZ\",Risque[[#This Row],[Source de danger]]))=TRUE,ISNUMBER(SEARCH(\"RP\",Risque[[#This Row],[Source de danger]]))=TRUE,ISNUMBER(SEARCH(\"RZ\",Risque[[#This Row],[Risques associés]]))=TRUE,ISNUMBER(SEARCH(\"RP\",Risque[[#This Row],[Risques associés]]))=TRUE,ISNUMBER(SEARCH(\"RZ\",Risque[[#This Row],[Précision du risque\n(si liste déroulante présente)]]))=TRUE,ISNUMBER(SEARCH(\"RP\",Risque[[#This Row],[Précision du risque\n(si liste déroulante présente)]]))=TRUE),\"Oui --> Priorité d'action\",\"Non\"))","v":""},null,null,null,null,{"$f":"IF(ISBLANK(Risque[[#This Row],[Catégorie de risque]]),\"\",CONCATENATE(Risque[[#This Row],[Catégorie de risque]],2))","v":""},null,{"$f":"IF(ISBLANK(Risque[[#This Row],[Moyens de prévention]]),\"\",CONCATENATE(Risque[[#This Row],[Moyens de prévention]],1))","v":""},null,null,null,null,null,{"$f":"IF(ISBLANK(Risque[[#This Row],[Catégorie de risque]]),\"\",CONCATENATE(Risque[[#This Row],[Catégorie de risque]],3))","v":""},null,null,null,{"$f":"IF(ISBLANK(Risque[[#This Row],[Catégorie de risque]]),\"\",CONCATENATE(Risque[[#This Row],[Catégorie de risque]],4))","v":""},null,null,null,null,null,{"$f":"IF(Risque[[#This Row],[Date d''inscription du risque]]<>\"\",YEAR(Risque[[#This Row],[Date d''inscription du risque]]),\"\")","v":""}]
[null,null,{"$f":"IF(ISBLANK(Risque[[#This Row],[Catégorie de risque]]),\"\",CONCATENATE(Risque[[#This Row],[Catégorie de risque]],1))","v":""},null,null,null,null,null,{"$f":"IF(ISBLANK(Risque[[#This Row],[Catégorie de risque]]),\"\",IF(OR(ISNUMBER(SEARCH(\"RZ\",Risque[[#This Row],[Source de danger]]))=TRUE,ISNUMBER(SEARCH(\"RP\",Risque[[#This Row],[Source de danger]]))=TRUE,ISNUMBER(SEARCH(\"RZ\",Risque[[#This Row],[Risques associés]]))=TRUE,ISNUMBER(SEARCH(\"RP\",Risque[[#This Row],[Risques associés]]))=TRUE,ISNUMBER(SEARCH(\"RZ\",Risque[[#This Row],[Précision du risque\n(si liste déroulante présente)]]))=TRUE,ISNUMBER(SEARCH(\"RP\",Risque[[#This Row],[Précision du risque\n(si liste déroulante présente)]]))=TRUE),\"Oui --> Priorité d'action\",\"Non\"))","v":""},null,null,null,null,{"$f":"IF(ISBLANK(Risque[[#This Row],[Catégorie de risque]]),\"\",CONCATENATE(Risque[[#This Row],[Catégorie de risque]],2))","v":""},null,{"$f":"IF(ISBLANK(Risque[[#This Row],[Moyens de prévention]]),\"\",CONCATENATE(Risque[[#This Row],[Moyens de prévention]],1))","v":""},null,null,null,null,null,{"$f":"IF(ISBLANK(Risque[[#This Row],[Catégorie de risque]]),\"\",CONCATENATE(Risque[[#This Row],[Catégorie de risque]],3))","v":""},null,null,null,{"$f":"IF(ISBLANK(Risque[[#This Row],[Catégorie de risque]]),\"\",CONCATENATE(Risque[[#This Row],[Catégorie de risque]],4))","v":""},null,null,null,null,null,{"$f":"IF(Risque[[#This Row],[Date d''inscription du risque]]<>\"\",YEAR(Risque[[#This Row],[Date d''inscription du risque]]),\"\")","v":""}]
[null,null,{"$f":"IF(ISBLANK(Risque[[#This Row],[Catégorie de risque]]),\"\",CONCATENATE(Risque[[#This Row],[Catégorie de risque]],1))","v":""},null,null,null,null,null,{"$f":"IF(ISBLANK(Risque[[#This Row],[Catégorie de risque]]),\"\",IF(OR(ISNUMBER(SEARCH(\"RZ\",Risque[[#This Row],[Source de danger]]))=TRUE,ISNUMBER(SEARCH(\"RP\",Risque[[#This Row],[Source de danger]]))=TRUE,ISNUMBER(SEARCH(\"RZ\",Risque[[#This Row],[Risques associés]]))=TRUE,ISNUMBER(SEARCH(\"RP\",Risque[[#This Row],[Risques associés]]))=TRUE,ISNUMBER(SEARCH(\"RZ\",Risque[[#This Row],[Précision du risque\n(si liste déroulante présente)]]))=TRUE,ISNUMBER(SEARCH(\"RP\",Risque[[#This Row],[Précision du risque\n(si liste déroulante présente)]]))=TRUE),\"Oui --> Priorité d'action\",\"Non\"))","v":""},null,null,null,null,{"$f":"IF(ISBLANK(Risque[[#This Row],[Catégorie de risque]]),\"\",CONCATENATE(Risque[[#This Row],[Catégorie de risque]],2))","v":""},null,{"$f":"IF(ISBLANK(Risque[[#This Row],[Moyens de prévention]]),\"\",CONCATENATE(Risque[[#This Row],[Moyens de prévention]],1))","v":""},null,null,null,null,null,{"$f":"IF(ISBLANK(Risque[[#This Row],[Catégorie de risque]]),\"\",CONCATENATE(Risque[[#This Row],[Catégorie de risque]],3))","v":""},null,null,null,{"$f":"IF(ISBLANK(Risque[[#This Row],[Catégorie de risque]]),\"\",CONCATENATE(Risque[[#This Row],[Catégorie de risque]],4))","v":""},null,null,null,null,null,{"$f":"IF(Risque[[#This Row],[Date d''inscription du risque]]<>\"\",YEAR(Risque[[#This Row],[Date d''inscription du risque]]),\"\")","v":""}]
[null,null,{"$f":"IF(ISBLANK(Risque[[#This Row],[Catégorie de risque]]),\"\",CONCATENATE(Risque[[#This Row],[Catégorie de risque]],1))","v":""},null,null,null,null,null,{"$f":"IF(ISBLANK(Risque[[#This Row],[Catégorie de risque]]),\"\",IF(OR(ISNUMBER(SEARCH(\"RZ\",Risque[[#This Row],[Source de danger]]))=TRUE,ISNUMBER(SEARCH(\"RP\",Risque[[#This Row],[Source de danger]]))=TRUE,ISNUMBER(SEARCH(\"RZ\",Risque[[#This Row],[Risques associés]]))=TRUE,ISNUMBER(SEARCH(\"RP\",Risque[[#This Row],[Risques associés]]))=TRUE,ISNUMBER(SEARCH(\"RZ\",Risque[[#This Row],[Précision du risque\n(si liste déroulante présente)]]))=TRUE,ISNUMBER(SEARCH(\"RP\",Risque[[#This Row],[Précision du risque\n(si liste déroulante présente)]]))=TRUE),\"Oui --> Priorité d'action\",\"Non\"))","v":""},null,null,null,null,{"$f":"IF(ISBLANK(Risque[[#This Row],[Catégorie de risque]]),\"\",CONCATENATE(Risque[[#This Row],[Catégorie de risque]],2))","v":""},null,{"$f":"IF(ISBLANK(Risque[[#This Row],[Moyens de prévention]]),\"\",CONCATENATE(Risque[[#This Row],[Moyens de prévention]],1))","v":""},null,null,null,null,null,{"$f":"IF(ISBLANK(Risque[[#This Row],[Catégorie de risque]]),\"\",CONCATENATE(Risque[[#This Row],[Catégorie de risque]],3))","v":""},null,null,null,{"$f":"IF(ISBLANK(Risque[[#This Row],[Catégorie de risque]]),\"\",CONCATENATE(Risque[[#This Row],[Catégorie de risque]],4))","v":""},null,null,null,null,null,{"$f":"IF(Risque[[#This Row],[Date d''inscription du risque]]<>\"\",YEAR(Risque[[#This Row],[Date d''inscription du risque]]),\"\")","v":""}]
[null,null,{"$f":"IF(ISBLANK(Risque[[#This Row],[Catégorie de risque]]),\"\",CONCATENATE(Risque[[#This Row],[Catégorie de risque]],1))","v":""},null,null,null,null,null,{"$f":"IF(ISBLANK(Risque[[#This Row],[Catégorie de risque]]),\"\",IF(OR(ISNUMBER(SEARCH(\"RZ\",Risque[[#This Row],[Source de danger]]))=TRUE,ISNUMBER(SEARCH(\"RP\",Risque[[#This Row],[Source de danger]]))=TRUE,ISNUMBER(SEARCH(\"RZ\",Risque[[#This Row],[Risques associés]]))=TRUE,ISNUMBER(SEARCH(\"RP\",Risque[[#This Row],[Risques associés]]))=TRUE,ISNUMBER(SEARCH(\"RZ\",Risque[[#This Row],[Précision du risque\n(si liste déroulante présente)]]))=TRUE,ISNUMBER(SEARCH(\"RP\",Risque[[#This Row],[Précision du risque\n(si liste déroulante présente)]]))=TRUE),\"Oui --> Priorité d'action\",\"Non\"))","v":""},null,null,null,null,{"$f":"IF(ISBLANK(Risque[[#This Row],[Catégorie de risque]]),\"\",CONCATENATE(Risque[[#This Row],[Catégorie de risque]],2))","v":""},null,{"$f":"IF(ISBLANK(Risque[[#This Row],[Moyens de prévention]]),\"\",CONCATENATE(Risque[[#This Row],[Moyens de prévention]],1))","v":""},null,null,null,null,null,{"$f":"IF(ISBLANK(Risque[[#This Row],[Catégorie de risque]]),\"\",CONCATENATE(Risque[[#This Row],[Catégorie de risque]],3))","v":""},null,null,null,{"$f":"IF(ISBLANK(Risque[[#This Row],[Catégorie de risque]]),\"\",CONCATENATE(Risque[[#This Row],[Catégorie de risque]],4))","v":""},null,null,null,null,null,{"$f":"IF(Risque[[#This Row],[Date d''inscription du risque]]<>\"\",YEAR(Risque[[#This Row],[Date d''inscription du risque]]),\"\")","v":""}]
[null,null,{"$f":"IF(ISBLANK(Risque[[#This Row],[Catégorie de risque]]),\"\",CONCATENATE(Risque[[#This Row],[Catégorie de risque]],1))","v":""},null,null,null,null,null,{"$f":"IF(ISBLANK(Risque[[#This Row],[Catégorie de risque]]),\"\",IF(OR(ISNUMBER(SEARCH(\"RZ\",Risque[[#This Row],[Source de danger]]))=TRUE,ISNUMBER(SEARCH(\"RP\",Risque[[#This Row],[Source de danger]]))=TRUE,ISNUMBER(SEARCH(\"RZ\",Risque[[#This Row],[Risques associés]]))=TRUE,ISNUMBER(SEARCH(\"RP\",Risque[[#This Row],[Risques associés]]))=TRUE,ISNUMBER(SEARCH(\"RZ\",Risque[[#This Row],[Précision du risque\n(si liste déroulante présente)]]))=TRUE,ISNUMBER(SEARCH(\"RP\",Risque[[#This Row],[Précision du risque\n(si liste déroulante présente)]]))=TRUE),\"Oui --> Priorité d'action\",\"Non\"))","v":""},null,null,null,null,{"$f":"IF(ISBLANK(Risque[[#This Row],[Catégorie de risque]]),\"\",CONCATENATE(Risque[[#This Row],[Catégorie de risque]],2))","v":""},null,{"$f":"IF(ISBLANK(Risque[[#This Row],[Moyens de prévention]]),\"\",CONCATENATE(Risque[[#This Row],[Moyens de prévention]],1))","v":""},null,null,null,null,null,{"$f":"IF(ISBLANK(Risque[[#This Row],[Catégorie de risque]]),\"\",CONCATENATE(Risque[[#This Row],[Catégorie de risque]],3))","v":""},null,null,null,{"$f":"IF(ISBLANK(Risque[[#This Row],[Catégorie de risque]]),\"\",CONCATENATE(Risque[[#This Row],[Catégorie de risque]],4))","v":""},null,null,null,null,null,{"$f":"IF(Risque[[#This Row],[Date d''inscription du risque]]<>\"\",YEAR(Risque[[#This Row],[Date d''inscription du risque]]),\"\")","v":""}]
[null,null,{"$f":"IF(ISBLANK(Risque[[#This Row],[Catégorie de risque]]),\"\",CONCATENATE(Risque[[#This Row],[Catégorie de risque]],1))","v":""},null,null,null,null,null,{"$f":"IF(ISBLANK(Risque[[#This Row],[Catégorie de risque]]),\"\",IF(OR(ISNUMBER(SEARCH(\"RZ\",Risque[[#This Row],[Source de danger]]))=TRUE,ISNUMBER(SEARCH(\"RP\",Risque[[#This Row],[Source de danger]]))=TRUE,ISNUMBER(SEARCH(\"RZ\",Risque[[#This Row],[Risques associés]]))=TRUE,ISNUMBER(SEARCH(\"RP\",Risque[[#This Row],[Risques associés]]))=TRUE,ISNUMBER(SEARCH(\"RZ\",Risque[[#This Row],[Précision du risque\n(si liste déroulante présente)]]))=TRUE,ISNUMBER(SEARCH(\"RP\",Risque[[#This Row],[Précision du risque\n(si liste déroulante présente)]]))=TRUE),\"Oui --> Priorité d'action\",\"Non\"))","v":""},null,null,null,null,{"$f":"IF(ISBLANK(Risque[[#This Row],[Catégorie de risque]]),\"\",CONCATENATE(Risque[[#This Row],[Catégorie de risque]],2))","v":""},null,{"$f":"IF(ISBLANK(Risque[[#This Row],[Moyens de prévention]]),\"\",CONCATENATE(Risque[[#This Row],[Moyens de prévention]],1))","v":""},null,null,null,null,null,{"$f":"IF(ISBLANK(Risque[[#This Row],[Catégorie de risque]]),\"\",CONCATENATE(Risque[[#This Row],[Catégorie de risque]],3))","v":""},null,null,null,{"$f":"IF(ISBLANK(Risque[[#This Row],[Catégorie de risque]]),\"\",CONCATENATE(Risque[[#This Row],[Catégorie de risque]],4))","v":""},null,null,null,null,null,{"$f":"IF(Risque[[#This Row],[Date d''inscription du risque]]<>\"\",YEAR(Risque[[#This Row],[Date d''inscription du risque]]),\"\")","v":""}]
[null,null,{"$f":"IF(ISBLANK(Risque[[#This Row],[Catégorie de risque]]),\"\",CONCATENATE(Risque[[#This Row],[Catégorie de risque]],1))","v":""},null,null,null,null,null,{"$f":"IF(ISBLANK(Risque[[#This Row],[Catégorie de risque]]),\"\",IF(OR(ISNUMBER(SEARCH(\"RZ\",Risque[[#This Row],[Source de danger]]))=TRUE,ISNUMBER(SEARCH(\"RP\",Risque[[#This Row],[Source de danger]]))=TRUE,ISNUMBER(SEARCH(\"RZ\",Risque[[#This Row],[Risques associés]]))=TRUE,ISNUMBER(SEARCH(\"RP\",Risque[[#This Row],[Risques associés]]))=TRUE,ISNUMBER(SEARCH(\"RZ\",Risque[[#This Row],[Précision du risque\n(si liste déroulante présente)]]))=TRUE,ISNUMBER(SEARCH(\"RP\",Risque[[#This Row],[Précision du risque\n(si liste déroulante présente)]]))=TRUE),\"Oui --> Priorité d'action\",\"Non\"))","v":""},null,null,null,null,{"$f":"IF(ISBLANK(Risque[[#This Row],[Catégorie de risque]]),\"\",CONCATENATE(Risque[[#This Row],[Catégorie de risque]],2))","v":""},null,{"$f":"IF(ISBLANK(Risque[[#This Row],[Moyens de prévention]]),\"\",CONCATENATE(Risque[[#This Row],[Moyens de prévention]],1))","v":""},null,null,null,null,null,{"$f":"IF(ISBLANK(Risque[[#This Row],[Catégorie de risque]]),\"\",CONCATENATE(Risque[[#This Row],[Catégorie de risque]],3))","v":""},null,null,null,{"$f":"IF(ISBLANK(Risque[[#This Row],[Catégorie de risque]]),\"\",CONCATENATE(Risque[[#This Row],[Catégorie de risque]],4))","v":""},null,null,null,null,null,{"$f":"IF(Risque[[#This Row],[Date d''inscription du risque]]<>\"\",YEAR(Risque[[#This Row],[Date d''inscription du risque]]),\"\")","v":""}]
[null,null,{"$f":"IF(ISBLANK(Risque[[#This Row],[Catégorie de risque]]),\"\",CONCATENATE(Risque[[#This Row],[Catégorie de risque]],1))","v":""},null,null,null,null,null,{"$f":"IF(ISBLANK(Risque[[#This Row],[Catégorie de risque]]),\"\",IF(OR(ISNUMBER(SEARCH(\"RZ\",Risque[[#This Row],[Source de danger]]))=TRUE,ISNUMBER(SEARCH(\"RP\",Risque[[#This Row],[Source de danger]]))=TRUE,ISNUMBER(SEARCH(\"RZ\",Risque[[#This Row],[Risques associés]]))=TRUE,ISNUMBER(SEARCH(\"RP\",Risque[[#This Row],[Risques associés]]))=TRUE,ISNUMBER(SEARCH(\"RZ\",Risque[[#This Row],[Précision du risque\n(si liste déroulante présente)]]))=TRUE,ISNUMBER(SEARCH(\"RP\",Risque[[#This Row],[Précision du risque\n(si liste déroulante présente)]]))=TRUE),\"Oui --> Priorité d'action\",\"Non\"))","v":""},null,null,null,null,{"$f":"IF(ISBLANK(Risque[[#This Row],[Catégorie de risque]]),\"\",CONCATENATE(Risque[[#This Row],[Catégorie de risque]],2))","v":""},null,{"$f":"IF(ISBLANK(Risque[[#This Row],[Moyens de prévention]]),\"\",CONCATENATE(Risque[[#This Row],[Moyens de prévention]],1))","v":""},null,null,null,null,null,{"$f":"IF(ISBLANK(Risque[[#This Row],[Catégorie de risque]]),\"\",CONCATENATE(Risque[[#This Row],[Catégorie de risque]],3))","v":""},null,null,null,{"$f":"IF(ISBLANK(Risque[[#This Row],[Catégorie de risque]]),\"\",CONCATENATE(Risque[[#This Row],[Catégorie de risque]],4))","v":""},null,null,null,null,null,{"$f":"IF(Risque[[#This Row],[Date d''inscription du risque]]<>\"\",YEAR(Risque[[#This Row],[Date d''inscription du risque]]),\"\")","v":""}]
[null,null,{"$f":"IF(ISBLANK(Risque[[#This Row],[Catégorie de risque]]),\"\",CONCATENATE(Risque[[#This Row],[Catégorie de risque]],1))","v":""},null,null,null,null,null,{"$f":"IF(ISBLANK(Risque[[#This Row],[Catégorie de risque]]),\"\",IF(OR(ISNUMBER(SEARCH(\"RZ\",Risque[[#This Row],[Source de danger]]))=TRUE,ISNUMBER(SEARCH(\"RP\",Risque[[#This Row],[Source de danger]]))=TRUE,ISNUMBER(SEARCH(\"RZ\",Risque[[#This Row],[Risques associés]]))=TRUE,ISNUMBER(SEARCH(\"RP\",Risque[[#This Row],[Risques associés]]))=TRUE,ISNUMBER(SEARCH(\"RZ\",Risque[[#This Row],[Précision du risque\n(si liste déroulante présente)]]))=TRUE,ISNUMBER(SEARCH(\"RP\",Risque[[#This Row],[Précision du risque\n(si liste déroulante présente)]]))=TRUE),\"Oui --> Priorité d'action\",\"Non\"))","v":""},null,null,null,null,{"$f":"IF(ISBLANK(Risque[[#This Row],[Catégorie de risque]]),\"\",CONCATENATE(Risque[[#This Row],[Catégorie de risque]],2))","v":""},null,{"$f":"IF(ISBLANK(Risque[[#This Row],[Moyens de prévention]]),\"\",CONCATENATE(Risque[[#This Row],[Moyens de prévention]],1))","v":""},null,null,null,null,null,{"$f":"IF(ISBLANK(Risque[[#This Row],[Catégorie de risque]]),\"\",CONCATENATE(Risque[[#This Row],[Catégorie de risque]],3))","v":""},null,null,null,{"$f":"IF(ISBLANK(Risque[[#This Row],[Catégorie de risque]]),\"\",CONCATENATE(Risque[[#This Row],[Catégorie de risque]],4))","v":""},null,null,null,null,null,{"$f":"IF(Risque[[#This Row],[Date d''inscription du risque]]<>\"\",YEAR(Risque[[#This Row],[Date d''inscription du risque]]),\"\")","v":""}]
[null,null,{"$f":"IF(ISBLANK(Risque[[#This Row],[Catégorie de risque]]),\"\",CONCATENATE(Risque[[#This Row],[Catégorie de risque]],1))","v":""},null,null,null,null,null,{"$f":"IF(ISBLANK(Risque[[#This Row],[Catégorie de risque]]),\"\",IF(OR(ISNUMBER(SEARCH(\"RZ\",Risque[[#This Row],[Source de danger]]))=TRUE,ISNUMBER(SEARCH(\"RP\",Risque[[#This Row],[Source de danger]]))=TRUE,ISNUMBER(SEARCH(\"RZ\",Risque[[#This Row],[Risques associés]]))=TRUE,ISNUMBER(SEARCH(\"RP\",Risque[[#This Row],[Risques associés]]))=TRUE,ISNUMBER(SEARCH(\"RZ\",Risque[[#This Row],[Précision du risque\n(si liste déroulante présente)]]))=TRUE,ISNUMBER(SEARCH(\"RP\",Risque[[#This Row],[Précision du risque\n(si liste déroulante présente)]]))=TRUE),\"Oui --> Priorité d'action\",\"Non\"))","v":""},null,null,null,null,{"$f":"IF(ISBLANK(Risque[[#This Row],[Catégorie de risque]]),\"\",CONCATENATE(Risque[[#This Row],[Catégorie de risque]],2))","v":""},null,{"$f":"IF(ISBLANK(Risque[[#This Row],[Moyens de prévention]]),\"\",CONCATENATE(Risque[[#This Row],[Moyens de prévention]],1))","v":""},null,null,null,null,null,{"$f":"IF(ISBLANK(Risque[[#This Row],[Catégorie de risque]]),\"\",CONCATENATE(Risque[[#This Row],[Catégorie de risque]],3))","v":""},null,null,null,{"$f":"IF(ISBLANK(Risque[[#This Row],[Catégorie de risque]]),\"\",CONCATENATE(Risque[[#This Row],[Catégorie de risque]],4))","v":""},null,null,null,null,null,{"$f":"IF(Risque[[#This Row],[Date d''inscription du risque]]<>\"\",YEAR(Risque[[#This Row],[Date d''inscription du risque]]),\"\")","v":""}]
[null,null,{"$f":"IF(ISBLANK(Risque[[#This Row],[Catégorie de risque]]),\"\",CONCATENATE(Risque[[#This Row],[Catégorie de risque]],1))","v":""},null,null,null,null,null,{"$f":"IF(ISBLANK(Risque[[#This Row],[Catégorie de risque]]),\"\",IF(OR(ISNUMBER(SEARCH(\"RZ\",Risque[[#This Row],[Source de danger]]))=TRUE,ISNUMBER(SEARCH(\"RP\",Risque[[#This Row],[Source de danger]]))=TRUE,ISNUMBER(SEARCH(\"RZ\",Risque[[#This Row],[Risques associés]]))=TRUE,ISNUMBER(SEARCH(\"RP\",Risque[[#This Row],[Risques associés]]))=TRUE,ISNUMBER(SEARCH(\"RZ\",Risque[[#This Row],[Précision du risque\n(si liste déroulante présente)]]))=TRUE,ISNUMBER(SEARCH(\"RP\",Risque[[#This Row],[Précision du risque\n(si liste déroulante présente)]]))=TRUE),\"Oui --> Priorité d'action\",\"Non\"))","v":""},null,null,null,null,{"$f":"IF(ISBLANK(Risque[[#This Row],[Catégorie de risque]]),\"\",CONCATENATE(Risque[[#This Row],[Catégorie de risque]],2))","v":""},null,{"$f":"IF(ISBLANK(Risque[[#This Row],[Moyens de prévention]]),\"\",CONCATENATE(Risque[[#This Row],[Moyens de prévention]],1))","v":""},null,null,null,null,null,{"$f":"IF(ISBLANK(Risque[[#This Row],[Catégorie de risque]]),\"\",CONCATENATE(Risque[[#This Row],[Catégorie de risque]],3))","v":""},null,null,null,{"$f":"IF(ISBLANK(Risque[[#This Row],[Catégorie de risque]]),\"\",CONCATENATE(Risque[[#This Row],[Catégorie de risque]],4))","v":""},null,null,null,null,null,{"$f":"IF(Risque[[#This Row],[Date d''inscription du risque]]<>\"\",YEAR(Risque[[#This Row],[Date d''inscription du risque]]),\"\")","v":""}]
[null,null,{"$f":"IF(ISBLANK(Risque[[#This Row],[Catégorie de risque]]),\"\",CONCATENATE(Risque[[#This Row],[Catégorie de risque]],1))","v":""},null,null,null,null,null,{"$f":"IF(ISBLANK(Risque[[#This Row],[Catégorie de risque]]),\"\",IF(OR(ISNUMBER(SEARCH(\"RZ\",Risque[[#This Row],[Source de danger]]))=TRUE,ISNUMBER(SEARCH(\"RP\",Risque[[#This Row],[Source de danger]]))=TRUE,ISNUMBER(SEARCH(\"RZ\",Risque[[#This Row],[Risques associés]]))=TRUE,ISNUMBER(SEARCH(\"RP\",Risque[[#This Row],[Risques associés]]))=TRUE,ISNUMBER(SEARCH(\"RZ\",Risque[[#This Row],[Précision du risque\n(si liste déroulante présente)]]))=TRUE,ISNUMBER(SEARCH(\"RP\",Risque[[#This Row],[Précision du risque\n(si liste déroulante présente)]]))=TRUE),\"Oui --> Priorité d'action\",\"Non\"))","v":""},null,null,null,null,{"$f":"IF(ISBLANK(Risque[[#This Row],[Catégorie de risque]]),\"\",CONCATENATE(Risque[[#This Row],[Catégorie de risque]],2))","v":""},null,{"$f":"IF(ISBLANK(Risque[[#This Row],[Moyens de prévention]]),\"\",CONCATENATE(Risque[[#This Row],[Moyens de prévention]],1))","v":""},null,null,null,null,null,{"$f":"IF(ISBLANK(Risque[[#This Row],[Catégorie de risque]]),\"\",CONCATENATE(Risque[[#This Row],[Catégorie de risque]],3))","v":""},null,null,null,{"$f":"IF(ISBLANK(Risque[[#This Row],[Catégorie de risque]]),\"\",CONCATENATE(Risque[[#This Row],[Catégorie de risque]],4))","v":""},null,null,null,null,null,{"$f":"IF(Risque[[#This Row],[Date d''inscription du risque]]<>\"\",YEAR(Risque[[#This Row],[Date d''inscription du risque]]),\"\")","v":""}]
[null,null,{"$f":"IF(ISBLANK(Risque[[#This Row],[Catégorie de risque]]),\"\",CONCATENATE(Risque[[#This Row],[Catégorie de risque]],1))","v":""},null,null,null,null,null,{"$f":"IF(ISBLANK(Risque[[#This Row],[Catégorie de risque]]),\"\",IF(OR(ISNUMBER(SEARCH(\"RZ\",Risque[[#This Row],[Source de danger]]))=TRUE,ISNUMBER(SEARCH(\"RP\",Risque[[#This Row],[Source de danger]]))=TRUE,ISNUMBER(SEARCH(\"RZ\",Risque[[#This Row],[Risques associés]]))=TRUE,ISNUMBER(SEARCH(\"RP\",Risque[[#This Row],[Risques associés]]))=TRUE,ISNUMBER(SEARCH(\"RZ\",Risque[[#This Row],[Précision du risque\n(si liste déroulante présente)]]))=TRUE,ISNUMBER(SEARCH(\"RP\",Risque[[#This Row],[Précision du risque\n(si liste déroulante présente)]]))=TRUE),\"Oui --> Priorité d'action\",\"Non\"))","v":""},null,null,null,null,{"$f":"IF(ISBLANK(Risque[[#This Row],[Catégorie de risque]]),\"\",CONCATENATE(Risque[[#This Row],[Catégorie de risque]],2))","v":""},null,{"$f":"IF(ISBLANK(Risque[[#This Row],[Moyens de prévention]]),\"\",CONCATENATE(Risque[[#This Row],[Moyens de prévention]],1))","v":""},null,null,null,null,null,{"$f":"IF(ISBLANK(Risque[[#This Row],[Catégorie de risque]]),\"\",CONCATENATE(Risque[[#This Row],[Catégorie de risque]],3))","v":""},null,null,null,{"$f":"IF(ISBLANK(Risque[[#This Row],[Catégorie de risque]]),\"\",CONCATENATE(Risque[[#This Row],[Catégorie de risque]],4))","v":""},null,null,null,null,null,{"$f":"IF(Risque[[#This Row],[Date d''inscription du risque]]<>\"\",YEAR(Risque[[#This Row],[Date d''inscription du risque]]),\"\")","v":""}]
[null,null,{"$f":"IF(ISBLANK(Risque[[#This Row],[Catégorie de risque]]),\"\",CONCATENATE(Risque[[#This Row],[Catégorie de risque]],1))","v":""},null,null,null,null,null,{"$f":"IF(ISBLANK(Risque[[#This Row],[Catégorie de risque]]),\"\",IF(OR(ISNUMBER(SEARCH(\"RZ\",Risque[[#This Row],[Source de danger]]))=TRUE,ISNUMBER(SEARCH(\"RP\",Risque[[#This Row],[Source de danger]]))=TRUE,ISNUMBER(SEARCH(\"RZ\",Risque[[#This Row],[Risques associés]]))=TRUE,ISNUMBER(SEARCH(\"RP\",Risque[[#This Row],[Risques associés]]))=TRUE,ISNUMBER(SEARCH(\"RZ\",Risque[[#This Row],[Précision du risque\n(si liste déroulante présente)]]))=TRUE,ISNUMBER(SEARCH(\"RP\",Risque[[#This Row],[Précision du risque\n(si liste déroulante présente)]]))=TRUE),\"Oui --> Priorité d'action\",\"Non\"))","v":""},null,null,null,null,{"$f":"IF(ISBLANK(Risque[[#This Row],[Catégorie de risque]]),\"\",CONCATENATE(Risque[[#This Row],[Catégorie de risque]],2))","v":""},null,{"$f":"IF(ISBLANK(Risque[[#This Row],[Moyens de prévention]]),\"\",CONCATENATE(Risque[[#This Row],[Moyens de prévention]],1))","v":""},null,null,null,null,null,{"$f":"IF(ISBLANK(Risque[[#This Row],[Catégorie de risque]]),\"\",CONCATENATE(Risque[[#This Row],[Catégorie de risque]],3))","v":""},null,null,null,{"$f":"IF(ISBLANK(Risque[[#This Row],[Catégorie de risque]]),\"\",CONCATENATE(Risque[[#This Row],[Catégorie de risque]],4))","v":""},null,null,null,null,null,{"$f":"IF(Risque[[#This Row],[Date d''inscription du risque]]<>\"\",YEAR(Risque[[#This Row],[Date d''inscription du risque]]),\"\")","v":""}]
[null,null,{"$f":"IF(ISBLANK(Risque[[#This Row],[Catégorie de risque]]),\"\",CONCATENATE(Risque[[#This Row],[Catégorie de risque]],1))","v":""},null,null,null,null,null,{"$f":"IF(ISBLANK(Risque[[#This Row],[Catégorie de risque]]),\"\",IF(OR(ISNUMBER(SEARCH(\"RZ\",Risque[[#This Row],[Source de danger]]))=TRUE,ISNUMBER(SEARCH(\"RP\",Risque[[#This Row],[Source de danger]]))=TRUE,ISNUMBER(SEARCH(\"RZ\",Risque[[#This Row],[Risques associés]]))=TRUE,ISNUMBER(SEARCH(\"RP\",Risque[[#This Row],[Risques associés]]))=TRUE,ISNUMBER(SEARCH(\"RZ\",Risque[[#This Row],[Précision du risque\n(si liste déroulante présente)]]))=TRUE,ISNUMBER(SEARCH(\"RP\",Risque[[#This Row],[Précision du risque\n(si liste déroulante présente)]]))=TRUE),\"Oui --> Priorité d'action\",\"Non\"))","v":""},null,null,null,null,{"$f":"IF(ISBLANK(Risque[[#This Row],[Catégorie de risque]]),\"\",CONCATENATE(Risque[[#This Row],[Catégorie de risque]],2))","v":""},null,{"$f":"IF(ISBLANK(Risque[[#This Row],[Moyens de prévention]]),\"\",CONCATENATE(Risque[[#This Row],[Moyens de prévention]],1))","v":""},null,null,null,null,null,{"$f":"IF(ISBLANK(Risque[[#This Row],[Catégorie de risque]]),\"\",CONCATENATE(Risque[[#This Row],[Catégorie de risque]],3))","v":""},null,null,null,{"$f":"IF(ISBLANK(Risque[[#This Row],[Catégorie de risque]]),\"\",CONCATENATE(Risque[[#This Row],[Catégorie de risque]],4))","v":""},null,null,null,null,null,{"$f":"IF(Risque[[#This Row],[Date d''inscription du risque]]<>\"\",YEAR(Risque[[#This Row],[Date d''inscription du risque]]),\"\")","v":""}]
[null,null,{"$f":"IF(ISBLANK(Risque[[#This Row],[Catégorie de risque]]),\"\",CONCATENATE(Risque[[#This Row],[Catégorie de risque]],1))","v":""},null,null,null,null,null,{"$f":"IF(ISBLANK(Risque[[#This Row],[Catégorie de risque]]),\"\",IF(OR(ISNUMBER(SEARCH(\"RZ\",Risque[[#This Row],[Source de danger]]))=TRUE,ISNUMBER(SEARCH(\"RP\",Risque[[#This Row],[Source de danger]]))=TRUE,ISNUMBER(SEARCH(\"RZ\",Risque[[#This Row],[Risques associés]]))=TRUE,ISNUMBER(SEARCH(\"RP\",Risque[[#This Row],[Risques associés]]))=TRUE,ISNUMBER(SEARCH(\"RZ\",Risque[[#This Row],[Précision du risque\n(si liste déroulante présente)]]))=TRUE,ISNUMBER(SEARCH(\"RP\",Risque[[#This Row],[Précision du risque\n(si liste déroulante présente)]]))=TRUE),\"Oui --> Priorité d'action\",\"Non\"))","v":""},null,null,null,null,{"$f":"IF(ISBLANK(Risque[[#This Row],[Catégorie de risque]]),\"\",CONCATENATE(Risque[[#This Row],[Catégorie de risque]],2))","v":""},null,{"$f":"IF(ISBLANK(Risque[[#This Row],[Moyens de prévention]]),\"\",CONCATENATE(Risque[[#This Row],[Moyens de prévention]],1))","v":""},null,null,null,null,null,{"$f":"IF(ISBLANK(Risque[[#This Row],[Catégorie de risque]]),\"\",CONCATENATE(Risque[[#This Row],[Catégorie de risque]],3))","v":""},null,null,null,{"$f":"IF(ISBLANK(Risque[[#This Row],[Catégorie de risque]]),\"\",CONCATENATE(Risque[[#This Row],[Catégorie de risque]],4))","v":""},null,null,null,null,null,{"$f":"IF(Risque[[#This Row],[Date d''inscription du risque]]<>\"\",YEAR(Risque[[#This Row],[Date d''inscription du risque]]),\"\")","v":""}]
[null,null,{"$f":"IF(ISBLANK(Risque[[#This Row],[Catégorie de risque]]),\"\",CONCATENATE(Risque[[#This Row],[Catégorie de risque]],1))","v":""},null,null,null,null,null,{"$f":"IF(ISBLANK(Risque[[#This Row],[Catégorie de risque]]),\"\",IF(OR(ISNUMBER(SEARCH(\"RZ\",Risque[[#This Row],[Source de danger]]))=TRUE,ISNUMBER(SEARCH(\"RP\",Risque[[#This Row],[Source de danger]]))=TRUE,ISNUMBER(SEARCH(\"RZ\",Risque[[#This Row],[Risques associés]]))=TRUE,ISNUMBER(SEARCH(\"RP\",Risque[[#This Row],[Risques associés]]))=TRUE,ISNUMBER(SEARCH(\"RZ\",Risque[[#This Row],[Précision du risque\n(si liste déroulante présente)]]))=TRUE,ISNUMBER(SEARCH(\"RP\",Risque[[#This Row],[Précision du risque\n(si liste déroulante présente)]]))=TRUE),\"Oui --> Priorité d'action\",\"Non\"))","v":""},null,null,null,null,{"$f":"IF(ISBLANK(Risque[[#This Row],[Catégorie de risque]]),\"\",CONCATENATE(Risque[[#This Row],[Catégorie de risque]],2))","v":""},null,{"$f":"IF(ISBLANK(Risque[[#This Row],[Moyens de prévention]]),\"\",CONCATENATE(Risque[[#This Row],[Moyens de prévention]],1))","v":""},null,null,null,null,null,{"$f":"IF(ISBLANK(Risque[[#This Row],[Catégorie de risque]]),\"\",CONCATENATE(Risque[[#This Row],[Catégorie de risque]],3))","v":""},null,null,null,{"$f":"IF(ISBLANK(Risque[[#This Row],[Catégorie de risque]]),\"\",CONCATENATE(Risque[[#This Row],[Catégorie de risque]],4))","v":""},null,null,null,null,null,{"$f":"IF(Risque[[#This Row],[Date d''inscription du risque]]<>\"\",YEAR(Risque[[#This Row],[Date d''inscription du risque]]),\"\")","v":""}]
[null,null,{"$f":"IF(ISBLANK(Risque[[#This Row],[Catégorie de risque]]),\"\",CONCATENATE(Risque[[#This Row],[Catégorie de risque]],1))","v":""},null,null,null,null,null,{"$f":"IF(ISBLANK(Risque[[#This Row],[Catégorie de risque]]),\"\",IF(OR(ISNUMBER(SEARCH(\"RZ\",Risque[[#This Row],[Source de danger]]))=TRUE,ISNUMBER(SEARCH(\"RP\",Risque[[#This Row],[Source de danger]]))=TRUE,ISNUMBER(SEARCH(\"RZ\",Risque[[#This Row],[Risques associés]]))=TRUE,ISNUMBER(SEARCH(\"RP\",Risque[[#This Row],[Risques associés]]))=TRUE,ISNUMBER(SEARCH(\"RZ\",Risque[[#This Row],[Précision du risque\n(si liste déroulante présente)]]))=TRUE,ISNUMBER(SEARCH(\"RP\",Risque[[#This Row],[Précision du risque\n(si liste déroulante présente)]]))=TRUE),\"Oui --> Priorité d'action\",\"Non\"))","v":""},null,null,null,null,{"$f":"IF(ISBLANK(Risque[[#This Row],[Catégorie de risque]]),\"\",CONCATENATE(Risque[[#This Row],[Catégorie de risque]],2))","v":""},null,{"$f":"IF(ISBLANK(Risque[[#This Row],[Moyens de prévention]]),\"\",CONCATENATE(Risque[[#This Row],[Moyens de prévention]],1))","v":""},null,null,null,null,null,{"$f":"IF(ISBLANK(Risque[[#This Row],[Catégorie de risque]]),\"\",CONCATENATE(Risque[[#This Row],[Catégorie de risque]],3))","v":""},null,null,null,{"$f":"IF(ISBLANK(Risque[[#This Row],[Catégorie de risque]]),\"\",CONCATENATE(Risque[[#This Row],[Catégorie de risque]],4))","v":""},null,null,null,null,null,{"$f":"IF(Risque[[#This Row],[Date d''inscription du risque]]<>\"\",YEAR(Risque[[#This Row],[Date d''inscription du risque]]),\"\")","v":""}]
[null,null,{"$f":"IF(ISBLANK(Risque[[#This Row],[Catégorie de risque]]),\"\",CONCATENATE(Risque[[#This Row],[Catégorie de risque]],1))","v":""},null,null,null,null,null,{"$f":"IF(ISBLANK(Risque[[#This Row],[Catégorie de risque]]),\"\",IF(OR(ISNUMBER(SEARCH(\"RZ\",Risque[[#This Row],[Source de danger]]))=TRUE,ISNUMBER(SEARCH(\"RP\",Risque[[#This Row],[Source de danger]]))=TRUE,ISNUMBER(SEARCH(\"RZ\",Risque[[#This Row],[Risques associés]]))=TRUE,ISNUMBER(SEARCH(\"RP\",Risque[[#This Row],[Risques associés]]))=TRUE,ISNUMBER(SEARCH(\"RZ\",Risque[[#This Row],[Précision du risque\n(si liste déroulante présente)]]))=TRUE,ISNUMBER(SEARCH(\"RP\",Risque[[#This Row],[Précision du risque\n(si liste déroulante présente)]]))=TRUE),\"Oui --> Priorité d'action\",\"Non\"))","v":""},null,null,null,null,{"$f":"IF(ISBLANK(Risque[[#This Row],[Catégorie de risque]]),\"\",CONCATENATE(Risque[[#This Row],[Catégorie de risque]],2))","v":""},null,{"$f":"IF(ISBLANK(Risque[[#This Row],[Moyens de prévention]]),\"\",CONCATENATE(Risque[[#This Row],[Moyens de prévention]],1))","v":""},null,null,null,null,null,{"$f":"IF(ISBLANK(Risque[[#This Row],[Catégorie de risque]]),\"\",CONCATENATE(Risque[[#This Row],[Catégorie de risque]],3))","v":""},null,null,null,{"$f":"IF(ISBLANK(Risque[[#This Row],[Catégorie de risque]]),\"\",CONCATENATE(Risque[[#This Row],[Catégorie de risque]],4))","v":""},null,null,null,null,null,{"$f":"IF(Risque[[#This Row],[Date d''inscription du risque]]<>\"\",YEAR(Risque[[#This Row],[Date d''inscription du risque]]),\"\")","v":""}]
[null,null,{"$f":"IF(ISBLANK(Risque[[#This Row],[Catégorie de risque]]),\"\",CONCATENATE(Risque[[#This Row],[Catégorie de risque]],1))","v":""},null,null,null,null,null,{"$f":"IF(ISBLANK(Risque[[#This Row],[Catégorie de risque]]),\"\",IF(OR(ISNUMBER(SEARCH(\"RZ\",Risque[[#This Row],[Source de danger]]))=TRUE,ISNUMBER(SEARCH(\"RP\",Risque[[#This Row],[Source de danger]]))=TRUE,ISNUMBER(SEARCH(\"RZ\",Risque[[#This Row],[Risques associés]]))=TRUE,ISNUMBER(SEARCH(\"RP\",Risque[[#This Row],[Risques associés]]))=TRUE,ISNUMBER(SEARCH(\"RZ\",Risque[[#This Row],[Précision du risque\n(si liste déroulante présente)]]))=TRUE,ISNUMBER(SEARCH(\"RP\",Risque[[#This Row],[Précision du risque\n(si liste déroulante présente)]]))=TRUE),\"Oui --> Priorité d'action\",\"Non\"))","v":""},null,null,null,null,{"$f":"IF(ISBLANK(Risque[[#This Row],[Catégorie de risque]]),\"\",CONCATENATE(Risque[[#This Row],[Catégorie de risque]],2))","v":""},null,{"$f":"IF(ISBLANK(Risque[[#This Row],[Moyens de prévention]]),\"\",CONCATENATE(Risque[[#This Row],[Moyens de prévention]],1))","v":""},null,null,null,null,null,{"$f":"IF(ISBLANK(Risque[[#This Row],[Catégorie de risque]]),\"\",CONCATENATE(Risque[[#This Row],[Catégorie de risque]],3))","v":""},null,null,null,{"$f":"IF(ISBLANK(Risque[[#This Row],[Catégorie de risque]]),\"\",CONCATENATE(Risque[[#This Row],[Catégorie de risque]],4))","v":""},null,null,null,null,null,{"$f":"IF(Risque[[#This Row],[Date d''inscription du risque]]<>\"\",YEAR(Risque[[#This Row],[Date d''inscription du risque]]),\"\")","v":""}]
[null,null,{"$f":"IF(ISBLANK(Risque[[#This Row],[Catégorie de risque]]),\"\",CONCATENATE(Risque[[#This Row],[Catégorie de risque]],1))","v":""},null,null,null,null,null,{"$f":"IF(ISBLANK(Risque[[#This Row],[Catégorie de risque]]),\"\",IF(OR(ISNUMBER(SEARCH(\"RZ\",Risque[[#This Row],[Source de danger]]))=TRUE,ISNUMBER(SEARCH(\"RP\",Risque[[#This Row],[Source de danger]]))=TRUE,ISNUMBER(SEARCH(\"RZ\",Risque[[#This Row],[Risques associés]]))=TRUE,ISNUMBER(SEARCH(\"RP\",Risque[[#This Row],[Risques associés]]))=TRUE,ISNUMBER(SEARCH(\"RZ\",Risque[[#This Row],[Précision du risque\n(si liste déroulante présente)]]))=TRUE,ISNUMBER(SEARCH(\"RP\",Risque[[#This Row],[Précision du risque\n(si liste déroulante présente)]]))=TRUE),\"Oui --> Priorité d'action\",\"Non\"))","v":""},null,null,null,null,{"$f":"IF(ISBLANK(Risque[[#This Row],[Catégorie de risque]]),\"\",CONCATENATE(Risque[[#This Row],[Catégorie de risque]],2))","v":""},null,{"$f":"IF(ISBLANK(Risque[[#This Row],[Moyens de prévention]]),\"\",CONCATENATE(Risque[[#This Row],[Moyens de prévention]],1))","v":""},null,null,null,null,null,{"$f":"IF(ISBLANK(Risque[[#This Row],[Catégorie de risque]]),\"\",CONCATENATE(Risque[[#This Row],[Catégorie de risque]],3))","v":""},null,null,null,{"$f":"IF(ISBLANK(Risque[[#This Row],[Catégorie de risque]]),\"\",CONCATENATE(Risque[[#This Row],[Catégorie de risque]],4))","v":""},null,null,null,null,null,{"$f":"IF(Risque[[#This Row],[Date d''inscription du risque]]<>\"\",YEAR(Risque[[#This Row],[Date d''inscription du risque]]),\"\")","v":""}]
[null,null,{"$f":"IF(ISBLANK(Risque[[#This Row],[Catégorie de risque]]),\"\",CONCATENATE(Risque[[#This Row],[Catégorie de risque]],1))","v":""},null,null,null,null,null,{"$f":"IF(ISBLANK(Risque[[#This Row],[Catégorie de risque]]),\"\",IF(OR(ISNUMBER(SEARCH(\"RZ\",Risque[[#This Row],[Source de danger]]))=TRUE,ISNUMBER(SEARCH(\"RP\",Risque[[#This Row],[Source de danger]]))=TRUE,ISNUMBER(SEARCH(\"RZ\",Risque[[#This Row],[Risques associés]]))=TRUE,ISNUMBER(SEARCH(\"RP\",Risque[[#This Row],[Risques associés]]))=TRUE,ISNUMBER(SEARCH(\"RZ\",Risque[[#This Row],[Précision du risque\n(si liste déroulante présente)]]))=TRUE,ISNUMBER(SEARCH(\"RP\",Risque[[#This Row],[Précision du risque\n(si liste déroulante présente)]]))=TRUE),\"Oui --> Priorité d'action\",\"Non\"))","v":""},null,null,null,null,{"$f":"IF(ISBLANK(Risque[[#This Row],[Catégorie de risque]]),\"\",CONCATENATE(Risque[[#This Row],[Catégorie de risque]],2))","v":""},null,{"$f":"IF(ISBLANK(Risque[[#This Row],[Moyens de prévention]]),\"\",CONCATENATE(Risque[[#This Row],[Moyens de prévention]],1))","v":""},null,null,null,null,null,{"$f":"IF(ISBLANK(Risque[[#This Row],[Catégorie de risque]]),\"\",CONCATENATE(Risque[[#This Row],[Catégorie de risque]],3))","v":""},null,null,null,{"$f":"IF(ISBLANK(Risque[[#This Row],[Catégorie de risque]]),\"\",CONCATENATE(Risque[[#This Row],[Catégorie de risque]],4))","v":""},null,null,null,null,null,{"$f":"IF(Risque[[#This Row],[Date d''inscription du risque]]<>\"\",YEAR(Risque[[#This Row],[Date d''inscription du risque]]),\"\")","v":""}]
[null,null,{"$f":"IF(ISBLANK(Risque[[#This Row],[Catégorie de risque]]),\"\",CONCATENATE(Risque[[#This Row],[Catégorie de risque]],1))","v":""},null,null,null,null,null,{"$f":"IF(ISBLANK(Risque[[#This Row],[Catégorie de risque]]),\"\",IF(OR(ISNUMBER(SEARCH(\"RZ\",Risque[[#This Row],[Source de danger]]))=TRUE,ISNUMBER(SEARCH(\"RP\",Risque[[#This Row],[Source de danger]]))=TRUE,ISNUMBER(SEARCH(\"RZ\",Risque[[#This Row],[Risques associés]]))=TRUE,ISNUMBER(SEARCH(\"RP\",Risque[[#This Row],[Risques associés]]))=TRUE,ISNUMBER(SEARCH(\"RZ\",Risque[[#This Row],[Précision du risque\n(si liste déroulante présente)]]))=TRUE,ISNUMBER(SEARCH(\"RP\",Risque[[#This Row],[Précision du risque\n(si liste déroulante présente)]]))=TRUE),\"Oui --> Priorité d'action\",\"Non\"))","v":""},null,null,null,null,{"$f":"IF(ISBLANK(Risque[[#This Row],[Catégorie de risque]]),\"\",CONCATENATE(Risque[[#This Row],[Catégorie de risque]],2))","v":""},null,{"$f":"IF(ISBLANK(Risque[[#This Row],[Moyens de prévention]]),\"\",CONCATENATE(Risque[[#This Row],[Moyens de prévention]],1))","v":""},null,null,null,null,null,{"$f":"IF(ISBLANK(Risque[[#This Row],[Catégorie de risque]]),\"\",CONCATENATE(Risque[[#This Row],[Catégorie de risque]],3))","v":""},null,null,null,{"$f":"IF(ISBLANK(Risque[[#This Row],[Catégorie de risque]]),\"\",CONCATENATE(Risque[[#This Row],[Catégorie de risque]],4))","v":""},null,null,null,null,null,{"$f":"IF(Risque[[#This Row],[Date d''inscription du risque]]<>\"\",YEAR(Risque[[#This Row],[Date d''inscription du risque]]),\"\")","v":""}]
[null,null,{"$f":"IF(ISBLANK(Risque[[#This Row],[Catégorie de risque]]),\"\",CONCATENATE(Risque[[#This Row],[Catégorie de risque]],1))","v":""},null,null,null,null,null,{"$f":"IF(ISBLANK(Risque[[#This Row],[Catégorie de risque]]),\"\",IF(OR(ISNUMBER(SEARCH(\"RZ\",Risque[[#This Row],[Source de danger]]))=TRUE,ISNUMBER(SEARCH(\"RP\",Risque[[#This Row],[Source de danger]]))=TRUE,ISNUMBER(SEARCH(\"RZ\",Risque[[#This Row],[Risques associés]]))=TRUE,ISNUMBER(SEARCH(\"RP\",Risque[[#This Row],[Risques associés]]))=TRUE,ISNUMBER(SEARCH(\"RZ\",Risque[[#This Row],[Précision du risque\n(si liste déroulante présente)]]))=TRUE,ISNUMBER(SEARCH(\"RP\",Risque[[#This Row],[Précision du risque\n(si liste déroulante présente)]]))=TRUE),\"Oui --> Priorité d'action\",\"Non\"))","v":""},null,null,null,null,{"$f":"IF(ISBLANK(Risque[[#This Row],[Catégorie de risque]]),\"\",CONCATENATE(Risque[[#This Row],[Catégorie de risque]],2))","v":""},null,{"$f":"IF(ISBLANK(Risque[[#This Row],[Moyens de prévention]]),\"\",CONCATENATE(Risque[[#This Row],[Moyens de prévention]],1))","v":""},null,null,null,null,null,{"$f":"IF(ISBLANK(Risque[[#This Row],[Catégorie de risque]]),\"\",CONCATENATE(Risque[[#This Row],[Catégorie de risque]],3))","v":""},null,null,null,{"$f":"IF(ISBLANK(Risque[[#This Row],[Catégorie de risque]]),\"\",CONCATENATE(Risque[[#This Row],[Catégorie de risque]],4))","v":""},null,null,null,null,null,{"$f":"IF(Risque[[#This Row],[Date d''inscription du risque]]<>\"\",YEAR(Risque[[#This Row],[Date d''inscription du risque]]),\"\")","v":""}]
[null,null,{"$f":"IF(ISBLANK(Risque[[#This Row],[Catégorie de risque]]),\"\",CONCATENATE(Risque[[#This Row],[Catégorie de risque]],1))","v":""},null,null,null,null,null,{"$f":"IF(ISBLANK(Risque[[#This Row],[Catégorie de risque]]),\"\",IF(OR(ISNUMBER(SEARCH(\"RZ\",Risque[[#This Row],[Source de danger]]))=TRUE,ISNUMBER(SEARCH(\"RP\",Risque[[#This Row],[Source de danger]]))=TRUE,ISNUMBER(SEARCH(\"RZ\",Risque[[#This Row],[Risques associés]]))=TRUE,ISNUMBER(SEARCH(\"RP\",Risque[[#This Row],[Risques associés]]))=TRUE,ISNUMBER(SEARCH(\"RZ\",Risque[[#This Row],[Précision du risque\n(si liste déroulante présente)]]))=TRUE,ISNUMBER(SEARCH(\"RP\",Risque[[#This Row],[Précision du risque\n(si liste déroulante présente)]]))=TRUE),\"Oui --> Priorité d'action\",\"Non\"))","v":""},null,null,null,null,{"$f":"IF(ISBLANK(Risque[[#This Row],[Catégorie de risque]]),\"\",CONCATENATE(Risque[[#This Row],[Catégorie de risque]],2))","v":""},null,{"$f":"IF(ISBLANK(Risque[[#This Row],[Moyens de prévention]]),\"\",CONCATENATE(Risque[[#This Row],[Moyens de prévention]],1))","v":""},null,null,null,null,null,{"$f":"IF(ISBLANK(Risque[[#This Row],[Catégorie de risque]]),\"\",CONCATENATE(Risque[[#This Row],[Catégorie de risque]],3))","v":""},null,null,null,{"$f":"IF(ISBLANK(Risque[[#This Row],[Catégorie de risque]]),\"\",CONCATENATE(Risque[[#This Row],[Catégorie de risque]],4))","v":""},null,null,null,null,null,{"$f":"IF(Risque[[#This Row],[Date d''inscription du risque]]<>\"\",YEAR(Risque[[#This Row],[Date d''inscription du risque]]),\"\")","v":""}]
[null,null,{"$f":"IF(ISBLANK(Risque[[#This Row],[Catégorie de risque]]),\"\",CONCATENATE(Risque[[#This Row],[Catégorie de risque]],1))","v":""},null,null,null,null,null,{"$f":"IF(ISBLANK(Risque[[#This Row],[Catégorie de risque]]),\"\",IF(OR(ISNUMBER(SEARCH(\"RZ\",Risque[[#This Row],[Source de danger]]))=TRUE,ISNUMBER(SEARCH(\"RP\",Risque[[#This Row],[Source de danger]]))=TRUE,ISNUMBER(SEARCH(\"RZ\",Risque[[#This Row],[Risques associés]]))=TRUE,ISNUMBER(SEARCH(\"RP\",Risque[[#This Row],[Risques associés]]))=TRUE,ISNUMBER(SEARCH(\"RZ\",Risque[[#This Row],[Précision du risque\n(si liste déroulante présente)]]))=TRUE,ISNUMBER(SEARCH(\"RP\",Risque[[#This Row],[Précision du risque\n(si liste déroulante présente)]]))=TRUE),\"Oui --> Priorité d'action\",\"Non\"))","v":""},null,null,null,null,{"$f":"IF(ISBLANK(Risque[[#This Row],[Catégorie de risque]]),\"\",CONCATENATE(Risque[[#This Row],[Catégorie de risque]],2))","v":""},null,{"$f":"IF(ISBLANK(Risque[[#This Row],[Moyens de prévention]]),\"\",CONCATENATE(Risque[[#This Row],[Moyens de prévention]],1))","v":""},null,null,null,null,null,{"$f":"IF(ISBLANK(Risque[[#This Row],[Catégorie de risque]]),\"\",CONCATENATE(Risque[[#This Row],[Catégorie de risque]],3))","v":""},null,null,null,{"$f":"IF(ISBLANK(Risque[[#This Row],[Catégorie de risque]]),\"\",CONCATENATE(Risque[[#This Row],[Catégorie de risque]],4))","v":""},null,null,null,null,null,{"$f":"IF(Risque[[#This Row],[Date d''inscription du risque]]<>\"\",YEAR(Risque[[#This Row],[Date d''inscription du risque]]),\"\")","v":""}]
[null,null,{"$f":"IF(ISBLANK(Risque[[#This Row],[Catégorie de risque]]),\"\",CONCATENATE(Risque[[#This Row],[Catégorie de risque]],1))","v":""},null,null,null,null,null,{"$f":"IF(ISBLANK(Risque[[#This Row],[Catégorie de risque]]),\"\",IF(OR(ISNUMBER(SEARCH(\"RZ\",Risque[[#This Row],[Source de danger]]))=TRUE,ISNUMBER(SEARCH(\"RP\",Risque[[#This Row],[Source de danger]]))=TRUE,ISNUMBER(SEARCH(\"RZ\",Risque[[#This Row],[Risques associés]]))=TRUE,ISNUMBER(SEARCH(\"RP\",Risque[[#This Row],[Risques associés]]))=TRUE,ISNUMBER(SEARCH(\"RZ\",Risque[[#This Row],[Précision du risque\n(si liste déroulante présente)]]))=TRUE,ISNUMBER(SEARCH(\"RP\",Risque[[#This Row],[Précision du risque\n(si liste déroulante présente)]]))=TRUE),\"Oui --> Priorité d'action\",\"Non\"))","v":""},null,null,null,null,{"$f":"IF(ISBLANK(Risque[[#This Row],[Catégorie de risque]]),\"\",CONCATENATE(Risque[[#This Row],[Catégorie de risque]],2))","v":""},null,{"$f":"IF(ISBLANK(Risque[[#This Row],[Moyens de prévention]]),\"\",CONCATENATE(Risque[[#This Row],[Moyens de prévention]],1))","v":""},null,null,null,null,null,{"$f":"IF(ISBLANK(Risque[[#This Row],[Catégorie de risque]]),\"\",CONCATENATE(Risque[[#This Row],[Catégorie de risque]],3))","v":""},null,null,null,{"$f":"IF(ISBLANK(Risque[[#This Row],[Catégorie de risque]]),\"\",CONCATENATE(Risque[[#This Row],[Catégorie de risque]],4))","v":""},null,null,null,null,null,{"$f":"IF(Risque[[#This Row],[Date d''inscription du risque]]<>\"\",YEAR(Risque[[#This Row],[Date d''inscription du risque]]),\"\")","v":""}]
[null,null,{"$f":"IF(ISBLANK(Risque[[#This Row],[Catégorie de risque]]),\"\",CONCATENATE(Risque[[#This Row],[Catégorie de risque]],1))","v":""},null,null,null,null,null,{"$f":"IF(ISBLANK(Risque[[#This Row],[Catégorie de risque]]),\"\",IF(OR(ISNUMBER(SEARCH(\"RZ\",Risque[[#This Row],[Source de danger]]))=TRUE,ISNUMBER(SEARCH(\"RP\",Risque[[#This Row],[Source de danger]]))=TRUE,ISNUMBER(SEARCH(\"RZ\",Risque[[#This Row],[Risques associés]]))=TRUE,ISNUMBER(SEARCH(\"RP\",Risque[[#This Row],[Risques associés]]))=TRUE,ISNUMBER(SEARCH(\"RZ\",Risque[[#This Row],[Précision du risque\n(si liste déroulante présente)]]))=TRUE,ISNUMBER(SEARCH(\"RP\",Risque[[#This Row],[Précision du risque\n(si liste déroulante présente)]]))=TRUE),\"Oui --> Priorité d'action\",\"Non\"))","v":""},null,null,null,null,{"$f":"IF(ISBLANK(Risque[[#This Row],[Catégorie de risque]]),\"\",CONCATENATE(Risque[[#This Row],[Catégorie de risque]],2))","v":""},null,{"$f":"IF(ISBLANK(Risque[[#This Row],[Moyens de prévention]]),\"\",CONCATENATE(Risque[[#This Row],[Moyens de prévention]],1))","v":""},null,null,null,null,null,{"$f":"IF(ISBLANK(Risque[[#This Row],[Catégorie de risque]]),\"\",CONCATENATE(Risque[[#This Row],[Catégorie de risque]],3))","v":""},null,null,null,{"$f":"IF(ISBLANK(Risque[[#This Row],[Catégorie de risque]]),\"\",CONCATENATE(Risque[[#This Row],[Catégorie de risque]],4))","v":""},null,null,null,null,null,{"$f":"IF(Risque[[#This Row],[Date d''inscription du risque]]<>\"\",YEAR(Risque[[#This Row],[Date d''inscription du risque]]),\"\")","v":""}]
[null,null,{"$f":"IF(ISBLANK(Risque[[#This Row],[Catégorie de risque]]),\"\",CONCATENATE(Risque[[#This Row],[Catégorie de risque]],1))","v":""},null,null,null,null,null,{"$f":"IF(ISBLANK(Risque[[#This Row],[Catégorie de risque]]),\"\",IF(OR(ISNUMBER(SEARCH(\"RZ\",Risque[[#This Row],[Source de danger]]))=TRUE,ISNUMBER(SEARCH(\"RP\",Risque[[#This Row],[Source de danger]]))=TRUE,ISNUMBER(SEARCH(\"RZ\",Risque[[#This Row],[Risques associés]]))=TRUE,ISNUMBER(SEARCH(\"RP\",Risque[[#This Row],[Risques associés]]))=TRUE,ISNUMBER(SEARCH(\"RZ\",Risque[[#This Row],[Précision du risque\n(si liste déroulante présente)]]))=TRUE,ISNUMBER(SEARCH(\"RP\",Risque[[#This Row],[Précision du risque\n(si liste déroulante présente)]]))=TRUE),\"Oui --> Priorité d'action\",\"Non\"))","v":""},null,null,null,null,{"$f":"IF(ISBLANK(Risque[[#This Row],[Catégorie de risque]]),\"\",CONCATENATE(Risque[[#This Row],[Catégorie de risque]],2))","v":""},null,{"$f":"IF(ISBLANK(Risque[[#This Row],[Moyens de prévention]]),\"\",CONCATENATE(Risque[[#This Row],[Moyens de prévention]],1))","v":""},null,null,null,null,null,{"$f":"IF(ISBLANK(Risque[[#This Row],[Catégorie de risque]]),\"\",CONCATENATE(Risque[[#This Row],[Catégorie de risque]],3))","v":""},null,null,null,{"$f":"IF(ISBLANK(Risque[[#This Row],[Catégorie de risque]]),\"\",CONCATENATE(Risque[[#This Row],[Catégorie de risque]],4))","v":""},null,null,null,null,null,{"$f":"IF(Risque[[#This Row],[Date d''inscription du risque]]<>\"\",YEAR(Risque[[#This Row],[Date d''inscription du risque]]),\"\")","v":""}]
[null,null,{"$f":"IF(ISBLANK(Risque[[#This Row],[Catégorie de risque]]),\"\",CONCATENATE(Risque[[#This Row],[Catégorie de risque]],1))","v":""},null,null,null,null,null,{"$f":"IF(ISBLANK(Risque[[#This Row],[Catégorie de risque]]),\"\",IF(OR(ISNUMBER(SEARCH(\"RZ\",Risque[[#This Row],[Source de danger]]))=TRUE,ISNUMBER(SEARCH(\"RP\",Risque[[#This Row],[Source de danger]]))=TRUE,ISNUMBER(SEARCH(\"RZ\",Risque[[#This Row],[Risques associés]]))=TRUE,ISNUMBER(SEARCH(\"RP\",Risque[[#This Row],[Risques associés]]))=TRUE,ISNUMBER(SEARCH(\"RZ\",Risque[[#This Row],[Précision du risque\n(si liste déroulante présente)]]))=TRUE,ISNUMBER(SEARCH(\"RP\",Risque[[#This Row],[Précision du risque\n(si liste déroulante présente)]]))=TRUE),\"Oui --> Priorité d'action\",\"Non\"))","v":""},null,null,null,null,{"$f":"IF(ISBLANK(Risque[[#This Row],[Catégorie de risque]]),\"\",CONCATENATE(Risque[[#This Row],[Catégorie de risque]],2))","v":""},null,{"$f":"IF(ISBLANK(Risque[[#This Row],[Moyens de prévention]]),\"\",CONCATENATE(Risque[[#This Row],[Moyens de prévention]],1))","v":""},null,null,null,null,null,{"$f":"IF(ISBLANK(Risque[[#This Row],[Catégorie de risque]]),\"\",CONCATENATE(Risque[[#This Row],[Catégorie de risque]],3))","v":""},null,null,null,{"$f":"IF(ISBLANK(Risque[[#This Row],[Catégorie de risque]]),\"\",CONCATENATE(Risque[[#This Row],[Catégorie de risque]],4))","v":""},null,null,null,null,null,{"$f":"IF(Risque[[#This Row],[Date d''inscription du risque]]<>\"\",YEAR(Risque[[#This Row],[Date d''inscription du risque]]),\"\")","v":""}]
[null,null,{"$f":"IF(ISBLANK(Risque[[#This Row],[Catégorie de risque]]),\"\",CONCATENATE(Risque[[#This Row],[Catégorie de risque]],1))","v":""},null,null,null,null,null,{"$f":"IF(ISBLANK(Risque[[#This Row],[Catégorie de risque]]),\"\",IF(OR(ISNUMBER(SEARCH(\"RZ\",Risque[[#This Row],[Source de danger]]))=TRUE,ISNUMBER(SEARCH(\"RP\",Risque[[#This Row],[Source de danger]]))=TRUE,ISNUMBER(SEARCH(\"RZ\",Risque[[#This Row],[Risques associés]]))=TRUE,ISNUMBER(SEARCH(\"RP\",Risque[[#This Row],[Risques associés]]))=TRUE,ISNUMBER(SEARCH(\"RZ\",Risque[[#This Row],[Précision du risque\n(si liste déroulante présente)]]))=TRUE,ISNUMBER(SEARCH(\"RP\",Risque[[#This Row],[Précision du risque\n(si liste déroulante présente)]]))=TRUE),\"Oui --> Priorité d'action\",\"Non\"))","v":""},null,null,null,null,{"$f":"IF(ISBLANK(Risque[[#This Row],[Catégorie de risque]]),\"\",CONCATENATE(Risque[[#This Row],[Catégorie de risque]],2))","v":""},null,{"$f":"IF(ISBLANK(Risque[[#This Row],[Moyens de prévention]]),\"\",CONCATENATE(Risque[[#This Row],[Moyens de prévention]],1))","v":""},null,null,null,null,null,{"$f":"IF(ISBLANK(Risque[[#This Row],[Catégorie de risque]]),\"\",CONCATENATE(Risque[[#This Row],[Catégorie de risque]],3))","v":""},null,null,null,{"$f":"IF(ISBLANK(Risque[[#This Row],[Catégorie de risque]]),\"\",CONCATENATE(Risque[[#This Row],[Catégorie de risque]],4))","v":""},null,null,null,null,null,{"$f":"IF(Risque[[#This Row],[Date d''inscription du risque]]<>\"\",YEAR(Risque[[#This Row],[Date d''inscription du risque]]),\"\")","v":""}]
[null,null,{"$f":"IF(ISBLANK(Risque[[#This Row],[Catégorie de risque]]),\"\",CONCATENATE(Risque[[#This Row],[Catégorie de risque]],1))","v":""},null,null,null,null,null,{"$f":"IF(ISBLANK(Risque[[#This Row],[Catégorie de risque]]),\"\",IF(OR(ISNUMBER(SEARCH(\"RZ\",Risque[[#This Row],[Source de danger]]))=TRUE,ISNUMBER(SEARCH(\"RP\",Risque[[#This Row],[Source de danger]]))=TRUE,ISNUMBER(SEARCH(\"RZ\",Risque[[#This Row],[Risques associés]]))=TRUE,ISNUMBER(SEARCH(\"RP\",Risque[[#This Row],[Risques associés]]))=TRUE,ISNUMBER(SEARCH(\"RZ\",Risque[[#This Row],[Précision du risque\n(si liste déroulante présente)]]))=TRUE,ISNUMBER(SEARCH(\"RP\",Risque[[#This Row],[Précision du risque\n(si liste déroulante présente)]]))=TRUE),\"Oui --> Priorité d'action\",\"Non\"))","v":""},null,null,null,null,{"$f":"IF(ISBLANK(Risque[[#This Row],[Catégorie de risque]]),\"\",CONCATENATE(Risque[[#This Row],[Catégorie de risque]],2))","v":""},null,{"$f":"IF(ISBLANK(Risque[[#This Row],[Moyens de prévention]]),\"\",CONCATENATE(Risque[[#This Row],[Moyens de prévention]],1))","v":""},null,null,null,null,null,{"$f":"IF(ISBLANK(Risque[[#This Row],[Catégorie de risque]]),\"\",CONCATENATE(Risque[[#This Row],[Catégorie de risque]],3))","v":""},null,null,null,{"$f":"IF(ISBLANK(Risque[[#This Row],[Catégorie de risque]]),\"\",CONCATENATE(Risque[[#This Row],[Catégorie de risque]],4))","v":""},null,null,null,null,null,{"$f":"IF(Risque[[#This Row],[Date d''inscription du risque]]<>\"\",YEAR(Risque[[#This Row],[Date d''inscription du risque]]),\"\")","v":""}]
[null,null,{"$f":"IF(ISBLANK(Risque[[#This Row],[Catégorie de risque]]),\"\",CONCATENATE(Risque[[#This Row],[Catégorie de risque]],1))","v":""},null,null,null,null,null,{"$f":"IF(ISBLANK(Risque[[#This Row],[Catégorie de risque]]),\"\",IF(OR(ISNUMBER(SEARCH(\"RZ\",Risque[[#This Row],[Source de danger]]))=TRUE,ISNUMBER(SEARCH(\"RP\",Risque[[#This Row],[Source de danger]]))=TRUE,ISNUMBER(SEARCH(\"RZ\",Risque[[#This Row],[Risques associés]]))=TRUE,ISNUMBER(SEARCH(\"RP\",Risque[[#This Row],[Risques associés]]))=TRUE,ISNUMBER(SEARCH(\"RZ\",Risque[[#This Row],[Précision du risque\n(si liste déroulante présente)]]))=TRUE,ISNUMBER(SEARCH(\"RP\",Risque[[#This Row],[Précision du risque\n(si liste déroulante présente)]]))=TRUE),\"Oui --> Priorité d'action\",\"Non\"))","v":""},null,null,null,null,{"$f":"IF(ISBLANK(Risque[[#This Row],[Catégorie de risque]]),\"\",CONCATENATE(Risque[[#This Row],[Catégorie de risque]],2))","v":""},null,{"$f":"IF(ISBLANK(Risque[[#This Row],[Moyens de prévention]]),\"\",CONCATENATE(Risque[[#This Row],[Moyens de prévention]],1))","v":""},null,null,null,null,null,{"$f":"IF(ISBLANK(Risque[[#This Row],[Catégorie de risque]]),\"\",CONCATENATE(Risque[[#This Row],[Catégorie de risque]],3))","v":""},null,null,null,{"$f":"IF(ISBLANK(Risque[[#This Row],[Catégorie de risque]]),\"\",CONCATENATE(Risque[[#This Row],[Catégorie de risque]],4))","v":""},null,null,null,null,null,{"$f":"IF(Risque[[#This Row],[Date d''inscription du risque]]<>\"\",YEAR(Risque[[#This Row],[Date d''inscription du risque]]),\"\")","v":""}]
[null,null,{"$f":"IF(ISBLANK(Risque[[#This Row],[Catégorie de risque]]),\"\",CONCATENATE(Risque[[#This Row],[Catégorie de risque]],1))","v":""},null,null,null,null,null,{"$f":"IF(ISBLANK(Risque[[#This Row],[Catégorie de risque]]),\"\",IF(OR(ISNUMBER(SEARCH(\"RZ\",Risque[[#This Row],[Source de danger]]))=TRUE,ISNUMBER(SEARCH(\"RP\",Risque[[#This Row],[Source de danger]]))=TRUE,ISNUMBER(SEARCH(\"RZ\",Risque[[#This Row],[Risques associés]]))=TRUE,ISNUMBER(SEARCH(\"RP\",Risque[[#This Row],[Risques associés]]))=TRUE,ISNUMBER(SEARCH(\"RZ\",Risque[[#This Row],[Précision du risque\n(si liste déroulante présente)]]))=TRUE,ISNUMBER(SEARCH(\"RP\",Risque[[#This Row],[Précision du risque\n(si liste déroulante présente)]]))=TRUE),\"Oui --> Priorité d'action\",\"Non\"))","v":""},null,null,null,null,{"$f":"IF(ISBLANK(Risque[[#This Row],[Catégorie de risque]]),\"\",CONCATENATE(Risque[[#This Row],[Catégorie de risque]],2))","v":""},null,{"$f":"IF(ISBLANK(Risque[[#This Row],[Moyens de prévention]]),\"\",CONCATENATE(Risque[[#This Row],[Moyens de prévention]],1))","v":""},null,null,null,null,null,{"$f":"IF(ISBLANK(Risque[[#This Row],[Catégorie de risque]]),\"\",CONCATENATE(Risque[[#This Row],[Catégorie de risque]],3))","v":""},null,null,null,{"$f":"IF(ISBLANK(Risque[[#This Row],[Catégorie de risque]]),\"\",CONCATENATE(Risque[[#This Row],[Catégorie de risque]],4))","v":""},null,null,null,null,null,{"$f":"IF(Risque[[#This Row],[Date d''inscription du risque]]<>\"\",YEAR(Risque[[#This Row],[Date d''inscription du risque]]),\"\")","v":""}]
[null,null,{"$f":"IF(ISBLANK(Risque[[#This Row],[Catégorie de risque]]),\"\",CONCATENATE(Risque[[#This Row],[Catégorie de risque]],1))","v":""},null,null,null,null,null,{"$f":"IF(ISBLANK(Risque[[#This Row],[Catégorie de risque]]),\"\",IF(OR(ISNUMBER(SEARCH(\"RZ\",Risque[[#This Row],[Source de danger]]))=TRUE,ISNUMBER(SEARCH(\"RP\",Risque[[#This Row],[Source de danger]]))=TRUE,ISNUMBER(SEARCH(\"RZ\",Risque[[#This Row],[Risques associés]]))=TRUE,ISNUMBER(SEARCH(\"RP\",Risque[[#This Row],[Risques associés]]))=TRUE,ISNUMBER(SEARCH(\"RZ\",Risque[[#This Row],[Précision du risque\n(si liste déroulante présente)]]))=TRUE,ISNUMBER(SEARCH(\"RP\",Risque[[#This Row],[Précision du risque\n(si liste déroulante présente)]]))=TRUE),\"Oui --> Priorité d'action\",\"Non\"))","v":""},null,null,null,null,{"$f":"IF(ISBLANK(Risque[[#This Row],[Catégorie de risque]]),\"\",CONCATENATE(Risque[[#This Row],[Catégorie de risque]],2))","v":""},null,{"$f":"IF(ISBLANK(Risque[[#This Row],[Moyens de prévention]]),\"\",CONCATENATE(Risque[[#This Row],[Moyens de prévention]],1))","v":""},null,null,null,null,null,{"$f":"IF(ISBLANK(Risque[[#This Row],[Catégorie de risque]]),\"\",CONCATENATE(Risque[[#This Row],[Catégorie de risque]],3))","v":""},null,null,null,{"$f":"IF(ISBLANK(Risque[[#This Row],[Catégorie de risque]]),\"\",CONCATENATE(Risque[[#This Row],[Catégorie de risque]],4))","v":""},null,null,null,null,null,{"$f":"IF(Risque[[#This Row],[Date d''inscription du risque]]<>\"\",YEAR(Risque[[#This Row],[Date d''inscription du risque]]),\"\")","v":""}]
[null,null,{"$f":"IF(ISBLANK(Risque[[#This Row],[Catégorie de risque]]),\"\",CONCATENATE(Risque[[#This Row],[Catégorie de risque]],1))","v":""},null,null,null,null,null,{"$f":"IF(ISBLANK(Risque[[#This Row],[Catégorie de risque]]),\"\",IF(OR(ISNUMBER(SEARCH(\"RZ\",Risque[[#This Row],[Source de danger]]))=TRUE,ISNUMBER(SEARCH(\"RP\",Risque[[#This Row],[Source de danger]]))=TRUE,ISNUMBER(SEARCH(\"RZ\",Risque[[#This Row],[Risques associés]]))=TRUE,ISNUMBER(SEARCH(\"RP\",Risque[[#This Row],[Risques associés]]))=TRUE,ISNUMBER(SEARCH(\"RZ\",Risque[[#This Row],[Précision du risque\n(si liste déroulante présente)]]))=TRUE,ISNUMBER(SEARCH(\"RP\",Risque[[#This Row],[Précision du risque\n(si liste déroulante présente)]]))=TRUE),\"Oui --> Priorité d'action\",\"Non\"))","v":""},null,null,null,null,{"$f":"IF(ISBLANK(Risque[[#This Row],[Catégorie de risque]]),\"\",CONCATENATE(Risque[[#This Row],[Catégorie de risque]],2))","v":""},null,{"$f":"IF(ISBLANK(Risque[[#This Row],[Moyens de prévention]]),\"\",CONCATENATE(Risque[[#This Row],[Moyens de prévention]],1))","v":""},null,null,null,null,null,{"$f":"IF(ISBLANK(Risque[[#This Row],[Catégorie de risque]]),\"\",CONCATENATE(Risque[[#This Row],[Catégorie de risque]],3))","v":""},null,null,null,{"$f":"IF(ISBLANK(Risque[[#This Row],[Catégorie de risque]]),\"\",CONCATENATE(Risque[[#This Row],[Catégorie de risque]],4))","v":""},null,null,null,null,null,{"$f":"IF(Risque[[#This Row],[Date d''inscription du risque]]<>\"\",YEAR(Risque[[#This Row],[Date d''inscription du risque]]),\"\")","v":""}]
[null,null,{"$f":"IF(ISBLANK(Risque[[#This Row],[Catégorie de risque]]),\"\",CONCATENATE(Risque[[#This Row],[Catégorie de risque]],1))","v":""},null,null,null,null,null,{"$f":"IF(ISBLANK(Risque[[#This Row],[Catégorie de risque]]),\"\",IF(OR(ISNUMBER(SEARCH(\"RZ\",Risque[[#This Row],[Source de danger]]))=TRUE,ISNUMBER(SEARCH(\"RP\",Risque[[#This Row],[Source de danger]]))=TRUE,ISNUMBER(SEARCH(\"RZ\",Risque[[#This Row],[Risques associés]]))=TRUE,ISNUMBER(SEARCH(\"RP\",Risque[[#This Row],[Risques associés]]))=TRUE,ISNUMBER(SEARCH(\"RZ\",Risque[[#This Row],[Précision du risque\n(si liste déroulante présente)]]))=TRUE,ISNUMBER(SEARCH(\"RP\",Risque[[#This Row],[Précision du risque\n(si liste déroulante présente)]]))=TRUE),\"Oui --> Priorité d'action\",\"Non\"))","v":""},null,null,null,null,{"$f":"IF(ISBLANK(Risque[[#This Row],[Catégorie de risque]]),\"\",CONCATENATE(Risque[[#This Row],[Catégorie de risque]],2))","v":""},null,{"$f":"IF(ISBLANK(Risque[[#This Row],[Moyens de prévention]]),\"\",CONCATENATE(Risque[[#This Row],[Moyens de prévention]],1))","v":""},null,null,null,null,null,{"$f":"IF(ISBLANK(Risque[[#This Row],[Catégorie de risque]]),\"\",CONCATENATE(Risque[[#This Row],[Catégorie de risque]],3))","v":""},null,null,null,{"$f":"IF(ISBLANK(Risque[[#This Row],[Catégorie de risque]]),\"\",CONCATENATE(Risque[[#This Row],[Catégorie de risque]],4))","v":""},null,null,null,null,null,{"$f":"IF(Risque[[#This Row],[Date d''inscription du risque]]<>\"\",YEAR(Risque[[#This Row],[Date d''inscription du risque]]),\"\")","v":""}]
[null,null,{"$f":"IF(ISBLANK(Risque[[#This Row],[Catégorie de risque]]),\"\",CONCATENATE(Risque[[#This Row],[Catégorie de risque]],1))","v":""},null,null,null,null,null,{"$f":"IF(ISBLANK(Risque[[#This Row],[Catégorie de risque]]),\"\",IF(OR(ISNUMBER(SEARCH(\"RZ\",Risque[[#This Row],[Source de danger]]))=TRUE,ISNUMBER(SEARCH(\"RP\",Risque[[#This Row],[Source de danger]]))=TRUE,ISNUMBER(SEARCH(\"RZ\",Risque[[#This Row],[Risques associés]]))=TRUE,ISNUMBER(SEARCH(\"RP\",Risque[[#This Row],[Risques associés]]))=TRUE,ISNUMBER(SEARCH(\"RZ\",Risque[[#This Row],[Précision du risque\n(si liste déroulante présente)]]))=TRUE,ISNUMBER(SEARCH(\"RP\",Risque[[#This Row],[Précision du risque\n(si liste déroulante présente)]]))=TRUE),\"Oui --> Priorité d'action\",\"Non\"))","v":""},null,null,null,null,{"$f":"IF(ISBLANK(Risque[[#This Row],[Catégorie de risque]]),\"\",CONCATENATE(Risque[[#This Row],[Catégorie de risque]],2))","v":""},null,{"$f":"IF(ISBLANK(Risque[[#This Row],[Moyens de prévention]]),\"\",CONCATENATE(Risque[[#This Row],[Moyens de prévention]],1))","v":""},null,null,null,null,null,{"$f":"IF(ISBLANK(Risque[[#This Row],[Catégorie de risque]]),\"\",CONCATENATE(Risque[[#This Row],[Catégorie de risque]],3))","v":""},null,null,null,{"$f":"IF(ISBLANK(Risque[[#This Row],[Catégorie de risque]]),\"\",CONCATENATE(Risque[[#This Row],[Catégorie de risque]],4))","v":""},null,null,null,null,null,{"$f":"IF(Risque[[#This Row],[Date d''inscription du risque]]<>\"\",YEAR(Risque[[#This Row],[Date d''inscription du risque]]),\"\")","v":""}]
[null,null,{"$f":"IF(ISBLANK(Risque[[#This Row],[Catégorie de risque]]),\"\",CONCATENATE(Risque[[#This Row],[Catégorie de risque]],1))","v":""},null,null,null,null,null,{"$f":"IF(ISBLANK(Risque[[#This Row],[Catégorie de risque]]),\"\",IF(OR(ISNUMBER(SEARCH(\"RZ\",Risque[[#This Row],[Source de danger]]))=TRUE,ISNUMBER(SEARCH(\"RP\",Risque[[#This Row],[Source de danger]]))=TRUE,ISNUMBER(SEARCH(\"RZ\",Risque[[#This Row],[Risques associés]]))=TRUE,ISNUMBER(SEARCH(\"RP\",Risque[[#This Row],[Risques associés]]))=TRUE,ISNUMBER(SEARCH(\"RZ\",Risque[[#This Row],[Précision du risque\n(si liste déroulante présente)]]))=TRUE,ISNUMBER(SEARCH(\"RP\",Risque[[#This Row],[Précision du risque\n(si liste déroulante présente)]]))=TRUE),\"Oui --> Priorité d'action\",\"Non\"))","v":""},null,null,null,null,{"$f":"IF(ISBLANK(Risque[[#This Row],[Catégorie de risque]]),\"\",CONCATENATE(Risque[[#This Row],[Catégorie de risque]],2))","v":""},null,{"$f":"IF(ISBLANK(Risque[[#This Row],[Moyens de prévention]]),\"\",CONCATENATE(Risque[[#This Row],[Moyens de prévention]],1))","v":""},null,null,null,null,null,{"$f":"IF(ISBLANK(Risque[[#This Row],[Catégorie de risque]]),\"\",CONCATENATE(Risque[[#This Row],[Catégorie de risque]],3))","v":""},null,null,null,{"$f":"IF(ISBLANK(Risque[[#This Row],[Catégorie de risque]]),\"\",CONCATENATE(Risque[[#This Row],[Catégorie de risque]],4))","v":""},null,null,null,null,null,{"$f":"IF(Risque[[#This Row],[Date d''inscription du risque]]<>\"\",YEAR(Risque[[#This Row],[Date d''inscription du risque]]),\"\")","v":""}]
[null,null,{"$f":"IF(ISBLANK(Risque[[#This Row],[Catégorie de risque]]),\"\",CONCATENATE(Risque[[#This Row],[Catégorie de risque]],1))","v":""},null,null,null,null,null,{"$f":"IF(ISBLANK(Risque[[#This Row],[Catégorie de risque]]),\"\",IF(OR(ISNUMBER(SEARCH(\"RZ\",Risque[[#This Row],[Source de danger]]))=TRUE,ISNUMBER(SEARCH(\"RP\",Risque[[#This Row],[Source de danger]]))=TRUE,ISNUMBER(SEARCH(\"RZ\",Risque[[#This Row],[Risques associés]]))=TRUE,ISNUMBER(SEARCH(\"RP\",Risque[[#This Row],[Risques associés]]))=TRUE,ISNUMBER(SEARCH(\"RZ\",Risque[[#This Row],[Précision du risque\n(si liste déroulante présente)]]))=TRUE,ISNUMBER(SEARCH(\"RP\",Risque[[#This Row],[Précision du risque\n(si liste déroulante présente)]]))=TRUE),\"Oui --> Priorité d'action\",\"Non\"))","v":""},null,null,null,null,{"$f":"IF(ISBLANK(Risque[[#This Row],[Catégorie de risque]]),\"\",CONCATENATE(Risque[[#This Row],[Catégorie de risque]],2))","v":""},null,{"$f":"IF(ISBLANK(Risque[[#This Row],[Moyens de prévention]]),\"\",CONCATENATE(Risque[[#This Row],[Moyens de prévention]],1))","v":""},null,null,null,null,null,{"$f":"IF(ISBLANK(Risque[[#This Row],[Catégorie de risque]]),\"\",CONCATENATE(Risque[[#This Row],[Catégorie de risque]],3))","v":""},null,null,null,{"$f":"IF(ISBLANK(Risque[[#This Row],[Catégorie de risque]]),\"\",CONCATENATE(Risque[[#This Row],[Catégorie de risque]],4))","v":""},null,null,null,null,null,{"$f":"IF(Risque[[#This Row],[Date d''inscription du risque]]<>\"\",YEAR(Risque[[#This Row],[Date d''inscription du risque]]),\"\")","v":""}]
[null,null,{"$f":"IF(ISBLANK(Risque[[#This Row],[Catégorie de risque]]),\"\",CONCATENATE(Risque[[#This Row],[Catégorie de risque]],1))","v":""},null,null,null,null,null,{"$f":"IF(ISBLANK(Risque[[#This Row],[Catégorie de risque]]),\"\",IF(OR(ISNUMBER(SEARCH(\"RZ\",Risque[[#This Row],[Source de danger]]))=TRUE,ISNUMBER(SEARCH(\"RP\",Risque[[#This Row],[Source de danger]]))=TRUE,ISNUMBER(SEARCH(\"RZ\",Risque[[#This Row],[Risques associés]]))=TRUE,ISNUMBER(SEARCH(\"RP\",Risque[[#This Row],[Risques associés]]))=TRUE,ISNUMBER(SEARCH(\"RZ\",Risque[[#This Row],[Précision du risque\n(si liste déroulante présente)]]))=TRUE,ISNUMBER(SEARCH(\"RP\",Risque[[#This Row],[Précision du risque\n(si liste déroulante présente)]]))=TRUE),\"Oui --> Priorité d'action\",\"Non\"))","v":""},null,null,null,null,{"$f":"IF(ISBLANK(Risque[[#This Row],[Catégorie de risque]]),\"\",CONCATENATE(Risque[[#This Row],[Catégorie de risque]],2))","v":""},null,{"$f":"IF(ISBLANK(Risque[[#This Row],[Moyens de prévention]]),\"\",CONCATENATE(Risque[[#This Row],[Moyens de prévention]],1))","v":""},null,null,null,null,null,{"$f":"IF(ISBLANK(Risque[[#This Row],[Catégorie de risque]]),\"\",CONCATENATE(Risque[[#This Row],[Catégorie de risque]],3))","v":""},null,null,null,{"$f":"IF(ISBLANK(Risque[[#This Row],[Catégorie de risque]]),\"\",CONCATENATE(Risque[[#This Row],[Catégorie de risque]],4))","v":""},null,null,null,null,null,{"$f":"IF(Risque[[#This Row],[Date d''inscription du risque]]<>\"\",YEAR(Risque[[#This Row],[Date d''inscription du risque]]),\"\")","v":""}]
[null,null,{"$f":"IF(ISBLANK(Risque[[#This Row],[Catégorie de risque]]),\"\",CONCATENATE(Risque[[#This Row],[Catégorie de risque]],1))","v":""},null,null,null,null,null,{"$f":"IF(ISBLANK(Risque[[#This Row],[Catégorie de risque]]),\"\",IF(OR(ISNUMBER(SEARCH(\"RZ\",Risque[[#This Row],[Source de danger]]))=TRUE,ISNUMBER(SEARCH(\"RP\",Risque[[#This Row],[Source de danger]]))=TRUE,ISNUMBER(SEARCH(\"RZ\",Risque[[#This Row],[Risques associés]]))=TRUE,ISNUMBER(SEARCH(\"RP\",Risque[[#This Row],[Risques associés]]))=TRUE,ISNUMBER(SEARCH(\"RZ\",Risque[[#This Row],[Précision du risque\n(si liste déroulante présente)]]))=TRUE,ISNUMBER(SEARCH(\"RP\",Risque[[#This Row],[Précision du risque\n(si liste déroulante présente)]]))=TRUE),\"Oui --> Priorité d'action\",\"Non\"))","v":""},null,null,null,null,{"$f":"IF(ISBLANK(Risque[[#This Row],[Catégorie de risque]]),\"\",CONCATENATE(Risque[[#This Row],[Catégorie de risque]],2))","v":""},null,{"$f":"IF(ISBLANK(Risque[[#This Row],[Moyens de prévention]]),\"\",CONCATENATE(Risque[[#This Row],[Moyens de prévention]],1))","v":""},null,null,null,null,null,{"$f":"IF(ISBLANK(Risque[[#This Row],[Catégorie de risque]]),\"\",CONCATENATE(Risque[[#This Row],[Catégorie de risque]],3))","v":""},null,null,null,{"$f":"IF(ISBLANK(Risque[[#This Row],[Catégorie de risque]]),\"\",CONCATENATE(Risque[[#This Row],[Catégorie de risque]],4))","v":""},null,null,null,null,null,{"$f":"IF(Risque[[#This Row],[Date d''inscription du risque]]<>\"\",YEAR(Risque[[#This Row],[Date d''inscription du risque]]),\"\")","v":""}]
[null,null,{"$f":"IF(ISBLANK(Risque[[#This Row],[Catégorie de risque]]),\"\",CONCATENATE(Risque[[#This Row],[Catégorie de risque]],1))","v":""},null,null,null,null,null,{"$f":"IF(ISBLANK(Risque[[#This Row],[Catégorie de risque]]),\"\",IF(OR(ISNUMBER(SEARCH(\"RZ\",Risque[[#This Row],[Source de danger]]))=TRUE,ISNUMBER(SEARCH(\"RP\",Risque[[#This Row],[Source de danger]]))=TRUE,ISNUMBER(SEARCH(\"RZ\",Risque[[#This Row],[Risques associés]]))=TRUE,ISNUMBER(SEARCH(\"RP\",Risque[[#This Row],[Risques associés]]))=TRUE,ISNUMBER(SEARCH(\"RZ\",Risque[[#This Row],[Précision du risque\n(si liste déroulante présente)]]))=TRUE,ISNUMBER(SEARCH(\"RP\",Risque[[#This Row],[Précision du risque\n(si liste déroulante présente)]]))=TRUE),\"Oui --> Priorité d'action\",\"Non\"))","v":""},null,null,null,null,{"$f":"IF(ISBLANK(Risque[[#This Row],[Catégorie de risque]]),\"\",CONCATENATE(Risque[[#This Row],[Catégorie de risque]],2))","v":""},null,{"$f":"IF(ISBLANK(Risque[[#This Row],[Moyens de prévention]]),\"\",CONCATENATE(Risque[[#This Row],[Moyens de prévention]],1))","v":""},null,null,null,null,null,{"$f":"IF(ISBLANK(Risque[[#This Row],[Catégorie de risque]]),\"\",CONCATENATE(Risque[[#This Row],[Catégorie de risque]],3))","v":""},null,null,null,{"$f":"IF(ISBLANK(Risque[[#This Row],[Catégorie de risque]]),\"\",CONCATENATE(Risque[[#This Row],[Catégorie de risque]],4))","v":""},null,null,null,null,null,{"$f":"IF(Risque[[#This Row],[Date d''inscription du risque]]<>\"\",YEAR(Risque[[#This Row],[Date d''inscription du risque]]),\"\")","v":""}]
[null,null,{"$f":"IF(ISBLANK(Risque[[#This Row],[Catégorie de risque]]),\"\",CONCATENATE(Risque[[#This Row],[Catégorie de risque]],1))","v":""},null,null,null,null,null,{"$f":"IF(ISBLANK(Risque[[#This Row],[Catégorie de risque]]),\"\",IF(OR(ISNUMBER(SEARCH(\"RZ\",Risque[[#This Row],[Source de danger]]))=TRUE,ISNUMBER(SEARCH(\"RP\",Risque[[#This Row],[Source de danger]]))=TRUE,ISNUMBER(SEARCH(\"RZ\",Risque[[#This Row],[Risques associés]]))=TRUE,ISNUMBER(SEARCH(\"RP\",Risque[[#This Row],[Risques associés]]))=TRUE,ISNUMBER(SEARCH(\"RZ\",Risque[[#This Row],[Précision du risque\n(si liste déroulante présente)]]))=TRUE,ISNUMBER(SEARCH(\"RP\",Risque[[#This Row],[Précision du risque\n(si liste déroulante présente)]]))=TRUE),\"Oui --> Priorité d'action\",\"Non\"))","v":""},null,null,null,null,{"$f":"IF(ISBLANK(Risque[[#This Row],[Catégorie de risque]]),\"\",CONCATENATE(Risque[[#This Row],[Catégorie de risque]],2))","v":""},null,{"$f":"IF(ISBLANK(Risque[[#This Row],[Moyens de prévention]]),\"\",CONCATENATE(Risque[[#This Row],[Moyens de prévention]],1))","v":""},null,null,null,null,null,{"$f":"IF(ISBLANK(Risque[[#This Row],[Catégorie de risque]]),\"\",CONCATENATE(Risque[[#This Row],[Catégorie de risque]],3))","v":""},null,null,null,{"$f":"IF(ISBLANK(Risque[[#This Row],[Catégorie de risque]]),\"\",CONCATENATE(Risque[[#This Row],[Catégorie de risque]],4))","v":""},null,null,null,null,null,{"$f":"IF(Risque[[#This Row],[Date d''inscription du risque]]<>\"\",YEAR(Risque[[#This Row],[Date d''inscription du risque]]),\"\")","v":""}]
[null,null,{"$f":"IF(ISBLANK(Risque[[#This Row],[Catégorie de risque]]),\"\",CONCATENATE(Risque[[#This Row],[Catégorie de risque]],1))","v":""},null,null,null,null,null,{"$f":"IF(ISBLANK(Risque[[#This Row],[Catégorie de risque]]),\"\",IF(OR(ISNUMBER(SEARCH(\"RZ\",Risque[[#This Row],[Source de danger]]))=TRUE,ISNUMBER(SEARCH(\"RP\",Risque[[#This Row],[Source de danger]]))=TRUE,ISNUMBER(SEARCH(\"RZ\",Risque[[#This Row],[Risques associés]]))=TRUE,ISNUMBER(SEARCH(\"RP\",Risque[[#This Row],[Risques associés]]))=TRUE,ISNUMBER(SEARCH(\"RZ\",Risque[[#This Row],[Précision du risque\n(si liste déroulante présente)]]))=TRUE,ISNUMBER(SEARCH(\"RP\",Risque[[#This Row],[Précision du risque\n(si liste déroulante présente)]]))=TRUE),\"Oui --> Priorité d'action\",\"Non\"))","v":""},null,null,null,null,{"$f":"IF(ISBLANK(Risque[[#This Row],[Catégorie de risque]]),\"\",CONCATENATE(Risque[[#This Row],[Catégorie de risque]],2))","v":""},null,{"$f":"IF(ISBLANK(Risque[[#This Row],[Moyens de prévention]]),\"\",CONCATENATE(Risque[[#This Row],[Moyens de prévention]],1))","v":""},null,null,null,null,null,{"$f":"IF(ISBLANK(Risque[[#This Row],[Catégorie de risque]]),\"\",CONCATENATE(Risque[[#This Row],[Catégorie de risque]],3))","v":""},null,null,null,{"$f":"IF(ISBLANK(Risque[[#This Row],[Catégorie de risque]]),\"\",CONCATENATE(Risque[[#This Row],[Catégorie de risque]],4))","v":""},null,null,null,null,null,{"$f":"IF(Risque[[#This Row],[Date d''inscription du risque]]<>\"\",YEAR(Risque[[#This Row],[Date d''inscription du risque]]),\"\")","v":""}]
[null,null,{"$f":"IF(ISBLANK(Risque[[#This Row],[Catégorie de risque]]),\"\",CONCATENATE(Risque[[#This Row],[Catégorie de risque]],1))","v":""},null,null,null,null,null,{"$f":"IF(ISBLANK(Risque[[#This Row],[Catégorie de risque]]),\"\",IF(OR(ISNUMBER(SEARCH(\"RZ\",Risque[[#This Row],[Source de danger]]))=TRUE,ISNUMBER(SEARCH(\"RP\",Risque[[#This Row],[Source de danger]]))=TRUE,ISNUMBER(SEARCH(\"RZ\",Risque[[#This Row],[Risques associés]]))=TRUE,ISNUMBER(SEARCH(\"RP\",Risque[[#This Row],[Risques associés]]))=TRUE,ISNUMBER(SEARCH(\"RZ\",Risque[[#This Row],[Précision du risque\n(si liste déroulante présente)]]))=TRUE,ISNUMBER(SEARCH(\"RP\",Risque[[#This Row],[Précision du risque\n(si liste déroulante présente)]]))=TRUE),\"Oui --> Priorité d'action\",\"Non\"))","v":""},null,null,null,null,{"$f":"IF(ISBLANK(Risque[[#This Row],[Catégorie de risque]]),\"\",CONCATENATE(Risque[[#This Row],[Catégorie de risque]],2))","v":""},null,{"$f":"IF(ISBLANK(Risque[[#This Row],[Moyens de prévention]]),\"\",CONCATENATE(Risque[[#This Row],[Moyens de prévention]],1))","v":""},null,null,null,null,null,{"$f":"IF(ISBLANK(Risque[[#This Row],[Catégorie de risque]]),\"\",CONCATENATE(Risque[[#This Row],[Catégorie de risque]],3))","v":""},null,null,null,{"$f":"IF(ISBLANK(Risque[[#This Row],[Catégorie de risque]]),\"\",CONCATENATE(Risque[[#This Row],[Catégorie de risque]],4))","v":""},null,null,null,null,null,{"$f":"IF(Risque[[#This Row],[Date d''inscription du risque]]<>\"\",YEAR(Risque[[#This Row],[Date d''inscription du risque]]),\"\")","v":""}]
[null,null,{"$f":"IF(ISBLANK(Risque[[#This Row],[Catégorie de risque]]),\"\",CONCATENATE(Risque[[#This Row],[Catégorie de risque]],1))","v":""},null,null,null,null,null,{"$f":"IF(ISBLANK(Risque[[#This Row],[Catégorie de risque]]),\"\",IF(OR(ISNUMBER(SEARCH(\"RZ\",Risque[[#This Row],[Source de danger]]))=TRUE,ISNUMBER(SEARCH(\"RP\",Risque[[#This Row],[Source de danger]]))=TRUE,ISNUMBER(SEARCH(\"RZ\",Risque[[#This Row],[Risques associés]]))=TRUE,ISNUMBER(SEARCH(\"RP\",Risque[[#This Row],[Risques associés]]))=TRUE,ISNUMBER(SEARCH(\"RZ\",Risque[[#This Row],[Précision du risque\n(si liste déroulante présente)]]))=TRUE,ISNUMBER(SEARCH(\"RP\",Risque[[#This Row],[Précision du risque\n(si liste déroulante présente)]]))=TRUE),\"Oui --> Priorité d'action\",\"Non\"))","v":""},null,null,null,null,{"$f":"IF(ISBLANK(Risque[[#This Row],[Catégorie de risque]]),\"\",CONCATENATE(Risque[[#This Row],[Catégorie de risque]],2))","v":""},null,{"$f":"IF(ISBLANK(Risque[[#This Row],[Moyens de prévention]]),\"\",CONCATENATE(Risque[[#This Row],[Moyens de prévention]],1))","v":""},null,null,null,null,null,{"$f":"IF(ISBLANK(Risque[[#This Row],[Catégorie de risque]]),\"\",CONCATENATE(Risque[[#This Row],[Catégorie de risque]],3))","v":""},null,null,null,{"$f":"IF(ISBLANK(Risque[[#This Row],[Catégorie de risque]]),\"\",CONCATENATE(Risque[[#This Row],[Catégorie de risque]],4))","v":""},null,null,null,null,null,{"$f":"IF(Risque[[#This Row],[Date d''inscription du risque]]<>\"\",YEAR(Risque[[#This Row],[Date d''inscription du risque]]),\"\")","v":""}]
[null,null,{"$f":"IF(ISBLANK(Risque[[#This Row],[Catégorie de risque]]),\"\",CONCATENATE(Risque[[#This Row],[Catégorie de risque]],1))","v":""},null,null,null,null,null,{"$f":"IF(ISBLANK(Risque[[#This Row],[Catégorie de risque]]),\"\",IF(OR(ISNUMBER(SEARCH(\"RZ\",Risque[[#This Row],[Source de danger]]))=TRUE,ISNUMBER(SEARCH(\"RP\",Risque[[#This Row],[Source de danger]]))=TRUE,ISNUMBER(SEARCH(\"RZ\",Risque[[#This Row],[Risques associés]]))=TRUE,ISNUMBER(SEARCH(\"RP\",Risque[[#This Row],[Risques associés]]))=TRUE,ISNUMBER(SEARCH(\"RZ\",Risque[[#This Row],[Précision du risque\n(si liste déroulante présente)]]))=TRUE,ISNUMBER(SEARCH(\"RP\",Risque[[#This Row],[Précision du risque\n(si liste déroulante présente)]]))=TRUE),\"Oui --> Priorité d'action\",\"Non\"))","v":""},null,null,null,null,{"$f":"IF(ISBLANK(Risque[[#This Row],[Catégorie de risque]]),\"\",CONCATENATE(Risque[[#This Row],[Catégorie de risque]],2))","v":""},null,{"$f":"IF(ISBLANK(Risque[[#This Row],[Moyens de prévention]]),\"\",CONCATENATE(Risque[[#This Row],[Moyens de prévention]],1))","v":""},null,null,null,null,null,{"$f":"IF(ISBLANK(Risque[[#This Row],[Catégorie de risque]]),\"\",CONCATENATE(Risque[[#This Row],[Catégorie de risque]],3))","v":""},null,null,null,{"$f":"IF(ISBLANK(Risque[[#This Row],[Catégorie de risque]]),\"\",CONCATENATE(Risque[[#This Row],[Catégorie de risque]],4))","v":""},null,null,null,null,null,{"$f":"IF(Risque[[#This Row],[Date d''inscription du risque]]<>\"\",YEAR(Risque[[#This Row],[Date d''inscription du risque]]),\"\")","v":""}]
[null,null,{"$f":"IF(ISBLANK(Risque[[#This Row],[Catégorie de risque]]),\"\",CONCATENATE(Risque[[#This Row],[Catégorie de risque]],1))","v":""},null,null,null,null,null,{"$f":"IF(ISBLANK(Risque[[#This Row],[Catégorie de risque]]),\"\",IF(OR(ISNUMBER(SEARCH(\"RZ\",Risque[[#This Row],[Source de danger]]))=TRUE,ISNUMBER(SEARCH(\"RP\",Risque[[#This Row],[Source de danger]]))=TRUE,ISNUMBER(SEARCH(\"RZ\",Risque[[#This Row],[Risques associés]]))=TRUE,ISNUMBER(SEARCH(\"RP\",Risque[[#This Row],[Risques associés]]))=TRUE,ISNUMBER(SEARCH(\"RZ\",Risque[[#This Row],[Précision du risque\n(si liste déroulante présente)]]))=TRUE,ISNUMBER(SEARCH(\"RP\",Risque[[#This Row],[Précision du risque\n(si liste déroulante présente)]]))=TRUE),\"Oui --> Priorité d'action\",\"Non\"))","v":""},null,null,null,null,{"$f":"IF(ISBLANK(Risque[[#This Row],[Catégorie de risque]]),\"\",CONCATENATE(Risque[[#This Row],[Catégorie de risque]],2))","v":""},null,{"$f":"IF(ISBLANK(Risque[[#This Row],[Moyens de prévention]]),\"\",CONCATENATE(Risque[[#This Row],[Moyens de prévention]],1))","v":""},null,null,null,null,null,{"$f":"IF(ISBLANK(Risque[[#This Row],[Catégorie de risque]]),\"\",CONCATENATE(Risque[[#This Row],[Catégorie de risque]],3))","v":""},null,null,null,{"$f":"IF(ISBLANK(Risque[[#This Row],[Catégorie de risque]]),\"\",CONCATENATE(Risque[[#This Row],[Catégorie de risque]],4))","v":""},null,null,null,null,null,{"$f":"IF(Risque[[#This Row],[Date d''inscription du risque]]<>\"\",YEAR(Risque[[#This Row],[Date d''inscription du risque]]),\"\")","v":""}]
[null,null,{"$f":"IF(ISBLANK(Risque[[#This Row],[Catégorie de risque]]),\"\",CONCATENATE(Risque[[#This Row],[Catégorie de risque]],1))","v":""},null,null,null,null,null,{"$f":"IF(ISBLANK(Risque[[#This Row],[Catégorie de risque]]),\"\",IF(OR(ISNUMBER(SEARCH(\"RZ\",Risque[[#This Row],[Source de danger]]))=TRUE,ISNUMBER(SEARCH(\"RP\",Risque[[#This Row],[Source de danger]]))=TRUE,ISNUMBER(SEARCH(\"RZ\",Risque[[#This Row],[Risques associés]]))=TRUE,ISNUMBER(SEARCH(\"RP\",Risque[[#This Row],[Risques associés]]))=TRUE,ISNUMBER(SEARCH(\"RZ\",Risque[[#This Row],[Précision du risque\n(si liste déroulante présente)]]))=TRUE,ISNUMBER(SEARCH(\"RP\",Risque[[#This Row],[Précision du risque\n(si liste déroulante présente)]]))=TRUE),\"Oui --> Priorité d'action\",\"Non\"))","v":""},null,null,null,null,{"$f":"IF(ISBLANK(Risque[[#This Row],[Catégorie de risque]]),\"\",CONCATENATE(Risque[[#This Row],[Catégorie de risque]],2))","v":""},null,{"$f":"IF(ISBLANK(Risque[[#This Row],[Moyens de prévention]]),\"\",CONCATENATE(Risque[[#This Row],[Moyens de prévention]],1))","v":""},null,null,null,null,null,{"$f":"IF(ISBLANK(Risque[[#This Row],[Catégorie de risque]]),\"\",CONCATENATE(Risque[[#This Row],[Catégorie de risque]],3))","v":""},null,null,null,{"$f":"IF(ISBLANK(Risque[[#This Row],[Catégorie de risque]]),\"\",CONCATENATE(Risque[[#This Row],[Catégorie de risque]],4))","v":""},null,null,null,null,null,{"$f":"IF(Risque[[#This Row],[Date d''inscription du risque]]<>\"\",YEAR(Risque[[#This Row],[Date d''inscription du risque]]),\"\")","v":""}]
[null,null,{"$f":"IF(ISBLANK(Risque[[#This Row],[Catégorie de risque]]),\"\",CONCATENATE(Risque[[#This Row],[Catégorie de risque]],1))","v":""},null,null,null,null,null,{"$f":"IF(ISBLANK(Risque[[#This Row],[Catégorie de risque]]),\"\",IF(OR(ISNUMBER(SEARCH(\"RZ\",Risque[[#This Row],[Source de danger]]))=TRUE,ISNUMBER(SEARCH(\"RP\",Risque[[#This Row],[Source de danger]]))=TRUE,ISNUMBER(SEARCH(\"RZ\",Risque[[#This Row],[Risques associés]]))=TRUE,ISNUMBER(SEARCH(\"RP\",Risque[[#This Row],[Risques associés]]))=TRUE,ISNUMBER(SEARCH(\"RZ\",Risque[[#This Row],[Précision du risque\n(si liste déroulante présente)]]))=TRUE,ISNUMBER(SEARCH(\"RP\",Risque[[#This Row],[Précision du risque\n(si liste déroulante présente)]]))=TRUE),\"Oui --> Priorité d'action\",\"Non\"))","v":""},null,null,null,null,{"$f":"IF(ISBLANK(Risque[[#This Row],[Catégorie de risque]]),\"\",CONCATENATE(Risque[[#This Row],[Catégorie de risque]],2))","v":""},null,{"$f":"IF(ISBLANK(Risque[[#This Row],[Moyens de prévention]]),\"\",CONCATENATE(Risque[[#This Row],[Moyens de prévention]],1))","v":""},null,null,null,null,null,{"$f":"IF(ISBLANK(Risque[[#This Row],[Catégorie de risque]]),\"\",CONCATENATE(Risque[[#This Row],[Catégorie de risque]],3))","v":""},null,null,null,{"$f":"IF(ISBLANK(Risque[[#This Row],[Catégorie de risque]]),\"\",CONCATENATE(Risque[[#This Row],[Catégorie de risque]],4))","v":""},null,null,null,null,null,{"$f":"IF(Risque[[#This Row],[Date d''inscription du risque]]<>\"\",YEAR(Risque[[#This Row],[Date d''inscription du risque]]),\"\")","v":""}]
[null,null,{"$f":"IF(ISBLANK(Risque[[#This Row],[Catégorie de risque]]),\"\",CONCATENATE(Risque[[#This Row],[Catégorie de risque]],1))","v":""},null,null,null,null,null,{"$f":"IF(ISBLANK(Risque[[#This Row],[Catégorie de risque]]),\"\",IF(OR(ISNUMBER(SEARCH(\"RZ\",Risque[[#This Row],[Source de danger]]))=TRUE,ISNUMBER(SEARCH(\"RP\",Risque[[#This Row],[Source de danger]]))=TRUE,ISNUMBER(SEARCH(\"RZ\",Risque[[#This Row],[Risques associés]]))=TRUE,ISNUMBER(SEARCH(\"RP\",Risque[[#This Row],[Risques associés]]))=TRUE,ISNUMBER(SEARCH(\"RZ\",Risque[[#This Row],[Précision du risque\n(si liste déroulante présente)]]))=TRUE,ISNUMBER(SEARCH(\"RP\",Risque[[#This Row],[Précision du risque\n(si liste déroulante présente)]]))=TRUE),\"Oui --> Priorité d'action\",\"Non\"))","v":""},null,null,null,null,{"$f":"IF(ISBLANK(Risque[[#This Row],[Catégorie de risque]]),\"\",CONCATENATE(Risque[[#This Row],[Catégorie de risque]],2))","v":""},null,{"$f":"IF(ISBLANK(Risque[[#This Row],[Moyens de prévention]]),\"\",CONCATENATE(Risque[[#This Row],[Moyens de prévention]],1))","v":""},null,null,null,null,null,{"$f":"IF(ISBLANK(Risque[[#This Row],[Catégorie de risque]]),\"\",CONCATENATE(Risque[[#This Row],[Catégorie de risque]],3))","v":""},null,null,null,{"$f":"IF(ISBLANK(Risque[[#This Row],[Catégorie de risque]]),\"\",CONCATENATE(Risque[[#This Row],[Catégorie de risque]],4))","v":""},null,null,null,null,null,{"$f":"IF(Risque[[#This Row],[Date d''inscription du risque]]<>\"\",YEAR(Risque[[#This Row],[Date d''inscription du risque]]),\"\")","v":""}]
[null,null,{"$f":"IF(ISBLANK(Risque[[#This Row],[Catégorie de risque]]),\"\",CONCATENATE(Risque[[#This Row],[Catégorie de risque]],1))","v":""},null,null,null,null,null,{"$f":"IF(ISBLANK(Risque[[#This Row],[Catégorie de risque]]),\"\",IF(OR(ISNUMBER(SEARCH(\"RZ\",Risque[[#This Row],[Source de danger]]))=TRUE,ISNUMBER(SEARCH(\"RP\",Risque[[#This Row],[Source de danger]]))=TRUE,ISNUMBER(SEARCH(\"RZ\",Risque[[#This Row],[Risques associés]]))=TRUE,ISNUMBER(SEARCH(\"RP\",Risque[[#This Row],[Risques associés]]))=TRUE,ISNUMBER(SEARCH(\"RZ\",Risque[[#This Row],[Précision du risque\n(si liste déroulante présente)]]))=TRUE,ISNUMBER(SEARCH(\"RP\",Risque[[#This Row],[Précision du risque\n(si liste déroulante présente)]]))=TRUE),\"Oui --> Priorité d'action\",\"Non\"))","v":""},null,null,null,null,{"$f":"IF(ISBLANK(Risque[[#This Row],[Catégorie de risque]]),\"\",CONCATENATE(Risque[[#This Row],[Catégorie de risque]],2))","v":""},null,{"$f":"IF(ISBLANK(Risque[[#This Row],[Moyens de prévention]]),\"\",CONCATENATE(Risque[[#This Row],[Moyens de prévention]],1))","v":""},null,null,null,null,null,{"$f":"IF(ISBLANK(Risque[[#This Row],[Catégorie de risque]]),\"\",CONCATENATE(Risque[[#This Row],[Catégorie de risque]],3))","v":""},null,null,null,{"$f":"IF(ISBLANK(Risque[[#This Row],[Catégorie de risque]]),\"\",CONCATENATE(Risque[[#This Row],[Catégorie de risque]],4))","v":""},null,null,null,null,null,{"$f":"IF(Risque[[#This Row],[Date d''inscription du risque]]<>\"\",YEAR(Risque[[#This Row],[Date d''inscription du risque]]),\"\")","v":""}]
[null,null,{"$f":"IF(ISBLANK(Risque[[#This Row],[Catégorie de risque]]),\"\",CONCATENATE(Risque[[#This Row],[Catégorie de risque]],1))","v":""},null,null,null,null,null,{"$f":"IF(ISBLANK(Risque[[#This Row],[Catégorie de risque]]),\"\",IF(OR(ISNUMBER(SEARCH(\"RZ\",Risque[[#This Row],[Source de danger]]))=TRUE,ISNUMBER(SEARCH(\"RP\",Risque[[#This Row],[Source de danger]]))=TRUE,ISNUMBER(SEARCH(\"RZ\",Risque[[#This Row],[Risques associés]]))=TRUE,ISNUMBER(SEARCH(\"RP\",Risque[[#This Row],[Risques associés]]))=TRUE,ISNUMBER(SEARCH(\"RZ\",Risque[[#This Row],[Précision du risque\n(si liste déroulante présente)]]))=TRUE,ISNUMBER(SEARCH(\"RP\",Risque[[#This Row],[Précision du risque\n(si liste déroulante présente)]]))=TRUE),\"Oui --> Priorité d'action\",\"Non\"))","v":""},null,null,null,null,{"$f":"IF(ISBLANK(Risque[[#This Row],[Catégorie de risque]]),\"\",CONCATENATE(Risque[[#This Row],[Catégorie de risque]],2))","v":""},null,{"$f":"IF(ISBLANK(Risque[[#This Row],[Moyens de prévention]]),\"\",CONCATENATE(Risque[[#This Row],[Moyens de prévention]],1))","v":""},null,null,null,null,null,{"$f":"IF(ISBLANK(Risque[[#This Row],[Catégorie de risque]]),\"\",CONCATENATE(Risque[[#This Row],[Catégorie de risque]],3))","v":""},null,null,null,{"$f":"IF(ISBLANK(Risque[[#This Row],[Catégorie de risque]]),\"\",CONCATENATE(Risque[[#This Row],[Catégorie de risque]],4))","v":""},null,null,null,null,null,{"$f":"IF(Risque[[#This Row],[Date d''inscription du risque]]<>\"\",YEAR(Risque[[#This Row],[Date d''inscription du risque]]),\"\")","v":""}]
[null,null,{"$f":"IF(ISBLANK(Risque[[#This Row],[Catégorie de risque]]),\"\",CONCATENATE(Risque[[#This Row],[Catégorie de risque]],1))","v":""},null,null,null,null,null,{"$f":"IF(ISBLANK(Risque[[#This Row],[Catégorie de risque]]),\"\",IF(OR(ISNUMBER(SEARCH(\"RZ\",Risque[[#This Row],[Source de danger]]))=TRUE,ISNUMBER(SEARCH(\"RP\",Risque[[#This Row],[Source de danger]]))=TRUE,ISNUMBER(SEARCH(\"RZ\",Risque[[#This Row],[Risques associés]]))=TRUE,ISNUMBER(SEARCH(\"RP\",Risque[[#This Row],[Risques associés]]))=TRUE,ISNUMBER(SEARCH(\"RZ\",Risque[[#This Row],[Précision du risque\n(si liste déroulante présente)]]))=TRUE,ISNUMBER(SEARCH(\"RP\",Risque[[#This Row],[Précision du risque\n(si liste déroulante présente)]]))=TRUE),\"Oui --> Priorité d'action\",\"Non\"))","v":""},null,null,null,null,{"$f":"IF(ISBLANK(Risque[[#This Row],[Catégorie de risque]]),\"\",CONCATENATE(Risque[[#This Row],[Catégorie de risque]],2))","v":""},null,{"$f":"IF(ISBLANK(Risque[[#This Row],[Moyens de prévention]]),\"\",CONCATENATE(Risque[[#This Row],[Moyens de prévention]],1))","v":""},null,null,null,null,null,{"$f":"IF(ISBLANK(Risque[[#This Row],[Catégorie de risque]]),\"\",CONCATENATE(Risque[[#This Row],[Catégorie de risque]],3))","v":""},null,null,null,{"$f":"IF(ISBLANK(Risque[[#This Row],[Catégorie de risque]]),\"\",CONCATENATE(Risque[[#This Row],[Catégorie de risque]],4))","v":""},null,null,null,null,null,{"$f":"IF(Risque[[#This Row],[Date d''inscription du risque]]<>\"\",YEAR(Risque[[#This Row],[Date d''inscription du risque]]),\"\")","v":""}]
[null,null,{"$f":"IF(ISBLANK(Risque[[#This Row],[Catégorie de risque]]),\"\",CONCATENATE(Risque[[#This Row],[Catégorie de risque]],1))","v":""},null,null,null,null,null,{"$f":"IF(ISBLANK(Risque[[#This Row],[Catégorie de risque]]),\"\",IF(OR(ISNUMBER(SEARCH(\"RZ\",Risque[[#This Row],[Source de danger]]))=TRUE,ISNUMBER(SEARCH(\"RP\",Risque[[#This Row],[Source de danger]]))=TRUE,ISNUMBER(SEARCH(\"RZ\",Risque[[#This Row],[Risques associés]]))=TRUE,ISNUMBER(SEARCH(\"RP\",Risque[[#This Row],[Risques associés]]))=TRUE,ISNUMBER(SEARCH(\"RZ\",Risque[[#This Row],[Précision du risque\n(si liste déroulante présente)]]))=TRUE,ISNUMBER(SEARCH(\"RP\",Risque[[#This Row],[Précision du risque\n(si liste déroulante présente)]]))=TRUE),\"Oui --> Priorité d'action\",\"Non\"))","v":""},null,null,null,null,{"$f":"IF(ISBLANK(Risque[[#This Row],[Catégorie de risque]]),\"\",CONCATENATE(Risque[[#This Row],[Catégorie de risque]],2))","v":""},null,{"$f":"IF(ISBLANK(Risque[[#This Row],[Moyens de prévention]]),\"\",CONCATENATE(Risque[[#This Row],[Moyens de prévention]],1))","v":""},null,null,null,null,null,{"$f":"IF(ISBLANK(Risque[[#This Row],[Catégorie de risque]]),\"\",CONCATENATE(Risque[[#This Row],[Catégorie de risque]],3))","v":""},null,null,null,{"$f":"IF(ISBLANK(Risque[[#This Row],[Catégorie de risque]]),\"\",CONCATENATE(Risque[[#This Row],[Catégorie de risque]],4))","v":""},null,null,null,null,null,{"$f":"IF(Risque[[#This Row],[Date d''inscription du risque]]<>\"\",YEAR(Risque[[#This Row],[Date d''inscription du risque]]),\"\")","v":""}]
[null,null,{"$f":"IF(ISBLANK(Risque[[#This Row],[Catégorie de risque]]),\"\",CONCATENATE(Risque[[#This Row],[Catégorie de risque]],1))","v":""},null,null,null,null,null,{"$f":"IF(ISBLANK(Risque[[#This Row],[Catégorie de risque]]),\"\",IF(OR(ISNUMBER(SEARCH(\"RZ\",Risque[[#This Row],[Source de danger]]))=TRUE,ISNUMBER(SEARCH(\"RP\",Risque[[#This Row],[Source de danger]]))=TRUE,ISNUMBER(SEARCH(\"RZ\",Risque[[#This Row],[Risques associés]]))=TRUE,ISNUMBER(SEARCH(\"RP\",Risque[[#This Row],[Risques associés]]))=TRUE,ISNUMBER(SEARCH(\"RZ\",Risque[[#This Row],[Précision du risque\n(si liste déroulante présente)]]))=TRUE,ISNUMBER(SEARCH(\"RP\",Risque[[#This Row],[Précision du risque\n(si liste déroulante présente)]]))=TRUE),\"Oui --> Priorité d'action\",\"Non\"))","v":""},null,null,null,null,{"$f":"IF(ISBLANK(Risque[[#This Row],[Catégorie de risque]]),\"\",CONCATENATE(Risque[[#This Row],[Catégorie de risque]],2))","v":""},null,{"$f":"IF(ISBLANK(Risque[[#This Row],[Moyens de prévention]]),\"\",CONCATENATE(Risque[[#This Row],[Moyens de prévention]],1))","v":""},null,null,null,null,null,{"$f":"IF(ISBLANK(Risque[[#This Row],[Catégorie de risque]]),\"\",CONCATENATE(Risque[[#This Row],[Catégorie de risque]],3))","v":""},null,null,null,{"$f":"IF(ISBLANK(Risque[[#This Row],[Catégorie de risque]]),\"\",CONCATENATE(Risque[[#This Row],[Catégorie de risque]],4))","v":""},null,null,null,null,null,{"$f":"IF(Risque[[#This Row],[Date d''inscription du risque]]<>\"\",YEAR(Risque[[#This Row],[Date d''inscription du risque]]),\"\")","v":""}]
[null,null,{"$f":"IF(ISBLANK(Risque[[#This Row],[Catégorie de risque]]),\"\",CONCATENATE(Risque[[#This Row],[Catégorie de risque]],1))","v":""},null,null,null,null,null,{"$f":"IF(ISBLANK(Risque[[#This Row],[Catégorie de risque]]),\"\",IF(OR(ISNUMBER(SEARCH(\"RZ\",Risque[[#This Row],[Source de danger]]))=TRUE,ISNUMBER(SEARCH(\"RP\",Risque[[#This Row],[Source de danger]]))=TRUE,ISNUMBER(SEARCH(\"RZ\",Risque[[#This Row],[Risques associés]]))=TRUE,ISNUMBER(SEARCH(\"RP\",Risque[[#This Row],[Risques associés]]))=TRUE,ISNUMBER(SEARCH(\"RZ\",Risque[[#This Row],[Précision du risque\n(si liste déroulante présente)]]))=TRUE,ISNUMBER(SEARCH(\"RP\",Risque[[#This Row],[Précision du risque\n(si liste déroulante présente)]]))=TRUE),\"Oui --> Priorité d'action\",\"Non\"))","v":""},null,null,null,null,{"$f":"IF(ISBLANK(Risque[[#This Row],[Catégorie de risque]]),\"\",CONCATENATE(Risque[[#This Row],[Catégorie de risque]],2))","v":""},null,{"$f":"IF(ISBLANK(Risque[[#This Row],[Moyens de prévention]]),\"\",CONCATENATE(Risque[[#This Row],[Moyens de prévention]],1))","v":""},null,null,null,null,null,{"$f":"IF(ISBLANK(Risque[[#This Row],[Catégorie de risque]]),\"\",CONCATENATE(Risque[[#This Row],[Catégorie de risque]],3))","v":""},null,null,null,{"$f":"IF(ISBLANK(Risque[[#This Row],[Catégorie de risque]]),\"\",CONCATENATE(Risque[[#This Row],[Catégorie de risque]],4))","v":""},null,null,null,null,null,{"$f":"IF(Risque[[#This Row],[Date d''inscription du risque]]<>\"\",YEAR(Risque[[#This Row],[Date d''inscription du risque]]),\"\")","v":""}]
[null,null,{"$f":"IF(ISBLANK(Risque[[#This Row],[Catégorie de risque]]),\"\",CONCATENATE(Risque[[#This Row],[Catégorie de risque]],1))","v":""},null,null,null,null,null,{"$f":"IF(ISBLANK(Risque[[#This Row],[Catégorie de risque]]),\"\",IF(OR(ISNUMBER(SEARCH(\"RZ\",Risque[[#This Row],[Source de danger]]))=TRUE,ISNUMBER(SEARCH(\"RP\",Risque[[#This Row],[Source de danger]]))=TRUE,ISNUMBER(SEARCH(\"RZ\",Risque[[#This Row],[Risques associés]]))=TRUE,ISNUMBER(SEARCH(\"RP\",Risque[[#This Row],[Risques associés]]))=TRUE,ISNUMBER(SEARCH(\"RZ\",Risque[[#This Row],[Précision du risque\n(si liste déroulante présente)]]))=TRUE,ISNUMBER(SEARCH(\"RP\",Risque[[#This Row],[Précision du risque\n(si liste déroulante présente)]]))=TRUE),\"Oui --> Priorité d'action\",\"Non\"))","v":""},null,null,null,null,{"$f":"IF(ISBLANK(Risque[[#This Row],[Catégorie de risque]]),\"\",CONCATENATE(Risque[[#This Row],[Catégorie de risque]],2))","v":""},null,{"$f":"IF(ISBLANK(Risque[[#This Row],[Moyens de prévention]]),\"\",CONCATENATE(Risque[[#This Row],[Moyens de prévention]],1))","v":""},null,null,null,null,null,{"$f":"IF(ISBLANK(Risque[[#This Row],[Catégorie de risque]]),\"\",CONCATENATE(Risque[[#This Row],[Catégorie de risque]],3))","v":""},null,null,null,{"$f":"IF(ISBLANK(Risque[[#This Row],[Catégorie de risque]]),\"\",CONCATENATE(Risque[[#This Row],[Catégorie de risque]],4))","v":""},null,null,null,null,null,{"$f":"IF(Risque[[#This Row],[Date d''inscription du risque]]<>\"\",YEAR(Risque[[#This Row],[Date d''inscription du risque]]),\"\")","v":""}]
[null,null,{"$f":"IF(ISBLANK(Risque[[#This Row],[Catégorie de risque]]),\"\",CONCATENATE(Risque[[#This Row],[Catégorie de risque]],1))","v":""},null,null,null,null,null,{"$f":"IF(ISBLANK(Risque[[#This Row],[Catégorie de risque]]),\"\",IF(OR(ISNUMBER(SEARCH(\"RZ\",Risque[[#This Row],[Source de danger]]))=TRUE,ISNUMBER(SEARCH(\"RP\",Risque[[#This Row],[Source de danger]]))=TRUE,ISNUMBER(SEARCH(\"RZ\",Risque[[#This Row],[Risques associés]]))=TRUE,ISNUMBER(SEARCH(\"RP\",Risque[[#This Row],[Risques associés]]))=TRUE,ISNUMBER(SEARCH(\"RZ\",Risque[[#This Row],[Précision du risque\n(si liste déroulante présente)]]))=TRUE,ISNUMBER(SEARCH(\"RP\",Risque[[#This Row],[Précision du risque\n(si liste déroulante présente)]]))=TRUE),\"Oui --> Priorité d'action\",\"Non\"))","v":""},null,null,null,null,{"$f":"IF(ISBLANK(Risque[[#This Row],[Catégorie de risque]]),\"\",CONCATENATE(Risque[[#This Row],[Catégorie de risque]],2))","v":""},null,{"$f":"IF(ISBLANK(Risque[[#This Row],[Moyens de prévention]]),\"\",CONCATENATE(Risque[[#This Row],[Moyens de prévention]],1))","v":""},null,null,null,null,null,{"$f":"IF(ISBLANK(Risque[[#This Row],[Catégorie de risque]]),\"\",CONCATENATE(Risque[[#This Row],[Catégorie de risque]],3))","v":""},null,null,null,{"$f":"IF(ISBLANK(Risque[[#This Row],[Catégorie de risque]]),\"\",CONCATENATE(Risque[[#This Row],[Catégorie de risque]],4))","v":""},null,null,null,null,null,{"$f":"IF(Risque[[#This Row],[Date d''inscription du risque]]<>\"\",YEAR(Risque[[#This Row],[Date d''inscription du risque]]),\"\")","v":""}]
[null,null,{"$f":"IF(ISBLANK(Risque[[#This Row],[Catégorie de risque]]),\"\",CONCATENATE(Risque[[#This Row],[Catégorie de risque]],1))","v":""},null,null,null,null,null,{"$f":"IF(ISBLANK(Risque[[#This Row],[Catégorie de risque]]),\"\",IF(OR(ISNUMBER(SEARCH(\"RZ\",Risque[[#This Row],[Source de danger]]))=TRUE,ISNUMBER(SEARCH(\"RP\",Risque[[#This Row],[Source de danger]]))=TRUE,ISNUMBER(SEARCH(\"RZ\",Risque[[#This Row],[Risques associés]]))=TRUE,ISNUMBER(SEARCH(\"RP\",Risque[[#This Row],[Risques associés]]))=TRUE,ISNUMBER(SEARCH(\"RZ\",Risque[[#This Row],[Précision du risque\n(si liste déroulante présente)]]))=TRUE,ISNUMBER(SEARCH(\"RP\",Risque[[#This Row],[Précision du risque\n(si liste déroulante présente)]]))=TRUE),\"Oui --> Priorité d'action\",\"Non\"))","v":""},null,null,null,null,{"$f":"IF(ISBLANK(Risque[[#This Row],[Catégorie de risque]]),\"\",CONCATENATE(Risque[[#This Row],[Catégorie de risque]],2))","v":""},null,{"$f":"IF(ISBLANK(Risque[[#This Row],[Moyens de prévention]]),\"\",CONCATENATE(Risque[[#This Row],[Moyens de prévention]],1))","v":""},null,null,null,null,null,{"$f":"IF(ISBLANK(Risque[[#This Row],[Catégorie de risque]]),\"\",CONCATENATE(Risque[[#This Row],[Catégorie de risque]],3))","v":""},null,null,null,{"$f":"IF(ISBLANK(Risque[[#This Row],[Catégorie de risque]]),\"\",CONCATENATE(Risque[[#This Row],[Catégorie de risque]],4))","v":""},null,null,null,null,null,{"$f":"IF(Risque[[#This Row],[Date d''inscription du risque]]<>\"\",YEAR(Risque[[#This Row],[Date d''inscription du risque]]),\"\")","v":""}]
[null,null,{"$f":"IF(ISBLANK(Risque[[#This Row],[Catégorie de risque]]),\"\",CONCATENATE(Risque[[#This Row],[Catégorie de risque]],1))","v":""},null,null,null,null,null,{"$f":"IF(ISBLANK(Risque[[#This Row],[Catégorie de risque]]),\"\",IF(OR(ISNUMBER(SEARCH(\"RZ\",Risque[[#This Row],[Source de danger]]))=TRUE,ISNUMBER(SEARCH(\"RP\",Risque[[#This Row],[Source de danger]]))=TRUE,ISNUMBER(SEARCH(\"RZ\",Risque[[#This Row],[Risques associés]]))=TRUE,ISNUMBER(SEARCH(\"RP\",Risque[[#This Row],[Risques associés]]))=TRUE,ISNUMBER(SEARCH(\"RZ\",Risque[[#This Row],[Précision du risque\n(si liste déroulante présente)]]))=TRUE,ISNUMBER(SEARCH(\"RP\",Risque[[#This Row],[Précision du risque\n(si liste déroulante présente)]]))=TRUE),\"Oui --> Priorité d'action\",\"Non\"))","v":""},null,null,null,null,{"$f":"IF(ISBLANK(Risque[[#This Row],[Catégorie de risque]]),\"\",CONCATENATE(Risque[[#This Row],[Catégorie de risque]],2))","v":""},null,{"$f":"IF(ISBLANK(Risque[[#This Row],[Moyens de prévention]]),\"\",CONCATENATE(Risque[[#This Row],[Moyens de prévention]],1))","v":""},null,null,null,null,null,{"$f":"IF(ISBLANK(Risque[[#This Row],[Catégorie de risque]]),\"\",CONCATENATE(Risque[[#This Row],[Catégorie de risque]],3))","v":""},null,null,null,{"$f":"IF(ISBLANK(Risque[[#This Row],[Catégorie de risque]]),\"\",CONCATENATE(Risque[[#This Row],[Catégorie de risque]],4))","v":""},null,null,null,null,null,{"$f":"IF(Risque[[#This Row],[Date d''inscription du risque]]<>\"\",YEAR(Risque[[#This Row],[Date d''inscription du risque]]),\"\")","v":""}]
[null,null,{"$f":"IF(ISBLANK(Risque[[#This Row],[Catégorie de risque]]),\"\",CONCATENATE(Risque[[#This Row],[Catégorie de risque]],1))","v":""},null,null,null,null,null,{"$f":"IF(ISBLANK(Risque[[#This Row],[Catégorie de risque]]),\"\",IF(OR(ISNUMBER(SEARCH(\"RZ\",Risque[[#This Row],[Source de danger]]))=TRUE,ISNUMBER(SEARCH(\"RP\",Risque[[#This Row],[Source de danger]]))=TRUE,ISNUMBER(SEARCH(\"RZ\",Risque[[#This Row],[Risques associés]]))=TRUE,ISNUMBER(SEARCH(\"RP\",Risque[[#This Row],[Risques associés]]))=TRUE,ISNUMBER(SEARCH(\"RZ\",Risque[[#This Row],[Précision du risque\n(si liste déroulante présente)]]))=TRUE,ISNUMBER(SEARCH(\"RP\",Risque[[#This Row],[Précision du risque\n(si liste déroulante présente)]]))=TRUE),\"Oui --> Priorité d'action\",\"Non\"))","v":""},null,null,null,null,{"$f":"IF(ISBLANK(Risque[[#This Row],[Catégorie de risque]]),\"\",CONCATENATE(Risque[[#This Row],[Catégorie de risque]],2))","v":""},null,{"$f":"IF(ISBLANK(Risque[[#This Row],[Moyens de prévention]]),\"\",CONCATENATE(Risque[[#This Row],[Moyens de prévention]],1))","v":""},null,null,null,null,null,{"$f":"IF(ISBLANK(Risque[[#This Row],[Catégorie de risque]]),\"\",CONCATENATE(Risque[[#This Row],[Catégorie de risque]],3))","v":""},null,null,null,{"$f":"IF(ISBLANK(Risque[[#This Row],[Catégorie de risque]]),\"\",CONCATENATE(Risque[[#This Row],[Catégorie de risque]],4))","v":""},null,null,null,null,null,{"$f":"IF(Risque[[#This Row],[Date d''inscription du risque]]<>\"\",YEAR(Risque[[#This Row],[Date d''inscription du risque]]),\"\")","v":""}]
[null,null,{"$f":"IF(ISBLANK(Risque[[#This Row],[Catégorie de risque]]),\"\",CONCATENATE(Risque[[#This Row],[Catégorie de risque]],1))","v":""},null,null,null,null,null,{"$f":"IF(ISBLANK(Risque[[#This Row],[Catégorie de risque]]),\"\",IF(OR(ISNUMBER(SEARCH(\"RZ\",Risque[[#This Row],[Source de danger]]))=TRUE,ISNUMBER(SEARCH(\"RP\",Risque[[#This Row],[Source de danger]]))=TRUE,ISNUMBER(SEARCH(\"RZ\",Risque[[#This Row],[Risques associés]]))=TRUE,ISNUMBER(SEARCH(\"RP\",Risque[[#This Row],[Risques associés]]))=TRUE,ISNUMBER(SEARCH(\"RZ\",Risque[[#This Row],[Précision du risque\n(si liste déroulante présente)]]))=TRUE,ISNUMBER(SEARCH(\"RP\",Risque[[#This Row],[Précision du risque\n(si liste déroulante présente)]]))=TRUE),\"Oui --> Priorité d'action\",\"Non\"))","v":""},null,null,null,null,{"$f":"IF(ISBLANK(Risque[[#This Row],[Catégorie de risque]]),\"\",CONCATENATE(Risque[[#This Row],[Catégorie de risque]],2))","v":""},null,{"$f":"IF(ISBLANK(Risque[[#This Row],[Moyens de prévention]]),\"\",CONCATENATE(Risque[[#This Row],[Moyens de prévention]],1))","v":""},null,null,null,null,null,{"$f":"IF(ISBLANK(Risque[[#This Row],[Catégorie de risque]]),\"\",CONCATENATE(Risque[[#This Row],[Catégorie de risque]],3))","v":""},null,null,null,{"$f":"IF(ISBLANK(Risque[[#This Row],[Catégorie de risque]]),\"\",CONCATENATE(Risque[[#This Row],[Catégorie de risque]],4))","v":""},null,null,null,null,null,{"$f":"IF(Risque[[#This Row],[Date d''inscription du risque]]<>\"\",YEAR(Risque[[#This Row],[Date d''inscription du risque]]),\"\")","v":""}]
[null,null,{"$f":"IF(ISBLANK(Risque[[#This Row],[Catégorie de risque]]),\"\",CONCATENATE(Risque[[#This Row],[Catégorie de risque]],1))","v":""},null,null,null,null,null,{"$f":"IF(ISBLANK(Risque[[#This Row],[Catégorie de risque]]),\"\",IF(OR(ISNUMBER(SEARCH(\"RZ\",Risque[[#This Row],[Source de danger]]))=TRUE,ISNUMBER(SEARCH(\"RP\",Risque[[#This Row],[Source de danger]]))=TRUE,ISNUMBER(SEARCH(\"RZ\",Risque[[#This Row],[Risques associés]]))=TRUE,ISNUMBER(SEARCH(\"RP\",Risque[[#This Row],[Risques associés]]))=TRUE,ISNUMBER(SEARCH(\"RZ\",Risque[[#This Row],[Précision du risque\n(si liste déroulante présente)]]))=TRUE,ISNUMBER(SEARCH(\"RP\",Risque[[#This Row],[Précision du risque\n(si liste déroulante présente)]]))=TRUE),\"Oui --> Priorité d'action\",\"Non\"))","v":""},null,null,null,null,{"$f":"IF(ISBLANK(Risque[[#This Row],[Catégorie de risque]]),\"\",CONCATENATE(Risque[[#This Row],[Catégorie de risque]],2))","v":""},null,{"$f":"IF(ISBLANK(Risque[[#This Row],[Moyens de prévention]]),\"\",CONCATENATE(Risque[[#This Row],[Moyens de prévention]],1))","v":""},null,null,null,null,null,{"$f":"IF(ISBLANK(Risque[[#This Row],[Catégorie de risque]]),\"\",CONCATENATE(Risque[[#This Row],[Catégorie de risque]],3))","v":""},null,null,null,{"$f":"IF(ISBLANK(Risque[[#This Row],[Catégorie de risque]]),\"\",CONCATENATE(Risque[[#This Row],[Catégorie de risque]],4))","v":""},null,null,null,null,null,{"$f":"IF(Risque[[#This Row],[Date d''inscription du risque]]<>\"\",YEAR(Risque[[#This Row],[Date d''inscription du risque]]),\"\")","v":""}]
[null,null,{"$f":"IF(ISBLANK(Risque[[#This Row],[Catégorie de risque]]),\"\",CONCATENATE(Risque[[#This Row],[Catégorie de risque]],1))","v":""},null,null,null,null,null,{"$f":"IF(ISBLANK(Risque[[#This Row],[Catégorie de risque]]),\"\",IF(OR(ISNUMBER(SEARCH(\"RZ\",Risque[[#This Row],[Source de danger]]))=TRUE,ISNUMBER(SEARCH(\"RP\",Risque[[#This Row],[Source de danger]]))=TRUE,ISNUMBER(SEARCH(\"RZ\",Risque[[#This Row],[Risques associés]]))=TRUE,ISNUMBER(SEARCH(\"RP\",Risque[[#This Row],[Risques associés]]))=TRUE,ISNUMBER(SEARCH(\"RZ\",Risque[[#This Row],[Précision du risque\n(si liste déroulante présente)]]))=TRUE,ISNUMBER(SEARCH(\"RP\",Risque[[#This Row],[Précision du risque\n(si liste déroulante présente)]]))=TRUE),\"Oui --> Priorité d'action\",\"Non\"))","v":""},null,null,null,null,{"$f":"IF(ISBLANK(Risque[[#This Row],[Catégorie de risque]]),\"\",CONCATENATE(Risque[[#This Row],[Catégorie de risque]],2))","v":""},null,{"$f":"IF(ISBLANK(Risque[[#This Row],[Moyens de prévention]]),\"\",CONCATENATE(Risque[[#This Row],[Moyens de prévention]],1))","v":""},null,null,null,null,null,{"$f":"IF(ISBLANK(Risque[[#This Row],[Catégorie de risque]]),\"\",CONCATENATE(Risque[[#This Row],[Catégorie de risque]],3))","v":""},null,null,null,{"$f":"IF(ISBLANK(Risque[[#This Row],[Catégorie de risque]]),\"\",CONCATENATE(Risque[[#This Row],[Catégorie de risque]],4))","v":""},null,null,null,null,null,{"$f":"IF(Risque[[#This Row],[Date d''inscription du risque]]<>\"\",YEAR(Risque[[#This Row],[Date d''inscription du risque]]),\"\")","v":""}]
[null,null,{"$f":"IF(ISBLANK(Risque[[#This Row],[Catégorie de risque]]),\"\",CONCATENATE(Risque[[#This Row],[Catégorie de risque]],1))","v":""},null,null,null,null,null,{"$f":"IF(ISBLANK(Risque[[#This Row],[Catégorie de risque]]),\"\",IF(OR(ISNUMBER(SEARCH(\"RZ\",Risque[[#This Row],[Source de danger]]))=TRUE,ISNUMBER(SEARCH(\"RP\",Risque[[#This Row],[Source de danger]]))=TRUE,ISNUMBER(SEARCH(\"RZ\",Risque[[#This Row],[Risques associés]]))=TRUE,ISNUMBER(SEARCH(\"RP\",Risque[[#This Row],[Risques associés]]))=TRUE,ISNUMBER(SEARCH(\"RZ\",Risque[[#This Row],[Précision du risque\n(si liste déroulante présente)]]))=TRUE,ISNUMBER(SEARCH(\"RP\",Risque[[#This Row],[Précision du risque\n(si liste déroulante présente)]]))=TRUE),\"Oui --> Priorité d'action\",\"Non\"))","v":""},null,null,null,null,{"$f":"IF(ISBLANK(Risque[[#This Row],[Catégorie de risque]]),\"\",CONCATENATE(Risque[[#This Row],[Catégorie de risque]],2))","v":""},null,{"$f":"IF(ISBLANK(Risque[[#This Row],[Moyens de prévention]]),\"\",CONCATENATE(Risque[[#This Row],[Moyens de prévention]],1))","v":""},null,null,null,null,null,{"$f":"IF(ISBLANK(Risque[[#This Row],[Catégorie de risque]]),\"\",CONCATENATE(Risque[[#This Row],[Catégorie de risque]],3))","v":""},null,null,null,{"$f":"IF(ISBLANK(Risque[[#This Row],[Catégorie de risque]]),\"\",CONCATENATE(Risque[[#This Row],[Catégorie de risque]],4))","v":""},null,null,null,null,null,{"$f":"IF(Risque[[#This Row],[Date d''inscription du risque]]<>\"\",YEAR(Risque[[#This Row],[Date d''inscription du risque]]),\"\")","v":""}]
[null,null,{"$f":"IF(ISBLANK(Risque[[#This Row],[Catégorie de risque]]),\"\",CONCATENATE(Risque[[#This Row],[Catégorie de risque]],1))","v":""},null,null,null,null,null,{"$f":"IF(ISBLANK(Risque[[#This Row],[Catégorie de risque]]),\"\",IF(OR(ISNUMBER(SEARCH(\"RZ\",Risque[[#This Row],[Source de danger]]))=TRUE,ISNUMBER(SEARCH(\"RP\",Risque[[#This Row],[Source de danger]]))=TRUE,ISNUMBER(SEARCH(\"RZ\",Risque[[#This Row],[Risques associés]]))=TRUE,ISNUMBER(SEARCH(\"RP\",Risque[[#This Row],[Risques associés]]))=TRUE,ISNUMBER(SEARCH(\"RZ\",Risque[[#This Row],[Précision du risque\n(si liste déroulante présente)]]))=TRUE,ISNUMBER(SEARCH(\"RP\",Risque[[#This Row],[Précision du risque\n(si liste déroulante présente)]]))=TRUE),\"Oui --> Priorité d'action\",\"Non\"))","v":""},null,null,null,null,{"$f":"IF(ISBLANK(Risque[[#This Row],[Catégorie de risque]]),\"\",CONCATENATE(Risque[[#This Row],[Catégorie de risque]],2))","v":""},null,{"$f":"IF(ISBLANK(Risque[[#This Row],[Moyens de prévention]]),\"\",CONCATENATE(Risque[[#This Row],[Moyens de prévention]],1))","v":""},null,null,null,null,null,{"$f":"IF(ISBLANK(Risque[[#This Row],[Catégorie de risque]]),\"\",CONCATENATE(Risque[[#This Row],[Catégorie de risque]],3))","v":""},null,null,null,{"$f":"IF(ISBLANK(Risque[[#This Row],[Catégorie de risque]]),\"\",CONCATENATE(Risque[[#This Row],[Catégorie de risque]],4))","v":""},null,null,null,null,null,{"$f":"IF(Risque[[#This Row],[Date d''inscription du risque]]<>\"\",YEAR(Risque[[#This Row],[Date d''inscription du risque]]),\"\")","v":""}]
[null,null,{"$f":"IF(ISBLANK(Risque[[#This Row],[Catégorie de risque]]),\"\",CONCATENATE(Risque[[#This Row],[Catégorie de risque]],1))","v":""},null,null,null,null,null,{"$f":"IF(ISBLANK(Risque[[#This Row],[Catégorie de risque]]),\"\",IF(OR(ISNUMBER(SEARCH(\"RZ\",Risque[[#This Row],[Source de danger]]))=TRUE,ISNUMBER(SEARCH(\"RP\",Risque[[#This Row],[Source de danger]]))=TRUE,ISNUMBER(SEARCH(\"RZ\",Risque[[#This Row],[Risques associés]]))=TRUE,ISNUMBER(SEARCH(\"RP\",Risque[[#This Row],[Risques associés]]))=TRUE,ISNUMBER(SEARCH(\"RZ\",Risque[[#This Row],[Précision du risque\n(si liste déroulante présente)]]))=TRUE,ISNUMBER(SEARCH(\"RP\",Risque[[#This Row],[Précision du risque\n(si liste déroulante présente)]]))=TRUE),\"Oui --> Priorité d'action\",\"Non\"))","v":""},null,null,null,null,{"$f":"IF(ISBLANK(Risque[[#This Row],[Catégorie de risque]]),\"\",CONCATENATE(Risque[[#This Row],[Catégorie de risque]],2))","v":""},null,{"$f":"IF(ISBLANK(Risque[[#This Row],[Moyens de prévention]]),\"\",CONCATENATE(Risque[[#This Row],[Moyens de prévention]],1))","v":""},null,null,null,null,null,{"$f":"IF(ISBLANK(Risque[[#This Row],[Catégorie de risque]]),\"\",CONCATENATE(Risque[[#This Row],[Catégorie de risque]],3))","v":""},null,null,null,{"$f":"IF(ISBLANK(Risque[[#This Row],[Catégorie de risque]]),\"\",CONCATENATE(Risque[[#This Row],[Catégorie de risque]],4))","v":""},null,null,null,null,null,{"$f":"IF(Risque[[#This Row],[Date d''inscription du risque]]<>\"\",YEAR(Risque[[#This Row],[Date d''inscription du risque]]),\"\")","v":""}]
[null,null,{"$f":"IF(ISBLANK(Risque[[#This Row],[Catégorie de risque]]),\"\",CONCATENATE(Risque[[#This Row],[Catégorie de risque]],1))","v":""},null,null,null,null,null,{"$f":"IF(ISBLANK(Risque[[#This Row],[Catégorie de risque]]),\"\",IF(OR(ISNUMBER(SEARCH(\"RZ\",Risque[[#This Row],[Source de danger]]))=TRUE,ISNUMBER(SEARCH(\"RP\",Risque[[#This Row],[Source de danger]]))=TRUE,ISNUMBER(SEARCH(\"RZ\",Risque[[#This Row],[Risques associés]]))=TRUE,ISNUMBER(SEARCH(\"RP\",Risque[[#This Row],[Risques associés]]))=TRUE,ISNUMBER(SEARCH(\"RZ\",Risque[[#This Row],[Précision du risque\n(si liste déroulante présente)]]))=TRUE,ISNUMBER(SEARCH(\"RP\",Risque[[#This Row],[Précision du risque\n(si liste déroulante présente)]]))=TRUE),\"Oui --> Priorité d'action\",\"Non\"))","v":""},null,null,null,null,{"$f":"IF(ISBLANK(Risque[[#This Row],[Catégorie de risque]]),\"\",CONCATENATE(Risque[[#This Row],[Catégorie de risque]],2))","v":""},null,{"$f":"IF(ISBLANK(Risque[[#This Row],[Moyens de prévention]]),\"\",CONCATENATE(Risque[[#This Row],[Moyens de prévention]],1))","v":""},null,null,null,null,null,{"$f":"IF(ISBLANK(Risque[[#This Row],[Catégorie de risque]]),\"\",CONCATENATE(Risque[[#This Row],[Catégorie de risque]],3))","v":""},null,null,null,{"$f":"IF(ISBLANK(Risque[[#This Row],[Catégorie de risque]]),\"\",CONCATENATE(Risque[[#This Row],[Catégorie de risque]],4))","v":""},null,null,null,null,null,{"$f":"IF(Risque[[#This Row],[Date d''inscription du risque]]<>\"\",YEAR(Risque[[#This Row],[Date d''inscription du risque]]),\"\")","v":""}]
[null,null,{"$f":"IF(ISBLANK(Risque[[#This Row],[Catégorie de risque]]),\"\",CONCATENATE(Risque[[#This Row],[Catégorie de risque]],1))","v":""},null,null,null,null,null,{"$f":"IF(ISBLANK(Risque[[#This Row],[Catégorie de risque]]),\"\",IF(OR(ISNUMBER(SEARCH(\"RZ\",Risque[[#This Row],[Source de danger]]))=TRUE,ISNUMBER(SEARCH(\"RP\",Risque[[#This Row],[Source de danger]]))=TRUE,ISNUMBER(SEARCH(\"RZ\",Risque[[#This Row],[Risques associés]]))=TRUE,ISNUMBER(SEARCH(\"RP\",Risque[[#This Row],[Risques associés]]))=TRUE,ISNUMBER(SEARCH(\"RZ\",Risque[[#This Row],[Précision du risque\n(si liste déroulante présente)]]))=TRUE,ISNUMBER(SEARCH(\"RP\",Risque[[#This Row],[Précision du risque\n(si liste déroulante présente)]]))=TRUE),\"Oui --> Priorité d'action\",\"Non\"))","v":""},null,null,null,null,{"$f":"IF(ISBLANK(Risque[[#This Row],[Catégorie de risque]]),\"\",CONCATENATE(Risque[[#This Row],[Catégorie de risque]],2))","v":""},null,{"$f":"IF(ISBLANK(Risque[[#This Row],[Moyens de prévention]]),\"\",CONCATENATE(Risque[[#This Row],[Moyens de prévention]],1))","v":""},null,null,null,null,null,{"$f":"IF(ISBLANK(Risque[[#This Row],[Catégorie de risque]]),\"\",CONCATENATE(Risque[[#This Row],[Catégorie de risque]],3))","v":""},null,null,null,{"$f":"IF(ISBLANK(Risque[[#This Row],[Catégorie de risque]]),\"\",CONCATENATE(Risque[[#This Row],[Catégorie de risque]],4))","v":""},null,null,null,null,null,{"$f":"IF(Risque[[#This Row],[Date d''inscription du risque]]<>\"\",YEAR(Risque[[#This Row],[Date d''inscription du risque]]),\"\")","v":""}]
[null,null,{"$f":"IF(ISBLANK(Risque[[#This Row],[Catégorie de risque]]),\"\",CONCATENATE(Risque[[#This Row],[Catégorie de risque]],1))","v":""},null,null,null,null,null,{"$f":"IF(ISBLANK(Risque[[#This Row],[Catégorie de risque]]),\"\",IF(OR(ISNUMBER(SEARCH(\"RZ\",Risque[[#This Row],[Source de danger]]))=TRUE,ISNUMBER(SEARCH(\"RP\",Risque[[#This Row],[Source de danger]]))=TRUE,ISNUMBER(SEARCH(\"RZ\",Risque[[#This Row],[Risques associés]]))=TRUE,ISNUMBER(SEARCH(\"RP\",Risque[[#This Row],[Risques associés]]))=TRUE,ISNUMBER(SEARCH(\"RZ\",Risque[[#This Row],[Précision du risque\n(si liste déroulante présente)]]))=TRUE,ISNUMBER(SEARCH(\"RP\",Risque[[#This Row],[Précision du risque\n(si liste déroulante présente)]]))=TRUE),\"Oui --> Priorité d'action\",\"Non\"))","v":""},null,null,null,null,{"$f":"IF(ISBLANK(Risque[[#This Row],[Catégorie de risque]]),\"\",CONCATENATE(Risque[[#This Row],[Catégorie de risque]],2))","v":""},null,{"$f":"IF(ISBLANK(Risque[[#This Row],[Moyens de prévention]]),\"\",CONCATENATE(Risque[[#This Row],[Moyens de prévention]],1))","v":""},null,null,null,null,null,{"$f":"IF(ISBLANK(Risque[[#This Row],[Catégorie de risque]]),\"\",CONCATENATE(Risque[[#This Row],[Catégorie de risque]],3))","v":""},null,null,null,{"$f":"IF(ISBLANK(Risque[[#This Row],[Catégorie de risque]]),\"\",CONCATENATE(Risque[[#This Row],[Catégorie de risque]],4))","v":""},null,null,null,null,null,{"$f":"IF(Risque[[#This Row],[Date d''inscription du risque]]<>\"\",YEAR(Risque[[#This Row],[Date d''inscription du risque]]),\"\")","v":""}]
[null,null,{"$f":"IF(ISBLANK(Risque[[#This Row],[Catégorie de risque]]),\"\",CONCATENATE(Risque[[#This Row],[Catégorie de risque]],1))","v":""},null,null,null,null,null,{"$f":"IF(ISBLANK(Risque[[#This Row],[Catégorie de risque]]),\"\",IF(OR(ISNUMBER(SEARCH(\"RZ\",Risque[[#This Row],[Source de danger]]))=TRUE,ISNUMBER(SEARCH(\"RP\",Risque[[#This Row],[Source de danger]]))=TRUE,ISNUMBER(SEARCH(\"RZ\",Risque[[#This Row],[Risques associés]]))=TRUE,ISNUMBER(SEARCH(\"RP\",Risque[[#This Row],[Risques associés]]))=TRUE,ISNUMBER(SEARCH(\"RZ\",Risque[[#This Row],[Précision du risque\n(si liste déroulante présente)]]))=TRUE,ISNUMBER(SEARCH(\"RP\",Risque[[#This Row],[Précision du risque\n(si liste déroulante présente)]]))=TRUE),\"Oui --> Priorité d'action\",\"Non\"))","v":""},null,null,null,null,{"$f":"IF(ISBLANK(Risque[[#This Row],[Catégorie de risque]]),\"\",CONCATENATE(Risque[[#This Row],[Catégorie de risque]],2))","v":""},null,{"$f":"IF(ISBLANK(Risque[[#This Row],[Moyens de prévention]]),\"\",CONCATENATE(Risque[[#This Row],[Moyens de prévention]],1))","v":""},null,null,null,null,null,{"$f":"IF(ISBLANK(Risque[[#This Row],[Catégorie de risque]]),\"\",CONCATENATE(Risque[[#This Row],[Catégorie de risque]],3))","v":""},null,null,null,{"$f":"IF(ISBLANK(Risque[[#This Row],[Catégorie de risque]]),\"\",CONCATENATE(Risque[[#This Row],[Catégorie de risque]],4))","v":""},null,null,null,null,null,{"$f":"IF(Risque[[#This Row],[Date d''inscription du risque]]<>\"\",YEAR(Risque[[#This Row],[Date d''inscription du risque]]),\"\")","v":""}]
[null,null,{"$f":"IF(ISBLANK(Risque[[#This Row],[Catégorie de risque]]),\"\",CONCATENATE(Risque[[#This Row],[Catégorie de risque]],1))","v":""},null,null,null,null,null,{"$f":"IF(ISBLANK(Risque[[#This Row],[Catégorie de risque]]),\"\",IF(OR(ISNUMBER(SEARCH(\"RZ\",Risque[[#This Row],[Source de danger]]))=TRUE,ISNUMBER(SEARCH(\"RP\",Risque[[#This Row],[Source de danger]]))=TRUE,ISNUMBER(SEARCH(\"RZ\",Risque[[#This Row],[Risques associés]]))=TRUE,ISNUMBER(SEARCH(\"RP\",Risque[[#This Row],[Risques associés]]))=TRUE,ISNUMBER(SEARCH(\"RZ\",Risque[[#This Row],[Précision du risque\n(si liste déroulante présente)]]))=TRUE,ISNUMBER(SEARCH(\"RP\",Risque[[#This Row],[Précision du risque\n(si liste déroulante présente)]]))=TRUE),\"Oui --> Priorité d'action\",\"Non\"))","v":""},null,null,null,null,{"$f":"IF(ISBLANK(Risque[[#This Row],[Catégorie de risque]]),\"\",CONCATENATE(Risque[[#This Row],[Catégorie de risque]],2))","v":""},null,{"$f":"IF(ISBLANK(Risque[[#This Row],[Moyens de prévention]]),\"\",CONCATENATE(Risque[[#This Row],[Moyens de prévention]],1))","v":""},null,null,null,null,null,{"$f":"IF(ISBLANK(Risque[[#This Row],[Catégorie de risque]]),\"\",CONCATENATE(Risque[[#This Row],[Catégorie de risque]],3))","v":""},null,null,null,{"$f":"IF(ISBLANK(Risque[[#This Row],[Catégorie de risque]]),\"\",CONCATENATE(Risque[[#This Row],[Catégorie de risque]],4))","v":""},null,null,null,null,null,{"$f":"IF(Risque[[#This Row],[Date d''inscription du risque]]<>\"\",YEAR(Risque[[#This Row],[Date d''inscription du risque]]),\"\")","v":""}]
[null,null,{"$f":"IF(ISBLANK(Risque[[#This Row],[Catégorie de risque]]),\"\",CONCATENATE(Risque[[#This Row],[Catégorie de risque]],1))","v":""},null,null,null,null,null,{"$f":"IF(ISBLANK(Risque[[#This Row],[Catégorie de risque]]),\"\",IF(OR(ISNUMBER(SEARCH(\"RZ\",Risque[[#This Row],[Source de danger]]))=TRUE,ISNUMBER(SEARCH(\"RP\",Risque[[#This Row],[Source de danger]]))=TRUE,ISNUMBER(SEARCH(\"RZ\",Risque[[#This Row],[Risques associés]]))=TRUE,ISNUMBER(SEARCH(\"RP\",Risque[[#This Row],[Risques associés]]))=TRUE,ISNUMBER(SEARCH(\"RZ\",Risque[[#This Row],[Précision du risque\n(si liste déroulante présente)]]))=TRUE,ISNUMBER(SEARCH(\"RP\",Risque[[#This Row],[Précision du risque\n(si liste déroulante présente)]]))=TRUE),\"Oui --> Priorité d'action\",\"Non\"))","v":""},null,null,null,null,{"$f":"IF(ISBLANK(Risque[[#This Row],[Catégorie de risque]]),\"\",CONCATENATE(Risque[[#This Row],[Catégorie de risque]],2))","v":""},null,{"$f":"IF(ISBLANK(Risque[[#This Row],[Moyens de prévention]]),\"\",CONCATENATE(Risque[[#This Row],[Moyens de prévention]],1))","v":""},null,null,null,null,null,{"$f":"IF(ISBLANK(Risque[[#This Row],[Catégorie de risque]]),\"\",CONCATENATE(Risque[[#This Row],[Catégorie de risque]],3))","v":""},null,null,null,{"$f":"IF(ISBLANK(Risque[[#This Row],[Catégorie de risque]]),\"\",CONCATENATE(Risque[[#This Row],[Catégorie de risque]],4))","v":""},null,null,null,null,null,{"$f":"IF(Risque[[#This Row],[Date d''inscription du risque]]<>\"\",YEAR(Risque[[#This Row],[Date d''inscription du risque]]),\"\")","v":""}]
[null,null,{"$f":"IF(ISBLANK(Risque[[#This Row],[Catégorie de risque]]),\"\",CONCATENATE(Risque[[#This Row],[Catégorie de risque]],1))","v":""},null,null,null,null,null,{"$f":"IF(ISBLANK(Risque[[#This Row],[Catégorie de risque]]),\"\",IF(OR(ISNUMBER(SEARCH(\"RZ\",Risque[[#This Row],[Source de danger]]))=TRUE,ISNUMBER(SEARCH(\"RP\",Risque[[#This Row],[Source de danger]]))=TRUE,ISNUMBER(SEARCH(\"RZ\",Risque[[#This Row],[Risques associés]]))=TRUE,ISNUMBER(SEARCH(\"RP\",Risque[[#This Row],[Risques associés]]))=TRUE,ISNUMBER(SEARCH(\"RZ\",Risque[[#This Row],[Précision du risque\n(si liste déroulante présente)]]))=TRUE,ISNUMBER(SEARCH(\"RP\",Risque[[#This Row],[Précision du risque\n(si liste déroulante présente)]]))=TRUE),\"Oui --> Priorité d'action\",\"Non\"))","v":""},null,null,null,null,{"$f":"IF(ISBLANK(Risque[[#This Row],[Catégorie de risque]]),\"\",CONCATENATE(Risque[[#This Row],[Catégorie de risque]],2))","v":""},null,{"$f":"IF(ISBLANK(Risque[[#This Row],[Moyens de prévention]]),\"\",CONCATENATE(Risque[[#This Row],[Moyens de prévention]],1))","v":""},null,null,null,null,null,{"$f":"IF(ISBLANK(Risque[[#This Row],[Catégorie de risque]]),\"\",CONCATENATE(Risque[[#This Row],[Catégorie de risque]],3))","v":""},null,null,null,{"$f":"IF(ISBLANK(Risque[[#This Row],[Catégorie de risque]]),\"\",CONCATENATE(Risque[[#This Row],[Catégorie de risque]],4))","v":""},null,null,null,null,null,{"$f":"IF(Risque[[#This Row],[Date d''inscription du risque]]<>\"\",YEAR(Risque[[#This Row],[Date d''inscription du risque]]),\"\")","v":""}]
[null,null,{"$f":"IF(ISBLANK(Risque[[#This Row],[Catégorie de risque]]),\"\",CONCATENATE(Risque[[#This Row],[Catégorie de risque]],1))","v":""},null,null,null,null,null,{"$f":"IF(ISBLANK(Risque[[#This Row],[Catégorie de risque]]),\"\",IF(OR(ISNUMBER(SEARCH(\"RZ\",Risque[[#This Row],[Source de danger]]))=TRUE,ISNUMBER(SEARCH(\"RP\",Risque[[#This Row],[Source de danger]]))=TRUE,ISNUMBER(SEARCH(\"RZ\",Risque[[#This Row],[Risques associés]]))=TRUE,ISNUMBER(SEARCH(\"RP\",Risque[[#This Row],[Risques associés]]))=TRUE,ISNUMBER(SEARCH(\"RZ\",Risque[[#This Row],[Précision du risque\n(si liste déroulante présente)]]))=TRUE,ISNUMBER(SEARCH(\"RP\",Risque[[#This Row],[Précision du risque\n(si liste déroulante présente)]]))=TRUE),\"Oui --> Priorité d'action\",\"Non\"))","v":""},null,null,null,null,{"$f":"IF(ISBLANK(Risque[[#This Row],[Catégorie de risque]]),\"\",CONCATENATE(Risque[[#This Row],[Catégorie de risque]],2))","v":""},null,{"$f":"IF(ISBLANK(Risque[[#This Row],[Moyens de prévention]]),\"\",CONCATENATE(Risque[[#This Row],[Moyens de prévention]],1))","v":""},null,null,null,null,null,{"$f":"IF(ISBLANK(Risque[[#This Row],[Catégorie de risque]]),\"\",CONCATENATE(Risque[[#This Row],[Catégorie de risque]],3))","v":""},null,null,null,{"$f":"IF(ISBLANK(Risque[[#This Row],[Catégorie de risque]]),\"\",CONCATENATE(Risque[[#This Row],[Catégorie de risque]],4))","v":""},null,null,null,null,null,{"$f":"IF(Risque[[#This Row],[Date d''inscription du risque]]<>\"\",YEAR(Risque[[#This Row],[Date d''inscription du risque]]),\"\")","v":""}]
[null,null,{"$f":"IF(ISBLANK(Risque[[#This Row],[Catégorie de risque]]),\"\",CONCATENATE(Risque[[#This Row],[Catégorie de risque]],1))","v":""},null,null,null,null,null,{"$f":"IF(ISBLANK(Risque[[#This Row],[Catégorie de risque]]),\"\",IF(OR(ISNUMBER(SEARCH(\"RZ\",Risque[[#This Row],[Source de danger]]))=TRUE,ISNUMBER(SEARCH(\"RP\",Risque[[#This Row],[Source de danger]]))=TRUE,ISNUMBER(SEARCH(\"RZ\",Risque[[#This Row],[Risques associés]]))=TRUE,ISNUMBER(SEARCH(\"RP\",Risque[[#This Row],[Risques associés]]))=TRUE,ISNUMBER(SEARCH(\"RZ\",Risque[[#This Row],[Précision du risque\n(si liste déroulante présente)]]))=TRUE,ISNUMBER(SEARCH(\"RP\",Risque[[#This Row],[Précision du risque\n(si liste déroulante présente)]]))=TRUE),\"Oui --> Priorité d'action\",\"Non\"))","v":""},null,null,null,null,{"$f":"IF(ISBLANK(Risque[[#This Row],[Catégorie de risque]]),\"\",CONCATENATE(Risque[[#This Row],[Catégorie de risque]],2))","v":""},null,{"$f":"IF(ISBLANK(Risque[[#This Row],[Moyens de prévention]]),\"\",CONCATENATE(Risque[[#This Row],[Moyens de prévention]],1))","v":""},null,null,null,null,null,{"$f":"IF(ISBLANK(Risque[[#This Row],[Catégorie de risque]]),\"\",CONCATENATE(Risque[[#This Row],[Catégorie de risque]],3))","v":""},null,null,null,{"$f":"IF(ISBLANK(Risque[[#This Row],[Catégorie de risque]]),\"\",CONCATENATE(Risque[[#This Row],[Catégorie de risque]],4))","v":""},null,null,null,null,null,{"$f":"IF(Risque[[#This Row],[Date d''inscription du risque]]<>\"\",YEAR(Risque[[#This Row],[Date d''inscription du risque]]),\"\")","v":""}]
[null,null,{"$f":"IF(ISBLANK(Risque[[#This Row],[Catégorie de risque]]),\"\",CONCATENATE(Risque[[#This Row],[Catégorie de risque]],1))","v":""},null,null,null,null,null,{"$f":"IF(ISBLANK(Risque[[#This Row],[Catégorie de risque]]),\"\",IF(OR(ISNUMBER(SEARCH(\"RZ\",Risque[[#This Row],[Source de danger]]))=TRUE,ISNUMBER(SEARCH(\"RP\",Risque[[#This Row],[Source de danger]]))=TRUE,ISNUMBER(SEARCH(\"RZ\",Risque[[#This Row],[Risques associés]]))=TRUE,ISNUMBER(SEARCH(\"RP\",Risque[[#This Row],[Risques associés]]))=TRUE,ISNUMBER(SEARCH(\"RZ\",Risque[[#This Row],[Précision du risque\n(si liste déroulante présente)]]))=TRUE,ISNUMBER(SEARCH(\"RP\",Risque[[#This Row],[Précision du risque\n(si liste déroulante présente)]]))=TRUE),\"Oui --> Priorité d'action\",\"Non\"))","v":""},null,null,null,null,{"$f":"IF(ISBLANK(Risque[[#This Row],[Catégorie de risque]]),\"\",CONCATENATE(Risque[[#This Row],[Catégorie de risque]],2))","v":""},null,{"$f":"IF(ISBLANK(Risque[[#This Row],[Moyens de prévention]]),\"\",CONCATENATE(Risque[[#This Row],[Moyens de prévention]],1))","v":""},null,null,null,null,null,{"$f":"IF(ISBLANK(Risque[[#This Row],[Catégorie de risque]]),\"\",CONCATENATE(Risque[[#This Row],[Catégorie de risque]],3))","v":""},null,null,null,{"$f":"IF(ISBLANK(Risque[[#This Row],[Catégorie de risque]]),\"\",CONCATENATE(Risque[[#This Row],[Catégorie de risque]],4))","v":""},null,null,null,null,null,{"$f":"IF(Risque[[#This Row],[Date d''inscription du risque]]<>\"\",YEAR(Risque[[#This Row],[Date d''inscription du risque]]),\"\")","v":""}]
[null,null,{"$f":"IF(ISBLANK(Risque[[#This Row],[Catégorie de risque]]),\"\",CONCATENATE(Risque[[#This Row],[Catégorie de risque]],1))","v":""},null,null,null,null,null,{"$f":"IF(ISBLANK(Risque[[#This Row],[Catégorie de risque]]),\"\",IF(OR(ISNUMBER(SEARCH(\"RZ\",Risque[[#This Row],[Source de danger]]))=TRUE,ISNUMBER(SEARCH(\"RP\",Risque[[#This Row],[Source de danger]]))=TRUE,ISNUMBER(SEARCH(\"RZ\",Risque[[#This Row],[Risques associés]]))=TRUE,ISNUMBER(SEARCH(\"RP\",Risque[[#This Row],[Risques associés]]))=TRUE,ISNUMBER(SEARCH(\"RZ\",Risque[[#This Row],[Précision du risque\n(si liste déroulante présente)]]))=TRUE,ISNUMBER(SEARCH(\"RP\",Risque[[#This Row],[Précision du risque\n(si liste déroulante présente)]]))=TRUE),\"Oui --> Priorité d'action\",\"Non\"))","v":""},null,null,null,null,{"$f":"IF(ISBLANK(Risque[[#This Row],[Catégorie de risque]]),\"\",CONCATENATE(Risque[[#This Row],[Catégorie de risque]],2))","v":""},null,{"$f":"IF(ISBLANK(Risque[[#This Row],[Moyens de prévention]]),\"\",CONCATENATE(Risque[[#This Row],[Moyens de prévention]],1))","v":""},null,null,null,null,null,{"$f":"IF(ISBLANK(Risque[[#This Row],[Catégorie de risque]]),\"\",CONCATENATE(Risque[[#This Row],[Catégorie de risque]],3))","v":""},null,null,null,{"$f":"IF(ISBLANK(Risque[[#This Row],[Catégorie de risque]]),\"\",CONCATENATE(Risque[[#This Row],[Catégorie de risque]],4))","v":""},null,null,null,null,null,{"$f":"IF(Risque[[#This Row],[Date d''inscription du risque]]<>\"\",YEAR(Risque[[#This Row],[Date d''inscription du risque]]),\"\")","v":""}]
[null,null,{"$f":"IF(ISBLANK(Risque[[#This Row],[Catégorie de risque]]),\"\",CONCATENATE(Risque[[#This Row],[Catégorie de risque]],1))","v":""},null,null,null,null,null,{"$f":"IF(ISBLANK(Risque[[#This Row],[Catégorie de risque]]),\"\",IF(OR(ISNUMBER(SEARCH(\"RZ\",Risque[[#This Row],[Source de danger]]))=TRUE,ISNUMBER(SEARCH(\"RP\",Risque[[#This Row],[Source de danger]]))=TRUE,ISNUMBER(SEARCH(\"RZ\",Risque[[#This Row],[Risques associés]]))=TRUE,ISNUMBER(SEARCH(\"RP\",Risque[[#This Row],[Risques associés]]))=TRUE,ISNUMBER(SEARCH(\"RZ\",Risque[[#This Row],[Précision du risque\n(si liste déroulante présente)]]))=TRUE,ISNUMBER(SEARCH(\"RP\",Risque[[#This Row],[Précision du risque\n(si liste déroulante présente)]]))=TRUE),\"Oui --> Priorité d'action\",\"Non\"))","v":""},null,null,null,null,{"$f":"IF(ISBLANK(Risque[[#This Row],[Catégorie de risque]]),\"\",CONCATENATE(Risque[[#This Row],[Catégorie de risque]],2))","v":""},null,{"$f":"IF(ISBLANK(Risque[[#This Row],[Moyens de prévention]]),\"\",CONCATENATE(Risque[[#This Row],[Moyens de prévention]],1))","v":""},null,null,null,null,null,{"$f":"IF(ISBLANK(Risque[[#This Row],[Catégorie de risque]]),\"\",CONCATENATE(Risque[[#This Row],[Catégorie de risque]],3))","v":""},null,null,null,{"$f":"IF(ISBLANK(Risque[[#This Row],[Catégorie de risque]]),\"\",CONCATENATE(Risque[[#This Row],[Catégorie de risque]],4))","v":""},null,null,null,null,null,{"$f":"IF(Risque[[#This Row],[Date d''inscription du risque]]<>\"\",YEAR(Risque[[#This Row],[Date d''inscription du risque]]),\"\")","v":""}]
[null,null,{"$f":"IF(ISBLANK(Risque[[#This Row],[Catégorie de risque]]),\"\",CONCATENATE(Risque[[#This Row],[Catégorie de risque]],1))","v":""},null,null,null,null,null,{"$f":"IF(ISBLANK(Risque[[#This Row],[Catégorie de risque]]),\"\",IF(OR(ISNUMBER(SEARCH(\"RZ\",Risque[[#This Row],[Source de danger]]))=TRUE,ISNUMBER(SEARCH(\"RP\",Risque[[#This Row],[Source de danger]]))=TRUE,ISNUMBER(SEARCH(\"RZ\",Risque[[#This Row],[Risques associés]]))=TRUE,ISNUMBER(SEARCH(\"RP\",Risque[[#This Row],[Risques associés]]))=TRUE,ISNUMBER(SEARCH(\"RZ\",Risque[[#This Row],[Précision du risque\n(si liste déroulante présente)]]))=TRUE,ISNUMBER(SEARCH(\"RP\",Risque[[#This Row],[Précision du risque\n(si liste déroulante présente)]]))=TRUE),\"Oui --> Priorité d'action\",\"Non\"))","v":""},null,null,null,null,{"$f":"IF(ISBLANK(Risque[[#This Row],[Catégorie de risque]]),\"\",CONCATENATE(Risque[[#This Row],[Catégorie de risque]],2))","v":""},null,{"$f":"IF(ISBLANK(Risque[[#This Row],[Moyens de prévention]]),\"\",CONCATENATE(Risque[[#This Row],[Moyens de prévention]],1))","v":""},null,null,null,null,null,{"$f":"IF(ISBLANK(Risque[[#This Row],[Catégorie de risque]]),\"\",CONCATENATE(Risque[[#This Row],[Catégorie de risque]],3))","v":""},null,null,null,{"$f":"IF(ISBLANK(Risque[[#This Row],[Catégorie de risque]]),\"\",CONCATENATE(Risque[[#This Row],[Catégorie de risque]],4))","v":""},null,null,null,null,null,{"$f":"IF(Risque[[#This Row],[Date d''inscription du risque]]<>\"\",YEAR(Risque[[#This Row],[Date d''inscription du risque]]),\"\")","v":""}]
[null,null,{"$f":"IF(ISBLANK(Risque[[#This Row],[Catégorie de risque]]),\"\",CONCATENATE(Risque[[#This Row],[Catégorie de risque]],1))","v":""},null,null,null,null,null,{"$f":"IF(ISBLANK(Risque[[#This Row],[Catégorie de risque]]),\"\",IF(OR(ISNUMBER(SEARCH(\"RZ\",Risque[[#This Row],[Source de danger]]))=TRUE,ISNUMBER(SEARCH(\"RP\",Risque[[#This Row],[Source de danger]]))=TRUE,ISNUMBER(SEARCH(\"RZ\",Risque[[#This Row],[Risques associés]]))=TRUE,ISNUMBER(SEARCH(\"RP\",Risque[[#This Row],[Risques associés]]))=TRUE,ISNUMBER(SEARCH(\"RZ\",Risque[[#This Row],[Précision du risque\n(si liste déroulante présente)]]))=TRUE,ISNUMBER(SEARCH(\"RP\",Risque[[#This Row],[Précision du risque\n(si liste déroulante présente)]]))=TRUE),\"Oui --> Priorité d'action\",\"Non\"))","v":""},null,null,null,null,{"$f":"IF(ISBLANK(Risque[[#This Row],[Catégorie de risque]]),\"\",CONCATENATE(Risque[[#This Row],[Catégorie de risque]],2))","v":""},null,{"$f":"IF(ISBLANK(Risque[[#This Row],[Moyens de prévention]]),\"\",CONCATENATE(Risque[[#This Row],[Moyens de prévention]],1))","v":""},null,null,null,null,null,{"$f":"IF(ISBLANK(Risque[[#This Row],[Catégorie de risque]]),\"\",CONCATENATE(Risque[[#This Row],[Catégorie de risque]],3))","v":""},null,null,null,{"$f":"IF(ISBLANK(Risque[[#This Row],[Catégorie de risque]]),\"\",CONCATENATE(Risque[[#This Row],[Catégorie de risque]],4))","v":""},null,null,null,null,null,{"$f":"IF(Risque[[#This Row],[Date d''inscription du risque]]<>\"\",YEAR(Risque[[#This Row],[Date d''inscription du risque]]),\"\")","v":""}]
[null,null,{"$f":"IF(ISBLANK(Risque[[#This Row],[Catégorie de risque]]),\"\",CONCATENATE(Risque[[#This Row],[Catégorie de risque]],1))","v":""},null,null,null,null,null,{"$f":"IF(ISBLANK(Risque[[#This Row],[Catégorie de risque]]),\"\",IF(OR(ISNUMBER(SEARCH(\"RZ\",Risque[[#This Row],[Source de danger]]))=TRUE,ISNUMBER(SEARCH(\"RP\",Risque[[#This Row],[Source de danger]]))=TRUE,ISNUMBER(SEARCH(\"RZ\",Risque[[#This Row],[Risques associés]]))=TRUE,ISNUMBER(SEARCH(\"RP\",Risque[[#This Row],[Risques associés]]))=TRUE,ISNUMBER(SEARCH(\"RZ\",Risque[[#This Row],[Précision du risque\n(si liste déroulante présente)]]))=TRUE,ISNUMBER(SEARCH(\"RP\",Risque[[#This Row],[Précision du risque\n(si liste déroulante présente)]]))=TRUE),\"Oui --> Priorité d'action\",\"Non\"))","v":""},null,null,null,null,{"$f":"IF(ISBLANK(Risque[[#This Row],[Catégorie de risque]]),\"\",CONCATENATE(Risque[[#This Row],[Catégorie de risque]],2))","v":""},null,{"$f":"IF(ISBLANK(Risque[[#This Row],[Moyens de prévention]]),\"\",CONCATENATE(Risque[[#This Row],[Moyens de prévention]],1))","v":""},null,null,null,null,null,{"$f":"IF(ISBLANK(Risque[[#This Row],[Catégorie de risque]]),\"\",CONCATENATE(Risque[[#This Row],[Catégorie de risque]],3))","v":""},null,null,null,{"$f":"IF(ISBLANK(Risque[[#This Row],[Catégorie de risque]]),\"\",CONCATENATE(Risque[[#This Row],[Catégorie de risque]],4))","v":""},null,null,null,null,null,{"$f":"IF(Risque[[#This Row],[Date d''inscription du risque]]<>\"\",YEAR(Risque[[#This Row],[Date d''inscription du risque]]),\"\")","v":""}]
[null,null,{"$f":"IF(ISBLANK(Risque[[#This Row],[Catégorie de risque]]),\"\",CONCATENATE(Risque[[#This Row],[Catégorie de risque]],1))","v":""},null,null,null,null,null,{"$f":"IF(ISBLANK(Risque[[#This Row],[Catégorie de risque]]),\"\",IF(OR(ISNUMBER(SEARCH(\"RZ\",Risque[[#This Row],[Source de danger]]))=TRUE,ISNUMBER(SEARCH(\"RP\",Risque[[#This Row],[Source de danger]]))=TRUE,ISNUMBER(SEARCH(\"RZ\",Risque[[#This Row],[Risques associés]]))=TRUE,ISNUMBER(SEARCH(\"RP\",Risque[[#This Row],[Risques associés]]))=TRUE,ISNUMBER(SEARCH(\"RZ\",Risque[[#This Row],[Précision du risque\n(si liste déroulante présente)]]))=TRUE,ISNUMBER(SEARCH(\"RP\",Risque[[#This Row],[Précision du risque\n(si liste déroulante présente)]]))=TRUE),\"Oui --> Priorité d'action\",\"Non\"))","v":""},null,null,null,null,{"$f":"IF(ISBLANK(Risque[[#This Row],[Catégorie de risque]]),\"\",CONCATENATE(Risque[[#This Row],[Catégorie de risque]],2))","v":""},null,{"$f":"IF(ISBLANK(Risque[[#This Row],[Moyens de prévention]]),\"\",CONCATENATE(Risque[[#This Row],[Moyens de prévention]],1))","v":""},null,null,null,null,null,{"$f":"IF(ISBLANK(Risque[[#This Row],[Catégorie de risque]]),\"\",CONCATENATE(Risque[[#This Row],[Catégorie de risque]],3))","v":""},null,null,null,{"$f":"IF(ISBLANK(Risque[[#This Row],[Catégorie de risque]]),\"\",CONCATENATE(Risque[[#This Row],[Catégorie de risque]],4))","v":""},null,null,null,null,null,{"$f":"IF(Risque[[#This Row],[Date d''inscription du risque]]<>\"\",YEAR(Risque[[#This Row],[Date d''inscription du risque]]),\"\")","v":""}]
[null,null,{"$f":"IF(ISBLANK(Risque[[#This Row],[Catégorie de risque]]),\"\",CONCATENATE(Risque[[#This Row],[Catégorie de risque]],1))","v":""},null,null,null,null,null,{"$f":"IF(ISBLANK(Risque[[#This Row],[Catégorie de risque]]),\"\",IF(OR(ISNUMBER(SEARCH(\"RZ\",Risque[[#This Row],[Source de danger]]))=TRUE,ISNUMBER(SEARCH(\"RP\",Risque[[#This Row],[Source de danger]]))=TRUE,ISNUMBER(SEARCH(\"RZ\",Risque[[#This Row],[Risques associés]]))=TRUE,ISNUMBER(SEARCH(\"RP\",Risque[[#This Row],[Risques associés]]))=TRUE,ISNUMBER(SEARCH(\"RZ\",Risque[[#This Row],[Précision du risque\n(si liste déroulante présente)]]))=TRUE,ISNUMBER(SEARCH(\"RP\",Risque[[#This Row],[Précision du risque\n(si liste déroulante présente)]]))=TRUE),\"Oui --> Priorité d'action\",\"Non\"))","v":""},null,null,null,null,{"$f":"IF(ISBLANK(Risque[[#This Row],[Catégorie de risque]]),\"\",CONCATENATE(Risque[[#This Row],[Catégorie de risque]],2))","v":""},null,{"$f":"IF(ISBLANK(Risque[[#This Row],[Moyens de prévention]]),\"\",CONCATENATE(Risque[[#This Row],[Moyens de prévention]],1))","v":""},null,null,null,null,null,{"$f":"IF(ISBLANK(Risque[[#This Row],[Catégorie de risque]]),\"\",CONCATENATE(Risque[[#This Row],[Catégorie de risque]],3))","v":""},null,null,null,{"$f":"IF(ISBLANK(Risque[[#This Row],[Catégorie de risque]]),\"\",CONCATENATE(Risque[[#This Row],[Catégorie de risque]],4))","v":""},null,null,null,null,null,{"$f":"IF(Risque[[#This Row],[Date d''inscription du risque]]<>\"\",YEAR(Risque[[#This Row],[Date d''inscription du risque]]),\"\")","v":""}]
[null,null,{"$f":"IF(ISBLANK(Risque[[#This Row],[Catégorie de risque]]),\"\",CONCATENATE(Risque[[#This Row],[Catégorie de risque]],1))","v":""},null,null,null,null,null,{"$f":"IF(ISBLANK(Risque[[#This Row],[Catégorie de risque]]),\"\",IF(OR(ISNUMBER(SEARCH(\"RZ\",Risque[[#This Row],[Source de danger]]))=TRUE,ISNUMBER(SEARCH(\"RP\",Risque[[#This Row],[Source de danger]]))=TRUE,ISNUMBER(SEARCH(\"RZ\",Risque[[#This Row],[Risques associés]]))=TRUE,ISNUMBER(SEARCH(\"RP\",Risque[[#This Row],[Risques associés]]))=TRUE,ISNUMBER(SEARCH(\"RZ\",Risque[[#This Row],[Précision du risque\n(si liste déroulante présente)]]))=TRUE,ISNUMBER(SEARCH(\"RP\",Risque[[#This Row],[Précision du risque\n(si liste déroulante présente)]]))=TRUE),\"Oui --> Priorité d'action\",\"Non\"))","v":""},null,null,null,null,{"$f":"IF(ISBLANK(Risque[[#This Row],[Catégorie de risque]]),\"\",CONCATENATE(Risque[[#This Row],[Catégorie de risque]],2))","v":""},null,{"$f":"IF(ISBLANK(Risque[[#This Row],[Moyens de prévention]]),\"\",CONCATENATE(Risque[[#This Row],[Moyens de prévention]],1))","v":""},null,null,null,null,null,{"$f":"IF(ISBLANK(Risque[[#This Row],[Catégorie de risque]]),\"\",CONCATENATE(Risque[[#This Row],[Catégorie de risque]],3))","v":""},null,null,null,{"$f":"IF(ISBLANK(Risque[[#This Row],[Catégorie de risque]]),\"\",CONCATENATE(Risque[[#This Row],[Catégorie de risque]],4))","v":""},null,null,null,null,null,{"$f":"IF(Risque[[#This Row],[Date d''inscription du risque]]<>\"\",YEAR(Risque[[#This Row],[Date d''inscription du risque]]),\"\")","v":""}]
[null,null,{"$f":"IF(ISBLANK(Risque[[#This Row],[Catégorie de risque]]),\"\",CONCATENATE(Risque[[#This Row],[Catégorie de risque]],1))","v":""},null,null,null,null,null,{"$f":"IF(ISBLANK(Risque[[#This Row],[Catégorie de risque]]),\"\",IF(OR(ISNUMBER(SEARCH(\"RZ\",Risque[[#This Row],[Source de danger]]))=TRUE,ISNUMBER(SEARCH(\"RP\",Risque[[#This Row],[Source de danger]]))=TRUE,ISNUMBER(SEARCH(\"RZ\",Risque[[#This Row],[Risques associés]]))=TRUE,ISNUMBER(SEARCH(\"RP\",Risque[[#This Row],[Risques associés]]))=TRUE,ISNUMBER(SEARCH(\"RZ\",Risque[[#This Row],[Précision du risque\n(si liste déroulante présente)]]))=TRUE,ISNUMBER(SEARCH(\"RP\",Risque[[#This Row],[Précision du risque\n(si liste déroulante présente)]]))=TRUE),\"Oui --> Priorité d'action\",\"Non\"))","v":""},null,null,null,null,{"$f":"IF(ISBLANK(Risque[[#This Row],[Catégorie de risque]]),\"\",CONCATENATE(Risque[[#This Row],[Catégorie de risque]],2))","v":""},null,{"$f":"IF(ISBLANK(Risque[[#This Row],[Moyens de prévention]]),\"\",CONCATENATE(Risque[[#This Row],[Moyens de prévention]],1))","v":""},null,null,null,null,null,{"$f":"IF(ISBLANK(Risque[[#This Row],[Catégorie de risque]]),\"\",CONCATENATE(Risque[[#This Row],[Catégorie de risque]],3))","v":""},null,null,null,{"$f":"IF(ISBLANK(Risque[[#This Row],[Catégorie de risque]]),\"\",CONCATENATE(Risque[[#This Row],[Catégorie de risque]],4))","v":""},null,null,null,null,null,{"$f":"IF(Risque[[#This Row],[Date d''inscription du risque]]<>\"\",YEAR(Risque[[#This Row],[Date d''inscription du risque]]),\"\")","v":""}]
[null,null,{"$f":"IF(ISBLANK(Risque[[#This Row],[Catégorie de risque]]),\"\",CONCATENATE(Risque[[#This Row],[Catégorie de risque]],1))","v":""},null,null,null,null,null,{"$f":"IF(ISBLANK(Risque[[#This Row],[Catégorie de risque]]),\"\",IF(OR(ISNUMBER(SEARCH(\"RZ\",Risque[[#This Row],[Source de danger]]))=TRUE,ISNUMBER(SEARCH(\"RP\",Risque[[#This Row],[Source de danger]]))=TRUE,ISNUMBER(SEARCH(\"RZ\",Risque[[#This Row],[Risques associés]]))=TRUE,ISNUMBER(SEARCH(\"RP\",Risque[[#This Row],[Risques associés]]))=TRUE,ISNUMBER(SEARCH(\"RZ\",Risque[[#This Row],[Précision du risque\n(si liste déroulante présente)]]))=TRUE,ISNUMBER(SEARCH(\"RP\",Risque[[#This Row],[Précision du risque\n(si liste déroulante présente)]]))=TRUE),\"Oui --> Priorité d'action\",\"Non\"))","v":""},null,null,null,null,{"$f":"IF(ISBLANK(Risque[[#This Row],[Catégorie de risque]]),\"\",CONCATENATE(Risque[[#This Row],[Catégorie de risque]],2))","v":""},null,{"$f":"IF(ISBLANK(Risque[[#This Row],[Moyens de prévention]]),\"\",CONCATENATE(Risque[[#This Row],[Moyens de prévention]],1))","v":""},null,null,null,null,null,{"$f":"IF(ISBLANK(Risque[[#This Row],[Catégorie de risque]]),\"\",CONCATENATE(Risque[[#This Row],[Catégorie de risque]],3))","v":""},null,null,null,{"$f":"IF(ISBLANK(Risque[[#This Row],[Catégorie de risque]]),\"\",CONCATENATE(Risque[[#This Row],[Catégorie de risque]],4))","v":""},null,null,null,null,null,{"$f":"IF(Risque[[#This Row],[Date d''inscription du risque]]<>\"\",YEAR(Risque[[#This Row],[Date d''inscription du risque]]),\"\")","v":""}]
[null,null,{"$f":"IF(ISBLANK(Risque[[#This Row],[Catégorie de risque]]),\"\",CONCATENATE(Risque[[#This Row],[Catégorie de risque]],1))","v":""},null,null,null,null,null,{"$f":"IF(ISBLANK(Risque[[#This Row],[Catégorie de risque]]),\"\",IF(OR(ISNUMBER(SEARCH(\"RZ\",Risque[[#This Row],[Source de danger]]))=TRUE,ISNUMBER(SEARCH(\"RP\",Risque[[#This Row],[Source de danger]]))=TRUE,ISNUMBER(SEARCH(\"RZ\",Risque[[#This Row],[Risques associés]]))=TRUE,ISNUMBER(SEARCH(\"RP\",Risque[[#This Row],[Risques associés]]))=TRUE,ISNUMBER(SEARCH(\"RZ\",Risque[[#This Row],[Précision du risque\n(si liste déroulante présente)]]))=TRUE,ISNUMBER(SEARCH(\"RP\",Risque[[#This Row],[Précision du risque\n(si liste déroulante présente)]]))=TRUE),\"Oui --> Priorité d'action\",\"Non\"))","v":""},null,null,null,null,{"$f":"IF(ISBLANK(Risque[[#This Row],[Catégorie de risque]]),\"\",CONCATENATE(Risque[[#This Row],[Catégorie de risque]],2))","v":""},null,{"$f":"IF(ISBLANK(Risque[[#This Row],[Moyens de prévention]]),\"\",CONCATENATE(Risque[[#This Row],[Moyens de prévention]],1))","v":""},null,null,null,null,null,{"$f":"IF(ISBLANK(Risque[[#This Row],[Catégorie de risque]]),\"\",CONCATENATE(Risque[[#This Row],[Catégorie de risque]],3))","v":""},null,null,null,{"$f":"IF(ISBLANK(Risque[[#This Row],[Catégorie de risque]]),\"\",CONCATENATE(Risque[[#This Row],[Catégorie de risque]],4))","v":""},null,null,null,null,null,{"$f":"IF(Risque[[#This Row],[Date d''inscription du risque]]<>\"\",YEAR(Risque[[#This Row],[Date d''inscription du risque]]),\"\")","v":""}]
[null,null,{"$f":"IF(ISBLANK(Risque[[#This Row],[Catégorie de risque]]),\"\",CONCATENATE(Risque[[#This Row],[Catégorie de risque]],1))","v":""},null,null,null,null,null,{"$f":"IF(ISBLANK(Risque[[#This Row],[Catégorie de risque]]),\"\",IF(OR(ISNUMBER(SEARCH(\"RZ\",Risque[[#This Row],[Source de danger]]))=TRUE,ISNUMBER(SEARCH(\"RP\",Risque[[#This Row],[Source de danger]]))=TRUE,ISNUMBER(SEARCH(\"RZ\",Risque[[#This Row],[Risques associés]]))=TRUE,ISNUMBER(SEARCH(\"RP\",Risque[[#This Row],[Risques associés]]))=TRUE,ISNUMBER(SEARCH(\"RZ\",Risque[[#This Row],[Précision du risque\n(si liste déroulante présente)]]))=TRUE,ISNUMBER(SEARCH(\"RP\",Risque[[#This Row],[Précision du risque\n(si liste déroulante présente)]]))=TRUE),\"Oui --> Priorité d'action\",\"Non\"))","v":""},null,null,null,null,{"$f":"IF(ISBLANK(Risque[[#This Row],[Catégorie de risque]]),\"\",CONCATENATE(Risque[[#This Row],[Catégorie de risque]],2))","v":""},null,{"$f":"IF(ISBLANK(Risque[[#This Row],[Moyens de prévention]]),\"\",CONCATENATE(Risque[[#This Row],[Moyens de prévention]],1))","v":""},null,null,null,null,null,{"$f":"IF(ISBLANK(Risque[[#This Row],[Catégorie de risque]]),\"\",CONCATENATE(Risque[[#This Row],[Catégorie de risque]],3))","v":""},null,null,null,{"$f":"IF(ISBLANK(Risque[[#This Row],[Catégorie de risque]]),\"\",CONCATENATE(Risque[[#This Row],[Catégorie de risque]],4))","v":""},null,null,null,null,null,{"$f":"IF(Risque[[#This Row],[Date d''inscription du risque]]<>\"\",YEAR(Risque[[#This Row],[Date d''inscription du risque]]),\"\")","v":""}]
[null,null,{"$f":"IF(ISBLANK(Risque[[#This Row],[Catégorie de risque]]),\"\",CONCATENATE(Risque[[#This Row],[Catégorie de risque]],1))","v":""},null,null,null,null,null,{"$f":"IF(ISBLANK(Risque[[#This Row],[Catégorie de risque]]),\"\",IF(OR(ISNUMBER(SEARCH(\"RZ\",Risque[[#This Row],[Source de danger]]))=TRUE,ISNUMBER(SEARCH(\"RP\",Risque[[#This Row],[Source de danger]]))=TRUE,ISNUMBER(SEARCH(\"RZ\",Risque[[#This Row],[Risques associés]]))=TRUE,ISNUMBER(SEARCH(\"RP\",Risque[[#This Row],[Risques associés]]))=TRUE,ISNUMBER(SEARCH(\"RZ\",Risque[[#This Row],[Précision du risque\n(si liste déroulante présente)]]))=TRUE,ISNUMBER(SEARCH(\"RP\",Risque[[#This Row],[Précision du risque\n(si liste déroulante présente)]]))=TRUE),\"Oui --> Priorité d'action\",\"Non\"))","v":""},null,null,null,null,{"$f":"IF(ISBLANK(Risque[[#This Row],[Catégorie de risque]]),\"\",CONCATENATE(Risque[[#This Row],[Catégorie de risque]],2))","v":""},null,{"$f":"IF(ISBLANK(Risque[[#This Row],[Moyens de prévention]]),\"\",CONCATENATE(Risque[[#This Row],[Moyens de prévention]],1))","v":""},null,null,null,null,null,{"$f":"IF(ISBLANK(Risque[[#This Row],[Catégorie de risque]]),\"\",CONCATENATE(Risque[[#This Row],[Catégorie de risque]],3))","v":""},null,null,null,{"$f":"IF(ISBLANK(Risque[[#This Row],[Catégorie de risque]]),\"\",CONCATENATE(Risque[[#This Row],[Catégorie de risque]],4))","v":""},null,null,null,null,null,{"$f":"IF(Risque[[#This Row],[Date d''inscription du risque]]<>\"\",YEAR(Risque[[#This Row],[Date d''inscription du risque]]),\"\")","v":""}]
[null,null,{"$f":"IF(ISBLANK(Risque[[#This Row],[Catégorie de risque]]),\"\",CONCATENATE(Risque[[#This Row],[Catégorie de risque]],1))","v":""},null,null,null,null,null,{"$f":"IF(ISBLANK(Risque[[#This Row],[Catégorie de risque]]),\"\",IF(OR(ISNUMBER(SEARCH(\"RZ\",Risque[[#This Row],[Source de danger]]))=TRUE,ISNUMBER(SEARCH(\"RP\",Risque[[#This Row],[Source de danger]]))=TRUE,ISNUMBER(SEARCH(\"RZ\",Risque[[#This Row],[Risques associés]]))=TRUE,ISNUMBER(SEARCH(\"RP\",Risque[[#This Row],[Risques associés]]))=TRUE,ISNUMBER(SEARCH(\"RZ\",Risque[[#This Row],[Précision du risque\n(si liste déroulante présente)]]))=TRUE,ISNUMBER(SEARCH(\"RP\",Risque[[#This Row],[Précision du risque\n(si liste déroulante présente)]]))=TRUE),\"Oui --> Priorité d'action\",\"Non\"))","v":""},null,null,null,null,{"$f":"IF(ISBLANK(Risque[[#This Row],[Catégorie de risque]]),\"\",CONCATENATE(Risque[[#This Row],[Catégorie de risque]],2))","v":""},null,{"$f":"IF(ISBLANK(Risque[[#This Row],[Moyens de prévention]]),\"\",CONCATENATE(Risque[[#This Row],[Moyens de prévention]],1))","v":""},null,null,null,null,null,{"$f":"IF(ISBLANK(Risque[[#This Row],[Catégorie de risque]]),\"\",CONCATENATE(Risque[[#This Row],[Catégorie de risque]],3))","v":""},null,null,null,{"$f":"IF(ISBLANK(Risque[[#This Row],[Catégorie de risque]]),\"\",CONCATENATE(Risque[[#This Row],[Catégorie de risque]],4))","v":""},null,null,null,null,null,{"$f":"IF(Risque[[#This Row],[Date d''inscription du risque]]<>\"\",YEAR(Risque[[#This Row],[Date d''inscription du risque]]),\"\")","v":""}]
[null,null,{"$f":"IF(ISBLANK(Risque[[#This Row],[Catégorie de risque]]),\"\",CONCATENATE(Risque[[#This Row],[Catégorie de risque]],1))","v":""},null,null,null,null,null,{"$f":"IF(ISBLANK(Risque[[#This Row],[Catégorie de risque]]),\"\",IF(OR(ISNUMBER(SEARCH(\"RZ\",Risque[[#This Row],[Source de danger]]))=TRUE,ISNUMBER(SEARCH(\"RP\",Risque[[#This Row],[Source de danger]]))=TRUE,ISNUMBER(SEARCH(\"RZ\",Risque[[#This Row],[Risques associés]]))=TRUE,ISNUMBER(SEARCH(\"RP\",Risque[[#This Row],[Risques associés]]))=TRUE,ISNUMBER(SEARCH(\"RZ\",Risque[[#This Row],[Précision du risque\n(si liste déroulante présente)]]))=TRUE,ISNUMBER(SEARCH(\"RP\",Risque[[#This Row],[Précision du risque\n(si liste déroulante présente)]]))=TRUE),\"Oui --> Priorité d'action\",\"Non\"))","v":""},null,null,null,null,{"$f":"IF(ISBLANK(Risque[[#This Row],[Catégorie de risque]]),\"\",CONCATENATE(Risque[[#This Row],[Catégorie de risque]],2))","v":""},null,{"$f":"IF(ISBLANK(Risque[[#This Row],[Moyens de prévention]]),\"\",CONCATENATE(Risque[[#This Row],[Moyens de prévention]],1))","v":""},null,null,null,null,null,{"$f":"IF(ISBLANK(Risque[[#This Row],[Catégorie de risque]]),\"\",CONCATENATE(Risque[[#This Row],[Catégorie de risque]],3))","v":""},null,null,null,{"$f":"IF(ISBLANK(Risque[[#This Row],[Catégorie de risque]]),\"\",CONCATENATE(Risque[[#This Row],[Catégorie de risque]],4))","v":""},null,null,null,null,null,{"$f":"IF(Risque[[#This Row],[Date d''inscription du risque]]<>\"\",YEAR(Risque[[#This Row],[Date d''inscription du risque]]),\"\")","v":""}]
[null,null,{"$f":"IF(ISBLANK(Risque[[#This Row],[Catégorie de risque]]),\"\",CONCATENATE(Risque[[#This Row],[Catégorie de risque]],1))","v":""},null,null,null,null,null,{"$f":"IF(ISBLANK(Risque[[#This Row],[Catégorie de risque]]),\"\",IF(OR(ISNUMBER(SEARCH(\"RZ\",Risque[[#This Row],[Source de danger]]))=TRUE,ISNUMBER(SEARCH(\"RP\",Risque[[#This Row],[Source de danger]]))=TRUE,ISNUMBER(SEARCH(\"RZ\",Risque[[#This Row],[Risques associés]]))=TRUE,ISNUMBER(SEARCH(\"RP\",Risque[[#This Row],[Risques associés]]))=TRUE,ISNUMBER(SEARCH(\"RZ\",Risque[[#This Row],[Précision du risque\n(si liste déroulante présente)]]))=TRUE,ISNUMBER(SEARCH(\"RP\",Risque[[#This Row],[Précision du risque\n(si liste déroulante présente)]]))=TRUE),\"Oui --> Priorité d'action\",\"Non\"))","v":""},null,null,null,null,{"$f":"IF(ISBLANK(Risque[[#This Row],[Catégorie de risque]]),\"\",CONCATENATE(Risque[[#This Row],[Catégorie de risque]],2))","v":""},null,{"$f":"IF(ISBLANK(Risque[[#This Row],[Moyens de prévention]]),\"\",CONCATENATE(Risque[[#This Row],[Moyens de prévention]],1))","v":""},null,null,null,null,null,{"$f":"IF(ISBLANK(Risque[[#This Row],[Catégorie de risque]]),\"\",CONCATENATE(Risque[[#This Row],[Catégorie de risque]],3))","v":""},null,null,null,{"$f":"IF(ISBLANK(Risque[[#This Row],[Catégorie de risque]]),\"\",CONCATENATE(Risque[[#This Row],[Catégorie de risque]],4))","v":""},null,null,null,null,null,{"$f":"IF(Risque[[#This Row],[Date d''inscription du risque]]<>\"\",YEAR(Risque[[#This Row],[Date d''inscription du risque]]),\"\")","v":""}]
[null,null,{"$f":"IF(ISBLANK(Risque[[#This Row],[Catégorie de risque]]),\"\",CONCATENATE(Risque[[#This Row],[Catégorie de risque]],1))","v":""},null,null,null,null,null,{"$f":"IF(ISBLANK(Risque[[#This Row],[Catégorie de risque]]),\"\",IF(OR(ISNUMBER(SEARCH(\"RZ\",Risque[[#This Row],[Source de danger]]))=TRUE,ISNUMBER(SEARCH(\"RP\",Risque[[#This Row],[Source de danger]]))=TRUE,ISNUMBER(SEARCH(\"RZ\",Risque[[#This Row],[Risques associés]]))=TRUE,ISNUMBER(SEARCH(\"RP\",Risque[[#This Row],[Risques associés]]))=TRUE,ISNUMBER(SEARCH(\"RZ\",Risque[[#This Row],[Précision du risque\n(si liste déroulante présente)]]))=TRUE,ISNUMBER(SEARCH(\"RP\",Risque[[#This Row],[Précision du risque\n(si liste déroulante présente)]]))=TRUE),\"Oui --> Priorité d'action\",\"Non\"))","v":""},null,null,null,null,{"$f":"IF(ISBLANK(Risque[[#This Row],[Catégorie de risque]]),\"\",CONCATENATE(Risque[[#This Row],[Catégorie de risque]],2))","v":""},null,{"$f":"IF(ISBLANK(Risque[[#This Row],[Moyens de prévention]]),\"\",CONCATENATE(Risque[[#This Row],[Moyens de prévention]],1))","v":""},null,null,null,null,null,{"$f":"IF(ISBLANK(Risque[[#This Row],[Catégorie de risque]]),\"\",CONCATENATE(Risque[[#This Row],[Catégorie de risque]],3))","v":""},null,null,null,{"$f":"IF(ISBLANK(Risque[[#This Row],[Catégorie de risque]]),\"\",CONCATENATE(Risque[[#This Row],[Catégorie de risque]],4))","v":""},null,null,null,null,null,{"$f":"IF(Risque[[#This Row],[Date d''inscription du risque]]<>\"\",YEAR(Risque[[#This Row],[Date d''inscription du risque]]),\"\")","v":""}]
[null,null,{"$f":"IF(ISBLANK(Risque[[#This Row],[Catégorie de risque]]),\"\",CONCATENATE(Risque[[#This Row],[Catégorie de risque]],1))","v":""},null,null,null,null,null,{"$f":"IF(ISBLANK(Risque[[#This Row],[Catégorie de risque]]),\"\",IF(OR(ISNUMBER(SEARCH(\"RZ\",Risque[[#This Row],[Source de danger]]))=TRUE,ISNUMBER(SEARCH(\"RP\",Risque[[#This Row],[Source de danger]]))=TRUE,ISNUMBER(SEARCH(\"RZ\",Risque[[#This Row],[Risques associés]]))=TRUE,ISNUMBER(SEARCH(\"RP\",Risque[[#This Row],[Risques associés]]))=TRUE,ISNUMBER(SEARCH(\"RZ\",Risque[[#This Row],[Précision du risque\n(si liste déroulante présente)]]))=TRUE,ISNUMBER(SEARCH(\"RP\",Risque[[#This Row],[Précision du risque\n(si liste déroulante présente)]]))=TRUE),\"Oui --> Priorité d'action\",\"Non\"))","v":""},null,null,null,null,{"$f":"IF(ISBLANK(Risque[[#This Row],[Catégorie de risque]]),\"\",CONCATENATE(Risque[[#This Row],[Catégorie de risque]],2))","v":""},null,{"$f":"IF(ISBLANK(Risque[[#This Row],[Moyens de prévention]]),\"\",CONCATENATE(Risque[[#This Row],[Moyens de prévention]],1))","v":""},null,null,null,null,null,{"$f":"IF(ISBLANK(Risque[[#This Row],[Catégorie de risque]]),\"\",CONCATENATE(Risque[[#This Row],[Catégorie de risque]],3))","v":""},null,null,null,{"$f":"IF(ISBLANK(Risque[[#This Row],[Catégorie de risque]]),\"\",CONCATENATE(Risque[[#This Row],[Catégorie de risque]],4))","v":""},null,null,null,null,null,{"$f":"IF(Risque[[#This Row],[Date d''inscription du risque]]<>\"\",YEAR(Risque[[#This Row],[Date d''inscription du risque]]),\"\")","v":""}]
[null,null,{"$f":"IF(ISBLANK(Risque[[#This Row],[Catégorie de risque]]),\"\",CONCATENATE(Risque[[#This Row],[Catégorie de risque]],1))","v":""},null,null,null,null,null,{"$f":"IF(ISBLANK(Risque[[#This Row],[Catégorie de risque]]),\"\",IF(OR(ISNUMBER(SEARCH(\"RZ\",Risque[[#This Row],[Source de danger]]))=TRUE,ISNUMBER(SEARCH(\"RP\",Risque[[#This Row],[Source de danger]]))=TRUE,ISNUMBER(SEARCH(\"RZ\",Risque[[#This Row],[Risques associés]]))=TRUE,ISNUMBER(SEARCH(\"RP\",Risque[[#This Row],[Risques associés]]))=TRUE,ISNUMBER(SEARCH(\"RZ\",Risque[[#This Row],[Précision du risque\n(si liste déroulante présente)]]))=TRUE,ISNUMBER(SEARCH(\"RP\",Risque[[#This Row],[Précision du risque\n(si liste déroulante présente)]]))=TRUE),\"Oui --> Priorité d'action\",\"Non\"))","v":""},null,null,null,null,{"$f":"IF(ISBLANK(Risque[[#This Row],[Catégorie de risque]]),\"\",CONCATENATE(Risque[[#This Row],[Catégorie de risque]],2))","v":""},null,{"$f":"IF(ISBLANK(Risque[[#This Row],[Moyens de prévention]]),\"\",CONCATENATE(Risque[[#This Row],[Moyens de prévention]],1))","v":""},null,null,null,null,null,{"$f":"IF(ISBLANK(Risque[[#This Row],[Catégorie de risque]]),\"\",CONCATENATE(Risque[[#This Row],[Catégorie de risque]],3))","v":""},null,null,null,{"$f":"IF(ISBLANK(Risque[[#This Row],[Catégorie de risque]]),\"\",CONCATENATE(Risque[[#This Row],[Catégorie de risque]],4))","v":""},null,null,null,null,null,{"$f":"IF(Risque[[#This Row],[Date d''inscription du risque]]<>\"\",YEAR(Risque[[#This Row],[Date d''inscription du risque]]),\"\")","v":""}]
[null,null,{"$f":"IF(ISBLANK(Risque[[#This Row],[Catégorie de risque]]),\"\",CONCATENATE(Risque[[#This Row],[Catégorie de risque]],1))","v":""},null,null,null,null,null,{"$f":"IF(ISBLANK(Risque[[#This Row],[Catégorie de risque]]),\"\",IF(OR(ISNUMBER(SEARCH(\"RZ\",Risque[[#This Row],[Source de danger]]))=TRUE,ISNUMBER(SEARCH(\"RP\",Risque[[#This Row],[Source de danger]]))=TRUE,ISNUMBER(SEARCH(\"RZ\",Risque[[#This Row],[Risques associés]]))=TRUE,ISNUMBER(SEARCH(\"RP\",Risque[[#This Row],[Risques associés]]))=TRUE,ISNUMBER(SEARCH(\"RZ\",Risque[[#This Row],[Précision du risque\n(si liste déroulante présente)]]))=TRUE,ISNUMBER(SEARCH(\"RP\",Risque[[#This Row],[Précision du risque\n(si liste déroulante présente)]]))=TRUE),\"Oui --> Priorité d'action\",\"Non\"))","v":""},null,null,null,null,{"$f":"IF(ISBLANK(Risque[[#This Row],[Catégorie de risque]]),\"\",CONCATENATE(Risque[[#This Row],[Catégorie de risque]],2))","v":""},null,{"$f":"IF(ISBLANK(Risque[[#This Row],[Moyens de prévention]]),\"\",CONCATENATE(Risque[[#This Row],[Moyens de prévention]],1))","v":""},null,null,null,null,null,{"$f":"IF(ISBLANK(Risque[[#This Row],[Catégorie de risque]]),\"\",CONCATENATE(Risque[[#This Row],[Catégorie de risque]],3))","v":""},null,null,null,{"$f":"IF(ISBLANK(Risque[[#This Row],[Catégorie de risque]]),\"\",CONCATENATE(Risque[[#This Row],[Catégorie de risque]],4))","v":""},null,null,null,null,null,{"$f":"IF(Risque[[#This Row],[Date d''inscription du risque]]<>\"\",YEAR(Risque[[#This Row],[Date d''inscription du risque]]),\"\")","v":""}]
[null,null,{"$f":"IF(ISBLANK(Risque[[#This Row],[Catégorie de risque]]),\"\",CONCATENATE(Risque[[#This Row],[Catégorie de risque]],1))","v":""},null,null,null,null,null,{"$f":"IF(ISBLANK(Risque[[#This Row],[Catégorie de risque]]),\"\",IF(OR(ISNUMBER(SEARCH(\"RZ\",Risque[[#This Row],[Source de danger]]))=TRUE,ISNUMBER(SEARCH(\"RP\",Risque[[#This Row],[Source de danger]]))=TRUE,ISNUMBER(SEARCH(\"RZ\",Risque[[#This Row],[Risques associés]]))=TRUE,ISNUMBER(SEARCH(\"RP\",Risque[[#This Row],[Risques associés]]))=TRUE,ISNUMBER(SEARCH(\"RZ\",Risque[[#This Row],[Précision du risque\n(si liste déroulante présente)]]))=TRUE,ISNUMBER(SEARCH(\"RP\",Risque[[#This Row],[Précision du risque\n(si liste déroulante présente)]]))=TRUE),\"Oui --> Priorité d'action\",\"Non\"))","v":""},null,null,null,null,{"$f":"IF(ISBLANK(Risque[[#This Row],[Catégorie de risque]]),\"\",CONCATENATE(Risque[[#This Row],[Catégorie de risque]],2))","v":""},null,{"$f":"IF(ISBLANK(Risque[[#This Row],[Moyens de prévention]]),\"\",CONCATENATE(Risque[[#This Row],[Moyens de prévention]],1))","v":""},null,null,null,null,null,{"$f":"IF(ISBLANK(Risque[[#This Row],[Catégorie de risque]]),\"\",CONCATENATE(Risque[[#This Row],[Catégorie de risque]],3))","v":""},null,null,null,{"$f":"IF(ISBLANK(Risque[[#This Row],[Catégorie de risque]]),\"\",CONCATENATE(Risque[[#This Row],[Catégorie de risque]],4))","v":""},null,null,null,null,null,{"$f":"IF(Risque[[#This Row],[Date d''inscription du risque]]<>\"\",YEAR(Risque[[#This Row],[Date d''inscription du risque]]),\"\")","v":""}]
[null,null,{"$f":"IF(ISBLANK(Risque[[#This Row],[Catégorie de risque]]),\"\",CONCATENATE(Risque[[#This Row],[Catégorie de risque]],1))","v":""},null,null,null,null,null,{"$f":"IF(ISBLANK(Risque[[#This Row],[Catégorie de risque]]),\"\",IF(OR(ISNUMBER(SEARCH(\"RZ\",Risque[[#This Row],[Source de danger]]))=TRUE,ISNUMBER(SEARCH(\"RP\",Risque[[#This Row],[Source de danger]]))=TRUE,ISNUMBER(SEARCH(\"RZ\",Risque[[#This Row],[Risques associés]]))=TRUE,ISNUMBER(SEARCH(\"RP\",Risque[[#This Row],[Risques associés]]))=TRUE,ISNUMBER(SEARCH(\"RZ\",Risque[[#This Row],[Précision du risque\n(si liste déroulante présente)]]))=TRUE,ISNUMBER(SEARCH(\"RP\",Risque[[#This Row],[Précision du risque\n(si liste déroulante présente)]]))=TRUE),\"Oui --> Priorité d'action\",\"Non\"))","v":""},null,null,null,null,{"$f":"IF(ISBLANK(Risque[[#This Row],[Catégorie de risque]]),\"\",CONCATENATE(Risque[[#This Row],[Catégorie de risque]],2))","v":""},null,{"$f":"IF(ISBLANK(Risque[[#This Row],[Moyens de prévention]]),\"\",CONCATENATE(Risque[[#This Row],[Moyens de prévention]],1))","v":""},null,null,null,null,null,{"$f":"IF(ISBLANK(Risque[[#This Row],[Catégorie de risque]]),\"\",CONCATENATE(Risque[[#This Row],[Catégorie de risque]],3))","v":""},null,null,null,{"$f":"IF(ISBLANK(Risque[[#This Row],[Catégorie de risque]]),\"\",CONCATENATE(Risque[[#This Row],[Catégorie de risque]],4))","v":""},null,null,null,null,null,{"$f":"IF(Risque[[#This Row],[Date d''inscription du risque]]<>\"\",YEAR(Risque[[#This Row],[Date d''inscription du risque]]),\"\")","v":""}]
[null,null,{"$f":"IF(ISBLANK(Risque[[#This Row],[Catégorie de risque]]),\"\",CONCATENATE(Risque[[#This Row],[Catégorie de risque]],1))","v":""},null,null,null,null,null,{"$f":"IF(ISBLANK(Risque[[#This Row],[Catégorie de risque]]),\"\",IF(OR(ISNUMBER(SEARCH(\"RZ\",Risque[[#This Row],[Source de danger]]))=TRUE,ISNUMBER(SEARCH(\"RP\",Risque[[#This Row],[Source de danger]]))=TRUE,ISNUMBER(SEARCH(\"RZ\",Risque[[#This Row],[Risques associés]]))=TRUE,ISNUMBER(SEARCH(\"RP\",Risque[[#This Row],[Risques associés]]))=TRUE,ISNUMBER(SEARCH(\"RZ\",Risque[[#This Row],[Précision du risque\n(si liste déroulante présente)]]))=TRUE,ISNUMBER(SEARCH(\"RP\",Risque[[#This Row],[Précision du risque\n(si liste déroulante présente)]]))=TRUE),\"Oui --> Priorité d'action\",\"Non\"))","v":""},null,null,null,null,{"$f":"IF(ISBLANK(Risque[[#This Row],[Catégorie de risque]]),\"\",CONCATENATE(Risque[[#This Row],[Catégorie de risque]],2))","v":""},null,{"$f":"IF(ISBLANK(Risque[[#This Row],[Moyens de prévention]]),\"\",CONCATENATE(Risque[[#This Row],[Moyens de prévention]],1))","v":""},null,null,null,null,null,{"$f":"IF(ISBLANK(Risque[[#This Row],[Catégorie de risque]]),\"\",CONCATENATE(Risque[[#This Row],[Catégorie de risque]],3))","v":""},null,null,null,{"$f":"IF(ISBLANK(Risque[[#This Row],[Catégorie de risque]]),\"\",CONCATENATE(Risque[[#This Row],[Catégorie de risque]],4))","v":""},null,null,null,null,null,{"$f":"IF(Risque[[#This Row],[Date d''inscription du risque]]<>\"\",YEAR(Risque[[#This Row],[Date d''inscription du risque]]),\"\")","v":""}]
[null,null,{"$f":"IF(ISBLANK(Risque[[#This Row],[Catégorie de risque]]),\"\",CONCATENATE(Risque[[#This Row],[Catégorie de risque]],1))","v":""},null,null,null,null,null,{"$f":"IF(ISBLANK(Risque[[#This Row],[Catégorie de risque]]),\"\",IF(OR(ISNUMBER(SEARCH(\"RZ\",Risque[[#This Row],[Source de danger]]))=TRUE,ISNUMBER(SEARCH(\"RP\",Risque[[#This Row],[Source de danger]]))=TRUE,ISNUMBER(SEARCH(\"RZ\",Risque[[#This Row],[Risques associés]]))=TRUE,ISNUMBER(SEARCH(\"RP\",Risque[[#This Row],[Risques associés]]))=TRUE,ISNUMBER(SEARCH(\"RZ\",Risque[[#This Row],[Précision du risque\n(si liste déroulante présente)]]))=TRUE,ISNUMBER(SEARCH(\"RP\",Risque[[#This Row],[Précision du risque\n(si liste déroulante présente)]]))=TRUE),\"Oui --> Priorité d'action\",\"Non\"))","v":""},null,null,null,null,{"$f":"IF(ISBLANK(Risque[[#This Row],[Catégorie de risque]]),\"\",CONCATENATE(Risque[[#This Row],[Catégorie de risque]],2))","v":""},null,{"$f":"IF(ISBLANK(Risque[[#This Row],[Moyens de prévention]]),\"\",CONCATENATE(Risque[[#This Row],[Moyens de prévention]],1))","v":""},null,null,null,null,null,{"$f":"IF(ISBLANK(Risque[[#This Row],[Catégorie de risque]]),\"\",CONCATENATE(Risque[[#This Row],[Catégorie de risque]],3))","v":""},null,null,null,{"$f":"IF(ISBLANK(Risque[[#This Row],[Catégorie de risque]]),\"\",CONCATENATE(Risque[[#This Row],[Catégorie de risque]],4))","v":""},null,null,null,null,null,{"$f":"IF(Risque[[#This Row],[Date d''inscription du risque]]<>\"\",YEAR(Risque[[#This Row],[Date d''inscription du risque]]),\"\")","v":""}]
[null,null,{"$f":"IF(ISBLANK(Risque[[#This Row],[Catégorie de risque]]),\"\",CONCATENATE(Risque[[#This Row],[Catégorie de risque]],1))","v":""},null,null,null,null,null,{"$f":"IF(ISBLANK(Risque[[#This Row],[Catégorie de risque]]),\"\",IF(OR(ISNUMBER(SEARCH(\"RZ\",Risque[[#This Row],[Source de danger]]))=TRUE,ISNUMBER(SEARCH(\"RP\",Risque[[#This Row],[Source de danger]]))=TRUE,ISNUMBER(SEARCH(\"RZ\",Risque[[#This Row],[Risques associés]]))=TRUE,ISNUMBER(SEARCH(\"RP\",Risque[[#This Row],[Risques associés]]))=TRUE,ISNUMBER(SEARCH(\"RZ\",Risque[[#This Row],[Précision du risque\n(si liste déroulante présente)]]))=TRUE,ISNUMBER(SEARCH(\"RP\",Risque[[#This Row],[Précision du risque\n(si liste déroulante présente)]]))=TRUE),\"Oui --> Priorité d'action\",\"Non\"))","v":""},null,null,null,null,{"$f":"IF(ISBLANK(Risque[[#This Row],[Catégorie de risque]]),\"\",CONCATENATE(Risque[[#This Row],[Catégorie de risque]],2))","v":""},null,{"$f":"IF(ISBLANK(Risque[[#This Row],[Moyens de prévention]]),\"\",CONCATENATE(Risque[[#This Row],[Moyens de prévention]],1))","v":""},null,null,null,null,null,{"$f":"IF(ISBLANK(Risque[[#This Row],[Catégorie de risque]]),\"\",CONCATENATE(Risque[[#This Row],[Catégorie de risque]],3))","v":""},null,null,null,{"$f":"IF(ISBLANK(Risque[[#This Row],[Catégorie de risque]]),\"\",CONCATENATE(Risque[[#This Row],[Catégorie de risque]],4))","v":""},null,null,null,null,null,{"$f":"IF(Risque[[#This Row],[Date d''inscription du risque]]<>\"\",YEAR(Risque[[#This Row],[Date d''inscription du risque]]),\"\")","v":""}]
[null,null,{"$f":"IF(ISBLANK(Risque[[#This Row],[Catégorie de risque]]),\"\",CONCATENATE(Risque[[#This Row],[Catégorie de risque]],1))","v":""},null,null,null,null,null,{"$f":"IF(ISBLANK(Risque[[#This Row],[Catégorie de risque]]),\"\",IF(OR(ISNUMBER(SEARCH(\"RZ\",Risque[[#This Row],[Source de danger]]))=TRUE,ISNUMBER(SEARCH(\"RP\",Risque[[#This Row],[Source de danger]]))=TRUE,ISNUMBER(SEARCH(\"RZ\",Risque[[#This Row],[Risques associés]]))=TRUE,ISNUMBER(SEARCH(\"RP\",Risque[[#This Row],[Risques associés]]))=TRUE,ISNUMBER(SEARCH(\"RZ\",Risque[[#This Row],[Précision du risque\n(si liste déroulante présente)]]))=TRUE,ISNUMBER(SEARCH(\"RP\",Risque[[#This Row],[Précision du risque\n(si liste déroulante présente)]]))=TRUE),\"Oui --> Priorité d'action\",\"Non\"))","v":""},null,null,null,null,{"$f":"IF(ISBLANK(Risque[[#This Row],[Catégorie de risque]]),\"\",CONCATENATE(Risque[[#This Row],[Catégorie de risque]],2))","v":""},null,{"$f":"IF(ISBLANK(Risque[[#This Row],[Moyens de prévention]]),\"\",CONCATENATE(Risque[[#This Row],[Moyens de prévention]],1))","v":""},null,null,null,null,null,{"$f":"IF(ISBLANK(Risque[[#This Row],[Catégorie de risque]]),\"\",CONCATENATE(Risque[[#This Row],[Catégorie de risque]],3))","v":""},null,null,null,{"$f":"IF(ISBLANK(Risque[[#This Row],[Catégorie de risque]]),\"\",CONCATENATE(Risque[[#This Row],[Catégorie de risque]],4))","v":""},null,null,null,null,null,{"$f":"IF(Risque[[#This Row],[Date d''inscription du risque]]<>\"\",YEAR(Risque[[#This Row],[Date d''inscription du risque]]),\"\")","v":""}]
[null,null,{"$f":"IF(ISBLANK(Risque[[#This Row],[Catégorie de risque]]),\"\",CONCATENATE(Risque[[#This Row],[Catégorie de risque]],1))","v":""},null,null,null,null,null,{"$f":"IF(ISBLANK(Risque[[#This Row],[Catégorie de risque]]),\"\",IF(OR(ISNUMBER(SEARCH(\"RZ\",Risque[[#This Row],[Source de danger]]))=TRUE,ISNUMBER(SEARCH(\"RP\",Risque[[#This Row],[Source de danger]]))=TRUE,ISNUMBER(SEARCH(\"RZ\",Risque[[#This Row],[Risques associés]]))=TRUE,ISNUMBER(SEARCH(\"RP\",Risque[[#This Row],[Risques associés]]))=TRUE,ISNUMBER(SEARCH(\"RZ\",Risque[[#This Row],[Précision du risque\n(si liste déroulante présente)]]))=TRUE,ISNUMBER(SEARCH(\"RP\",Risque[[#This Row],[Précision du risque\n(si liste déroulante présente)]]))=TRUE),\"Oui --> Priorité d'action\",\"Non\"))","v":""},null,null,null,null,{"$f":"IF(ISBLANK(Risque[[#This Row],[Catégorie de risque]]),\"\",CONCATENATE(Risque[[#This Row],[Catégorie de risque]],2))","v":""},null,{"$f":"IF(ISBLANK(Risque[[#This Row],[Moyens de prévention]]),\"\",CONCATENATE(Risque[[#This Row],[Moyens de prévention]],1))","v":""},null,null,null,null,null,{"$f":"IF(ISBLANK(Risque[[#This Row],[Catégorie de risque]]),\"\",CONCATENATE(Risque[[#This Row],[Catégorie de risque]],3))","v":""},null,null,null,{"$f":"IF(ISBLANK(Risque[[#This Row],[Catégorie de risque]]),\"\",CONCATENATE(Risque[[#This Row],[Catégorie de risque]],4))","v":""},null,null,null,null,null,{"$f":"IF(Risque[[#This Row],[Date d''inscription du risque]]<>\"\",YEAR(Risque[[#This Row],[Date d''inscription du risque]]),\"\")","v":""}]
[null,null,{"$f":"IF(ISBLANK(Risque[[#This Row],[Catégorie de risque]]),\"\",CONCATENATE(Risque[[#This Row],[Catégorie de risque]],1))","v":""},null,null,null,null,null,{"$f":"IF(ISBLANK(Risque[[#This Row],[Catégorie de risque]]),\"\",IF(OR(ISNUMBER(SEARCH(\"RZ\",Risque[[#This Row],[Source de danger]]))=TRUE,ISNUMBER(SEARCH(\"RP\",Risque[[#This Row],[Source de danger]]))=TRUE,ISNUMBER(SEARCH(\"RZ\",Risque[[#This Row],[Risques associés]]))=TRUE,ISNUMBER(SEARCH(\"RP\",Risque[[#This Row],[Risques associés]]))=TRUE,ISNUMBER(SEARCH(\"RZ\",Risque[[#This Row],[Précision du risque\n(si liste déroulante présente)]]))=TRUE,ISNUMBER(SEARCH(\"RP\",Risque[[#This Row],[Précision du risque\n(si liste déroulante présente)]]))=TRUE),\"Oui --> Priorité d'action\",\"Non\"))","v":""},null,null,null,null,{"$f":"IF(ISBLANK(Risque[[#This Row],[Catégorie de risque]]),\"\",CONCATENATE(Risque[[#This Row],[Catégorie de risque]],2))","v":""},null,{"$f":"IF(ISBLANK(Risque[[#This Row],[Moyens de prévention]]),\"\",CONCATENATE(Risque[[#This Row],[Moyens de prévention]],1))","v":""},null,null,null,null,null,{"$f":"IF(ISBLANK(Risque[[#This Row],[Catégorie de risque]]),\"\",CONCATENATE(Risque[[#This Row],[Catégorie de risque]],3))","v":""},null,null,null,{"$f":"IF(ISBLANK(Risque[[#This Row],[Catégorie de risque]]),\"\",CONCATENATE(Risque[[#This Row],[Catégorie de risque]],4))","v":""},null,null,null,null,null,{"$f":"IF(Risque[[#This Row],[Date d''inscription du risque]]<>\"\",YEAR(Risque[[#This Row],[Date d''inscription du risque]]),\"\")","v":""}]
[null,null,{"$f":"IF(ISBLANK(Risque[[#This Row],[Catégorie de risque]]),\"\",CONCATENATE(Risque[[#This Row],[Catégorie de risque]],1))","v":""},null,null,null,null,null,{"$f":"IF(ISBLANK(Risque[[#This Row],[Catégorie de risque]]),\"\",IF(OR(ISNUMBER(SEARCH(\"RZ\",Risque[[#This Row],[Source de danger]]))=TRUE,ISNUMBER(SEARCH(\"RP\",Risque[[#This Row],[Source de danger]]))=TRUE,ISNUMBER(SEARCH(\"RZ\",Risque[[#This Row],[Risques associés]]))=TRUE,ISNUMBER(SEARCH(\"RP\",Risque[[#This Row],[Risques associés]]))=TRUE,ISNUMBER(SEARCH(\"RZ\",Risque[[#This Row],[Précision du risque\n(si liste déroulante présente)]]))=TRUE,ISNUMBER(SEARCH(\"RP\",Risque[[#This Row],[Précision du risque\n(si liste déroulante présente)]]))=TRUE),\"Oui --> Priorité d'action\",\"Non\"))","v":""},null,null,null,null,{"$f":"IF(ISBLANK(Risque[[#This Row],[Catégorie de risque]]),\"\",CONCATENATE(Risque[[#This Row],[Catégorie de risque]],2))","v":""},null,{"$f":"IF(ISBLANK(Risque[[#This Row],[Moyens de prévention]]),\"\",CONCATENATE(Risque[[#This Row],[Moyens de prévention]],1))","v":""},null,null,null,null,null,{"$f":"IF(ISBLANK(Risque[[#This Row],[Catégorie de risque]]),\"\",CONCATENATE(Risque[[#This Row],[Catégorie de risque]],3))","v":""},null,null,null,{"$f":"IF(ISBLANK(Risque[[#This Row],[Catégorie de risque]]),\"\",CONCATENATE(Risque[[#This Row],[Catégorie de risque]],4))","v":""},null,null,null,null,null,{"$f":"IF(Risque[[#This Row],[Date d''inscription du risque]]<>\"\",YEAR(Risque[[#This Row],[Date d''inscription du risque]]),\"\")","v":""}]
[null,null,{"$f":"IF(ISBLANK(Risque[[#This Row],[Catégorie de risque]]),\"\",CONCATENATE(Risque[[#This Row],[Catégorie de risque]],1))","v":""},null,null,null,null,null,{"$f":"IF(ISBLANK(Risque[[#This Row],[Catégorie de risque]]),\"\",IF(OR(ISNUMBER(SEARCH(\"RZ\",Risque[[#This Row],[Source de danger]]))=TRUE,ISNUMBER(SEARCH(\"RP\",Risque[[#This Row],[Source de danger]]))=TRUE,ISNUMBER(SEARCH(\"RZ\",Risque[[#This Row],[Risques associés]]))=TRUE,ISNUMBER(SEARCH(\"RP\",Risque[[#This Row],[Risques associés]]))=TRUE,ISNUMBER(SEARCH(\"RZ\",Risque[[#This Row],[Précision du risque\n(si liste déroulante présente)]]))=TRUE,ISNUMBER(SEARCH(\"RP\",Risque[[#This Row],[Précision du risque\n(si liste déroulante présente)]]))=TRUE),\"Oui --> Priorité d'action\",\"Non\"))","v":""},null,null,null,null,{"$f":"IF(ISBLANK(Risque[[#This Row],[Catégorie de risque]]),\"\",CONCATENATE(Risque[[#This Row],[Catégorie de risque]],2))","v":""},null,{"$f":"IF(ISBLANK(Risque[[#This Row],[Moyens de prévention]]),\"\",CONCATENATE(Risque[[#This Row],[Moyens de prévention]],1))","v":""},null,null,null,null,null,{"$f":"IF(ISBLANK(Risque[[#This Row],[Catégorie de risque]]),\"\",CONCATENATE(Risque[[#This Row],[Catégorie de risque]],3))","v":""},null,null,null,{"$f":"IF(ISBLANK(Risque[[#This Row],[Catégorie de risque]]),\"\",CONCATENATE(Risque[[#This Row],[Catégorie de risque]],4))","v":""},null,null,null,null,null,{"$f":"IF(Risque[[#This Row],[Date d''inscription du risque]]<>\"\",YEAR(Risque[[#This Row],[Date d''inscription du risque]]),\"\")","v":""}]
[null,null,{"$f":"IF(ISBLANK(Risque[[#This Row],[Catégorie de risque]]),\"\",CONCATENATE(Risque[[#This Row],[Catégorie de risque]],1))","v":""},null,null,null,null,null,{"$f":"IF(ISBLANK(Risque[[#This Row],[Catégorie de risque]]),\"\",IF(OR(ISNUMBER(SEARCH(\"RZ\",Risque[[#This Row],[Source de danger]]))=TRUE,ISNUMBER(SEARCH(\"RP\",Risque[[#This Row],[Source de danger]]))=TRUE,ISNUMBER(SEARCH(\"RZ\",Risque[[#This Row],[Risques associés]]))=TRUE,ISNUMBER(SEARCH(\"RP\",Risque[[#This Row],[Risques associés]]))=TRUE,ISNUMBER(SEARCH(\"RZ\",Risque[[#This Row],[Précision du risque\n(si liste déroulante présente)]]))=TRUE,ISNUMBER(SEARCH(\"RP\",Risque[[#This Row],[Précision du risque\n(si liste déroulante présente)]]))=TRUE),\"Oui --> Priorité d'action\",\"Non\"))","v":""},null,null,null,null,{"$f":"IF(ISBLANK(Risque[[#This Row],[Catégorie de risque]]),\"\",CONCATENATE(Risque[[#This Row],[Catégorie de risque]],2))","v":""},null,{"$f":"IF(ISBLANK(Risque[[#This Row],[Moyens de prévention]]),\"\",CONCATENATE(Risque[[#This Row],[Moyens de prévention]],1))","v":""},null,null,null,null,null,{"$f":"IF(ISBLANK(Risque[[#This Row],[Catégorie de risque]]),\"\",CONCATENATE(Risque[[#This Row],[Catégorie de risque]],3))","v":""},null,null,null,{"$f":"IF(ISBLANK(Risque[[#This Row],[Catégorie de risque]]),\"\",CONCATENATE(Risque[[#This Row],[Catégorie de risque]],4))","v":""},null,null,null,null,null,{"$f":"IF(Risque[[#This Row],[Date d''inscription du risque]]<>\"\",YEAR(Risque[[#This Row],[Date d''inscription du risque]]),\"\")","v":""}]
[null,null,{"$f":"IF(ISBLANK(Risque[[#This Row],[Catégorie de risque]]),\"\",CONCATENATE(Risque[[#This Row],[Catégorie de risque]],1))","v":""},null,null,null,null,null,{"$f":"IF(ISBLANK(Risque[[#This Row],[Catégorie de risque]]),\"\",IF(OR(ISNUMBER(SEARCH(\"RZ\",Risque[[#This Row],[Source de danger]]))=TRUE,ISNUMBER(SEARCH(\"RP\",Risque[[#This Row],[Source de danger]]))=TRUE,ISNUMBER(SEARCH(\"RZ\",Risque[[#This Row],[Risques associés]]))=TRUE,ISNUMBER(SEARCH(\"RP\",Risque[[#This Row],[Risques associés]]))=TRUE,ISNUMBER(SEARCH(\"RZ\",Risque[[#This Row],[Précision du risque\n(si liste déroulante présente)]]))=TRUE,ISNUMBER(SEARCH(\"RP\",Risque[[#This Row],[Précision du risque\n(si liste déroulante présente)]]))=TRUE),\"Oui --> Priorité d'action\",\"Non\"))","v":""},null,null,null,null,{"$f":"IF(ISBLANK(Risque[[#This Row],[Catégorie de risque]]),\"\",CONCATENATE(Risque[[#This Row],[Catégorie de risque]],2))","v":""},null,{"$f":"IF(ISBLANK(Risque[[#This Row],[Moyens de prévention]]),\"\",CONCATENATE(Risque[[#This Row],[Moyens de prévention]],1))","v":""},null,null,null,null,null,{"$f":"IF(ISBLANK(Risque[[#This Row],[Catégorie de risque]]),\"\",CONCATENATE(Risque[[#This Row],[Catégorie de risque]],3))","v":""},null,null,null,{"$f":"IF(ISBLANK(Risque[[#This Row],[Catégorie de risque]]),\"\",CONCATENATE(Risque[[#This Row],[Catégorie de risque]],4))","v":""},null,null,null,null,null,{"$f":"IF(Risque[[#This Row],[Date d''inscription du risque]]<>\"\",YEAR(Risque[[#This Row],[Date d''inscription du risque]]),\"\")","v":""}]
[null,null,{"$f":"IF(ISBLANK(Risque[[#This Row],[Catégorie de risque]]),\"\",CONCATENATE(Risque[[#This Row],[Catégorie de risque]],1))","v":""},null,null,null,null,null,{"$f":"IF(ISBLANK(Risque[[#This Row],[Catégorie de risque]]),\"\",IF(OR(ISNUMBER(SEARCH(\"RZ\",Risque[[#This Row],[Source de danger]]))=TRUE,ISNUMBER(SEARCH(\"RP\",Risque[[#This Row],[Source de danger]]))=TRUE,ISNUMBER(SEARCH(\"RZ\",Risque[[#This Row],[Risques associés]]))=TRUE,ISNUMBER(SEARCH(\"RP\",Risque[[#This Row],[Risques associés]]))=TRUE,ISNUMBER(SEARCH(\"RZ\",Risque[[#This Row],[Précision du risque\n(si liste déroulante présente)]]))=TRUE,ISNUMBER(SEARCH(\"RP\",Risque[[#This Row],[Précision du risque\n(si liste déroulante présente)]]))=TRUE),\"Oui --> Priorité d'action\",\"Non\"))","v":""},null,null,null,null,{"$f":"IF(ISBLANK(Risque[[#This Row],[Catégorie de risque]]),\"\",CONCATENATE(Risque[[#This Row],[Catégorie de risque]],2))","v":""},null,{"$f":"IF(ISBLANK(Risque[[#This Row],[Moyens de prévention]]),\"\",CONCATENATE(Risque[[#This Row],[Moyens de prévention]],1))","v":""},null,null,null,null,null,{"$f":"IF(ISBLANK(Risque[[#This Row],[Catégorie de risque]]),\"\",CONCATENATE(Risque[[#This Row],[Catégorie de risque]],3))","v":""},null,null,null,{"$f":"IF(ISBLANK(Risque[[#This Row],[Catégorie de risque]]),\"\",CONCATENATE(Risque[[#This Row],[Catégorie de risque]],4))","v":""},null,null,null,null,null,{"$f":"IF(Risque[[#This Row],[Date d''inscription du risque]]<>\"\",YEAR(Risque[[#This Row],[Date d''inscription du risque]]),\"\")","v":""}]
[null,null,{"$f":"IF(ISBLANK(Risque[[#This Row],[Catégorie de risque]]),\"\",CONCATENATE(Risque[[#This Row],[Catégorie de risque]],1))","v":""},null,null,null,null,null,{"$f":"IF(ISBLANK(Risque[[#This Row],[Catégorie de risque]]),\"\",IF(OR(ISNUMBER(SEARCH(\"RZ\",Risque[[#This Row],[Source de danger]]))=TRUE,ISNUMBER(SEARCH(\"RP\",Risque[[#This Row],[Source de danger]]))=TRUE,ISNUMBER(SEARCH(\"RZ\",Risque[[#This Row],[Risques associés]]))=TRUE,ISNUMBER(SEARCH(\"RP\",Risque[[#This Row],[Risques associés]]))=TRUE,ISNUMBER(SEARCH(\"RZ\",Risque[[#This Row],[Précision du risque\n(si liste déroulante présente)]]))=TRUE,ISNUMBER(SEARCH(\"RP\",Risque[[#This Row],[Précision du risque\n(si liste déroulante présente)]]))=TRUE),\"Oui --> Priorité d'action\",\"Non\"))","v":""},null,null,null,null,{"$f":"IF(ISBLANK(Risque[[#This Row],[Catégorie de risque]]),\"\",CONCATENATE(Risque[[#This Row],[Catégorie de risque]],2))","v":""},null,{"$f":"IF(ISBLANK(Risque[[#This Row],[Moyens de prévention]]),\"\",CONCATENATE(Risque[[#This Row],[Moyens de prévention]],1))","v":""},null,null,null,null,null,{"$f":"IF(ISBLANK(Risque[[#This Row],[Catégorie de risque]]),\"\",CONCATENATE(Risque[[#This Row],[Catégorie de risque]],3))","v":""},null,null,null,{"$f":"IF(ISBLANK(Risque[[#This Row],[Catégorie de risque]]),\"\",CONCATENATE(Risque[[#This Row],[Catégorie de risque]],4))","v":""},null,null,null,null,null,{"$f":"IF(Risque[[#This Row],[Date d''inscription du risque]]<>\"\",YEAR(Risque[[#This Row],[Date d''inscription du risque]]),\"\")","v":""}]
[null,null,{"$f":"IF(ISBLANK(Risque[[#This Row],[Catégorie de risque]]),\"\",CONCATENATE(Risque[[#This Row],[Catégorie de risque]],1))","v":""},null,null,null,null,null,{"$f":"IF(ISBLANK(Risque[[#This Row],[Catégorie de risque]]),\"\",IF(OR(ISNUMBER(SEARCH(\"RZ\",Risque[[#This Row],[Source de danger]]))=TRUE,ISNUMBER(SEARCH(\"RP\",Risque[[#This Row],[Source de danger]]))=TRUE,ISNUMBER(SEARCH(\"RZ\",Risque[[#This Row],[Risques associés]]))=TRUE,ISNUMBER(SEARCH(\"RP\",Risque[[#This Row],[Risques associés]]))=TRUE,ISNUMBER(SEARCH(\"RZ\",Risque[[#This Row],[Précision du risque\n(si liste déroulante présente)]]))=TRUE,ISNUMBER(SEARCH(\"RP\",Risque[[#This Row],[Précision du risque\n(si liste déroulante présente)]]))=TRUE),\"Oui --> Priorité d'action\",\"Non\"))","v":""},null,null,null,null,{"$f":"IF(ISBLANK(Risque[[#This Row],[Catégorie de risque]]),\"\",CONCATENATE(Risque[[#This Row],[Catégorie de risque]],2))","v":""},null,{"$f":"IF(ISBLANK(Risque[[#This Row],[Moyens de prévention]]),\"\",CONCATENATE(Risque[[#This Row],[Moyens de prévention]],1))","v":""},null,null,null,null,null,{"$f":"IF(ISBLANK(Risque[[#This Row],[Catégorie de risque]]),\"\",CONCATENATE(Risque[[#This Row],[Catégorie de risque]],3))","v":""},null,null,null,{"$f":"IF(ISBLANK(Risque[[#This Row],[Catégorie de risque]]),\"\",CONCATENATE(Risque[[#This Row],[Catégorie de risque]],4))","v":""},null,null,null,null,null,{"$f":"IF(Risque[[#This Row],[Date d''inscription du risque]]<>\"\",YEAR(Risque[[#This Row],[Date d''inscription du risque]]),\"\")","v":""}]
[null,null,{"$f":"IF(ISBLANK(Risque[[#This Row],[Catégorie de risque]]),\"\",CONCATENATE(Risque[[#This Row],[Catégorie de risque]],1))","v":""},null,null,null,null,null,{"$f":"IF(ISBLANK(Risque[[#This Row],[Catégorie de risque]]),\"\",IF(OR(ISNUMBER(SEARCH(\"RZ\",Risque[[#This Row],[Source de danger]]))=TRUE,ISNUMBER(SEARCH(\"RP\",Risque[[#This Row],[Source de danger]]))=TRUE,ISNUMBER(SEARCH(\"RZ\",Risque[[#This Row],[Risques associés]]))=TRUE,ISNUMBER(SEARCH(\"RP\",Risque[[#This Row],[Risques associés]]))=TRUE,ISNUMBER(SEARCH(\"RZ\",Risque[[#This Row],[Précision du risque\n(si liste déroulante présente)]]))=TRUE,ISNUMBER(SEARCH(\"RP\",Risque[[#This Row],[Précision du risque\n(si liste déroulante présente)]]))=TRUE),\"Oui --> Priorité d'action\",\"Non\"))","v":""},null,null,null,null,{"$f":"IF(ISBLANK(Risque[[#This Row],[Catégorie de risque]]),\"\",CONCATENATE(Risque[[#This Row],[Catégorie de risque]],2))","v":""},null,{"$f":"IF(ISBLANK(Risque[[#This Row],[Moyens de prévention]]),\"\",CONCATENATE(Risque[[#This Row],[Moyens de prévention]],1))","v":""},null,null,null,null,null,{"$f":"IF(ISBLANK(Risque[[#This Row],[Catégorie de risque]]),\"\",CONCATENATE(Risque[[#This Row],[Catégorie de risque]],3))","v":""},null,null,null,{"$f":"IF(ISBLANK(Risque[[#This Row],[Catégorie de risque]]),\"\",CONCATENATE(Risque[[#This Row],[Catégorie de risque]],4))","v":""},null,null,null,null,null,{"$f":"IF(Risque[[#This Row],[Date d''inscription du risque]]<>\"\",YEAR(Risque[[#This Row],[Date d''inscription du risque]]),\"\")","v":""}]
[null,null,{"$f":"IF(ISBLANK(Risque[[#This Row],[Catégorie de risque]]),\"\",CONCATENATE(Risque[[#This Row],[Catégorie de risque]],1))","v":""},null,null,null,null,null,{"$f":"IF(ISBLANK(Risque[[#This Row],[Catégorie de risque]]),\"\",IF(OR(ISNUMBER(SEARCH(\"RZ\",Risque[[#This Row],[Source de danger]]))=TRUE,ISNUMBER(SEARCH(\"RP\",Risque[[#This Row],[Source de danger]]))=TRUE,ISNUMBER(SEARCH(\"RZ\",Risque[[#This Row],[Risques associés]]))=TRUE,ISNUMBER(SEARCH(\"RP\",Risque[[#This Row],[Risques associés]]))=TRUE,ISNUMBER(SEARCH(\"RZ\",Risque[[#This Row],[Précision du risque\n(si liste déroulante présente)]]))=TRUE,ISNUMBER(SEARCH(\"RP\",Risque[[#This Row],[Précision du risque\n(si liste déroulante présente)]]))=TRUE),\"Oui --> Priorité d'action\",\"Non\"))","v":""},null,null,null,null,{"$f":"IF(ISBLANK(Risque[[#This Row],[Catégorie de risque]]),\"\",CONCATENATE(Risque[[#This Row],[Catégorie de risque]],2))","v":""},null,{"$f":"IF(ISBLANK(Risque[[#This Row],[Moyens de prévention]]),\"\",CONCATENATE(Risque[[#This Row],[Moyens de prévention]],1))","v":""},null,null,null,null,null,{"$f":"IF(ISBLANK(Risque[[#This Row],[Catégorie de risque]]),\"\",CONCATENATE(Risque[[#This Row],[Catégorie de risque]],3))","v":""},null,null,null,{"$f":"IF(ISBLANK(Risque[[#This Row],[Catégorie de risque]]),\"\",CONCATENATE(Risque[[#This Row],[Catégorie de risque]],4))","v":""},null,null,null,null,null,{"$f":"IF(Risque[[#This Row],[Date d''inscription du risque]]<>\"\",YEAR(Risque[[#This Row],[Date d''inscription du risque]]),\"\")","v":""}]
[null,null,{"$f":"IF(ISBLANK(Risque[[#This Row],[Catégorie de risque]]),\"\",CONCATENATE(Risque[[#This Row],[Catégorie de risque]],1))","v":""},null,null,null,null,null,{"$f":"IF(ISBLANK(Risque[[#This Row],[Catégorie de risque]]),\"\",IF(OR(ISNUMBER(SEARCH(\"RZ\",Risque[[#This Row],[Source de danger]]))=TRUE,ISNUMBER(SEARCH(\"RP\",Risque[[#This Row],[Source de danger]]))=TRUE,ISNUMBER(SEARCH(\"RZ\",Risque[[#This Row],[Risques associés]]))=TRUE,ISNUMBER(SEARCH(\"RP\",Risque[[#This Row],[Risques associés]]))=TRUE,ISNUMBER(SEARCH(\"RZ\",Risque[[#This Row],[Précision du risque\n(si liste déroulante présente)]]))=TRUE,ISNUMBER(SEARCH(\"RP\",Risque[[#This Row],[Précision du risque\n(si liste déroulante présente)]]))=TRUE),\"Oui --> Priorité d'action\",\"Non\"))","v":""},null,null,null,null,{"$f":"IF(ISBLANK(Risque[[#This Row],[Catégorie de risque]]),\"\",CONCATENATE(Risque[[#This Row],[Catégorie de risque]],2))","v":""},null,{"$f":"IF(ISBLANK(Risque[[#This Row],[Moyens de prévention]]),\"\",CONCATENATE(Risque[[#This Row],[Moyens de prévention]],1))","v":""},null,null,null,null,null,{"$f":"IF(ISBLANK(Risque[[#This Row],[Catégorie de risque]]),\"\",CONCATENATE(Risque[[#This Row],[Catégorie de risque]],3))","v":""},null,null,null,{"$f":"IF(ISBLANK(Risque[[#This Row],[Catégorie de risque]]),\"\",CONCATENATE(Risque[[#This Row],[Catégorie de risque]],4))","v":""},null,null,null,null,null,{"$f":"IF(Risque[[#This Row],[Date d''inscription du risque]]<>\"\",YEAR(Risque[[#This Row],[Date d''inscription du risque]]),\"\")","v":""}]
[null,null,{"$f":"IF(ISBLANK(Risque[[#This Row],[Catégorie de risque]]),\"\",CONCATENATE(Risque[[#This Row],[Catégorie de risque]],1))","v":""},null,null,null,null,null,{"$f":"IF(ISBLANK(Risque[[#This Row],[Catégorie de risque]]),\"\",IF(OR(ISNUMBER(SEARCH(\"RZ\",Risque[[#This Row],[Source de danger]]))=TRUE,ISNUMBER(SEARCH(\"RP\",Risque[[#This Row],[Source de danger]]))=TRUE,ISNUMBER(SEARCH(\"RZ\",Risque[[#This Row],[Risques associés]]))=TRUE,ISNUMBER(SEARCH(\"RP\",Risque[[#This Row],[Risques associés]]))=TRUE,ISNUMBER(SEARCH(\"RZ\",Risque[[#This Row],[Précision du risque\n(si liste déroulante présente)]]))=TRUE,ISNUMBER(SEARCH(\"RP\",Risque[[#This Row],[Précision du risque\n(si liste déroulante présente)]]))=TRUE),\"Oui --> Priorité d'action\",\"Non\"))","v":""},null,null,null,null,{"$f":"IF(ISBLANK(Risque[[#This Row],[Catégorie de risque]]),\"\",CONCATENATE(Risque[[#This Row],[Catégorie de risque]],2))","v":""},null,{"$f":"IF(ISBLANK(Risque[[#This Row],[Moyens de prévention]]),\"\",CONCATENATE(Risque[[#This Row],[Moyens de prévention]],1))","v":""},null,null,null,null,null,{"$f":"IF(ISBLANK(Risque[[#This Row],[Catégorie de risque]]),\"\",CONCATENATE(Risque[[#This Row],[Catégorie de risque]],3))","v":""},null,null,null,{"$f":"IF(ISBLANK(Risque[[#This Row],[Catégorie de risque]]),\"\",CONCATENATE(Risque[[#This Row],[Catégorie de risque]],4))","v":""},null,null,null,null,null,{"$f":"IF(Risque[[#This Row],[Date d''inscription du risque]]<>\"\",YEAR(Risque[[#This Row],[Date d''inscription du risque]]),\"\")","v":""}]
[null,null,{"$f":"IF(ISBLANK(Risque[[#This Row],[Catégorie de risque]]),\"\",CONCATENATE(Risque[[#This Row],[Catégorie de risque]],1))","v":""},null,null,null,null,null,{"$f":"IF(ISBLANK(Risque[[#This Row],[Catégorie de risque]]),\"\",IF(OR(ISNUMBER(SEARCH(\"RZ\",Risque[[#This Row],[Source de danger]]))=TRUE,ISNUMBER(SEARCH(\"RP\",Risque[[#This Row],[Source de danger]]))=TRUE,ISNUMBER(SEARCH(\"RZ\",Risque[[#This Row],[Risques associés]]))=TRUE,ISNUMBER(SEARCH(\"RP\",Risque[[#This Row],[Risques associés]]))=TRUE,ISNUMBER(SEARCH(\"RZ\",Risque[[#This Row],[Précision du risque\n(si liste déroulante présente)]]))=TRUE,ISNUMBER(SEARCH(\"RP\",Risque[[#This Row],[Précision du risque\n(si liste déroulante présente)]]))=TRUE),\"Oui --> Priorité d'action\",\"Non\"))","v":""},null,null,null,null,{"$f":"IF(ISBLANK(Risque[[#This Row],[Catégorie de risque]]),\"\",CONCATENATE(Risque[[#This Row],[Catégorie de risque]],2))","v":""},null,{"$f":"IF(ISBLANK(Risque[[#This Row],[Moyens de prévention]]),\"\",CONCATENATE(Risque[[#This Row],[Moyens de prévention]],1))","v":""},null,null,null,null,null,{"$f":"IF(ISBLANK(Risque[[#This Row],[Catégorie de risque]]),\"\",CONCATENATE(Risque[[#This Row],[Catégorie de risque]],3))","v":""},null,null,null,{"$f":"IF(ISBLANK(Risque[[#This Row],[Catégorie de risque]]),\"\",CONCATENATE(Risque[[#This Row],[Catégorie de risque]],4))","v":""},null,null,null,null,null,{"$f":"IF(Risque[[#This Row],[Date d''inscription du risque]]<>\"\",YEAR(Risque[[#This Row],[Date d''inscription du risque]]),\"\")","v":""}]
[null,null,{"$f":"IF(ISBLANK(Risque[[#This Row],[Catégorie de risque]]),\"\",CONCATENATE(Risque[[#This Row],[Catégorie de risque]],1))","v":""},null,null,null,null,null,{"$f":"IF(ISBLANK(Risque[[#This Row],[Catégorie de risque]]),\"\",IF(OR(ISNUMBER(SEARCH(\"RZ\",Risque[[#This Row],[Source de danger]]))=TRUE,ISNUMBER(SEARCH(\"RP\",Risque[[#This Row],[Source de danger]]))=TRUE,ISNUMBER(SEARCH(\"RZ\",Risque[[#This Row],[Risques associés]]))=TRUE,ISNUMBER(SEARCH(\"RP\",Risque[[#This Row],[Risques associés]]))=TRUE,ISNUMBER(SEARCH(\"RZ\",Risque[[#This Row],[Précision du risque\n(si liste déroulante présente)]]))=TRUE,ISNUMBER(SEARCH(\"RP\",Risque[[#This Row],[Précision du risque\n(si liste déroulante présente)]]))=TRUE),\"Oui --> Priorité d'action\",\"Non\"))","v":""},null,null,null,null,{"$f":"IF(ISBLANK(Risque[[#This Row],[Catégorie de risque]]),\"\",CONCATENATE(Risque[[#This Row],[Catégorie de risque]],2))","v":""},null,{"$f":"IF(ISBLANK(Risque[[#This Row],[Moyens de prévention]]),\"\",CONCATENATE(Risque[[#This Row],[Moyens de prévention]],1))","v":""},null,null,null,null,null,{"$f":"IF(ISBLANK(Risque[[#This Row],[Catégorie de risque]]),\"\",CONCATENATE(Risque[[#This Row],[Catégorie de risque]],3))","v":""},null,null,null,{"$f":"IF(ISBLANK(Risque[[#This Row],[Catégorie de risque]]),\"\",CONCATENATE(Risque[[#This Row],[Catégorie de risque]],4))","v":""},null,null,null,null,null,{"$f":"IF(Risque[[#This Row],[Date d''inscription du risque]]<>\"\",YEAR(Risque[[#This Row],[Date d''inscription du risque]]),\"\")","v":""}]
[null,null,{"$f":"IF(ISBLANK(Risque[[#This Row],[Catégorie de risque]]),\"\",CONCATENATE(Risque[[#This Row],[Catégorie de risque]],1))","v":""},null,null,null,null,null,{"$f":"IF(ISBLANK(Risque[[#This Row],[Catégorie de risque]]),\"\",IF(OR(ISNUMBER(SEARCH(\"RZ\",Risque[[#This Row],[Source de danger]]))=TRUE,ISNUMBER(SEARCH(\"RP\",Risque[[#This Row],[Source de danger]]))=TRUE,ISNUMBER(SEARCH(\"RZ\",Risque[[#This Row],[Risques associés]]))=TRUE,ISNUMBER(SEARCH(\"RP\",Risque[[#This Row],[Risques associés]]))=TRUE,ISNUMBER(SEARCH(\"RZ\",Risque[[#This Row],[Précision du risque\n(si liste déroulante présente)]]))=TRUE,ISNUMBER(SEARCH(\"RP\",Risque[[#This Row],[Précision du risque\n(si liste déroulante présente)]]))=TRUE),\"Oui --> Priorité d'action\",\"Non\"))","v":""},null,null,null,null,{"$f":"IF(ISBLANK(Risque[[#This Row],[Catégorie de risque]]),\"\",CONCATENATE(Risque[[#This Row],[Catégorie de risque]],2))","v":""},null,{"$f":"IF(ISBLANK(Risque[[#This Row],[Moyens de prévention]]),\"\",CONCATENATE(Risque[[#This Row],[Moyens de prévention]],1))","v":""},null,null,null,null,null,{"$f":"IF(ISBLANK(Risque[[#This Row],[Catégorie de risque]]),\"\",CONCATENATE(Risque[[#This Row],[Catégorie de risque]],3))","v":""},null,null,null,{"$f":"IF(ISBLANK(Risque[[#This Row],[Catégorie de risque]]),\"\",CONCATENATE(Risque[[#This Row],[Catégorie de risque]],4))","v":""},null,null,null,null,null,{"$f":"IF(Risque[[#This Row],[Date d''inscription du risque]]<>\"\",YEAR(Risque[[#This Row],[Date d''inscription du risque]]),\"\")","v":""}]
[null,null,{"$f":"IF(ISBLANK(Risque[[#This Row],[Catégorie de risque]]),\"\",CONCATENATE(Risque[[#This Row],[Catégorie de risque]],1))","v":""},null,null,null,null,null,{"$f":"IF(ISBLANK(Risque[[#This Row],[Catégorie de risque]]),\"\",IF(OR(ISNUMBER(SEARCH(\"RZ\",Risque[[#This Row],[Source de danger]]))=TRUE,ISNUMBER(SEARCH(\"RP\",Risque[[#This Row],[Source de danger]]))=TRUE,ISNUMBER(SEARCH(\"RZ\",Risque[[#This Row],[Risques associés]]))=TRUE,ISNUMBER(SEARCH(\"RP\",Risque[[#This Row],[Risques associés]]))=TRUE,ISNUMBER(SEARCH(\"RZ\",Risque[[#This Row],[Précision du risque\n(si liste déroulante présente)]]))=TRUE,ISNUMBER(SEARCH(\"RP\",Risque[[#This Row],[Précision du risque\n(si liste déroulante présente)]]))=TRUE),\"Oui --> Priorité d'action\",\"Non\"))","v":""},null,null,null,null,{"$f":"IF(ISBLANK(Risque[[#This Row],[Catégorie de risque]]),\"\",CONCATENATE(Risque[[#This Row],[Catégorie de risque]],2))","v":""},null,{"$f":"IF(ISBLANK(Risque[[#This Row],[Moyens de prévention]]),\"\",CONCATENATE(Risque[[#This Row],[Moyens de prévention]],1))","v":""},null,null,null,null,null,{"$f":"IF(ISBLANK(Risque[[#This Row],[Catégorie de risque]]),\"\",CONCATENATE(Risque[[#This Row],[Catégorie de risque]],3))","v":""},null,null,null,{"$f":"IF(ISBLANK(Risque[[#This Row],[Catégorie de risque]]),\"\",CONCATENATE(Risque[[#This Row],[Catégorie de risque]],4))","v":""},null,null,null,null,null,{"$f":"IF(Risque[[#This Row],[Date d''inscription du risque]]<>\"\",YEAR(Risque[[#This Row],[Date d''inscription du risque]]),\"\")","v":""}]
[null,null,{"$f":"IF(ISBLANK(Risque[[#This Row],[Catégorie de risque]]),\"\",CONCATENATE(Risque[[#This Row],[Catégorie de risque]],1))","v":""},null,null,null,null,null,{"$f":"IF(ISBLANK(Risque[[#This Row],[Catégorie de risque]]),\"\",IF(OR(ISNUMBER(SEARCH(\"RZ\",Risque[[#This Row],[Source de danger]]))=TRUE,ISNUMBER(SEARCH(\"RP\",Risque[[#This Row],[Source de danger]]))=TRUE,ISNUMBER(SEARCH(\"RZ\",Risque[[#This Row],[Risques associés]]))=TRUE,ISNUMBER(SEARCH(\"RP\",Risque[[#This Row],[Risques associés]]))=TRUE,ISNUMBER(SEARCH(\"RZ\",Risque[[#This Row],[Précision du risque\n(si liste déroulante présente)]]))=TRUE,ISNUMBER(SEARCH(\"RP\",Risque[[#This Row],[Précision du risque\n(si liste déroulante présente)]]))=TRUE),\"Oui --> Priorité d'action\",\"Non\"))","v":""},null,null,null,null,{"$f":"IF(ISBLANK(Risque[[#This Row],[Catégorie de risque]]),\"\",CONCATENATE(Risque[[#This Row],[Catégorie de risque]],2))","v":""},null,{"$f":"IF(ISBLANK(Risque[[#This Row],[Moyens de prévention]]),\"\",CONCATENATE(Risque[[#This Row],[Moyens de prévention]],1))","v":""},null,null,null,null,null,{"$f":"IF(ISBLANK(Risque[[#This Row],[Catégorie de risque]]),\"\",CONCATENATE(Risque[[#This Row],[Catégorie de risque]],3))","v":""},null,null,null,{"$f":"IF(ISBLANK(Risque[[#This Row],[Catégorie de risque]]),\"\",CONCATENATE(Risque[[#This Row],[Catégorie de risque]],4))","v":""},null,null,null,null,null,{"$f":"IF(Risque[[#This Row],[Date d''inscription du risque]]<>\"\",YEAR(Risque[[#This Row],[Date d''inscription du risque]]),\"\")","v":""}]
[null,null,{"$f":"IF(ISBLANK(Risque[[#This Row],[Catégorie de risque]]),\"\",CONCATENATE(Risque[[#This Row],[Catégorie de risque]],1))","v":""},null,null,null,null,null,{"$f":"IF(ISBLANK(Risque[[#This Row],[Catégorie de risque]]),\"\",IF(OR(ISNUMBER(SEARCH(\"RZ\",Risque[[#This Row],[Source de danger]]))=TRUE,ISNUMBER(SEARCH(\"RP\",Risque[[#This Row],[Source de danger]]))=TRUE,ISNUMBER(SEARCH(\"RZ\",Risque[[#This Row],[Risques associés]]))=TRUE,ISNUMBER(SEARCH(\"RP\",Risque[[#This Row],[Risques associés]]))=TRUE,ISNUMBER(SEARCH(\"RZ\",Risque[[#This Row],[Précision du risque\n(si liste déroulante présente)]]))=TRUE,ISNUMBER(SEARCH(\"RP\",Risque[[#This Row],[Précision du risque\n(si liste déroulante présente)]]))=TRUE),\"Oui --> Priorité d'action\",\"Non\"))","v":""},null,null,null,null,{"$f":"IF(ISBLANK(Risque[[#This Row],[Catégorie de risque]]),\"\",CONCATENATE(Risque[[#This Row],[Catégorie de risque]],2))","v":""},null,{"$f":"IF(ISBLANK(Risque[[#This Row],[Moyens de prévention]]),\"\",CONCATENATE(Risque[[#This Row],[Moyens de prévention]],1))","v":""},null,null,null,null,null,{"$f":"IF(ISBLANK(Risque[[#This Row],[Catégorie de risque]]),\"\",CONCATENATE(Risque[[#This Row],[Catégorie de risque]],3))","v":""},null,null,null,{"$f":"IF(ISBLANK(Risque[[#This Row],[Catégorie de risque]]),\"\",CONCATENATE(Risque[[#This Row],[Catégorie de risque]],4))","v":""},null,null,null,null,null,{"$f":"IF(Risque[[#This Row],[Date d''inscription du risque]]<>\"\",YEAR(Risque[[#This Row],[Date d''inscription du risque]]),\"\")","v":""}]
[null,null,{"$f":"IF(ISBLANK(Risque[[#This Row],[Catégorie de risque]]),\"\",CONCATENATE(Risque[[#This Row],[Catégorie de risque]],1))","v":""},null,null,null,null,null,{"$f":"IF(ISBLANK(Risque[[#This Row],[Catégorie de risque]]),\"\",IF(OR(ISNUMBER(SEARCH(\"RZ\",Risque[[#This Row],[Source de danger]]))=TRUE,ISNUMBER(SEARCH(\"RP\",Risque[[#This Row],[Source de danger]]))=TRUE,ISNUMBER(SEARCH(\"RZ\",Risque[[#This Row],[Risques associés]]))=TRUE,ISNUMBER(SEARCH(\"RP\",Risque[[#This Row],[Risques associés]]))=TRUE,ISNUMBER(SEARCH(\"RZ\",Risque[[#This Row],[Précision du risque\n(si liste déroulante présente)]]))=TRUE,ISNUMBER(SEARCH(\"RP\",Risque[[#This Row],[Précision du risque\n(si liste déroulante présente)]]))=TRUE),\"Oui --> Priorité d'action\",\"Non\"))","v":""},null,null,null,null,{"$f":"IF(ISBLANK(Risque[[#This Row],[Catégorie de risque]]),\"\",CONCATENATE(Risque[[#This Row],[Catégorie de risque]],2))","v":""},null,{"$f":"IF(ISBLANK(Risque[[#This Row],[Moyens de prévention]]),\"\",CONCATENATE(Risque[[#This Row],[Moyens de prévention]],1))","v":""},null,null,null,null,null,{"$f":"IF(ISBLANK(Risque[[#This Row],[Catégorie de risque]]),\"\",CONCATENATE(Risque[[#This Row],[Catégorie de risque]],3))","v":""},null,null,null,{"$f":"IF(ISBLANK(Risque[[#This Row],[Catégorie de risque]]),\"\",CONCATENATE(Risque[[#This Row],[Catégorie de risque]],4))","v":""},null,null,null,null,null,{"$f":"IF(Risque[[#This Row],[Date d''inscription du risque]]<>\"\",YEAR(Risque[[#This Row],[Date d''inscription du risque]]),\"\")","v":""}]
[null,null,{"$f":"IF(ISBLANK(Risque[[#This Row],[Catégorie de risque]]),\"\",CONCATENATE(Risque[[#This Row],[Catégorie de risque]],1))","v":""},null,null,null,null,null,{"$f":"IF(ISBLANK(Risque[[#This Row],[Catégorie de risque]]),\"\",IF(OR(ISNUMBER(SEARCH(\"RZ\",Risque[[#This Row],[Source de danger]]))=TRUE,ISNUMBER(SEARCH(\"RP\",Risque[[#This Row],[Source de danger]]))=TRUE,ISNUMBER(SEARCH(\"RZ\",Risque[[#This Row],[Risques associés]]))=TRUE,ISNUMBER(SEARCH(\"RP\",Risque[[#This Row],[Risques associés]]))=TRUE,ISNUMBER(SEARCH(\"RZ\",Risque[[#This Row],[Précision du risque\n(si liste déroulante présente)]]))=TRUE,ISNUMBER(SEARCH(\"RP\",Risque[[#This Row],[Précision du risque\n(si liste déroulante présente)]]))=TRUE),\"Oui --> Priorité d'action\",\"Non\"))","v":""},null,null,null,null,{"$f":"IF(ISBLANK(Risque[[#This Row],[Catégorie de risque]]),\"\",CONCATENATE(Risque[[#This Row],[Catégorie de risque]],2))","v":""},null,{"$f":"IF(ISBLANK(Risque[[#This Row],[Moyens de prévention]]),\"\",CONCATENATE(Risque[[#This Row],[Moyens de prévention]],1))","v":""},null,null,null,null,null,{"$f":"IF(ISBLANK(Risque[[#This Row],[Catégorie de risque]]),\"\",CONCATENATE(Risque[[#This Row],[Catégorie de risque]],3))","v":""},null,null,null,{"$f":"IF(ISBLANK(Risque[[#This Row],[Catégorie de risque]]),\"\",CONCATENATE(Risque[[#This Row],[Catégorie de risque]],4))","v":""},null,null,null,null,null,{"$f":"IF(Risque[[#This Row],[Date d''inscription du risque]]<>\"\",YEAR(Risque[[#This Row],[Date d''inscription du risque]]),\"\")","v":""}]
[null,null,{"$f":"IF(ISBLANK(Risque[[#This Row],[Catégorie de risque]]),\"\",CONCATENATE(Risque[[#This Row],[Catégorie de risque]],1))","v":""},null,null,null,null,null,{"$f":"IF(ISBLANK(Risque[[#This Row],[Catégorie de risque]]),\"\",IF(OR(ISNUMBER(SEARCH(\"RZ\",Risque[[#This Row],[Source de danger]]))=TRUE,ISNUMBER(SEARCH(\"RP\",Risque[[#This Row],[Source de danger]]))=TRUE,ISNUMBER(SEARCH(\"RZ\",Risque[[#This Row],[Risques associés]]))=TRUE,ISNUMBER(SEARCH(\"RP\",Risque[[#This Row],[Risques associés]]))=TRUE,ISNUMBER(SEARCH(\"RZ\",Risque[[#This Row],[Précision du risque\n(si liste déroulante présente)]]))=TRUE,ISNUMBER(SEARCH(\"RP\",Risque[[#This Row],[Précision du risque\n(si liste déroulante présente)]]))=TRUE),\"Oui --> Priorité d'action\",\"Non\"))","v":""},null,null,null,null,{"$f":"IF(ISBLANK(Risque[[#This Row],[Catégorie de risque]]),\"\",CONCATENATE(Risque[[#This Row],[Catégorie de risque]],2))","v":""},null,{"$f":"IF(ISBLANK(Risque[[#This Row],[Moyens de prévention]]),\"\",CONCATENATE(Risque[[#This Row],[Moyens de prévention]],1))","v":""},null,null,null,null,null,{"$f":"IF(ISBLANK(Risque[[#This Row],[Catégorie de risque]]),\"\",CONCATENATE(Risque[[#This Row],[Catégorie de risque]],3))","v":""},null,null,null,{"$f":"IF(ISBLANK(Risque[[#This Row],[Catégorie de risque]]),\"\",CONCATENATE(Risque[[#This Row],[Catégorie de risque]],4))","v":""},null,null,null,null,null,{"$f":"IF(Risque[[#This Row],[Date d''inscription du risque]]<>\"\",YEAR(Risque[[#This Row],[Date d''inscription du risque]]),\"\")","v":""}]
[null,null,{"$f":"IF(ISBLANK(Risque[[#This Row],[Catégorie de risque]]),\"\",CONCATENATE(Risque[[#This Row],[Catégorie de risque]],1))","v":""},null,null,null,null,null,{"$f":"IF(ISBLANK(Risque[[#This Row],[Catégorie de risque]]),\"\",IF(OR(ISNUMBER(SEARCH(\"RZ\",Risque[[#This Row],[Source de danger]]))=TRUE,ISNUMBER(SEARCH(\"RP\",Risque[[#This Row],[Source de danger]]))=TRUE,ISNUMBER(SEARCH(\"RZ\",Risque[[#This Row],[Risques associés]]))=TRUE,ISNUMBER(SEARCH(\"RP\",Risque[[#This Row],[Risques associés]]))=TRUE,ISNUMBER(SEARCH(\"RZ\",Risque[[#This Row],[Précision du risque\n(si liste déroulante présente)]]))=TRUE,ISNUMBER(SEARCH(\"RP\",Risque[[#This Row],[Précision du risque\n(si liste déroulante présente)]]))=TRUE),\"Oui --> Priorité d'action\",\"Non\"))","v":""},null,null,null,null,{"$f":"IF(ISBLANK(Risque[[#This Row],[Catégorie de risque]]),\"\",CONCATENATE(Risque[[#This Row],[Catégorie de risque]],2))","v":""},null,{"$f":"IF(ISBLANK(Risque[[#This Row],[Moyens de prévention]]),\"\",CONCATENATE(Risque[[#This Row],[Moyens de prévention]],1))","v":""},null,null,null,null,null,{"$f":"IF(ISBLANK(Risque[[#This Row],[Catégorie de risque]]),\"\",CONCATENATE(Risque[[#This Row],[Catégorie de risque]],3))","v":""},null,null,null,{"$f":"IF(ISBLANK(Risque[[#This Row],[Catégorie de risque]]),\"\",CONCATENATE(Risque[[#This Row],[Catégorie de risque]],4))","v":""},null,null,null,null,null,{"$f":"IF(Risque[[#This Row],[Date d''inscription du risque]]<>\"\",YEAR(Risque[[#This Row],[Date d''inscription du risque]]),\"\")","v":""}]
[null,null,{"$f":"IF(ISBLANK(Risque[[#This Row],[Catégorie de risque]]),\"\",CONCATENATE(Risque[[#This Row],[Catégorie de risque]],1))","v":""},null,null,null,null,null,{"$f":"IF(ISBLANK(Risque[[#This Row],[Catégorie de risque]]),\"\",IF(OR(ISNUMBER(SEARCH(\"RZ\",Risque[[#This Row],[Source de danger]]))=TRUE,ISNUMBER(SEARCH(\"RP\",Risque[[#This Row],[Source de danger]]))=TRUE,ISNUMBER(SEARCH(\"RZ\",Risque[[#This Row],[Risques associés]]))=TRUE,ISNUMBER(SEARCH(\"RP\",Risque[[#This Row],[Risques associés]]))=TRUE,ISNUMBER(SEARCH(\"RZ\",Risque[[#This Row],[Précision du risque\n(si liste déroulante présente)]]))=TRUE,ISNUMBER(SEARCH(\"RP\",Risque[[#This Row],[Précision du risque\n(si liste déroulante présente)]]))=TRUE),\"Oui --> Priorité d'action\",\"Non\"))","v":""},null,null,null,null,{"$f":"IF(ISBLANK(Risque[[#This Row],[Catégorie de risque]]),\"\",CONCATENATE(Risque[[#This Row],[Catégorie de risque]],2))","v":""},null,{"$f":"IF(ISBLANK(Risque[[#This Row],[Moyens de prévention]]),\"\",CONCATENATE(Risque[[#This Row],[Moyens de prévention]],1))","v":""},null,null,null,null,null,{"$f":"IF(ISBLANK(Risque[[#This Row],[Catégorie de risque]]),\"\",CONCATENATE(Risque[[#This Row],[Catégorie de risque]],3))","v":""},null,null,null,{"$f":"IF(ISBLANK(Risque[[#This Row],[Catégorie de risque]]),\"\",CONCATENATE(Risque[[#This Row],[Catégorie de risque]],4))","v":""},null,null,null,null,null,{"$f":"IF(Risque[[#This Row],[Date d''inscription du risque]]<>\"\",YEAR(Risque[[#This Row],[Date d''inscription du risque]]),\"\")","v":""}]
[null,null,{"$f":"IF(ISBLANK(Risque[[#This Row],[Catégorie de risque]]),\"\",CONCATENATE(Risque[[#This Row],[Catégorie de risque]],1))","v":""},null,null,null,null,null,{"$f":"IF(ISBLANK(Risque[[#This Row],[Catégorie de risque]]),\"\",IF(OR(ISNUMBER(SEARCH(\"RZ\",Risque[[#This Row],[Source de danger]]))=TRUE,ISNUMBER(SEARCH(\"RP\",Risque[[#This Row],[Source de danger]]))=TRUE,ISNUMBER(SEARCH(\"RZ\",Risque[[#This Row],[Risques associés]]))=TRUE,ISNUMBER(SEARCH(\"RP\",Risque[[#This Row],[Risques associés]]))=TRUE,ISNUMBER(SEARCH(\"RZ\",Risque[[#This Row],[Précision du risque\n(si liste déroulante présente)]]))=TRUE,ISNUMBER(SEARCH(\"RP\",Risque[[#This Row],[Précision du risque\n(si liste déroulante présente)]]))=TRUE),\"Oui --> Priorité d'action\",\"Non\"))","v":""},null,null,null,null,{"$f":"IF(ISBLANK(Risque[[#This Row],[Catégorie de risque]]),\"\",CONCATENATE(Risque[[#This Row],[Catégorie de risque]],2))","v":""},null,{"$f":"IF(ISBLANK(Risque[[#This Row],[Moyens de prévention]]),\"\",CONCATENATE(Risque[[#This Row],[Moyens de prévention]],1))","v":""},null,null,null,null,null,{"$f":"IF(ISBLANK(Risque[[#This Row],[Catégorie de risque]]),\"\",CONCATENATE(Risque[[#This Row],[Catégorie de risque]],3))","v":""},null,null,null,{"$f":"IF(ISBLANK(Risque[[#This Row],[Catégorie de risque]]),\"\",CONCATENATE(Risque[[#This Row],[Catégorie de risque]],4))","v":""},null,null,null,null,null,{"$f":"IF(Risque[[#This Row],[Date d''inscription du risque]]<>\"\",YEAR(Risque[[#This Row],[Date d''inscription du risque]]),\"\")","v":""}]
[null,null,{"$f":"IF(ISBLANK(Risque[[#This Row],[Catégorie de risque]]),\"\",CONCATENATE(Risque[[#This Row],[Catégorie de risque]],1))","v":""},null,null,null,null,null,{"$f":"IF(ISBLANK(Risque[[#This Row],[Catégorie de risque]]),\"\",IF(OR(ISNUMBER(SEARCH(\"RZ\",Risque[[#This Row],[Source de danger]]))=TRUE,ISNUMBER(SEARCH(\"RP\",Risque[[#This Row],[Source de danger]]))=TRUE,ISNUMBER(SEARCH(\"RZ\",Risque[[#This Row],[Risques associés]]))=TRUE,ISNUMBER(SEARCH(\"RP\",Risque[[#This Row],[Risques associés]]))=TRUE,ISNUMBER(SEARCH(\"RZ\",Risque[[#This Row],[Précision du risque\n(si liste déroulante présente)]]))=TRUE,ISNUMBER(SEARCH(\"RP\",Risque[[#This Row],[Précision du risque\n(si liste déroulante présente)]]))=TRUE),\"Oui --> Priorité d'action\",\"Non\"))","v":""},null,null,null,null,{"$f":"IF(ISBLANK(Risque[[#This Row],[Catégorie de risque]]),\"\",CONCATENATE(Risque[[#This Row],[Catégorie de risque]],2))","v":""},null,{"$f":"IF(ISBLANK(Risque[[#This Row],[Moyens de prévention]]),\"\",CONCATENATE(Risque[[#This Row],[Moyens de prévention]],1))","v":""},null,null,null,null,null,{"$f":"IF(ISBLANK(Risque[[#This Row],[Catégorie de risque]]),\"\",CONCATENATE(Risque[[#This Row],[Catégorie de risque]],3))","v":""},null,null,null,{"$f":"IF(ISBLANK(Risque[[#This Row],[Catégorie de risque]]),\"\",CONCATENATE(Risque[[#This Row],[Catégorie de risque]],4))","v":""},null,null,null,null,null,{"$f":"IF(Risque[[#This Row],[Date d''inscription du risque]]<>\"\",YEAR(Risque[[#This Row],[Date d''inscription du risque]]),\"\")","v":""}]
[null,null,{"$f":"IF(ISBLANK(Risque[[#This Row],[Catégorie de risque]]),\"\",CONCATENATE(Risque[[#This Row],[Catégorie de risque]],1))","v":""},null,null,null,null,null,{"$f":"IF(ISBLANK(Risque[[#This Row],[Catégorie de risque]]),\"\",IF(OR(ISNUMBER(SEARCH(\"RZ\",Risque[[#This Row],[Source de danger]]))=TRUE,ISNUMBER(SEARCH(\"RP\",Risque[[#This Row],[Source de danger]]))=TRUE,ISNUMBER(SEARCH(\"RZ\",Risque[[#This Row],[Risques associés]]))=TRUE,ISNUMBER(SEARCH(\"RP\",Risque[[#This Row],[Risques associés]]))=TRUE,ISNUMBER(SEARCH(\"RZ\",Risque[[#This Row],[Précision du risque\n(si liste déroulante présente)]]))=TRUE,ISNUMBER(SEARCH(\"RP\",Risque[[#This Row],[Précision du risque\n(si liste déroulante présente)]]))=TRUE),\"Oui --> Priorité d'action\",\"Non\"))","v":""},null,null,null,null,{"$f":"IF(ISBLANK(Risque[[#This Row],[Catégorie de risque]]),\"\",CONCATENATE(Risque[[#This Row],[Catégorie de risque]],2))","v":""},null,{"$f":"IF(ISBLANK(Risque[[#This Row],[Moyens de prévention]]),\"\",CONCATENATE(Risque[[#This Row],[Moyens de prévention]],1))","v":""},null,null,null,null,null,{"$f":"IF(ISBLANK(Risque[[#This Row],[Catégorie de risque]]),\"\",CONCATENATE(Risque[[#This Row],[Catégorie de risque]],3))","v":""},null,null,null,{"$f":"IF(ISBLANK(Risque[[#This Row],[Catégorie de risque]]),\"\",CONCATENATE(Risque[[#This Row],[Catégorie de risque]],4))","v":""},null,null,null,null,null,{"$f":"IF(Risque[[#This Row],[Date d''inscription du risque]]<>\"\",YEAR(Risque[[#This Row],[Date d''inscription du risque]]),\"\")","v":""}]
[null,null,{"$f":"IF(ISBLANK(Risque[[#This Row],[Catégorie de risque]]),\"\",CONCATENATE(Risque[[#This Row],[Catégorie de risque]],1))","v":""},null,null,null,null,null,{"$f":"IF(ISBLANK(Risque[[#This Row],[Catégorie de risque]]),\"\",IF(OR(ISNUMBER(SEARCH(\"RZ\",Risque[[#This Row],[Source de danger]]))=TRUE,ISNUMBER(SEARCH(\"RP\",Risque[[#This Row],[Source de danger]]))=TRUE,ISNUMBER(SEARCH(\"RZ\",Risque[[#This Row],[Risques associés]]))=TRUE,ISNUMBER(SEARCH(\"RP\",Risque[[#This Row],[Risques associés]]))=TRUE,ISNUMBER(SEARCH(\"RZ\",Risque[[#This Row],[Précision du risque\n(si liste déroulante présente)]]))=TRUE,ISNUMBER(SEARCH(\"RP\",Risque[[#This Row],[Précision du risque\n(si liste déroulante présente)]]))=TRUE),\"Oui --> Priorité d'action\",\"Non\"))","v":""},null,null,null,null,{"$f":"IF(ISBLANK(Risque[[#This Row],[Catégorie de risque]]),\"\",CONCATENATE(Risque[[#This Row],[Catégorie de risque]],2))","v":""},null,{"$f":"IF(ISBLANK(Risque[[#This Row],[Moyens de prévention]]),\"\",CONCATENATE(Risque[[#This Row],[Moyens de prévention]],1))","v":""},null,null,null,null,null,{"$f":"IF(ISBLANK(Risque[[#This Row],[Catégorie de risque]]),\"\",CONCATENATE(Risque[[#This Row],[Catégorie de risque]],3))","v":""},null,null,null,{"$f":"IF(ISBLANK(Risque[[#This Row],[Catégorie de risque]]),\"\",CONCATENATE(Risque[[#This Row],[Catégorie de risque]],4))","v":""},null,null,null,null,null,{"$f":"IF(Risque[[#This Row],[Date d''inscription du risque]]<>\"\",YEAR(Risque[[#This Row],[Date d''inscription du risque]]),\"\")","v":""}]
[null,null,{"$f":"IF(ISBLANK(Risque[[#This Row],[Catégorie de risque]]),\"\",CONCATENATE(Risque[[#This Row],[Catégorie de risque]],1))","v":""},null,null,null,null,null,{"$f":"IF(ISBLANK(Risque[[#This Row],[Catégorie de risque]]),\"\",IF(OR(ISNUMBER(SEARCH(\"RZ\",Risque[[#This Row],[Source de danger]]))=TRUE,ISNUMBER(SEARCH(\"RP\",Risque[[#This Row],[Source de danger]]))=TRUE,ISNUMBER(SEARCH(\"RZ\",Risque[[#This Row],[Risques associés]]))=TRUE,ISNUMBER(SEARCH(\"RP\",Risque[[#This Row],[Risques associés]]))=TRUE,ISNUMBER(SEARCH(\"RZ\",Risque[[#This Row],[Précision du risque\n(si liste déroulante présente)]]))=TRUE,ISNUMBER(SEARCH(\"RP\",Risque[[#This Row],[Précision du risque\n(si liste déroulante présente)]]))=TRUE),\"Oui --> Priorité d'action\",\"Non\"))","v":""},null,null,null,null,{"$f":"IF(ISBLANK(Risque[[#This Row],[Catégorie de risque]]),\"\",CONCATENATE(Risque[[#This Row],[Catégorie de risque]],2))","v":""},null,{"$f":"IF(ISBLANK(Risque[[#This Row],[Moyens de prévention]]),\"\",CONCATENATE(Risque[[#This Row],[Moyens de prévention]],1))","v":""},null,null,null,null,null,{"$f":"IF(ISBLANK(Risque[[#This Row],[Catégorie de risque]]),\"\",CONCATENATE(Risque[[#This Row],[Catégorie de risque]],3))","v":""},null,null,null,{"$f":"IF(ISBLANK(Risque[[#This Row],[Catégorie de risque]]),\"\",CONCATENATE(Risque[[#This Row],[Catégorie de risque]],4))","v":""},null,null,null,null,null,{"$f":"IF(Risque[[#This Row],[Date d''inscription du risque]]<>\"\",YEAR(Risque[[#This Row],[Date d''inscription du risque]]),\"\")","v":""}]
[null,null,{"$f":"IF(ISBLANK(Risque[[#This Row],[Catégorie de risque]]),\"\",CONCATENATE(Risque[[#This Row],[Catégorie de risque]],1))","v":""},null,null,null,null,null,{"$f":"IF(ISBLANK(Risque[[#This Row],[Catégorie de risque]]),\"\",IF(OR(ISNUMBER(SEARCH(\"RZ\",Risque[[#This Row],[Source de danger]]))=TRUE,ISNUMBER(SEARCH(\"RP\",Risque[[#This Row],[Source de danger]]))=TRUE,ISNUMBER(SEARCH(\"RZ\",Risque[[#This Row],[Risques associés]]))=TRUE,ISNUMBER(SEARCH(\"RP\",Risque[[#This Row],[Risques associés]]))=TRUE,ISNUMBER(SEARCH(\"RZ\",Risque[[#This Row],[Précision du risque\n(si liste déroulante présente)]]))=TRUE,ISNUMBER(SEARCH(\"RP\",Risque[[#This Row],[Précision du risque\n(si liste déroulante présente)]]))=TRUE),\"Oui --> Priorité d'action\",\"Non\"))","v":""},null,null,null,null,{"$f":"IF(ISBLANK(Risque[[#This Row],[Catégorie de risque]]),\"\",CONCATENATE(Risque[[#This Row],[Catégorie de risque]],2))","v":""},null,{"$f":"IF(ISBLANK(Risque[[#This Row],[Moyens de prévention]]),\"\",CONCATENATE(Risque[[#This Row],[Moyens de prévention]],1))","v":""},null,null,null,null,null,{"$f":"IF(ISBLANK(Risque[[#This Row],[Catégorie de risque]]),\"\",CONCATENATE(Risque[[#This Row],[Catégorie de risque]],3))","v":""},null,null,null,{"$f":"IF(ISBLANK(Risque[[#This Row],[Catégorie de risque]]),\"\",CONCATENATE(Risque[[#This Row],[Catégorie de risque]],4))","v":""},null,null,null,null,null,{"$f":"IF(Risque[[#This Row],[Date d''inscription du risque]]<>\"\",YEAR(Risque[[#This Row],[Date d''inscription du risque]]),\"\")","v":""}]
[null,null,{"$f":"IF(ISBLANK(Risque[[#This Row],[Catégorie de risque]]),\"\",CONCATENATE(Risque[[#This Row],[Catégorie de risque]],1))","v":""},null,null,null,null,null,{"$f":"IF(ISBLANK(Risque[[#This Row],[Catégorie de risque]]),\"\",IF(OR(ISNUMBER(SEARCH(\"RZ\",Risque[[#This Row],[Source de danger]]))=TRUE,ISNUMBER(SEARCH(\"RP\",Risque[[#This Row],[Source de danger]]))=TRUE,ISNUMBER(SEARCH(\"RZ\",Risque[[#This Row],[Risques associés]]))=TRUE,ISNUMBER(SEARCH(\"RP\",Risque[[#This Row],[Risques associés]]))=TRUE,ISNUMBER(SEARCH(\"RZ\",Risque[[#This Row],[Précision du risque\n(si liste déroulante présente)]]))=TRUE,ISNUMBER(SEARCH(\"RP\",Risque[[#This Row],[Précision du risque\n(si liste déroulante présente)]]))=TRUE),\"Oui --> Priorité d'action\",\"Non\"))","v":""},null,null,null,null,{"$f":"IF(ISBLANK(Risque[[#This Row],[Catégorie de risque]]),\"\",CONCATENATE(Risque[[#This Row],[Catégorie de risque]],2))","v":""},null,{"$f":"IF(ISBLANK(Risque[[#This Row],[Moyens de prévention]]),\"\",CONCATENATE(Risque[[#This Row],[Moyens de prévention]],1))","v":""},null,null,null,null,null,{"$f":"IF(ISBLANK(Risque[[#This Row],[Catégorie de risque]]),\"\",CONCATENATE(Risque[[#This Row],[Catégorie de risque]],3))","v":""},null,null,null,{"$f":"IF(ISBLANK(Risque[[#This Row],[Catégorie de risque]]),\"\",CONCATENATE(Risque[[#This Row],[Catégorie de risque]],4))","v":""},null,null,null,null,null,{"$f":"IF(Risque[[#This Row],[Date d''inscription du risque]]<>\"\",YEAR(Risque[[#This Row],[Date d''inscription du risque]]),\"\")","v":""}]
[null,null,{"$f":"IF(ISBLANK(Risque[[#This Row],[Catégorie de risque]]),\"\",CONCATENATE(Risque[[#This Row],[Catégorie de risque]],1))","v":""},null,null,null,null,null,{"$f":"IF(ISBLANK(Risque[[#This Row],[Catégorie de risque]]),\"\",IF(OR(ISNUMBER(SEARCH(\"RZ\",Risque[[#This Row],[Source de danger]]))=TRUE,ISNUMBER(SEARCH(\"RP\",Risque[[#This Row],[Source de danger]]))=TRUE,ISNUMBER(SEARCH(\"RZ\",Risque[[#This Row],[Risques associés]]))=TRUE,ISNUMBER(SEARCH(\"RP\",Risque[[#This Row],[Risques associés]]))=TRUE,ISNUMBER(SEARCH(\"RZ\",Risque[[#This Row],[Précision du risque\n(si liste déroulante présente)]]))=TRUE,ISNUMBER(SEARCH(\"RP\",Risque[[#This Row],[Précision du risque\n(si liste déroulante présente)]]))=TRUE),\"Oui --> Priorité d'action\",\"Non\"))","v":""},null,null,null,null,{"$f":"IF(ISBLANK(Risque[[#This Row],[Catégorie de risque]]),\"\",CONCATENATE(Risque[[#This Row],[Catégorie de risque]],2))","v":""},null,{"$f":"IF(ISBLANK(Risque[[#This Row],[Moyens de prévention]]),\"\",CONCATENATE(Risque[[#This Row],[Moyens de prévention]],1))","v":""},null,null,null,null,null,{"$f":"IF(ISBLANK(Risque[[#This Row],[Catégorie de risque]]),\"\",CONCATENATE(Risque[[#This Row],[Catégorie de risque]],3))","v":""},null,null,null,{"$f":"IF(ISBLANK(Risque[[#This Row],[Catégorie de risque]]),\"\",CONCATENATE(Risque[[#This Row],[Catégorie de risque]],4))","v":""},null,null,null,null,null,{"$f":"IF(Risque[[#This Row],[Date d''inscription du risque]]<>\"\",YEAR(Risque[[#This Row],[Date d''inscription du risque]]),\"\")","v":""}]
[null,null,{"$f":"IF(ISBLANK(Risque[[#This Row],[Catégorie de risque]]),\"\",CONCATENATE(Risque[[#This Row],[Catégorie de risque]],1))","v":""},null,null,null,null,null,{"$f":"IF(ISBLANK(Risque[[#This Row],[Catégorie de risque]]),\"\",IF(OR(ISNUMBER(SEARCH(\"RZ\",Risque[[#This Row],[Source de danger]]))=TRUE,ISNUMBER(SEARCH(\"RP\",Risque[[#This Row],[Source de danger]]))=TRUE,ISNUMBER(SEARCH(\"RZ\",Risque[[#This Row],[Risques associés]]))=TRUE,ISNUMBER(SEARCH(\"RP\",Risque[[#This Row],[Risques associés]]))=TRUE,ISNUMBER(SEARCH(\"RZ\",Risque[[#This Row],[Précision du risque\n(si liste déroulante présente)]]))=TRUE,ISNUMBER(SEARCH(\"RP\",Risque[[#This Row],[Précision du risque\n(si liste déroulante présente)]]))=TRUE),\"Oui --> Priorité d'action\",\"Non\"))","v":""},null,null,null,null,{"$f":"IF(ISBLANK(Risque[[#This Row],[Catégorie de risque]]),\"\",CONCATENATE(Risque[[#This Row],[Catégorie de risque]],2))","v":""},null,{"$f":"IF(ISBLANK(Risque[[#This Row],[Moyens de prévention]]),\"\",CONCATENATE(Risque[[#This Row],[Moyens de prévention]],1))","v":""},null,null,null,null,null,{"$f":"IF(ISBLANK(Risque[[#This Row],[Catégorie de risque]]),\"\",CONCATENATE(Risque[[#This Row],[Catégorie de risque]],3))","v":""},null,null,null,{"$f":"IF(ISBLANK(Risque[[#This Row],[Catégorie de risque]]),\"\",CONCATENATE(Risque[[#This Row],[Catégorie de risque]],4))","v":""},null,null,null,null,null,{"$f":"IF(Risque[[#This Row],[Date d''inscription du risque]]<>\"\",YEAR(Risque[[#This Row],[Date d''inscription du risque]]),\"\")","v":""}]
[null,null,{"$f":"IF(ISBLANK(Risque[[#This Row],[Catégorie de risque]]),\"\",CONCATENATE(Risque[[#This Row],[Catégorie de risque]],1))","v":""},null,null,null,null,null,{"$f":"IF(ISBLANK(Risque[[#This Row],[Catégorie de risque]]),\"\",IF(OR(ISNUMBER(SEARCH(\"RZ\",Risque[[#This Row],[Source de danger]]))=TRUE,ISNUMBER(SEARCH(\"RP\",Risque[[#This Row],[Source de danger]]))=TRUE,ISNUMBER(SEARCH(\"RZ\",Risque[[#This Row],[Risques associés]]))=TRUE,ISNUMBER(SEARCH(\"RP\",Risque[[#This Row],[Risques associés]]))=TRUE,ISNUMBER(SEARCH(\"RZ\",Risque[[#This Row],[Précision du risque\n(si liste déroulante présente)]]))=TRUE,ISNUMBER(SEARCH(\"RP\",Risque[[#This Row],[Précision du risque\n(si liste déroulante présente)]]))=TRUE),\"Oui --> Priorité d'action\",\"Non\"))","v":""},null,null,null,null,{"$f":"IF(ISBLANK(Risque[[#This Row],[Catégorie de risque]]),\"\",CONCATENATE(Risque[[#This Row],[Catégorie de risque]],2))","v":""},null,{"$f":"IF(ISBLANK(Risque[[#This Row],[Moyens de prévention]]),\"\",CONCATENATE(Risque[[#This Row],[Moyens de prévention]],1))","v":""},null,null,null,null,null,{"$f":"IF(ISBLANK(Risque[[#This Row],[Catégorie de risque]]),\"\",CONCATENATE(Risque[[#This Row],[Catégorie de risque]],3))","v":""},null,null,null,{"$f":"IF(ISBLANK(Risque[[#This Row],[Catégorie de risque]]),\"\",CONCATENATE(Risque[[#This Row],[Catégorie de risque]],4))","v":""},null,null,null,null,null,{"$f":"IF(Risque[[#This Row],[Date d''inscription du risque]]<>\"\",YEAR(Risque[[#This Row],[Date d''inscription du risque]]),\"\")","v":""}]
[null,null,{"$f":"IF(ISBLANK(Risque[[#This Row],[Catégorie de risque]]),\"\",CONCATENATE(Risque[[#This Row],[Catégorie de risque]],1))","v":""},null,null,null,null,null,{"$f":"IF(ISBLANK(Risque[[#This Row],[Catégorie de risque]]),\"\",IF(OR(ISNUMBER(SEARCH(\"RZ\",Risque[[#This Row],[Source de danger]]))=TRUE,ISNUMBER(SEARCH(\"RP\",Risque[[#This Row],[Source de danger]]))=TRUE,ISNUMBER(SEARCH(\"RZ\",Risque[[#This Row],[Risques associés]]))=TRUE,ISNUMBER(SEARCH(\"RP\",Risque[[#This Row],[Risques associés]]))=TRUE,ISNUMBER(SEARCH(\"RZ\",Risque[[#This Row],[Précision du risque\n(si liste déroulante présente)]]))=TRUE,ISNUMBER(SEARCH(\"RP\",Risque[[#This Row],[Précision du risque\n(si liste déroulante présente)]]))=TRUE),\"Oui --> Priorité d'action\",\"Non\"))","v":""},null,null,null,null,{"$f":"IF(ISBLANK(Risque[[#This Row],[Catégorie de risque]]),\"\",CONCATENATE(Risque[[#This Row],[Catégorie de risque]],2))","v":""},null,{"$f":"IF(ISBLANK(Risque[[#This Row],[Moyens de prévention]]),\"\",CONCATENATE(Risque[[#This Row],[Moyens de prévention]],1))","v":""},null,null,null,null,null,{"$f":"IF(ISBLANK(Risque[[#This Row],[Catégorie de risque]]),\"\",CONCATENATE(Risque[[#This Row],[Catégorie de risque]],3))","v":""},null,null,null,{"$f":"IF(ISBLANK(Risque[[#This Row],[Catégorie de risque]]),\"\",CONCATENATE(Risque[[#This Row],[Catégorie de risque]],4))","v":""},null,null,null,null,null,{"$f":"IF(Risque[[#This Row],[Date d''inscription du risque]]<>\"\",YEAR(Risque[[#This Row],[Date d''inscription du risque]]),\"\")","v":""}]
[null,null,{"$f":"IF(ISBLANK(Risque[[#This Row],[Catégorie de risque]]),\"\",CONCATENATE(Risque[[#This Row],[Catégorie de risque]],1))","v":""},null,null,null,null,null,{"$f":"IF(ISBLANK(Risque[[#This Row],[Catégorie de risque]]),\"\",IF(OR(ISNUMBER(SEARCH(\"RZ\",Risque[[#This Row],[Source de danger]]))=TRUE,ISNUMBER(SEARCH(\"RP\",Risque[[#This Row],[Source de danger]]))=TRUE,ISNUMBER(SEARCH(\"RZ\",Risque[[#This Row],[Risques associés]]))=TRUE,ISNUMBER(SEARCH(\"RP\",Risque[[#This Row],[Risques associés]]))=TRUE,ISNUMBER(SEARCH(\"RZ\",Risque[[#This Row],[Précision du risque\n(si liste déroulante présente)]]))=TRUE,ISNUMBER(SEARCH(\"RP\",Risque[[#This Row],[Précision du risque\n(si liste déroulante présente)]]))=TRUE),\"Oui --> Priorité d'action\",\"Non\"))","v":""},null,null,null,null,{"$f":"IF(ISBLANK(Risque[[#This Row],[Catégorie de risque]]),\"\",CONCATENATE(Risque[[#This Row],[Catégorie de risque]],2))","v":""},null,{"$f":"IF(ISBLANK(Risque[[#This Row],[Moyens de prévention]]),\"\",CONCATENATE(Risque[[#This Row],[Moyens de prévention]],1))","v":""},null,null,null,null,null,{"$f":"IF(ISBLANK(Risque[[#This Row],[Catégorie de risque]]),\"\",CONCATENATE(Risque[[#This Row],[Catégorie de risque]],3))","v":""},null,null,null,{"$f":"IF(ISBLANK(Risque[[#This Row],[Catégorie de risque]]),\"\",CONCATENATE(Risque[[#This Row],[Catégorie de risque]],4))","v":""},null,null,null,null,null,{"$f":"IF(Risque[[#This Row],[Date d''inscription du risque]]<>\"\",YEAR(Risque[[#This Row],[Date d''inscription du risque]]),\"\")","v":""}]
[null,null,{"$f":"IF(ISBLANK(Risque[[#This Row],[Catégorie de risque]]),\"\",CONCATENATE(Risque[[#This Row],[Catégorie de risque]],1))","v":""},null,null,null,null,null,{"$f":"IF(ISBLANK(Risque[[#This Row],[Catégorie de risque]]),\"\",IF(OR(ISNUMBER(SEARCH(\"RZ\",Risque[[#This Row],[Source de danger]]))=TRUE,ISNUMBER(SEARCH(\"RP\",Risque[[#This Row],[Source de danger]]))=TRUE,ISNUMBER(SEARCH(\"RZ\",Risque[[#This Row],[Risques associés]]))=TRUE,ISNUMBER(SEARCH(\"RP\",Risque[[#This Row],[Risques associés]]))=TRUE,ISNUMBER(SEARCH(\"RZ\",Risque[[#This Row],[Précision du risque\n(si liste déroulante présente)]]))=TRUE,ISNUMBER(SEARCH(\"RP\",Risque[[#This Row],[Précision du risque\n(si liste déroulante présente)]]))=TRUE),\"Oui --> Priorité d'action\",\"Non\"))","v":""},null,null,null,null,{"$f":"IF(ISBLANK(Risque[[#This Row],[Catégorie de risque]]),\"\",CONCATENATE(Risque[[#This Row],[Catégorie de risque]],2))","v":""},null,{"$f":"IF(ISBLANK(Risque[[#This Row],[Moyens de prévention]]),\"\",CONCATENATE(Risque[[#This Row],[Moyens de prévention]],1))","v":""},null,null,null,null,null,{"$f":"IF(ISBLANK(Risque[[#This Row],[Catégorie de risque]]),\"\",CONCATENATE(Risque[[#This Row],[Catégorie de risque]],3))","v":""},null,null,null,{"$f":"IF(ISBLANK(Risque[[#This Row],[Catégorie de risque]]),\"\",CONCATENATE(Risque[[#This Row],[Catégorie de risque]],4))","v":""},null,null,null,null,null,{"$f":"IF(Risque[[#This Row],[Date d''inscription du risque]]<>\"\",YEAR(Risque[[#This Row],[Date d''inscription du risque]]),\"\")","v":""}]
[null,null,{"$f":"IF(ISBLANK(Risque[[#This Row],[Catégorie de risque]]),\"\",CONCATENATE(Risque[[#This Row],[Catégorie de risque]],1))","v":""},null,null,null,null,null,{"$f":"IF(ISBLANK(Risque[[#This Row],[Catégorie de risque]]),\"\",IF(OR(ISNUMBER(SEARCH(\"RZ\",Risque[[#This Row],[Source de danger]]))=TRUE,ISNUMBER(SEARCH(\"RP\",Risque[[#This Row],[Source de danger]]))=TRUE,ISNUMBER(SEARCH(\"RZ\",Risque[[#This Row],[Risques associés]]))=TRUE,ISNUMBER(SEARCH(\"RP\",Risque[[#This Row],[Risques associés]]))=TRUE,ISNUMBER(SEARCH(\"RZ\",Risque[[#This Row],[Précision du risque\n(si liste déroulante présente)]]))=TRUE,ISNUMBER(SEARCH(\"RP\",Risque[[#This Row],[Précision du risque\n(si liste déroulante présente)]]))=TRUE),\"Oui --> Priorité d'action\",\"Non\"))","v":""},null,null,null,null,{"$f":"IF(ISBLANK(Risque[[#This Row],[Catégorie de risque]]),\"\",CONCATENATE(Risque[[#This Row],[Catégorie de risque]],2))","v":""},null,{"$f":"IF(ISBLANK(Risque[[#This Row],[Moyens de prévention]]),\"\",CONCATENATE(Risque[[#This Row],[Moyens de prévention]],1))","v":""},null,null,null,null,null,{"$f":"IF(ISBLANK(Risque[[#This Row],[Catégorie de risque]]),\"\",CONCATENATE(Risque[[#This Row],[Catégorie de risque]],3))","v":""},null,null,null,{"$f":"IF(ISBLANK(Risque[[#This Row],[Catégorie de risque]]),\"\",CONCATENATE(Risque[[#This Row],[Catégorie de risque]],4))","v":""},null,null,null,null,null,{"$f":"IF(Risque[[#This Row],[Date d''inscription du risque]]<>\"\",YEAR(Risque[[#This Row],[Date d''inscription du risque]]),\"\")","v":""}]
[null,null,{"$f":"IF(ISBLANK(Risque[[#This Row],[Catégorie de risque]]),\"\",CONCATENATE(Risque[[#This Row],[Catégorie de risque]],1))","v":""},null,null,null,null,null,{"$f":"IF(ISBLANK(Risque[[#This Row],[Catégorie de risque]]),\"\",IF(OR(ISNUMBER(SEARCH(\"RZ\",Risque[[#This Row],[Source de danger]]))=TRUE,ISNUMBER(SEARCH(\"RP\",Risque[[#This Row],[Source de danger]]))=TRUE,ISNUMBER(SEARCH(\"RZ\",Risque[[#This Row],[Risques associés]]))=TRUE,ISNUMBER(SEARCH(\"RP\",Risque[[#This Row],[Risques associés]]))=TRUE,ISNUMBER(SEARCH(\"RZ\",Risque[[#This Row],[Précision du risque\n(si liste déroulante présente)]]))=TRUE,ISNUMBER(SEARCH(\"RP\",Risque[[#This Row],[Précision du risque\n(si liste déroulante présente)]]))=TRUE),\"Oui --> Priorité d'action\",\"Non\"))","v":""},null,null,null,null,{"$f":"IF(ISBLANK(Risque[[#This Row],[Catégorie de risque]]),\"\",CONCATENATE(Risque[[#This Row],[Catégorie de risque]],2))","v":""},null,{"$f":"IF(ISBLANK(Risque[[#This Row],[Moyens de prévention]]),\"\",CONCATENATE(Risque[[#This Row],[Moyens de prévention]],1))","v":""},null,null,null,null,null,{"$f":"IF(ISBLANK(Risque[[#This Row],[Catégorie de risque]]),\"\",CONCATENATE(Risque[[#This Row],[Catégorie de risque]],3))","v":""},null,null,null,{"$f":"IF(ISBLANK(Risque[[#This Row],[Catégorie de risque]]),\"\",CONCATENATE(Risque[[#This Row],[Catégorie de risque]],4))","v":""},null,null,null,null,null,{"$f":"IF(Risque[[#This Row],[Date d''inscription du risque]]<>\"\",YEAR(Risque[[#This Row],[Date d''inscription du risque]]),\"\")","v":""}]
[null,null,{"$f":"IF(ISBLANK(Risque[[#This Row],[Catégorie de risque]]),\"\",CONCATENATE(Risque[[#This Row],[Catégorie de risque]],1))","v":""},null,null,null,null,null,{"$f":"IF(ISBLANK(Risque[[#This Row],[Catégorie de risque]]),\"\",IF(OR(ISNUMBER(SEARCH(\"RZ\",Risque[[#This Row],[Source de danger]]))=TRUE,ISNUMBER(SEARCH(\"RP\",Risque[[#This Row],[Source de danger]]))=TRUE,ISNUMBER(SEARCH(\"RZ\",Risque[[#This Row],[Risques associés]]))=TRUE,ISNUMBER(SEARCH(\"RP\",Risque[[#This Row],[Risques associés]]))=TRUE,ISNUMBER(SEARCH(\"RZ\",Risque[[#This Row],[Précision du risque\n(si liste déroulante présente)]]))=TRUE,ISNUMBER(SEARCH(\"RP\",Risque[[#This Row],[Précision du risque\n(si liste déroulante présente)]]))=TRUE),\"Oui --> Priorité d'action\",\"Non\"))","v":""},null,null,null,null,{"$f":"IF(ISBLANK(Risque[[#This Row],[Catégorie de risque]]),\"\",CONCATENATE(Risque[[#This Row],[Catégorie de risque]],2))","v":""},null,{"$f":"IF(ISBLANK(Risque[[#This Row],[Moyens de prévention]]),\"\",CONCATENATE(Risque[[#This Row],[Moyens de prévention]],1))","v":""},null,null,null,null,null,{"$f":"IF(ISBLANK(Risque[[#This Row],[Catégorie de risque]]),\"\",CONCATENATE(Risque[[#This Row],[Catégorie de risque]],3))","v":""},null,null,null,{"$f":"IF(ISBLANK(Risque[[#This Row],[Catégorie de risque]]),\"\",CONCATENATE(Risque[[#This Row],[Catégorie de risque]],4))","v":""},null,null,null,null,null,{"$f":"IF(Risque[[#This Row],[Date d''inscription du risque]]<>\"\",YEAR(Risque[[#This Row],[Date d''inscription du risque]]),\"\")","v":""}]
[null,null,{"$f":"IF(ISBLANK(Risque[[#This Row],[Catégorie de risque]]),\"\",CONCATENATE(Risque[[#This Row],[Catégorie de risque]],1))","v":""},null,null,null,null,null,{"$f":"IF(ISBLANK(Risque[[#This Row],[Catégorie de risque]]),\"\",IF(OR(ISNUMBER(SEARCH(\"RZ\",Risque[[#This Row],[Source de danger]]))=TRUE,ISNUMBER(SEARCH(\"RP\",Risque[[#This Row],[Source de danger]]))=TRUE,ISNUMBER(SEARCH(\"RZ\",Risque[[#This Row],[Risques associés]]))=TRUE,ISNUMBER(SEARCH(\"RP\",Risque[[#This Row],[Risques associés]]))=TRUE,ISNUMBER(SEARCH(\"RZ\",Risque[[#This Row],[Précision du risque\n(si liste déroulante présente)]]))=TRUE,ISNUMBER(SEARCH(\"RP\",Risque[[#This Row],[Précision du risque\n(si liste déroulante présente)]]))=TRUE),\"Oui --> Priorité d'action\",\"Non\"))","v":""},null,null,null,null,{"$f":"IF(ISBLANK(Risque[[#This Row],[Catégorie de risque]]),\"\",CONCATENATE(Risque[[#This Row],[Catégorie de risque]],2))","v":""},null,{"$f":"IF(ISBLANK(Risque[[#This Row],[Moyens de prévention]]),\"\",CONCATENATE(Risque[[#This Row],[Moyens de prévention]],1))","v":""},null,null,null,null,null,{"$f":"IF(ISBLANK(Risque[[#This Row],[Catégorie de risque]]),\"\",CONCATENATE(Risque[[#This Row],[Catégorie de risque]],3))","v":""},null,null,null,{"$f":"IF(ISBLANK(Risque[[#This Row],[Catégorie de risque]]),\"\",CONCATENATE(Risque[[#This Row],[Catégorie de risque]],4))","v":""},null,null,null,null,null,{"$f":"IF(Risque[[#This Row],[Date d''inscription du risque]]<>\"\",YEAR(Risque[[#This Row],[Date d''inscription du risque]]),\"\")","v":""}]
[null,null,{"$f":"IF(ISBLANK(Risque[[#This Row],[Catégorie de risque]]),\"\",CONCATENATE(Risque[[#This Row],[Catégorie de risque]],1))","v":""},null,null,null,null,null,{"$f":"IF(ISBLANK(Risque[[#This Row],[Catégorie de risque]]),\"\",IF(OR(ISNUMBER(SEARCH(\"RZ\",Risque[[#This Row],[Source de danger]]))=TRUE,ISNUMBER(SEARCH(\"RP\",Risque[[#This Row],[Source de danger]]))=TRUE,ISNUMBER(SEARCH(\"RZ\",Risque[[#This Row],[Risques associés]]))=TRUE,ISNUMBER(SEARCH(\"RP\",Risque[[#This Row],[Risques associés]]))=TRUE,ISNUMBER(SEARCH(\"RZ\",Risque[[#This Row],[Précision du risque\n(si liste déroulante présente)]]))=TRUE,ISNUMBER(SEARCH(\"RP\",Risque[[#This Row],[Précision du risque\n(si liste déroulante présente)]]))=TRUE),\"Oui --> Priorité d'action\",\"Non\"))","v":""},null,null,null,null,{"$f":"IF(ISBLANK(Risque[[#This Row],[Catégorie de risque]]),\"\",CONCATENATE(Risque[[#This Row],[Catégorie de risque]],2))","v":""},null,{"$f":"IF(ISBLANK(Risque[[#This Row],[Moyens de prévention]]),\"\",CONCATENATE(Risque[[#This Row],[Moyens de prévention]],1))","v":""},null,null,null,null,null,{"$f":"IF(ISBLANK(Risque[[#This Row],[Catégorie de risque]]),\"\",CONCATENATE(Risque[[#This Row],[Catégorie de risque]],3))","v":""},null,null,null,{"$f":"IF(ISBLANK(Risque[[#This Row],[Catégorie de risque]]),\"\",CONCATENATE(Risque[[#This Row],[Catégorie de risque]],4))","v":""},null,null,null,null,null,{"$f":"IF(Risque[[#This Row],[Date d''inscription du risque]]<>\"\",YEAR(Risque[[#This Row],[Date d''inscription du risque]]),\"\")","v":""}]
[null,null,{"$f":"IF(ISBLANK(Risque[[#This Row],[Catégorie de risque]]),\"\",CONCATENATE(Risque[[#This Row],[Catégorie de risque]],1))","v":""},null,null,null,null,null,{"$f":"IF(ISBLANK(Risque[[#This Row],[Catégorie de risque]]),\"\",IF(OR(ISNUMBER(SEARCH(\"RZ\",Risque[[#This Row],[Source de danger]]))=TRUE,ISNUMBER(SEARCH(\"RP\",Risque[[#This Row],[Source de danger]]))=TRUE,ISNUMBER(SEARCH(\"RZ\",Risque[[#This Row],[Risques associés]]))=TRUE,ISNUMBER(SEARCH(\"RP\",Risque[[#This Row],[Risques associés]]))=TRUE,ISNUMBER(SEARCH(\"RZ\",Risque[[#This Row],[Précision du risque\n(si liste déroulante présente)]]))=TRUE,ISNUMBER(SEARCH(\"RP\",Risque[[#This Row],[Précision du risque\n(si liste déroulante présente)]]))=TRUE),\"Oui --> Priorité d'action\",\"Non\"))","v":""},null,null,null,null,{"$f":"IF(ISBLANK(Risque[[#This Row],[Catégorie de risque]]),\"\",CONCATENATE(Risque[[#This Row],[Catégorie de risque]],2))","v":""},null,{"$f":"IF(ISBLANK(Risque[[#This Row],[Moyens de prévention]]),\"\",CONCATENATE(Risque[[#This Row],[Moyens de prévention]],1))","v":""},null,null,null,null,null,{"$f":"IF(ISBLANK(Risque[[#This Row],[Catégorie de risque]]),\"\",CONCATENATE(Risque[[#This Row],[Catégorie de risque]],3))","v":""},null,null,null,{"$f":"IF(ISBLANK(Risque[[#This Row],[Catégorie de risque]]),\"\",CONCATENATE(Risque[[#This Row],[Catégorie de risque]],4))","v":""},null,null,null,null,null,{"$f":"IF(Risque[[#This Row],[Date d''inscription du risque]]<>\"\",YEAR(Risque[[#This Row],[Date d''inscription du risque]]),\"\")","v":""}]
[null,null,{"$f":"IF(ISBLANK(Risque[[#This Row],[Catégorie de risque]]),\"\",CONCATENATE(Risque[[#This Row],[Catégorie de risque]],1))","v":""},null,null,null,null,null,{"$f":"IF(ISBLANK(Risque[[#This Row],[Catégorie de risque]]),\"\",IF(OR(ISNUMBER(SEARCH(\"RZ\",Risque[[#This Row],[Source de danger]]))=TRUE,ISNUMBER(SEARCH(\"RP\",Risque[[#This Row],[Source de danger]]))=TRUE,ISNUMBER(SEARCH(\"RZ\",Risque[[#This Row],[Risques associés]]))=TRUE,ISNUMBER(SEARCH(\"RP\",Risque[[#This Row],[Risques associés]]))=TRUE,ISNUMBER(SEARCH(\"RZ\",Risque[[#This Row],[Précision du risque\n(si liste déroulante présente)]]))=TRUE,ISNUMBER(SEARCH(\"RP\",Risque[[#This Row],[Précision du risque\n(si liste déroulante présente)]]))=TRUE),\"Oui --> Priorité d'action\",\"Non\"))","v":""},null,null,null,null,{"$f":"IF(ISBLANK(Risque[[#This Row],[Catégorie de risque]]),\"\",CONCATENATE(Risque[[#This Row],[Catégorie de risque]],2))","v":""},null,{"$f":"IF(ISBLANK(Risque[[#This Row],[Moyens de prévention]]),\"\",CONCATENATE(Risque[[#This Row],[Moyens de prévention]],1))","v":""},null,null,null,null,null,{"$f":"IF(ISBLANK(Risque[[#This Row],[Catégorie de risque]]),\"\",CONCATENATE(Risque[[#This Row],[Catégorie de risque]],3))","v":""},null,null,null,{"$f":"IF(ISBLANK(Risque[[#This Row],[Catégorie de risque]]),\"\",CONCATENATE(Risque[[#This Row],[Catégorie de risque]],4))","v":""},null,null,null,null,null,{"$f":"IF(Risque[[#This Row],[Date d''inscription du risque]]<>\"\",YEAR(Risque[[#This Row],[Date d''inscription du risque]]),\"\")","v":""}]
[null,null,{"$f":"IF(ISBLANK(Risque[[#This Row],[Catégorie de risque]]),\"\",CONCATENATE(Risque[[#This Row],[Catégorie de risque]],1))","v":""},null,null,null,null,null,{"$f":"IF(ISBLANK(Risque[[#This Row],[Catégorie de risque]]),\"\",IF(OR(ISNUMBER(SEARCH(\"RZ\",Risque[[#This Row],[Source de danger]]))=TRUE,ISNUMBER(SEARCH(\"RP\",Risque[[#This Row],[Source de danger]]))=TRUE,ISNUMBER(SEARCH(\"RZ\",Risque[[#This Row],[Risques associés]]))=TRUE,ISNUMBER(SEARCH(\"RP\",Risque[[#This Row],[Risques associés]]))=TRUE,ISNUMBER(SEARCH(\"RZ\",Risque[[#This Row],[Précision du risque\n(si liste déroulante présente)]]))=TRUE,ISNUMBER(SEARCH(\"RP\",Risque[[#This Row],[Précision du risque\n(si liste déroulante présente)]]))=TRUE),\"Oui --> Priorité d'action\",\"Non\"))","v":""},null,null,null,null,{"$f":"IF(ISBLANK(Risque[[#This Row],[Catégorie de risque]]),\"\",CONCATENATE(Risque[[#This Row],[Catégorie de risque]],2))","v":""},null,{"$f":"IF(ISBLANK(Risque[[#This Row],[Moyens de prévention]]),\"\",CONCATENATE(Risque[[#This Row],[Moyens de prévention]],1))","v":""},null,null,null,null,null,{"$f":"IF(ISBLANK(Risque[[#This Row],[Catégorie de risque]]),\"\",CONCATENATE(Risque[[#This Row],[Catégorie de risque]],3))","v":""},null,null,null,{"$f":"IF(ISBLANK(Risque[[#This Row],[Catégorie de risque]]),\"\",CONCATENATE(Risque[[#This Row],[Catégorie de risque]],4))","v":""},null,null,null,null,null,{"$f":"IF(Risque[[#This Row],[Date d''inscription du risque]]<>\"\",YEAR(Risque[[#This Row],[Date d''inscription du risque]]),\"\")","v":""}]
[null,null,{"$f":"IF(ISBLANK(Risque[[#This Row],[Catégorie de risque]]),\"\",CONCATENATE(Risque[[#This Row],[Catégorie de risque]],1))","v":""},null,null,null,null,null,{"$f":"IF(ISBLANK(Risque[[#This Row],[Catégorie de risque]]),\"\",IF(OR(ISNUMBER(SEARCH(\"RZ\",Risque[[#This Row],[Source de danger]]))=TRUE,ISNUMBER(SEARCH(\"RP\",Risque[[#This Row],[Source de danger]]))=TRUE,ISNUMBER(SEARCH(\"RZ\",Risque[[#This Row],[Risques associés]]))=TRUE,ISNUMBER(SEARCH(\"RP\",Risque[[#This Row],[Risques associés]]))=TRUE,ISNUMBER(SEARCH(\"RZ\",Risque[[#This Row],[Précision du risque\n(si liste déroulante présente)]]))=TRUE,ISNUMBER(SEARCH(\"RP\",Risque[[#This Row],[Précision du risque\n(si liste déroulante présente)]]))=TRUE),\"Oui --> Priorité d'action\",\"Non\"))","v":""},null,null,null,null,{"$f":"IF(ISBLANK(Risque[[#This Row],[Catégorie de risque]]),\"\",CONCATENATE(Risque[[#This Row],[Catégorie de risque]],2))","v":""},null,{"$f":"IF(ISBLANK(Risque[[#This Row],[Moyens de prévention]]),\"\",CONCATENATE(Risque[[#This Row],[Moyens de prévention]],1))","v":""},null,null,null,null,null,{"$f":"IF(ISBLANK(Risque[[#This Row],[Catégorie de risque]]),\"\",CONCATENATE(Risque[[#This Row],[Catégorie de risque]],3))","v":""},null,null,null,{"$f":"IF(ISBLANK(Risque[[#This Row],[Catégorie de risque]]),\"\",CONCATENATE(Risque[[#This Row],[Catégorie de risque]],4))","v":""},null,null,null,null,null,{"$f":"IF(Risque[[#This Row],[Date d''inscription du risque]]<>\"\",YEAR(Risque[[#This Row],[Date d''inscription du risque]]),\"\")","v":""}]
[null,null,{"$f":"IF(ISBLANK(Risque[[#This Row],[Catégorie de risque]]),\"\",CONCATENATE(Risque[[#This Row],[Catégorie de risque]],1))","v":""},null,null,null,null,null,{"$f":"IF(ISBLANK(Risque[[#This Row],[Catégorie de risque]]),\"\",IF(OR(ISNUMBER(SEARCH(\"RZ\",Risque[[#This Row],[Source de danger]]))=TRUE,ISNUMBER(SEARCH(\"RP\",Risque[[#This Row],[Source de danger]]))=TRUE,ISNUMBER(SEARCH(\"RZ\",Risque[[#This Row],[Risques associés]]))=TRUE,ISNUMBER(SEARCH(\"RP\",Risque[[#This Row],[Risques associés]]))=TRUE,ISNUMBER(SEARCH(\"RZ\",Risque[[#This Row],[Précision du risque\n(si liste déroulante présente)]]))=TRUE,ISNUMBER(SEARCH(\"RP\",Risque[[#This Row],[Précision du risque\n(si liste déroulante présente)]]))=TRUE),\"Oui --> Priorité d'action\",\"Non\"))","v":""},null,null,null,null,{"$f":"IF(ISBLANK(Risque[[#This Row],[Catégorie de risque]]),\"\",CONCATENATE(Risque[[#This Row],[Catégorie de risque]],2))","v":""},null,{"$f":"IF(ISBLANK(Risque[[#This Row],[Moyens de prévention]]),\"\",CONCATENATE(Risque[[#This Row],[Moyens de prévention]],1))","v":""},null,null,null,null,null,{"$f":"IF(ISBLANK(Risque[[#This Row],[Catégorie de risque]]),\"\",CONCATENATE(Risque[[#This Row],[Catégorie de risque]],3))","v":""},null,null,null,{"$f":"IF(ISBLANK(Risque[[#This Row],[Catégorie de risque]]),\"\",CONCATENATE(Risque[[#This Row],[Catégorie de risque]],4))","v":""},null,null,null,null,null,{"$f":"IF(Risque[[#This Row],[Date d''inscription du risque]]<>\"\",YEAR(Risque[[#This Row],[Date d''inscription du risque]]),\"\")","v":""}]
[null,null,{"$f":"IF(ISBLANK(Risque[[#This Row],[Catégorie de risque]]),\"\",CONCATENATE(Risque[[#This Row],[Catégorie de risque]],1))","v":""},null,null,null,null,null,{"$f":"IF(ISBLANK(Risque[[#This Row],[Catégorie de risque]]),\"\",IF(OR(ISNUMBER(SEARCH(\"RZ\",Risque[[#This Row],[Source de danger]]))=TRUE,ISNUMBER(SEARCH(\"RP\",Risque[[#This Row],[Source de danger]]))=TRUE,ISNUMBER(SEARCH(\"RZ\",Risque[[#This Row],[Risques associés]]))=TRUE,ISNUMBER(SEARCH(\"RP\",Risque[[#This Row],[Risques associés]]))=TRUE,ISNUMBER(SEARCH(\"RZ\",Risque[[#This Row],[Précision du risque\n(si liste déroulante présente)]]))=TRUE,ISNUMBER(SEARCH(\"RP\",Risque[[#This Row],[Précision du risque\n(si liste déroulante présente)]]))=TRUE),\"Oui --> Priorité d'action\",\"Non\"))","v":""},null,null,null,null,{"$f":"IF(ISBLANK(Risque[[#This Row],[Catégorie de risque]]),\"\",CONCATENATE(Risque[[#This Row],[Catégorie de risque]],2))","v":""},null,{"$f":"IF(ISBLANK(Risque[[#This Row],[Moyens de prévention]]),\"\",CONCATENATE(Risque[[#This Row],[Moyens de prévention]],1))","v":""},null,null,null,null,null,{"$f":"IF(ISBLANK(Risque[[#This Row],[Catégorie de risque]]),\"\",CONCATENATE(Risque[[#This Row],[Catégorie de risque]],3))","v":""},null,null,null,{"$f":"IF(ISBLANK(Risque[[#This Row],[Catégorie de risque]]),\"\",CONCATENATE(Risque[[#This Row],[Catégorie de risque]],4))","v":""},null,null,null,null,null,{"$f":"IF(Risque[[#This Row],[Date d''inscription du risque]]<>\"\",YEAR(Risque[[#This Row],[Date d''inscription du risque]]),\"\")","v":""}]
[null,null,{"$f":"IF(ISBLANK(Risque[[#This Row],[Catégorie de risque]]),\"\",CONCATENATE(Risque[[#This Row],[Catégorie de risque]],1))","v":""},null,null,null,null,null,{"$f":"IF(ISBLANK(Risque[[#This Row],[Catégorie de risque]]),\"\",IF(OR(ISNUMBER(SEARCH(\"RZ\",Risque[[#This Row],[Source de danger]]))=TRUE,ISNUMBER(SEARCH(\"RP\",Risque[[#This Row],[Source de danger]]))=TRUE,ISNUMBER(SEARCH(\"RZ\",Risque[[#This Row],[Risques associés]]))=TRUE,ISNUMBER(SEARCH(\"RP\",Risque[[#This Row],[Risques associés]]))=TRUE,ISNUMBER(SEARCH(\"RZ\",Risque[[#This Row],[Précision du risque\n(si liste déroulante présente)]]))=TRUE,ISNUMBER(SEARCH(\"RP\",Risque[[#This Row],[Précision du risque\n(si liste déroulante présente)]]))=TRUE),\"Oui --> Priorité d'action\",\"Non\"))","v":""},null,null,null,null,{"$f":"IF(ISBLANK(Risque[[#This Row],[Catégorie de risque]]),\"\",CONCATENATE(Risque[[#This Row],[Catégorie de risque]],2))","v":""},null,{"$f":"IF(ISBLANK(Risque[[#This Row],[Moyens de prévention]]),\"\",CONCATENATE(Risque[[#This Row],[Moyens de prévention]],1))","v":""},null,null,null,null,null,{"$f":"IF(ISBLANK(Risque[[#This Row],[Catégorie de risque]]),\"\",CONCATENATE(Risque[[#This Row],[Catégorie de risque]],3))","v":""},null,null,null,{"$f":"IF(ISBLANK(Risque[[#This Row],[Catégorie de risque]]),\"\",CONCATENATE(Risque[[#This Row],[Catégorie de risque]],4))","v":""},null,null,null,null,null,{"$f":"IF(Risque[[#This Row],[Date d''inscription du risque]]<>\"\",YEAR(Risque[[#This Row],[Date d''inscription du risque]]),\"\")","v":""}]
[null,null,{"$f":"IF(ISBLANK(Risque[[#This Row],[Catégorie de risque]]),\"\",CONCATENATE(Risque[[#This Row],[Catégorie de risque]],1))","v":""},null,null,null,null,null,{"$f":"IF(ISBLANK(Risque[[#This Row],[Catégorie de risque]]),\"\",IF(OR(ISNUMBER(SEARCH(\"RZ\",Risque[[#This Row],[Source de danger]]))=TRUE,ISNUMBER(SEARCH(\"RP\",Risque[[#This Row],[Source de danger]]))=TRUE,ISNUMBER(SEARCH(\"RZ\",Risque[[#This Row],[Risques associés]]))=TRUE,ISNUMBER(SEARCH(\"RP\",Risque[[#This Row],[Risques associés]]))=TRUE,ISNUMBER(SEARCH(\"RZ\",Risque[[#This Row],[Précision du risque\n(si liste déroulante présente)]]))=TRUE,ISNUMBER(SEARCH(\"RP\",Risque[[#This Row],[Précision du risque\n(si liste déroulante présente)]]))=TRUE),\"Oui --> Priorité d'action\",\"Non\"))","v":""},null,null,null,null,{"$f":"IF(ISBLANK(Risque[[#This Row],[Catégorie de risque]]),\"\",CONCATENATE(Risque[[#This Row],[Catégorie de risque]],2))","v":""},null,{"$f":"IF(ISBLANK(Risque[[#This Row],[Moyens de prévention]]),\"\",CONCATENATE(Risque[[#This Row],[Moyens de prévention]],1))","v":""},null,null,null,null,null,{"$f":"IF(ISBLANK(Risque[[#This Row],[Catégorie de risque]]),\"\",CONCATENATE(Risque[[#This Row],[Catégorie de risque]],3))","v":""},null,null,null,{"$f":"IF(ISBLANK(Risque[[#This Row],[Catégorie de risque]]),\"\",CONCATENATE(Risque[[#This Row],[Catégorie de risque]],4))","v":""},null,null,null,null,null,{"$f":"IF(Risque[[#This Row],[Date d''inscription du risque]]<>\"\",YEAR(Risque[[#This Row],[Date d''inscription du risque]]),\"\")","v":""}]
[null,null,{"$f":"IF(ISBLANK(Risque[[#This Row],[Catégorie de risque]]),\"\",CONCATENATE(Risque[[#This Row],[Catégorie de risque]],1))","v":""},null,null,null,null,null,{"$f":"IF(ISBLANK(Risque[[#This Row],[Catégorie de risque]]),\"\",IF(OR(ISNUMBER(SEARCH(\"RZ\",Risque[[#This Row],[Source de danger]]))=TRUE,ISNUMBER(SEARCH(\"RP\",Risque[[#This Row],[Source de danger]]))=TRUE,ISNUMBER(SEARCH(\"RZ\",Risque[[#This Row],[Risques associés]]))=TRUE,ISNUMBER(SEARCH(\"RP\",Risque[[#This Row],[Risques associés]]))=TRUE,ISNUMBER(SEARCH(\"RZ\",Risque[[#This Row],[Précision du risque\n(si liste déroulante présente)]]))=TRUE,ISNUMBER(SEARCH(\"RP\",Risque[[#This Row],[Précision du risque\n(si liste déroulante présente)]]))=TRUE),\"Oui --> Priorité d'action\",\"Non\"))","v":""},null,null,null,null,{"$f":"IF(ISBLANK(Risque[[#This Row],[Catégorie de risque]]),\"\",CONCATENATE(Risque[[#This Row],[Catégorie de risque]],2))","v":""},null,{"$f":"IF(ISBLANK(Risque[[#This Row],[Moyens de prévention]]),\"\",CONCATENATE(Risque[[#This Row],[Moyens de prévention]],1))","v":""},null,null,null,null,null,{"$f":"IF(ISBLANK(Risque[[#This Row],[Catégorie de risque]]),\"\",CONCATENATE(Risque[[#This Row],[Catégorie de risque]],3))","v":""},null,null,null,{"$f":"IF(ISBLANK(Risque[[#This Row],[Catégorie de risque]]),\"\",CONCATENATE(Risque[[#This Row],[Catégorie de risque]],4))","v":""},null,null,null,null,null,{"$f":"IF(Risque[[#This Row],[Date d''inscription du risque]]<>\"\",YEAR(Risque[[#This Row],[Date d''inscription du risque]]),\"\")","v":""}]
[null,null,{"$f":"IF(ISBLANK(Risque[[#This Row],[Catégorie de risque]]),\"\",CONCATENATE(Risque[[#This Row],[Catégorie de risque]],1))","v":""},null,null,null,null,null,{"$f":"IF(ISBLANK(Risque[[#This Row],[Catégorie de risque]]),\"\",IF(OR(ISNUMBER(SEARCH(\"RZ\",Risque[[#This Row],[Source de danger]]))=TRUE,ISNUMBER(SEARCH(\"RP\",Risque[[#This Row],[Source de danger]]))=TRUE,ISNUMBER(SEARCH(\"RZ\",Risque[[#This Row],[Risques associés]]))=TRUE,ISNUMBER(SEARCH(\"RP\",Risque[[#This Row],[Risques associés]]))=TRUE,ISNUMBER(SEARCH(\"RZ\",Risque[[#This Row],[Précision du risque\n(si liste déroulante présente)]]))=TRUE,ISNUMBER(SEARCH(\"RP\",Risque[[#This Row],[Précision du risque\n(si liste déroulante présente)]]))=TRUE),\"Oui --> Priorité d'action\",\"Non\"))","v":""},null,null,null,null,{"$f":"IF(ISBLANK(Risque[[#This Row],[Catégorie de risque]]),\"\",CONCATENATE(Risque[[#This Row],[Catégorie de risque]],2))","v":""},null,{"$f":"IF(ISBLANK(Risque[[#This Row],[Moyens de prévention]]),\"\",CONCATENATE(Risque[[#This Row],[Moyens de prévention]],1))","v":""},null,null,null,null,null,{"$f":"IF(ISBLANK(Risque[[#This Row],[Catégorie de risque]]),\"\",CONCATENATE(Risque[[#This Row],[Catégorie de risque]],3))","v":""},null,null,null,{"$f":"IF(ISBLANK(Risque[[#This Row],[Catégorie de risque]]),\"\",CONCATENATE(Risque[[#This Row],[Catégorie de risque]],4))","v":""},null,null,null,null,null,{"$f":"IF(Risque[[#This Row],[Date d''inscription du risque]]<>\"\",YEAR(Risque[[#This Row],[Date d''inscription du risque]]),\"\")","v":""}]
[null,null,{"$f":"IF(ISBLANK(Risque[[#This Row],[Catégorie de risque]]),\"\",CONCATENATE(Risque[[#This Row],[Catégorie de risque]],1))","v":""},null,null,null,null,null,{"$f":"IF(ISBLANK(Risque[[#This Row],[Catégorie de risque]]),\"\",IF(OR(ISNUMBER(SEARCH(\"RZ\",Risque[[#This Row],[Source de danger]]))=TRUE,ISNUMBER(SEARCH(\"RP\",Risque[[#This Row],[Source de danger]]))=TRUE,ISNUMBER(SEARCH(\"RZ\",Risque[[#This Row],[Risques associés]]))=TRUE,ISNUMBER(SEARCH(\"RP\",Risque[[#This Row],[Risques associés]]))=TRUE,ISNUMBER(SEARCH(\"RZ\",Risque[[#This Row],[Précision du risque\n(si liste déroulante présente)]]))=TRUE,ISNUMBER(SEARCH(\"RP\",Risque[[#This Row],[Précision du risque\n(si liste déroulante présente)]]))=TRUE),\"Oui --> Priorité d'action\",\"Non\"))","v":""},null,null,null,null,{"$f":"IF(ISBLANK(Risque[[#This Row],[Catégorie de risque]]),\"\",CONCATENATE(Risque[[#This Row],[Catégorie de risque]],2))","v":""},null,{"$f":"IF(ISBLANK(Risque[[#This Row],[Moyens de prévention]]),\"\",CONCATENATE(Risque[[#This Row],[Moyens de prévention]],1))","v":""},null,null,null,null,null,{"$f":"IF(ISBLANK(Risque[[#This Row],[Catégorie de risque]]),\"\",CONCATENATE(Risque[[#This Row],[Catégorie de risque]],3))","v":""},null,null,null,{"$f":"IF(ISBLANK(Risque[[#This Row],[Catégorie de risque]]),\"\",CONCATENATE(Risque[[#This Row],[Catégorie de risque]],4))","v":""},null,null,null,null,null,{"$f":"IF(Risque[[#This Row],[Date d''inscription du risque]]<>\"\",YEAR(Risque[[#This Row],[Date d''inscription du risque]]),\"\")","v":""}]
[null,null,{"$f":"IF(ISBLANK(Risque[[#This Row],[Catégorie de risque]]),\"\",CONCATENATE(Risque[[#This Row],[Catégorie de risque]],1))","v":""},null,null,null,null,null,{"$f":"IF(ISBLANK(Risque[[#This Row],[Catégorie de risque]]),\"\",IF(OR(ISNUMBER(SEARCH(\"RZ\",Risque[[#This Row],[Source de danger]]))=TRUE,ISNUMBER(SEARCH(\"RP\",Risque[[#This Row],[Source de danger]]))=TRUE,ISNUMBER(SEARCH(\"RZ\",Risque[[#This Row],[Risques associés]]))=TRUE,ISNUMBER(SEARCH(\"RP\",Risque[[#This Row],[Risques associés]]))=TRUE,ISNUMBER(SEARCH(\"RZ\",Risque[[#This Row],[Précision du risque\n(si liste déroulante présente)]]))=TRUE,ISNUMBER(SEARCH(\"RP\",Risque[[#This Row],[Précision du risque\n(si liste déroulante présente)]]))=TRUE),\"Oui --> Priorité d'action\",\"Non\"))","v":""},null,null,null,null,{"$f":"IF(ISBLANK(Risque[[#This Row],[Catégorie de risque]]),\"\",CONCATENATE(Risque[[#This Row],[Catégorie de risque]],2))","v":""},null,{"$f":"IF(ISBLANK(Risque[[#This Row],[Moyens de prévention]]),\"\",CONCATENATE(Risque[[#This Row],[Moyens de prévention]],1))","v":""},null,null,null,null,null,{"$f":"IF(ISBLANK(Risque[[#This Row],[Catégorie de risque]]),\"\",CONCATENATE(Risque[[#This Row],[Catégorie de risque]],3))","v":""},null,null,null,{"$f":"IF(ISBLANK(Risque[[#This Row],[Catégorie de risque]]),\"\",CONCATENATE(Risque[[#This Row],[Catégorie de risque]],4))","v":""},null,null,null,null,null,{"$f":"IF(Risque[[#This Row],[Date d''inscription du risque]]<>\"\",YEAR(Risque[[#This Row],[Date d''inscription du risque]]),\"\")","v":""}]
[null,null,{"$f":"IF(ISBLANK(Risque[[#This Row],[Catégorie de risque]]),\"\",CONCATENATE(Risque[[#This Row],[Catégorie de risque]],1))","v":""},null,null,null,null,null,{"$f":"IF(ISBLANK(Risque[[#This Row],[Catégorie de risque]]),\"\",IF(OR(ISNUMBER(SEARCH(\"RZ\",Risque[[#This Row],[Source de danger]]))=TRUE,ISNUMBER(SEARCH(\"RP\",Risque[[#This Row],[Source de danger]]))=TRUE,ISNUMBER(SEARCH(\"RZ\",Risque[[#This Row],[Risques associés]]))=TRUE,ISNUMBER(SEARCH(\"RP\",Risque[[#This Row],[Risques associés]]))=TRUE,ISNUMBER(SEARCH(\"RZ\",Risque[[#This Row],[Précision du risque\n(si liste déroulante présente)]]))=TRUE,ISNUMBER(SEARCH(\"RP\",Risque[[#This Row],[Précision du risque\n(si liste déroulante présente)]]))=TRUE),\"Oui --> Priorité d'action\",\"Non\"))","v":""},null,null,null,null,{"$f":"IF(ISBLANK(Risque[[#This Row],[Catégorie de risque]]),\"\",CONCATENATE(Risque[[#This Row],[Catégorie de risque]],2))","v":""},null,{"$f":"IF(ISBLANK(Risque[[#This Row],[Moyens de prévention]]),\"\",CONCATENATE(Risque[[#This Row],[Moyens de prévention]],1))","v":""},null,null,null,null,null,{"$f":"IF(ISBLANK(Risque[[#This Row],[Catégorie de risque]]),\"\",CONCATENATE(Risque[[#This Row],[Catégorie de risque]],3))","v":""},null,null,null,{"$f":"IF(ISBLANK(Risque[[#This Row],[Catégorie de risque]]),\"\",CONCATENATE(Risque[[#This Row],[Catégorie de risque]],4))","v":""},null,null,null,null,null,{"$f":"IF(Risque[[#This Row],[Date d''inscription du risque]]<>\"\",YEAR(Risque[[#This Row],[Date d''inscription du risque]]),\"\")","v":""}]
[null,null,{"$f":"IF(ISBLANK(Risque[[#This Row],[Catégorie de risque]]),\"\",CONCATENATE(Risque[[#This Row],[Catégorie de risque]],1))","v":""},null,null,null,null,null,{"$f":"IF(ISBLANK(Risque[[#This Row],[Catégorie de risque]]),\"\",IF(OR(ISNUMBER(SEARCH(\"RZ\",Risque[[#This Row],[Source de danger]]))=TRUE,ISNUMBER(SEARCH(\"RP\",Risque[[#This Row],[Source de danger]]))=TRUE,ISNUMBER(SEARCH(\"RZ\",Risque[[#This Row],[Risques associés]]))=TRUE,ISNUMBER(SEARCH(\"RP\",Risque[[#This Row],[Risques associés]]))=TRUE,ISNUMBER(SEARCH(\"RZ\",Risque[[#This Row],[Précision du risque\n(si liste déroulante présente)]]))=TRUE,ISNUMBER(SEARCH(\"RP\",Risque[[#This Row],[Précision du risque\n(si liste déroulante présente)]]))=TRUE),\"Oui --> Priorité d'action\",\"Non\"))","v":""},null,null,null,null,{"$f":"IF(ISBLANK(Risque[[#This Row],[Catégorie de risque]]),\"\",CONCATENATE(Risque[[#This Row],[Catégorie de risque]],2))","v":""},null,{"$f":"IF(ISBLANK(Risque[[#This Row],[Moyens de prévention]]),\"\",CONCATENATE(Risque[[#This Row],[Moyens de prévention]],1))","v":""},null,null,null,null,null,{"$f":"IF(ISBLANK(Risque[[#This Row],[Catégorie de risque]]),\"\",CONCATENATE(Risque[[#This Row],[Catégorie de risque]],3))","v":""},null,null,null,{"$f":"IF(ISBLANK(Risque[[#This Row],[Catégorie de risque]]),\"\",CONCATENATE(Risque[[#This Row],[Catégorie de risque]],4))","v":""},null,null,null,null,null,{"$f":"IF(Risque[[#This Row],[Date d''inscription du risque]]<>\"\",YEAR(Risque[[#This Row],[Date d''inscription du risque]]),\"\")","v":""}]
[null,null,{"$f":"IF(ISBLANK(Risque[[#This Row],[Catégorie de risque]]),\"\",CONCATENATE(Risque[[#This Row],[Catégorie de risque]],1))","v":""},null,null,null,null,null,{"$f":"IF(ISBLANK(Risque[[#This Row],[Catégorie de risque]]),\"\",IF(OR(ISNUMBER(SEARCH(\"RZ\",Risque[[#This Row],[Source de danger]]))=TRUE,ISNUMBER(SEARCH(\"RP\",Risque[[#This Row],[Source de danger]]))=TRUE,ISNUMBER(SEARCH(\"RZ\",Risque[[#This Row],[Risques associés]]))=TRUE,ISNUMBER(SEARCH(\"RP\",Risque[[#This Row],[Risques associés]]))=TRUE,ISNUMBER(SEARCH(\"RZ\",Risque[[#This Row],[Précision du risque\n(si liste déroulante présente)]]))=TRUE,ISNUMBER(SEARCH(\"RP\",Risque[[#This Row],[Précision du risque\n(si liste déroulante présente)]]))=TRUE),\"Oui --> Priorité d'action\",\"Non\"))","v":""},null,null,null,null,{"$f":"IF(ISBLANK(Risque[[#This Row],[Catégorie de risque]]),\"\",CONCATENATE(Risque[[#This Row],[Catégorie de risque]],2))","v":""},null,{"$f":"IF(ISBLANK(Risque[[#This Row],[Moyens de prévention]]),\"\",CONCATENATE(Risque[[#This Row],[Moyens de prévention]],1))","v":""},null,null,null,null,null,{"$f":"IF(ISBLANK(Risque[[#This Row],[Catégorie de risque]]),\"\",CONCATENATE(Risque[[#This Row],[Catégorie de risque]],3))","v":""},null,null,null,{"$f":"IF(ISBLANK(Risque[[#This Row],[Catégorie de risque]]),\"\",CONCATENATE(Risque[[#This Row],[Catégorie de risque]],4))","v":""},null,null,null,null,null,{"$f":"IF(Risque[[#This Row],[Date d''inscription du risque]]<>\"\",YEAR(Risque[[#This Row],[Date d''inscription du risque]]),\"\")","v":""}]
[null,null,{"$f":"IF(ISBLANK(Risque[[#This Row],[Catégorie de risque]]),\"\",CONCATENATE(Risque[[#This Row],[Catégorie de risque]],1))","v":""},null,null,null,null,null,{"$f":"IF(ISBLANK(Risque[[#This Row],[Catégorie de risque]]),\"\",IF(OR(ISNUMBER(SEARCH(\"RZ\",Risque[[#This Row],[Source de danger]]))=TRUE,ISNUMBER(SEARCH(\"RP\",Risque[[#This Row],[Source de danger]]))=TRUE,ISNUMBER(SEARCH(\"RZ\",Risque[[#This Row],[Risques associés]]))=TRUE,ISNUMBER(SEARCH(\"RP\",Risque[[#This Row],[Risques associés]]))=TRUE,ISNUMBER(SEARCH(\"RZ\",Risque[[#This Row],[Précision du risque\n(si liste déroulante présente)]]))=TRUE,ISNUMBER(SEARCH(\"RP\",Risque[[#This Row],[Précision du risque\n(si liste déroulante présente)]]))=TRUE),\"Oui --> Priorité d'action\",\"Non\"))","v":""},null,null,null,null,{"$f":"IF(ISBLANK(Risque[[#This Row],[Catégorie de risque]]),\"\",CONCATENATE(Risque[[#This Row],[Catégorie de risque]],2))","v":""},null,{"$f":"IF(ISBLANK(Risque[[#This Row],[Moyens de prévention]]),\"\",CONCATENATE(Risque[[#This Row],[Moyens de prévention]],1))","v":""},null,null,null,null,null,{"$f":"IF(ISBLANK(Risque[[#This Row],[Catégorie de risque]]),\"\",CONCATENATE(Risque[[#This Row],[Catégorie de risque]],3))","v":""},null,null,null,{"$f":"IF(ISBLANK(Risque[[#This Row],[Catégorie de risque]]),\"\",CONCATENATE(Risque[[#This Row],[Catégorie de risque]],4))","v":""},null,null,null,null,null,{"$f":"IF(Risque[[#This Row],[Date d''inscription du risque]]<>\"\",YEAR(Risque[[#This Row],[Date d''inscription du risque]]),\"\")","v":""}]
[null,null,{"$f":"IF(ISBLANK(Risque[[#This Row],[Catégorie de risque]]),\"\",CONCATENATE(Risque[[#This Row],[Catégorie de risque]],1))","v":""},null,null,null,null,null,{"$f":"IF(ISBLANK(Risque[[#This Row],[Catégorie de risque]]),\"\",IF(OR(ISNUMBER(SEARCH(\"RZ\",Risque[[#This Row],[Source de danger]]))=TRUE,ISNUMBER(SEARCH(\"RP\",Risque[[#This Row],[Source de danger]]))=TRUE,ISNUMBER(SEARCH(\"RZ\",Risque[[#This Row],[Risques associés]]))=TRUE,ISNUMBER(SEARCH(\"RP\",Risque[[#This Row],[Risques associés]]))=TRUE,ISNUMBER(SEARCH(\"RZ\",Risque[[#This Row],[Précision du risque\n(si liste déroulante présente)]]))=TRUE,ISNUMBER(SEARCH(\"RP\",Risque[[#This Row],[Précision du risque\n(si liste déroulante présente)]]))=TRUE),\"Oui --> Priorité d'action\",\"Non\"))","v":""},null,null,null,null,{"$f":"IF(ISBLANK(Risque[[#This Row],[Catégorie de risque]]),\"\",CONCATENATE(Risque[[#This Row],[Catégorie de risque]],2))","v":""},null,{"$f":"IF(ISBLANK(Risque[[#This Row],[Moyens de prévention]]),\"\",CONCATENATE(Risque[[#This Row],[Moyens de prévention]],1))","v":""},null,null,null,null,null,{"$f":"IF(ISBLANK(Risque[[#This Row],[Catégorie de risque]]),\"\",CONCATENATE(Risque[[#This Row],[Catégorie de risque]],3))","v":""},null,null,null,{"$f":"IF(ISBLANK(Risque[[#This Row],[Catégorie de risque]]),\"\",CONCATENATE(Risque[[#This Row],[Catégorie de risque]],4))","v":""},null,null,null,null,null,{"$f":"IF(Risque[[#This Row],[Date d''inscription du risque]]<>\"\",YEAR(Risque[[#This Row],[Date d''inscription du risque]]),\"\")","v":""}]
[null,null,{"$f":"IF(ISBLANK(Risque[[#This Row],[Catégorie de risque]]),\"\",CONCATENATE(Risque[[#This Row],[Catégorie de risque]],1))","v":""},null,null,null,null,null,{"$f":"IF(ISBLANK(Risque[[#This Row],[Catégorie de risque]]),\"\",IF(OR(ISNUMBER(SEARCH(\"RZ\",Risque[[#This Row],[Source de danger]]))=TRUE,ISNUMBER(SEARCH(\"RP\",Risque[[#This Row],[Source de danger]]))=TRUE,ISNUMBER(SEARCH(\"RZ\",Risque[[#This Row],[Risques associés]]))=TRUE,ISNUMBER(SEARCH(\"RP\",Risque[[#This Row],[Risques associés]]))=TRUE,ISNUMBER(SEARCH(\"RZ\",Risque[[#This Row],[Précision du risque\n(si liste déroulante présente)]]))=TRUE,ISNUMBER(SEARCH(\"RP\",Risque[[#This Row],[Précision du risque\n(si liste déroulante présente)]]))=TRUE),\"Oui --> Priorité d'action\",\"Non\"))","v":""},null,null,null,null,{"$f":"IF(ISBLANK(Risque[[#This Row],[Catégorie de risque]]),\"\",CONCATENATE(Risque[[#This Row],[Catégorie de risque]],2))","v":""},null,{"$f":"IF(ISBLANK(Risque[[#This Row],[Moyens de prévention]]),\"\",CONCATENATE(Risque[[#This Row],[Moyens de prévention]],1))","v":""},null,null,null,null,null,{"$f":"IF(ISBLANK(Risque[[#This Row],[Catégorie de risque]]),\"\",CONCATENATE(Risque[[#This Row],[Catégorie de risque]],3))","v":""},null,null,null,{"$f":"IF(ISBLANK(Risque[[#This Row],[Catégorie de risque]]),\"\",CONCATENATE(Risque[[#This Row],[Catégorie de risque]],4))","v":""},null,null,null,null,null,{"$f":"IF(Risque[[#This Row],[Date d''inscription du risque]]<>\"\",YEAR(Risque[[#This Row],[Date d''inscription du risque]]),\"\")","v":""}]
[null,null,{"$f":"IF(ISBLANK(Risque[[#This Row],[Catégorie de risque]]),\"\",CONCATENATE(Risque[[#This Row],[Catégorie de risque]],1))","v":""},null,null,null,null,null,{"$f":"IF(ISBLANK(Risque[[#This Row],[Catégorie de risque]]),\"\",IF(OR(ISNUMBER(SEARCH(\"RZ\",Risque[[#This Row],[Source de danger]]))=TRUE,ISNUMBER(SEARCH(\"RP\",Risque[[#This Row],[Source de danger]]))=TRUE,ISNUMBER(SEARCH(\"RZ\",Risque[[#This Row],[Risques associés]]))=TRUE,ISNUMBER(SEARCH(\"RP\",Risque[[#This Row],[Risques associés]]))=TRUE,ISNUMBER(SEARCH(\"RZ\",Risque[[#This Row],[Précision du risque\n(si liste déroulante présente)]]))=TRUE,ISNUMBER(SEARCH(\"RP\",Risque[[#This Row],[Précision du risque\n(si liste déroulante présente)]]))=TRUE),\"Oui --> Priorité d'action\",\"Non\"))","v":""},null,null,null,null,{"$f":"IF(ISBLANK(Risque[[#This Row],[Catégorie de risque]]),\"\",CONCATENATE(Risque[[#This Row],[Catégorie de risque]],2))","v":""},null,{"$f":"IF(ISBLANK(Risque[[#This Row],[Moyens de prévention]]),\"\",CONCATENATE(Risque[[#This Row],[Moyens de prévention]],1))","v":""},null,null,null,null,null,{"$f":"IF(ISBLANK(Risque[[#This Row],[Catégorie de risque]]),\"\",CONCATENATE(Risque[[#This Row],[Catégorie de risque]],3))","v":""},null,null,null,{"$f":"IF(ISBLANK(Risque[[#This Row],[Catégorie de risque]]),\"\",CONCATENATE(Risque[[#This Row],[Catégorie de risque]],4))","v":""},null,null,null,null,null,{"$f":"IF(Risque[[#This Row],[Date d''inscription du risque]]<>\"\",YEAR(Risque[[#This Row],[Date d''inscription du risque]]),\"\")","v":""}]
[null,null,{"$f":"IF(ISBLANK(Risque[[#This Row],[Catégorie de risque]]),\"\",CONCATENATE(Risque[[#This Row],[Catégorie de risque]],1))","v":""},null,null,null,null,null,{"$f":"IF(ISBLANK(Risque[[#This Row],[Catégorie de risque]]),\"\",IF(OR(ISNUMBER(SEARCH(\"RZ\",Risque[[#This Row],[Source de danger]]))=TRUE,ISNUMBER(SEARCH(\"RP\",Risque[[#This Row],[Source de danger]]))=TRUE,ISNUMBER(SEARCH(\"RZ\",Risque[[#This Row],[Risques associés]]))=TRUE,ISNUMBER(SEARCH(\"RP\",Risque[[#This Row],[Risques associés]]))=TRUE,ISNUMBER(SEARCH(\"RZ\",Risque[[#This Row],[Précision du risque\n(si liste déroulante présente)]]))=TRUE,ISNUMBER(SEARCH(\"RP\",Risque[[#This Row],[Précision du risque\n(si liste déroulante présente)]]))=TRUE),\"Oui --> Priorité d'action\",\"Non\"))","v":""},null,null,null,null,{"$f":"IF(ISBLANK(Risque[[#This Row],[Catégorie de risque]]),\"\",CONCATENATE(Risque[[#This Row],[Catégorie de risque]],2))","v":""},null,{"$f":"IF(ISBLANK(Risque[[#This Row],[Moyens de prévention]]),\"\",CONCATENATE(Risque[[#This Row],[Moyens de prévention]],1))","v":""},null,null,null,null,null,{"$f":"IF(ISBLANK(Risque[[#This Row],[Catégorie de risque]]),\"\",CONCATENATE(Risque[[#This Row],[Catégorie de risque]],3))","v":""},null,null,null,{"$f":"IF(ISBLANK(Risque[[#This Row],[Catégorie de risque]]),\"\",CONCATENATE(Risque[[#This Row],[Catégorie de risque]],4))","v":""},null,null,null,null,null,{"$f":"IF(Risque[[#This Row],[Date d''inscription du risque]]<>\"\",YEAR(Risque[[#This Row],[Date d''inscription du risque]]),\"\")","v":""}]
[null,null,{"$f":"IF(ISBLANK(Risque[[#This Row],[Catégorie de risque]]),\"\",CONCATENATE(Risque[[#This Row],[Catégorie de risque]],1))","v":""},null,null,null,null,null,{"$f":"IF(ISBLANK(Risque[[#This Row],[Catégorie de risque]]),\"\",IF(OR(ISNUMBER(SEARCH(\"RZ\",Risque[[#This Row],[Source de danger]]))=TRUE,ISNUMBER(SEARCH(\"RP\",Risque[[#This Row],[Source de danger]]))=TRUE,ISNUMBER(SEARCH(\"RZ\",Risque[[#This Row],[Risques associés]]))=TRUE,ISNUMBER(SEARCH(\"RP\",Risque[[#This Row],[Risques associés]]))=TRUE,ISNUMBER(SEARCH(\"RZ\",Risque[[#This Row],[Précision du risque\n(si liste déroulante présente)]]))=TRUE,ISNUMBER(SEARCH(\"RP\",Risque[[#This Row],[Précision du risque\n(si liste déroulante présente)]]))=TRUE),\"Oui --> Priorité d'action\",\"Non\"))","v":""},null,null,null,null,{"$f":"IF(ISBLANK(Risque[[#This Row],[Catégorie de risque]]),\"\",CONCATENATE(Risque[[#This Row],[Catégorie de risque]],2))","v":""},null,{"$f":"IF(ISBLANK(Risque[[#This Row],[Moyens de prévention]]),\"\",CONCATENATE(Risque[[#This Row],[Moyens de prévention]],1))","v":""},null,null,null,null,null,{"$f":"IF(ISBLANK(Risque[[#This Row],[Catégorie de risque]]),\"\",CONCATENATE(Risque[[#This Row],[Catégorie de risque]],3))","v":""},null,null,null,{"$f":"IF(ISBLANK(Risque[[#This Row],[Catégorie de risque]]),\"\",CONCATENATE(Risque[[#This Row],[Catégorie de risque]],4))","v":""},null,null,null,null,null,{"$f":"IF(Risque[[#This Row],[Date d''inscription du risque]]<>\"\",YEAR(Risque[[#This Row],[Date d''inscription du risque]]),\"\")","v":""}]
[null,null,{"$f":"IF(ISBLANK(Risque[[#This Row],[Catégorie de risque]]),\"\",CONCATENATE(Risque[[#This Row],[Catégorie de risque]],1))","v":""},null,null,null,null,null,{"$f":"IF(ISBLANK(Risque[[#This Row],[Catégorie de risque]]),\"\",IF(OR(ISNUMBER(SEARCH(\"RZ\",Risque[[#This Row],[Source de danger]]))=TRUE,ISNUMBER(SEARCH(\"RP\",Risque[[#This Row],[Source de danger]]))=TRUE,ISNUMBER(SEARCH(\"RZ\",Risque[[#This Row],[Risques associés]]))=TRUE,ISNUMBER(SEARCH(\"RP\",Risque[[#This Row],[Risques associés]]))=TRUE,ISNUMBER(SEARCH(\"RZ\",Risque[[#This Row],[Précision du risque\n(si liste déroulante présente)]]))=TRUE,ISNUMBER(SEARCH(\"RP\",Risque[[#This Row],[Précision du risque\n(si liste déroulante présente)]]))=TRUE),\"Oui --> Priorité d'action\",\"Non\"))","v":""},null,null,null,null,{"$f":"IF(ISBLANK(Risque[[#This Row],[Catégorie de risque]]),\"\",CONCATENATE(Risque[[#This Row],[Catégorie de risque]],2))","v":""},null,{"$f":"IF(ISBLANK(Risque[[#This Row],[Moyens de prévention]]),\"\",CONCATENATE(Risque[[#This Row],[Moyens de prévention]],1))","v":""},null,null,null,null,null,{"$f":"IF(ISBLANK(Risque[[#This Row],[Catégorie de risque]]),\"\",CONCATENATE(Risque[[#This Row],[Catégorie de risque]],3))","v":""},null,null,null,{"$f":"IF(ISBLANK(Risque[[#This Row],[Catégorie de risque]]),\"\",CONCATENATE(Risque[[#This Row],[Catégorie de risque]],4))","v":""},null,null,null,null,null,{"$f":"IF(Risque[[#This Row],[Date d''inscription du risque]]<>\"\",YEAR(Risque[[#This Row],[Date d''inscription du risque]]),\"\")","v":""}]
[null,null,{"$f":"IF(ISBLANK(Risque[[#This Row],[Catégorie de risque]]),\"\",CONCATENATE(Risque[[#This Row],[Catégorie de risque]],1))","v":""},null,null,null,null,null,{"$f":"IF(ISBLANK(Risque[[#This Row],[Catégorie de risque]]),\"\",IF(OR(ISNUMBER(SEARCH(\"RZ\",Risque[[#This Row],[Source de danger]]))=TRUE,ISNUMBER(SEARCH(\"RP\",Risque[[#This Row],[Source de danger]]))=TRUE,ISNUMBER(SEARCH(\"RZ\",Risque[[#This Row],[Risques associés]]))=TRUE,ISNUMBER(SEARCH(\"RP\",Risque[[#This Row],[Risques associés]]))=TRUE,ISNUMBER(SEARCH(\"RZ\",Risque[[#This Row],[Précision du risque\n(si liste déroulante présente)]]))=TRUE,ISNUMBER(SEARCH(\"RP\",Risque[[#This Row],[Précision du risque\n(si liste déroulante présente)]]))=TRUE),\"Oui --> Priorité d'action\",\"Non\"))","v":""},null,null,null,null,{"$f":"IF(ISBLANK(Risque[[#This Row],[Catégorie de risque]]),\"\",CONCATENATE(Risque[[#This Row],[Catégorie de risque]],2))","v":""},null,{"$f":"IF(ISBLANK(Risque[[#This Row],[Moyens de prévention]]),\"\",CONCATENATE(Risque[[#This Row],[Moyens de prévention]],1))","v":""},null,null,null,null,null,{"$f":"IF(ISBLANK(Risque[[#This Row],[Catégorie de risque]]),\"\",CONCATENATE(Risque[[#This Row],[Catégorie de risque]],3))","v":""},null,null,null,{"$f":"IF(ISBLANK(Risque[[#This Row],[Catégorie de risque]]),\"\",CONCATENATE(Risque[[#This Row],[Catégorie de risque]],4))","v":""},null,null,null,null,null,{"$f":"IF(Risque[[#This Row],[Date d''inscription du risque]]<>\"\",YEAR(Risque[[#This Row],[Date d''inscription du risque]]),\"\")","v":""}]
[null,null,{"$f":"IF(ISBLANK(Risque[[#This Row],[Catégorie de risque]]),\"\",CONCATENATE(Risque[[#This Row],[Catégorie de risque]],1))","v":""},null,null,null,null,null,{"$f":"IF(ISBLANK(Risque[[#This Row],[Catégorie de risque]]),\"\",IF(OR(ISNUMBER(SEARCH(\"RZ\",Risque[[#This Row],[Source de danger]]))=TRUE,ISNUMBER(SEARCH(\"RP\",Risque[[#This Row],[Source de danger]]))=TRUE,ISNUMBER(SEARCH(\"RZ\",Risque[[#This Row],[Risques associés]]))=TRUE,ISNUMBER(SEARCH(\"RP\",Risque[[#This Row],[Risques associés]]))=TRUE,ISNUMBER(SEARCH(\"RZ\",Risque[[#This Row],[Précision du risque\n(si liste déroulante présente)]]))=TRUE,ISNUMBER(SEARCH(\"RP\",Risque[[#This Row],[Précision du risque\n(si liste déroulante présente)]]))=TRUE),\"Oui --> Priorité d'action\",\"Non\"))","v":""},null,null,null,null,{"$f":"IF(ISBLANK(Risque[[#This Row],[Catégorie de risque]]),\"\",CONCATENATE(Risque[[#This Row],[Catégorie de risque]],2))","v":""},null,{"$f":"IF(ISBLANK(Risque[[#This Row],[Moyens de prévention]]),\"\",CONCATENATE(Risque[[#This Row],[Moyens de prévention]],1))","v":""},null,null,null,null,null,{"$f":"IF(ISBLANK(Risque[[#This Row],[Catégorie de risque]]),\"\",CONCATENATE(Risque[[#This Row],[Catégorie de risque]],3))","v":""},null,null,null,{"$f":"IF(ISBLANK(Risque[[#This Row],[Catégorie de risque]]),\"\",CONCATENATE(Risque[[#This Row],[Catégorie de risque]],4))","v":""},null,null,null,null,null,{"$f":"IF(Risque[[#This Row],[Date d''inscription du risque]]<>\"\",YEAR(Risque[[#This Row],[Date d''inscription du risque]]),\"\")","v":""}]
[null,null,{"$f":"IF(ISBLANK(Risque[[#This Row],[Catégorie de risque]]),\"\",CONCATENATE(Risque[[#This Row],[Catégorie de risque]],1))","v":""},null,null,null,null,null,{"$f":"IF(ISBLANK(Risque[[#This Row],[Catégorie de risque]]),\"\",IF(OR(ISNUMBER(SEARCH(\"RZ\",Risque[[#This Row],[Source de danger]]))=TRUE,ISNUMBER(SEARCH(\"RP\",Risque[[#This Row],[Source de danger]]))=TRUE,ISNUMBER(SEARCH(\"RZ\",Risque[[#This Row],[Risques associés]]))=TRUE,ISNUMBER(SEARCH(\"RP\",Risque[[#This Row],[Risques associés]]))=TRUE,ISNUMBER(SEARCH(\"RZ\",Risque[[#This Row],[Précision du risque\n(si liste déroulante présente)]]))=TRUE,ISNUMBER(SEARCH(\"RP\",Risque[[#This Row],[Précision du risque\n(si liste déroulante présente)]]))=TRUE),\"Oui --> Priorité d'action\",\"Non\"))","v":""},null,null,null,null,{"$f":"IF(ISBLANK(Risque[[#This Row],[Catégorie de risque]]),\"\",CONCATENATE(Risque[[#This Row],[Catégorie de risque]],2))","v":""},null,{"$f":"IF(ISBLANK(Risque[[#This Row],[Moyens de prévention]]),\"\",CONCATENATE(Risque[[#This Row],[Moyens de prévention]],1))","v":""},null,null,null,null,null,{"$f":"IF(ISBLANK(Risque[[#This Row],[Catégorie de risque]]),\"\",CONCATENATE(Risque[[#This Row],[Catégorie de risque]],3))","v":""},null,null,null,{"$f":"IF(ISBLANK(Risque[[#This Row],[Catégorie de risque]]),\"\",CONCATENATE(Risque[[#This Row],[Catégorie de risque]],4))","v":""},null,null,null,null,null,{"$f":"IF(Risque[[#This Row],[Date d''inscription du risque]]<>\"\",YEAR(Risque[[#This Row],[Date d''inscription du risque]]),\"\")","v":""}]
[null,null,{"$f":"IF(ISBLANK(Risque[[#This Row],[Catégorie de risque]]),\"\",CONCATENATE(Risque[[#This Row],[Catégorie de risque]],1))","v":""},null,null,null,null,null,{"$f":"IF(ISBLANK(Risque[[#This Row],[Catégorie de risque]]),\"\",IF(OR(ISNUMBER(SEARCH(\"RZ\",Risque[[#This Row],[Source de danger]]))=TRUE,ISNUMBER(SEARCH(\"RP\",Risque[[#This Row],[Source de danger]]))=TRUE,ISNUMBER(SEARCH(\"RZ\",Risque[[#This Row],[Risques associés]]))=TRUE,ISNUMBER(SEARCH(\"RP\",Risque[[#This Row],[Risques associés]]))=TRUE,ISNUMBER(SEARCH(\"RZ\",Risque[[#This Row],[Précision du risque\n(si liste déroulante présente)]]))=TRUE,ISNUMBER(SEARCH(\"RP\",Risque[[#This Row],[Précision du risque\n(si liste déroulante présente)]]))=TRUE),\"Oui --> Priorité d'action\",\"Non\"))","v":""},null,null,null,null,{"$f":"IF(ISBLANK(Risque[[#This Row],[Catégorie de risque]]),\"\",CONCATENATE(Risque[[#This Row],[Catégorie de risque]],2))","v":""},null,{"$f":"IF(ISBLANK(Risque[[#This Row],[Moyens de prévention]]),\"\",CONCATENATE(Risque[[#This Row],[Moyens de prévention]],1))","v":""},null,null,null,null,null,{"$f":"IF(ISBLANK(Risque[[#This Row],[Catégorie de risque]]),\"\",CONCATENATE(Risque[[#This Row],[Catégorie de risque]],3))","v":""},null,null,null,{"$f":"IF(ISBLANK(Risque[[#This Row],[Catégorie de risque]]),\"\",CONCATENATE(Risque[[#This Row],[Catégorie de risque]],4))","v":""},null,null,null,null,null,{"$f":"IF(Risque[[#This Row],[Date d''inscription du risque]]<>\"\",YEAR(Risque[[#This Row],[Date d''inscription du risque]]),\"\")","v":""}]
[null,null,{"$f":"IF(ISBLANK(Risque[[#This Row],[Catégorie de risque]]),\"\",CONCATENATE(Risque[[#This Row],[Catégorie de risque]],1))","v":""},null,null,null,null,null,{"$f":"IF(ISBLANK(Risque[[#This Row],[Catégorie de risque]]),\"\",IF(OR(ISNUMBER(SEARCH(\"RZ\",Risque[[#This Row],[Source de danger]]))=TRUE,ISNUMBER(SEARCH(\"RP\",Risque[[#This Row],[Source de danger]]))=TRUE,ISNUMBER(SEARCH(\"RZ\",Risque[[#This Row],[Risques associés]]))=TRUE,ISNUMBER(SEARCH(\"RP\",Risque[[#This Row],[Risques associés]]))=TRUE,ISNUMBER(SEARCH(\"RZ\",Risque[[#This Row],[Précision du risque\n(si liste déroulante présente)]]))=TRUE,ISNUMBER(SEARCH(\"RP\",Risque[[#This Row],[Précision du risque\n(si liste déroulante présente)]]))=TRUE),\"Oui --> Priorité d'action\",\"Non\"))","v":""},null,null,null,null,{"$f":"IF(ISBLANK(Risque[[#This Row],[Catégorie de risque]]),\"\",CONCATENATE(Risque[[#This Row],[Catégorie de risque]],2))","v":""},null,{"$f":"IF(ISBLANK(Risque[[#This Row],[Moyens de prévention]]),\"\",CONCATENATE(Risque[[#This Row],[Moyens de prévention]],1))","v":""},null,null,null,null,null,{"$f":"IF(ISBLANK(Risque[[#This Row],[Catégorie de risque]]),\"\",CONCATENATE(Risque[[#This Row],[Catégorie de risque]],3))","v":""},null,null,null,{"$f":"IF(ISBLANK(Risque[[#This Row],[Catégorie de risque]]),\"\",CONCATENATE(Risque[[#This Row],[Catégorie de risque]],4))","v":""},null,null,null,null,null,{"$f":"IF(Risque[[#This Row],[Date d''inscription du risque]]<>\"\",YEAR(Risque[[#This Row],[Date d''inscription du risque]]),\"\")","v":""}]
[null,null,{"$f":"IF(ISBLANK(Risque[[#This Row],[Catégorie de risque]]),\"\",CONCATENATE(Risque[[#This Row],[Catégorie de risque]],1))","v":""},null,null,null,null,null,{"$f":"IF(ISBLANK(Risque[[#This Row],[Catégorie de risque]]),\"\",IF(OR(ISNUMBER(SEARCH(\"RZ\",Risque[[#This Row],[Source de danger]]))=TRUE,ISNUMBER(SEARCH(\"RP\",Risque[[#This Row],[Source de danger]]))=TRUE,ISNUMBER(SEARCH(\"RZ\",Risque[[#This Row],[Risques associés]]))=TRUE,ISNUMBER(SEARCH(\"RP\",Risque[[#This Row],[Risques associés]]))=TRUE,ISNUMBER(SEARCH(\"RZ\",Risque[[#This Row],[Précision du risque\n(si liste déroulante présente)]]))=TRUE,ISNUMBER(SEARCH(\"RP\",Risque[[#This Row],[Précision du risque\n(si liste déroulante présente)]]))=TRUE),\"Oui --> Priorité d'action\",\"Non\"))","v":""},null,null,null,null,{"$f":"IF(ISBLANK(Risque[[#This Row],[Catégorie de risque]]),\"\",CONCATENATE(Risque[[#This Row],[Catégorie de risque]],2))","v":""},null,{"$f":"IF(ISBLANK(Risque[[#This Row],[Moyens de prévention]]),\"\",CONCATENATE(Risque[[#This Row],[Moyens de prévention]],1))","v":""},null,null,null,null,null,{"$f":"IF(ISBLANK(Risque[[#This Row],[Catégorie de risque]]),\"\",CONCATENATE(Risque[[#This Row],[Catégorie de risque]],3))","v":""},null,null,null,{"$f":"IF(ISBLANK(Risque[[#This Row],[Catégorie de risque]]),\"\",CONCATENATE(Risque[[#This Row],[Catégorie de risque]],4))","v":""},null,null,null,null,null,{"$f":"IF(Risque[[#This Row],[Date d''inscription du risque]]<>\"\",YEAR(Risque[[#This Row],[Date d''inscription du risque]]),\"\")","v":""}]
[null,null,{"$f":"IF(ISBLANK(Risque[[#This Row],[Catégorie de risque]]),\"\",CONCATENATE(Risque[[#This Row],[Catégorie de risque]],1))","v":""},null,null,null,null,null,{"$f":"IF(ISBLANK(Risque[[#This Row],[Catégorie de risque]]),\"\",IF(OR(ISNUMBER(SEARCH(\"RZ\",Risque[[#This Row],[Source de danger]]))=TRUE,ISNUMBER(SEARCH(\"RP\",Risque[[#This Row],[Source de danger]]))=TRUE,ISNUMBER(SEARCH(\"RZ\",Risque[[#This Row],[Risques associés]]))=TRUE,ISNUMBER(SEARCH(\"RP\",Risque[[#This Row],[Risques associés]]))=TRUE,ISNUMBER(SEARCH(\"RZ\",Risque[[#This Row],[Précision du risque\n(si liste déroulante présente)]]))=TRUE,ISNUMBER(SEARCH(\"RP\",Risque[[#This Row],[Précision du risque\n(si liste déroulante présente)]]))=TRUE),\"Oui --> Priorité d'action\",\"Non\"))","v":""},null,null,null,null,{"$f":"IF(ISBLANK(Risque[[#This Row],[Catégorie de risque]]),\"\",CONCATENATE(Risque[[#This Row],[Catégorie de risque]],2))","v":""},null,{"$f":"IF(ISBLANK(Risque[[#This Row],[Moyens de prévention]]),\"\",CONCATENATE(Risque[[#This Row],[Moyens de prévention]],1))","v":""},null,null,null,null,null,{"$f":"IF(ISBLANK(Risque[[#This Row],[Catégorie de risque]]),\"\",CONCATENATE(Risque[[#This Row],[Catégorie de risque]],3))","v":""},null,null,null,{"$f":"IF(ISBLANK(Risque[[#This Row],[Catégorie de risque]]),\"\",CONCATENATE(Risque[[#This Row],[Catégorie de risque]],4))","v":""},null,null,null,null,null,{"$f":"IF(Risque[[#This Row],[Date d''inscription du risque]]<>\"\",YEAR(Risque[[#This Row],[Date d''inscription du risque]]),\"\")","v":""}]
[null,null,{"$f":"IF(ISBLANK(Risque[[#This Row],[Catégorie de risque]]),\"\",CONCATENATE(Risque[[#This Row],[Catégorie de risque]],1))","v":""},null,null,null,null,null,{"$f":"IF(ISBLANK(Risque[[#This Row],[Catégorie de risque]]),\"\",IF(OR(ISNUMBER(SEARCH(\"RZ\",Risque[[#This Row],[Source de danger]]))=TRUE,ISNUMBER(SEARCH(\"RP\",Risque[[#This Row],[Source de danger]]))=TRUE,ISNUMBER(SEARCH(\"RZ\",Risque[[#This Row],[Risques associés]]))=TRUE,ISNUMBER(SEARCH(\"RP\",Risque[[#This Row],[Risques associés]]))=TRUE,ISNUMBER(SEARCH(\"RZ\",Risque[[#This Row],[Précision du risque\n(si liste déroulante présente)]]))=TRUE,ISNUMBER(SEARCH(\"RP\",Risque[[#This Row],[Précision du risque\n(si liste déroulante présente)]]))=TRUE),\"Oui --> Priorité d'action\",\"Non\"))","v":""},null,null,null,null,{"$f":"IF(ISBLANK(Risque[[#This Row],[Catégorie de risque]]),\"\",CONCATENATE(Risque[[#This Row],[Catégorie de risque]],2))","v":""},null,{"$f":"IF(ISBLANK(Risque[[#This Row],[Moyens de prévention]]),\"\",CONCATENATE(Risque[[#This Row],[Moyens de prévention]],1))","v":""},null,null,null,null,null,{"$f":"IF(ISBLANK(Risque[[#This Row],[Catégorie de risque]]),\"\",CONCATENATE(Risque[[#This Row],[Catégorie de risque]],3))","v":""},null,null,null,{"$f":"IF(ISBLANK(Risque[[#This Row],[Catégorie de risque]]),\"\",CONCATENATE(Risque[[#This Row],[Catégorie de risque]],4))","v":""},null,null,null,null,null,{"$f":"IF(Risque[[#This Row],[Date d''inscription du risque]]<>\"\",YEAR(Risque[[#This Row],[Date d''inscription du risque]]),\"\")","v":""}]
[null,null,{"$f":"IF(ISBLANK(Risque[[#This Row],[Catégorie de risque]]),\"\",CONCATENATE(Risque[[#This Row],[Catégorie de risque]],1))","v":""},null,null,null,null,null,{"$f":"IF(ISBLANK(Risque[[#This Row],[Catégorie de risque]]),\"\",IF(OR(ISNUMBER(SEARCH(\"RZ\",Risque[[#This Row],[Source de danger]]))=TRUE,ISNUMBER(SEARCH(\"RP\",Risque[[#This Row],[Source de danger]]))=TRUE,ISNUMBER(SEARCH(\"RZ\",Risque[[#This Row],[Risques associés]]))=TRUE,ISNUMBER(SEARCH(\"RP\",Risque[[#This Row],[Risques associés]]))=TRUE,ISNUMBER(SEARCH(\"RZ\",Risque[[#This Row],[Précision du risque\n(si liste déroulante présente)]]))=TRUE,ISNUMBER(SEARCH(\"RP\",Risque[[#This Row],[Précision du risque\n(si liste déroulante présente)]]))=TRUE),\"Oui --> Priorité d'action\",\"Non\"))","v":""},null,null,null,null,{"$f":"IF(ISBLANK(Risque[[#This Row],[Catégorie de risque]]),\"\",CONCATENATE(Risque[[#This Row],[Catégorie de risque]],2))","v":""},null,{"$f":"IF(ISBLANK(Risque[[#This Row],[Moyens de prévention]]),\"\",CONCATENATE(Risque[[#This Row],[Moyens de prévention]],1))","v":""},null,null,null,null,null,{"$f":"IF(ISBLANK(Risque[[#This Row],[Catégorie de risque]]),\"\",CONCATENATE(Risque[[#This Row],[Catégorie de risque]],3))","v":""},null,null,null,{"$f":"IF(ISBLANK(Risque[[#This Row],[Catégorie de risque]]),\"\",CONCATENATE(Risque[[#This Row],[Catégorie de risque]],4))","v":""},null,null,null,null,null,{"$f":"IF(Risque[[#This Row],[Date d''inscription du risque]]<>\"\",YEAR(Risque[[#This Row],[Date d''inscription du risque]]),\"\")","v":""}]
[null,null,{"$f":"IF(ISBLANK(Risque[[#This Row],[Catégorie de risque]]),\"\",CONCATENATE(Risque[[#This Row],[Catégorie de risque]],1))","v":""},null,null,null,null,null,{"$f":"IF(ISBLANK(Risque[[#This Row],[Catégorie de risque]]),\"\",IF(OR(ISNUMBER(SEARCH(\"RZ\",Risque[[#This Row],[Source de danger]]))=TRUE,ISNUMBER(SEARCH(\"RP\",Risque[[#This Row],[Source de danger]]))=TRUE,ISNUMBER(SEARCH(\"RZ\",Risque[[#This Row],[Risques associés]]))=TRUE,ISNUMBER(SEARCH(\"RP\",Risque[[#This Row],[Risques associés]]))=TRUE,ISNUMBER(SEARCH(\"RZ\",Risque[[#This Row],[Précision du risque\n(si liste déroulante présente)]]))=TRUE,ISNUMBER(SEARCH(\"RP\",Risque[[#This Row],[Précision du risque\n(si liste déroulante présente)]]))=TRUE),\"Oui --> Priorité d'action\",\"Non\"))","v":""},null,null,null,null,{"$f":"IF(ISBLANK(Risque[[#This Row],[Catégorie de risque]]),\"\",CONCATENATE(Risque[[#This Row],[Catégorie de risque]],2))","v":""},null,{"$f":"IF(ISBLANK(Risque[[#This Row],[Moyens de prévention]]),\"\",CONCATENATE(Risque[[#This Row],[Moyens de prévention]],1))","v":""},null,null,null,null,null,{"$f":"IF(ISBLANK(Risque[[#This Row],[Catégorie de risque]]),\"\",CONCATENATE(Risque[[#This Row],[Catégorie de risque]],3))","v":""},null,null,null,{"$f":"IF(ISBLANK(Risque[[#This Row],[Catégorie de risque]]),\"\",CONCATENATE(Risque[[#This Row],[Catégorie de risque]],4))","v":""},null,null,null,null,null,{"$f":"IF(Risque[[#This Row],[Date d''inscription du risque]]<>\"\",YEAR(Risque[[#This Row],[Date d''inscription du risque]]),\"\")","v":""}]
[null,null,{"$f":"IF(ISBLANK(Risque[[#This Row],[Catégorie de risque]]),\"\",CONCATENATE(Risque[[#This Row],[Catégorie de risque]],1))","v":""},null,null,null,null,null,{"$f":"IF(ISBLANK(Risque[[#This Row],[Catégorie de risque]]),\"\",IF(OR(ISNUMBER(SEARCH(\"RZ\",Risque[[#This Row],[Source de danger]]))=TRUE,ISNUMBER(SEARCH(\"RP\",Risque[[#This Row],[Source de danger]]))=TRUE,ISNUMBER(SEARCH(\"RZ\",Risque[[#This Row],[Risques associés]]))=TRUE,ISNUMBER(SEARCH(\"RP\",Risque[[#This Row],[Risques associés]]))=TRUE,ISNUMBER(SEARCH(\"RZ\",Risque[[#This Row],[Précision du risque\n(si liste déroulante présente)]]))=TRUE,ISNUMBER(SEARCH(\"RP\",Risque[[#This Row],[Précision du risque\n(si liste déroulante présente)]]))=TRUE),\"Oui --> Priorité d'action\",\"Non\"))","v":""},null,null,null,null,{"$f":"IF(ISBLANK(Risque[[#This Row],[Catégorie de risque]]),\"\",CONCATENATE(Risque[[#This Row],[Catégorie de risque]],2))","v":""},null,{"$f":"IF(ISBLANK(Risque[[#This Row],[Moyens de prévention]]),\"\",CONCATENATE(Risque[[#This Row],[Moyens de prévention]],1))","v":""},null,null,null,null,null,{"$f":"IF(ISBLANK(Risque[[#This Row],[Catégorie de risque]]),\"\",CONCATENATE(Risque[[#This Row],[Catégorie de risque]],3))","v":""},null,null,null,{"$f":"IF(ISBLANK(Risque[[#This Row],[Catégorie de risque]]),\"\",CONCATENATE(Risque[[#This Row],[Catégorie de risque]],4))","v":""},null,null,null,null,null,{"$f":"IF(Risque[[#This Row],[Date d''inscription du risque]]<>\"\",YEAR(Risque[[#This Row],[Date d''inscription du risque]]),\"\")","v":""}]
[null,null,{"$f":"IF(ISBLANK(Risque[[#This Row],[Catégorie de risque]]),\"\",CONCATENATE(Risque[[#This Row],[Catégorie de risque]],1))","v":""},null,null,null,null,null,{"$f":"IF(ISBLANK(Risque[[#This Row],[Catégorie de risque]]),\"\",IF(OR(ISNUMBER(SEARCH(\"RZ\",Risque[[#This Row],[Source de danger]]))=TRUE,ISNUMBER(SEARCH(\"RP\",Risque[[#This Row],[Source de danger]]))=TRUE,ISNUMBER(SEARCH(\"RZ\",Risque[[#This Row],[Risques associés]]))=TRUE,ISNUMBER(SEARCH(\"RP\",Risque[[#This Row],[Risques associés]]))=TRUE,ISNUMBER(SEARCH(\"RZ\",Risque[[#This Row],[Précision du risque\n(si liste déroulante présente)]]))=TRUE,ISNUMBER(SEARCH(\"RP\",Risque[[#This Row],[Précision du risque\n(si liste déroulante présente)]]))=TRUE),\"Oui --> Priorité d'action\",\"Non\"))","v":""},null,null,null,null,{"$f":"IF(ISBLANK(Risque[[#This Row],[Catégorie de risque]]),\"\",CONCATENATE(Risque[[#This Row],[Catégorie de risque]],2))","v":""},null,{"$f":"IF(ISBLANK(Risque[[#This Row],[Moyens de prévention]]),\"\",CONCATENATE(Risque[[#This Row],[Moyens de prévention]],1))","v":""},null,null,null,null,null,{"$f":"IF(ISBLANK(Risque[[#This Row],[Catégorie de risque]]),\"\",CONCATENATE(Risque[[#This Row],[Catégorie de risque]],3))","v":""},null,null,null,{"$f":"IF(ISBLANK(Risque[[#This Row],[Catégorie de risque]]),\"\",CONCATENATE(Risque[[#This Row],[Catégorie de risque]],4))","v":""},null,null,null,null,null,{"$f":"IF(Risque[[#This Row],[Date d''inscription du risque]]<>\"\",YEAR(Risque[[#This Row],[Date d''inscription du risque]]),\"\")","v":""}]
[null,null,{"$f":"IF(ISBLANK(Risque[[#This Row],[Catégorie de risque]]),\"\",CONCATENATE(Risque[[#This Row],[Catégorie de risque]],1))","v":""},null,null,null,null,null,{"$f":"IF(ISBLANK(Risque[[#This Row],[Catégorie de risque]]),\"\",IF(OR(ISNUMBER(SEARCH(\"RZ\",Risque[[#This Row],[Source de danger]]))=TRUE,ISNUMBER(SEARCH(\"RP\",Risque[[#This Row],[Source de danger]]))=TRUE,ISNUMBER(SEARCH(\"RZ\",Risque[[#This Row],[Risques associés]]))=TRUE,ISNUMBER(SEARCH(\"RP\",Risque[[#This Row],[Risques associés]]))=TRUE,ISNUMBER(SEARCH(\"RZ\",Risque[[#This Row],[Précision du risque\n(si liste déroulante présente)]]))=TRUE,ISNUMBER(SEARCH(\"RP\",Risque[[#This Row],[Précision du risque\n(si liste déroulante présente)]]))=TRUE),\"Oui --> Priorité d'action\",\"Non\"))","v":""},null,null,null,null,{"$f":"IF(ISBLANK(Risque[[#This Row],[Catégorie de risque]]),\"\",CONCATENATE(Risque[[#This Row],[Catégorie de risque]],2))","v":""},null,{"$f":"IF(ISBLANK(Risque[[#This Row],[Moyens de prévention]]),\"\",CONCATENATE(Risque[[#This Row],[Moyens de prévention]],1))","v":""},null,null,null,null,null,{"$f":"IF(ISBLANK(Risque[[#This Row],[Catégorie de risque]]),\"\",CONCATENATE(Risque[[#This Row],[Catégorie de risque]],3))","v":""},null,null,null,{"$f":"IF(ISBLANK(Risque[[#This Row],[Catégorie de risque]]),\"\",CONCATENATE(Risque[[#This Row],[Catégorie de risque]],4))","v":""},null,null,null,null,null,{"$f":"IF(Risque[[#This Row],[Date d''inscription du risque]]<>\"\",YEAR(Risque[[#This Row],[Date d''inscription du risque]]),\"\")","v":""}]
[null,null,{"$f":"IF(ISBLANK(Risque[[#This Row],[Catégorie de risque]]),\"\",CONCATENATE(Risque[[#This Row],[Catégorie de risque]],1))","v":""},null,null,null,null,null,{"$f":"IF(ISBLANK(Risque[[#This Row],[Catégorie de risque]]),\"\",IF(OR(ISNUMBER(SEARCH(\"RZ\",Risque[[#This Row],[Source de danger]]))=TRUE,ISNUMBER(SEARCH(\"RP\",Risque[[#This Row],[Source de danger]]))=TRUE,ISNUMBER(SEARCH(\"RZ\",Risque[[#This Row],[Risques associés]]))=TRUE,ISNUMBER(SEARCH(\"RP\",Risque[[#This Row],[Risques associés]]))=TRUE,ISNUMBER(SEARCH(\"RZ\",Risque[[#This Row],[Précision du risque\n(si liste déroulante présente)]]))=TRUE,ISNUMBER(SEARCH(\"RP\",Risque[[#This Row],[Précision du risque\n(si liste déroulante présente)]]))=TRUE),\"Oui --> Priorité d'action\",\"Non\"))","v":""},null,null,null,null,{"$f":"IF(ISBLANK(Risque[[#This Row],[Catégorie de risque]]),\"\",CONCATENATE(Risque[[#This Row],[Catégorie de risque]],2))","v":""},null,{"$f":"IF(ISBLANK(Risque[[#This Row],[Moyens de prévention]]),\"\",CONCATENATE(Risque[[#This Row],[Moyens de prévention]],1))","v":""},null,null,null,null,null,{"$f":"IF(ISBLANK(Risque[[#This Row],[Catégorie de risque]]),\"\",CONCATENATE(Risque[[#This Row],[Catégorie de risque]],3))","v":""},null,null,null,{"$f":"IF(ISBLANK(Risque[[#This Row],[Catégorie de risque]]),\"\",CONCATENATE(Risque[[#This Row],[Catégorie de risque]],4))","v":""},null,null,null,null,null,{"$f":"IF(Risque[[#This Row],[Date d''inscription du risque]]<>\"\",YEAR(Risque[[#This Row],[Date d''inscription du risque]]),\"\")","v":""}]
[null,null,{"$f":"IF(ISBLANK(Risque[[#This Row],[Catégorie de risque]]),\"\",CONCATENATE(Risque[[#This Row],[Catégorie de risque]],1))","v":""},null,null,null,null,null,{"$f":"IF(ISBLANK(Risque[[#This Row],[Catégorie de risque]]),\"\",IF(OR(ISNUMBER(SEARCH(\"RZ\",Risque[[#This Row],[Source de danger]]))=TRUE,ISNUMBER(SEARCH(\"RP\",Risque[[#This Row],[Source de danger]]))=TRUE,ISNUMBER(SEARCH(\"RZ\",Risque[[#This Row],[Risques associés]]))=TRUE,ISNUMBER(SEARCH(\"RP\",Risque[[#This Row],[Risques associés]]))=TRUE,ISNUMBER(SEARCH(\"RZ\",Risque[[#This Row],[Précision du risque\n(si liste déroulante présente)]]))=TRUE,ISNUMBER(SEARCH(\"RP\",Risque[[#This Row],[Précision du risque\n(si liste déroulante présente)]]))=TRUE),\"Oui --> Priorité d'action\",\"Non\"))","v":""},null,null,null,null,{"$f":"IF(ISBLANK(Risque[[#This Row],[Catégorie de risque]]),\"\",CONCATENATE(Risque[[#This Row],[Catégorie de risque]],2))","v":""},null,{"$f":"IF(ISBLANK(Risque[[#This Row],[Moyens de prévention]]),\"\",CONCATENATE(Risque[[#This Row],[Moyens de prévention]],1))","v":""},null,null,null,null,null,{"$f":"IF(ISBLANK(Risque[[#This Row],[Catégorie de risque]]),\"\",CONCATENATE(Risque[[#This Row],[Catégorie de risque]],3))","v":""},null,null,null,{"$f":"IF(ISBLANK(Risque[[#This Row],[Catégorie de risque]]),\"\",CONCATENATE(Risque[[#This Row],[Catégorie de risque]],4))","v":""},null,null,null,null,null,{"$f":"IF(Risque[[#This Row],[Date d''inscription du risque]]<>\"\",YEAR(Risque[[#This Row],[Date d''inscription du risque]]),\"\")","v":""}]
[null,null,{"$f":"IF(ISBLANK(Risque[[#This Row],[Catégorie de risque]]),\"\",CONCATENATE(Risque[[#This Row],[Catégorie de risque]],1))","v":""},null,null,null,null,null,{"$f":"IF(ISBLANK(Risque[[#This Row],[Catégorie de risque]]),\"\",IF(OR(ISNUMBER(SEARCH(\"RZ\",Risque[[#This Row],[Source de danger]]))=TRUE,ISNUMBER(SEARCH(\"RP\",Risque[[#This Row],[Source de danger]]))=TRUE,ISNUMBER(SEARCH(\"RZ\",Risque[[#This Row],[Risques associés]]))=TRUE,ISNUMBER(SEARCH(\"RP\",Risque[[#This Row],[Risques associés]]))=TRUE,ISNUMBER(SEARCH(\"RZ\",Risque[[#This Row],[Précision du risque\n(si liste déroulante présente)]]))=TRUE,ISNUMBER(SEARCH(\"RP\",Risque[[#This Row],[Précision du risque\n(si liste déroulante présente)]]))=TRUE),\"Oui --> Priorité d'action\",\"Non\"))","v":""},null,null,null,null,{"$f":"IF(ISBLANK(Risque[[#This Row],[Catégorie de risque]]),\"\",CONCATENATE(Risque[[#This Row],[Catégorie de risque]],2))","v":""},null,{"$f":"IF(ISBLANK(Risque[[#This Row],[Moyens de prévention]]),\"\",CONCATENATE(Risque[[#This Row],[Moyens de prévention]],1))","v":""},null,null,null,null,null,{"$f":"IF(ISBLANK(Risque[[#This Row],[Catégorie de risque]]),\"\",CONCATENATE(Risque[[#This Row],[Catégorie de risque]],3))","v":""},null,null,null,{"$f":"IF(ISBLANK(Risque[[#This Row],[Catégorie de risque]]),\"\",CONCATENATE(Risque[[#This Row],[Catégorie de risque]],4))","v":""},null,null,null,null,null,{"$f":"IF(Risque[[#This Row],[Date d''inscription du risque]]<>\"\",YEAR(Risque[[#This Row],[Date d''inscription du risque]]),\"\")","v":""}]
[null,null,{"$f":"IF(ISBLANK(Risque[[#This Row],[Catégorie de risque]]),\"\",CONCATENATE(Risque[[#This Row],[Catégorie de risque]],1))","v":""},null,null,null,null,null,{"$f":"IF(ISBLANK(Risque[[#This Row],[Catégorie de risque]]),\"\",IF(OR(ISNUMBER(SEARCH(\"RZ\",Risque[[#This Row],[Source de danger]]))=TRUE,ISNUMBER(SEARCH(\"RP\",Risque[[#This Row],[Source de danger]]))=TRUE,ISNUMBER(SEARCH(\"RZ\",Risque[[#This Row],[Risques associés]]))=TRUE,ISNUMBER(SEARCH(\"RP\",Risque[[#This Row],[Risques associés]]))=TRUE,ISNUMBER(SEARCH(\"RZ\",Risque[[#This Row],[Précision du risque\n(si liste déroulante présente)]]))=TRUE,ISNUMBER(SEARCH(\"RP\",Risque[[#This Row],[Précision du risque\n(si liste déroulante présente)]]))=TRUE),\"Oui --> Priorité d'action\",\"Non\"))","v":""},null,null,null,null,{"$f":"IF(ISBLANK(Risque[[#This Row],[Catégorie de risque]]),\"\",CONCATENATE(Risque[[#This Row],[Catégorie de risque]],2))","v":""},null,{"$f":"IF(ISBLANK(Risque[[#This Row],[Moyens de prévention]]),\"\",CONCATENATE(Risque[[#This Row],[Moyens de prévention]],1))","v":""},null,null,null,null,null,{"$f":"IF(ISBLANK(Risque[[#This Row],[Catégorie de risque]]),\"\",CONCATENATE(Risque[[#This Row],[Catégorie de risque]],3))","v":""},null,null,null,{"$f":"IF(ISBLANK(Risque[[#This Row],[Catégorie de risque]]),\"\",CONCATENATE(Risque[[#This Row],[Catégorie de risque]],4))","v":""},null,null,null,null,null,{"$f":"IF(Risque[[#This Row],[Date d''inscription du risque]]<>\"\",YEAR(Risque[[#This Row],[Date d''inscription du risque]]),\"\")","v":""}]
[null,null,{"$f":"IF(ISBLANK(Risque[[#This Row],[Catégorie de risque]]),\"\",CONCATENATE(Risque[[#This Row],[Catégorie de risque]],1))","v":""},null,null,null,null,null,{"$f":"IF(ISBLANK(Risque[[#This Row],[Catégorie de risque]]),\"\",IF(OR(ISNUMBER(SEARCH(\"RZ\",Risque[[#This Row],[Source de danger]]))=TRUE,ISNUMBER(SEARCH(\"RP\",Risque[[#This Row],[Source de danger]]))=TRUE,ISNUMBER(SEARCH(\"RZ\",Risque[[#This Row],[Risques associés]]))=TRUE,ISNUMBER(SEARCH(\"RP\",Risque[[#This Row],[Risques associés]]))=TRUE,ISNUMBER(SEARCH(\"RZ\",Risque[[#This Row],[Précision du risque\n(si liste déroulante présente)]]))=TRUE,ISNUMBER(SEARCH(\"RP\",Risque[[#This Row],[Précision du risque\n(si liste déroulante présente)]]))=TRUE),\"Oui --> Priorité d'action\",\"Non\"))","v":""},null,null,null,null,{"$f":"IF(ISBLANK(Risque[[#This Row],[Catégorie de risque]]),\"\",CONCATENATE(Risque[[#This Row],[Catégorie de risque]],2))","v":""},null,{"$f":"IF(ISBLANK(Risque[[#This Row],[Moyens de prévention]]),\"\",CONCATENATE(Risque[[#This Row],[Moyens de prévention]],1))","v":""},null,null,null,null,null,{"$f":"IF(ISBLANK(Risque[[#This Row],[Catégorie de risque]]),\"\",CONCATENATE(Risque[[#This Row],[Catégorie de risque]],3))","v":""},null,null,null,{"$f":"IF(ISBLANK(Risque[[#This Row],[Catégorie de risque]]),\"\",CONCATENATE(Risque[[#This Row],[Catégorie de risque]],4))","v":""},null,null,null,null,null,{"$f":"IF(Risque[[#This Row],[Date d''inscription du risque]]<>\"\",YEAR(Risque[[#This Row],[Date d''inscription du risque]]),\"\")","v":""}]
[null,null,{"$f":"IF(ISBLANK(Risque[[#This Row],[Catégorie de risque]]),\"\",CONCATENATE(Risque[[#This Row],[Catégorie de risque]],1))","v":""},null,null,null,null,null,{"$f":"IF(ISBLANK(Risque[[#This Row],[Catégorie de risque]]),\"\",IF(OR(ISNUMBER(SEARCH(\"RZ\",Risque[[#This Row],[Source de danger]]))=TRUE,ISNUMBER(SEARCH(\"RP\",Risque[[#This Row],[Source de danger]]))=TRUE,ISNUMBER(SEARCH(\"RZ\",Risque[[#This Row],[Risques associés]]))=TRUE,ISNUMBER(SEARCH(\"RP\",Risque[[#This Row],[Risques associés]]))=TRUE,ISNUMBER(SEARCH(\"RZ\",Risque[[#This Row],[Précision du risque\n(si liste déroulante présente)]]))=TRUE,ISNUMBER(SEARCH(\"RP\",Risque[[#This Row],[Précision du risque\n(si liste déroulante présente)]]))=TRUE),\"Oui --> Priorité d'action\",\"Non\"))","v":""},null,null,null,null,{"$f":"IF(ISBLANK(Risque[[#This Row],[Catégorie de risque]]),\"\",CONCATENATE(Risque[[#This Row],[Catégorie de risque]],2))","v":""},null,{"$f":"IF(ISBLANK(Risque[[#This Row],[Moyens de prévention]]),\"\",CONCATENATE(Risque[[#This Row],[Moyens de prévention]],1))","v":""},null,null,null,null,null,{"$f":"IF(ISBLANK(Risque[[#This Row],[Catégorie de risque]]),\"\",CONCATENATE(Risque[[#This Row],[Catégorie de risque]],3))","v":""},null,null,null,{"$f":"IF(ISBLANK(Risque[[#This Row],[Catégorie de risque]]),\"\",CONCATENATE(Risque[[#This Row],[Catégorie de risque]],4))","v":""},null,null,null,null,null,{"$f":"IF(Risque[[#This Row],[Date d''inscription du risque]]<>\"\",YEAR(Risque[[#This Row],[Date d''inscription du risque]]),\"\")","v":""}]
[null,null,{"$f":"IF(ISBLANK(Risque[[#This Row],[Catégorie de risque]]),\"\",CONCATENATE(Risque[[#This Row],[Catégorie de risque]],1))","v":""},null,null,null,null,null,{"$f":"IF(ISBLANK(Risque[[#This Row],[Catégorie de risque]]),\"\",IF(OR(ISNUMBER(SEARCH(\"RZ\",Risque[[#This Row],[Source de danger]]))=TRUE,ISNUMBER(SEARCH(\"RP\",Risque[[#This Row],[Source de danger]]))=TRUE,ISNUMBER(SEARCH(\"RZ\",Risque[[#This Row],[Risques associés]]))=TRUE,ISNUMBER(SEARCH(\"RP\",Risque[[#This Row],[Risques associés]]))=TRUE,ISNUMBER(SEARCH(\"RZ\",Risque[[#This Row],[Précision du risque\n(si liste déroulante présente)]]))=TRUE,ISNUMBER(SEARCH(\"RP\",Risque[[#This Row],[Précision du risque\n(si liste déroulante présente)]]))=TRUE),\"Oui --> Priorité d'action\",\"Non\"))","v":""},null,null,null,null,{"$f":"IF(ISBLANK(Risque[[#This Row],[Catégorie de risque]]),\"\",CONCATENATE(Risque[[#This Row],[Catégorie de risque]],2))","v":""},null,{"$f":"IF(ISBLANK(Risque[[#This Row],[Moyens de prévention]]),\"\",CONCATENATE(Risque[[#This Row],[Moyens de prévention]],1))","v":""},null,null,null,null,null,{"$f":"IF(ISBLANK(Risque[[#This Row],[Catégorie de risque]]),\"\",CONCATENATE(Risque[[#This Row],[Catégorie de risque]],3))","v":""},null,null,null,{"$f":"IF(ISBLANK(Risque[[#This Row],[Catégorie de risque]]),\"\",CONCATENATE(Risque[[#This Row],[Catégorie de risque]],4))","v":""},null,null,null,null,null,{"$f":"IF(Risque[[#This Row],[Date d''inscription du risque]]<>\"\",YEAR(Risque[[#This Row],[Date d''inscription du risque]]),\"\")","v":""}]
[null,null,{"$f":"IF(ISBLANK(Risque[[#This Row],[Catégorie de risque]]),\"\",CONCATENATE(Risque[[#This Row],[Catégorie de risque]],1))","v":""},null,null,null,null,null,{"$f":"IF(ISBLANK(Risque[[#This Row],[Catégorie de risque]]),\"\",IF(OR(ISNUMBER(SEARCH(\"RZ\",Risque[[#This Row],[Source de danger]]))=TRUE,ISNUMBER(SEARCH(\"RP\",Risque[[#This Row],[Source de danger]]))=TRUE,ISNUMBER(SEARCH(\"RZ\",Risque[[#This Row],[Risques associés]]))=TRUE,ISNUMBER(SEARCH(\"RP\",Risque[[#This Row],[Risques associés]]))=TRUE,ISNUMBER(SEARCH(\"RZ\",Risque[[#This Row],[Précision du risque\n(si liste déroulante présente)]]))=TRUE,ISNUMBER(SEARCH(\"RP\",Risque[[#This Row],[Précision du risque\n(si liste déroulante présente)]]))=TRUE),\"Oui --> Priorité d'action\",\"Non\"))","v":""},null,null,null,null,{"$f":"IF(ISBLANK(Risque[[#This Row],[Catégorie de risque]]),\"\",CONCATENATE(Risque[[#This Row],[Catégorie de risque]],2))","v":""},null,{"$f":"IF(ISBLANK(Risque[[#This Row],[Moyens de prévention]]),\"\",CONCATENATE(Risque[[#This Row],[Moyens de prévention]],1))","v":""},null,null,null,null,null,{"$f":"IF(ISBLANK(Risque[[#This Row],[Catégorie de risque]]),\"\",CONCATENATE(Risque[[#This Row],[Catégorie de risque]],3))","v":""},null,null,null,{"$f":"IF(ISBLANK(Risque[[#This Row],[Catégorie de risque]]),\"\",CONCATENATE(Risque[[#This Row],[Catégorie de risque]],4))","v":""},null,null,null,null,null,{"$f":"IF(Risque[[#This Row],[Date d''inscription du risque]]<>\"\",YEAR(Risque[[#This Row],[Date d''inscription du risque]]),\"\")","v":""}]
[null,null,{"$f":"IF(ISBLANK(Risque[[#This Row],[Catégorie de risque]]),\"\",CONCATENATE(Risque[[#This Row],[Catégorie de risque]],1))","v":""},null,null,null,null,null,{"$f":"IF(ISBLANK(Risque[[#This Row],[Catégorie de risque]]),\"\",IF(OR(ISNUMBER(SEARCH(\"RZ\",Risque[[#This Row],[Source de danger]]))=TRUE,ISNUMBER(SEARCH(\"RP\",Risque[[#This Row],[Source de danger]]))=TRUE,ISNUMBER(SEARCH(\"RZ\",Risque[[#This Row],[Risques associés]]))=TRUE,ISNUMBER(SEARCH(\"RP\",Risque[[#This Row],[Risques associés]]))=TRUE,ISNUMBER(SEARCH(\"RZ\",Risque[[#This Row],[Précision du risque\n(si liste déroulante présente)]]))=TRUE,ISNUMBER(SEARCH(\"RP\",Risque[[#This Row],[Précision du risque\n(si liste déroulante présente)]]))=TRUE),\"Oui --> Priorité d'action\",\"Non\"))","v":""},null,null,null,null,{"$f":"IF(ISBLANK(Risque[[#This Row],[Catégorie de risque]]),\"\",CONCATENATE(Risque[[#This Row],[Catégorie de risque]],2))","v":""},null,{"$f":"IF(ISBLANK(Risque[[#This Row],[Moyens de prévention]]),\"\",CONCATENATE(Risque[[#This Row],[Moyens de prévention]],1))","v":""},null,null,null,null,null,{"$f":"IF(ISBLANK(Risque[[#This Row],[Catégorie de risque]]),\"\",CONCATENATE(Risque[[#This Row],[Catégorie de risque]],3))","v":""},null,null,null,{"$f":"IF(ISBLANK(Risque[[#This Row],[Catégorie de risque]]),\"\",CONCATENATE(Risque[[#This Row],[Catégorie de risque]],4))","v":""},null,null,null,null,null,{"$f":"IF(Risque[[#This Row],[Date d''inscription du risque]]<>\"\",YEAR(Risque[[#This Row],[Date d''inscription du risque]]),\"\")","v":""}]
[null,null,{"$f":"IF(ISBLANK(Risque[[#This Row],[Catégorie de risque]]),\"\",CONCATENATE(Risque[[#This Row],[Catégorie de risque]],1))","v":""},null,null,null,null,null,{"$f":"IF(ISBLANK(Risque[[#This Row],[Catégorie de risque]]),\"\",IF(OR(ISNUMBER(SEARCH(\"RZ\",Risque[[#This Row],[Source de danger]]))=TRUE,ISNUMBER(SEARCH(\"RP\",Risque[[#This Row],[Source de danger]]))=TRUE,ISNUMBER(SEARCH(\"RZ\",Risque[[#This Row],[Risques associés]]))=TRUE,ISNUMBER(SEARCH(\"RP\",Risque[[#This Row],[Risques associés]]))=TRUE,ISNUMBER(SEARCH(\"RZ\",Risque[[#This Row],[Précision du risque\n(si liste déroulante présente)]]))=TRUE,ISNUMBER(SEARCH(\"RP\",Risque[[#This Row],[Précision du risque\n(si liste déroulante présente)]]))=TRUE),\"Oui --> Priorité d'action\",\"Non\"))","v":""},null,null,null,null,{"$f":"IF(ISBLANK(Risque[[#This Row],[Catégorie de risque]]),\"\",CONCATENATE(Risque[[#This Row],[Catégorie de risque]],2))","v":""},null,{"$f":"IF(ISBLANK(Risque[[#This Row],[Moyens de prévention]]),\"\",CONCATENATE(Risque[[#This Row],[Moyens de prévention]],1))","v":""},null,null,null,null,null,{"$f":"IF(ISBLANK(Risque[[#This Row],[Catégorie de risque]]),\"\",CONCATENATE(Risque[[#This Row],[Catégorie de risque]],3))","v":""},null,null,null,{"$f":"IF(ISBLANK(Risque[[#This Row],[Catégorie de risque]]),\"\",CONCATENATE(Risque[[#This Row],[Catégorie de risque]],4))","v":""},null,null,null,null,null,{"$f":"IF(Risque[[#This Row],[Date d''inscription du risque]]<>\"\",YEAR(Risque[[#This Row],[Date d''inscription du risque]]),\"\")","v":""}]
[null,null,{"$f":"IF(ISBLANK(Risque[[#This Row],[Catégorie de risque]]),\"\",CONCATENATE(Risque[[#This Row],[Catégorie de risque]],1))","v":""},null,null,null,null,null,{"$f":"IF(ISBLANK(Risque[[#This Row],[Catégorie de risque]]),\"\",IF(OR(ISNUMBER(SEARCH(\"RZ\",Risque[[#This Row],[Source de danger]]))=TRUE,ISNUMBER(SEARCH(\"RP\",Risque[[#This Row],[Source de danger]]))=TRUE,ISNUMBER(SEARCH(\"RZ\",Risque[[#This Row],[Risques associés]]))=TRUE,ISNUMBER(SEARCH(\"RP\",Risque[[#This Row],[Risques associés]]))=TRUE,ISNUMBER(SEARCH(\"RZ\",Risque[[#This Row],[Précision du risque\n(si liste déroulante présente)]]))=TRUE,ISNUMBER(SEARCH(\"RP\",Risque[[#This Row],[Précision du risque\n(si liste déroulante présente)]]))=TRUE),\"Oui --> Priorité d'action\",\"Non\"))","v":""},null,null,null,null,{"$f":"IF(ISBLANK(Risque[[#This Row],[Catégorie de risque]]),\"\",CONCATENATE(Risque[[#This Row],[Catégorie de risque]],2))","v":""},null,{"$f":"IF(ISBLANK(Risque[[#This Row],[Moyens de prévention]]),\"\",CONCATENATE(Risque[[#This Row],[Moyens de prévention]],1))","v":""},null,null,null,null,null,{"$f":"IF(ISBLANK(Risque[[#This Row],[Catégorie de risque]]),\"\",CONCATENATE(Risque[[#This Row],[Catégorie de risque]],3))","v":""},null,null,null,{"$f":"IF(ISBLANK(Risque[[#This Row],[Catégorie de risque]]),\"\",CONCATENATE(Risque[[#This Row],[Catégorie de risque]],4))","v":""},null,null,null,null,null,{"$f":"IF(Risque[[#This Row],[Date d''inscription du risque]]<>\"\",YEAR(Risque[[#This Row],[Date d''inscription du risque]]),\"\")","v":""}]
[null,null,{"$f":"IF(ISBLANK(Risque[[#This Row],[Catégorie de risque]]),\"\",CONCATENATE(Risque[[#This Row],[Catégorie de risque]],1))","v":""},null,null,null,null,null,{"$f":"IF(ISBLANK(Risque[[#This Row],[Catégorie de risque]]),\"\",IF(OR(ISNUMBER(SEARCH(\"RZ\",Risque[[#This Row],[Source de danger]]))=TRUE,ISNUMBER(SEARCH(\"RP\",Risque[[#This Row],[Source de danger]]))=TRUE,ISNUMBER(SEARCH(\"RZ\",Risque[[#This Row],[Risques associés]]))=TRUE,ISNUMBER(SEARCH(\"RP\",Risque[[#This Row],[Risques associés]]))=TRUE,ISNUMBER(SEARCH(\"RZ\",Risque[[#This Row],[Précision du risque\n(si liste déroulante présente)]]))=TRUE,ISNUMBER(SEARCH(\"RP\",Risque[[#This Row],[Précision du risque\n(si liste déroulante présente)]]))=TRUE),\"Oui --> Priorité d'action\",\"Non\"))","v":""},null,null,null,null,{"$f":"IF(ISBLANK(Risque[[#This Row],[Catégorie de risque]]),\"\",CONCATENATE(Risque[[#This Row],[Catégorie de risque]],2))","v":""},null,{"$f":"IF(ISBLANK(Risque[[#This Row],[Moyens de prévention]]),\"\",CONCATENATE(Risque[[#This Row],[Moyens de prévention]],1))","v":""},null,null,null,null,null,{"$f":"IF(ISBLANK(Risque[[#This Row],[Catégorie de risque]]),\"\",CONCATENATE(Risque[[#This Row],[Catégorie de risque]],3))","v":""},null,null,null,{"$f":"IF(ISBLANK(Risque[[#This Row],[Catégorie de risque]]),\"\",CONCATENATE(Risque[[#This Row],[Catégorie de risque]],4))","v":""},null,null,null,null,null,{"$f":"IF(Risque[[#This Row],[Date d''inscription du risque]]<>\"\",YEAR(Risque[[#This Row],[Date d''inscription du risque]]),\"\")","v":""}]
[null,null,{"$f":"IF(ISBLANK(Risque[[#This Row],[Catégorie de risque]]),\"\",CONCATENATE(Risque[[#This Row],[Catégorie de risque]],1))","v":""},null,null,null,null,null,{"$f":"IF(ISBLANK(Risque[[#This Row],[Catégorie de risque]]),\"\",IF(OR(ISNUMBER(SEARCH(\"RZ\",Risque[[#This Row],[Source de danger]]))=TRUE,ISNUMBER(SEARCH(\"RP\",Risque[[#This Row],[Source de danger]]))=TRUE,ISNUMBER(SEARCH(\"RZ\",Risque[[#This Row],[Risques associés]]))=TRUE,ISNUMBER(SEARCH(\"RP\",Risque[[#This Row],[Risques associés]]))=TRUE,ISNUMBER(SEARCH(\"RZ\",Risque[[#This Row],[Précision du risque\n(si liste déroulante présente)]]))=TRUE,ISNUMBER(SEARCH(\"RP\",Risque[[#This Row],[Précision du risque\n(si liste déroulante présente)]]))=TRUE),\"Oui --> Priorité d'action\",\"Non\"))","v":""},null,null,null,null,{"$f":"IF(ISBLANK(Risque[[#This Row],[Catégorie de risque]]),\"\",CONCATENATE(Risque[[#This Row],[Catégorie de risque]],2))","v":""},null,{"$f":"IF(ISBLANK(Risque[[#This Row],[Moyens de prévention]]),\"\",CONCATENATE(Risque[[#This Row],[Moyens de prévention]],1))","v":""},null,null,null,null,null,{"$f":"IF(ISBLANK(Risque[[#This Row],[Catégorie de risque]]),\"\",CONCATENATE(Risque[[#This Row],[Catégorie de risque]],3))","v":""},null,null,null,{"$f":"IF(ISBLANK(Risque[[#This Row],[Catégorie de risque]]),\"\",CONCATENATE(Risque[[#This Row],[Catégorie de risque]],4))","v":""},null,null,null,null,null,{"$f":"IF(Risque[[#This Row],[Date d''inscription du risque]]<>\"\",YEAR(Risque[[#This Row],[Date d''inscription du risque]]),\"\")","v":""}]
[null,null,{"$f":"IF(ISBLANK(Risque[[#This Row],[Catégorie de risque]]),\"\",CONCATENATE(Risque[[#This Row],[Catégorie de risque]],1))","v":""},null,null,null,null,null,{"$f":"IF(ISBLANK(Risque[[#This Row],[Catégorie de risque]]),\"\",IF(OR(ISNUMBER(SEARCH(\"RZ\",Risque[[#This Row],[Source de danger]]))=TRUE,ISNUMBER(SEARCH(\"RP\",Risque[[#This Row],[Source de danger]]))=TRUE,ISNUMBER(SEARCH(\"RZ\",Risque[[#This Row],[Risques associés]]))=TRUE,ISNUMBER(SEARCH(\"RP\",Risque[[#This Row],[Risques associés]]))=TRUE,ISNUMBER(SEARCH(\"RZ\",Risque[[#This Row],[Précision du risque\n(si liste déroulante présente)]]))=TRUE,ISNUMBER(SEARCH(\"RP\",Risque[[#This Row],[Précision du risque\n(si liste déroulante présente)]]))=TRUE),\"Oui --> Priorité d'action\",\"Non\"))","v":""},null,null,null,null,{"$f":"IF(ISBLANK(Risque[[#This Row],[Catégorie de risque]]),\"\",CONCATENATE(Risque[[#This Row],[Catégorie de risque]],2))","v":""},null,{"$f":"IF(ISBLANK(Risque[[#This Row],[Moyens de prévention]]),\"\",CONCATENATE(Risque[[#This Row],[Moyens de prévention]],1))","v":""},null,null,null,null,null,{"$f":"IF(ISBLANK(Risque[[#This Row],[Catégorie de risque]]),\"\",CONCATENATE(Risque[[#This Row],[Catégorie de risque]],3))","v":""},null,null,null,{"$f":"IF(ISBLANK(Risque[[#This Row],[Catégorie de risque]]),\"\",CONCATENATE(Risque[[#This Row],[Catégorie de risque]],4))","v":""},null,null,null,null,null,{"$f":"IF(Risque[[#This Row],[Date d''inscription du risque]]<>\"\",YEAR(Risque[[#This Row],[Date d''inscription du risque]]),\"\")","v":""}]
[null,null,{"$f":"IF(ISBLANK(Risque[[#This Row],[Catégorie de risque]]),\"\",CONCATENATE(Risque[[#This Row],[Catégorie de risque]],1))","v":""},null,null,null,null,null,{"$f":"IF(ISBLANK(Risque[[#This Row],[Catégorie de risque]]),\"\",IF(OR(ISNUMBER(SEARCH(\"RZ\",Risque[[#This Row],[Source de danger]]))=TRUE,ISNUMBER(SEARCH(\"RP\",Risque[[#This Row],[Source de danger]]))=TRUE,ISNUMBER(SEARCH(\"RZ\",Risque[[#This Row],[Risques associés]]))=TRUE,ISNUMBER(SEARCH(\"RP\",Risque[[#This Row],[Risques associés]]))=TRUE,ISNUMBER(SEARCH(\"RZ\",Risque[[#This Row],[Précision du risque\n(si liste déroulante présente)]]))=TRUE,ISNUMBER(SEARCH(\"RP\",Risque[[#This Row],[Précision du risque\n(si liste déroulante présente)]]))=TRUE),\"Oui --> Priorité d'action\",\"Non\"))","v":""},null,null,null,null,{"$f":"IF(ISBLANK(Risque[[#This Row],[Catégorie de risque]]),\"\",CONCATENATE(Risque[[#This Row],[Catégorie de risque]],2))","v":""},null,{"$f":"IF(ISBLANK(Risque[[#This Row],[Moyens de prévention]]),\"\",CONCATENATE(Risque[[#This Row],[Moyens de prévention]],1))","v":""},null,null,null,null,null,{"$f":"IF(ISBLANK(Risque[[#This Row],[Catégorie de risque]]),\"\",CONCATENATE(Risque[[#This Row],[Catégorie de risque]],3))","v":""},null,null,null,{"$f":"IF(ISBLANK(Risque[[#This Row],[Catégorie de risque]]),\"\",CONCATENATE(Risque[[#This Row],[Catégorie de risque]],4))","v":""},null,null,null,null,null,{"$f":"IF(Risque[[#This Row],[Date d''inscription du risque]]<>\"\",YEAR(Risque[[#This Row],[Date d''inscription du risque]]),\"\")","v":""}]
[null,null,{"$f":"IF(ISBLANK(Risque[[#This Row],[Catégorie de risque]]),\"\",CONCATENATE(Risque[[#This Row],[Catégorie de risque]],1))","v":""},null,null,null,null,null,{"$f":"IF(ISBLANK(Risque[[#This Row],[Catégorie de risque]]),\"\",IF(OR(ISNUMBER(SEARCH(\"RZ\",Risque[[#This Row],[Source de danger]]))=TRUE,ISNUMBER(SEARCH(\"RP\",Risque[[#This Row],[Source de danger]]))=TRUE,ISNUMBER(SEARCH(\"RZ\",Risque[[#This Row],[Risques associés]]))=TRUE,ISNUMBER(SEARCH(\"RP\",Risque[[#This Row],[Risques associés]]))=TRUE,ISNUMBER(SEARCH(\"RZ\",Risque[[#This Row],[Précision du risque\n(si liste déroulante présente)]]))=TRUE,ISNUMBER(SEARCH(\"RP\",Risque[[#This Row],[Précision du risque\n(si liste déroulante présente)]]))=TRUE),\"Oui --> Priorité d'action\",\"Non\"))","v":""},null,null,null,null,{"$f":"IF(ISBLANK(Risque[[#This Row],[Catégorie de risque]]),\"\",CONCATENATE(Risque[[#This Row],[Catégorie de risque]],2))","v":""},null,{"$f":"IF(ISBLANK(Risque[[#This Row],[Moyens de prévention]]),\"\",CONCATENATE(Risque[[#This Row],[Moyens de prévention]],1))","v":""},null,null,null,null,null,{"$f":"IF(ISBLANK(Risque[[#This Row],[Catégorie de risque]]),\"\",CONCATENATE(Risque[[#This Row],[Catégorie de risque]],3))","v":""},null,null,null,{"$f":"IF(ISBLANK(Risque[[#This Row],[Catégorie de risque]]),\"\",CONCATENATE(Risque[[#This Row],[Catégorie de risque]],4))","v":""},null,null,null,null,null,{"$f":"IF(Risque[[#This Row],[Date d''inscription du risque]]<>\"\",YEAR(Risque[[#This Row],[Date d''inscription du risque]]),\"\")","v":""}]
[null,null,{"$f":"IF(ISBLANK(Risque[[#This Row],[Catégorie de risque]]),\"\",CONCATENATE(Risque[[#This Row],[Catégorie de risque]],1))","v":""},null,null,null,null,null,{"$f":"IF(ISBLANK(Risque[[#This Row],[Catégorie de risque]]),\"\",IF(OR(ISNUMBER(SEARCH(\"RZ\",Risque[[#This Row],[Source de danger]]))=TRUE,ISNUMBER(SEARCH(\"RP\",Risque[[#This Row],[Source de danger]]))=TRUE,ISNUMBER(SEARCH(\"RZ\",Risque[[#This Row],[Risques associés]]))=TRUE,ISNUMBER(SEARCH(\"RP\",Risque[[#This Row],[Risques associés]]))=TRUE,ISNUMBER(SEARCH(\"RZ\",Risque[[#This Row],[Précision du risque\n(si liste déroulante présente)]]))=TRUE,ISNUMBER(SEARCH(\"RP\",Risque[[#This Row],[Précision du risque\n(si liste déroulante présente)]]))=TRUE),\"Oui --> Priorité d'action\",\"Non\"))","v":""},null,null,null,null,{"$f":"IF(ISBLANK(Risque[[#This Row],[Catégorie de risque]]),\"\",CONCATENATE(Risque[[#This Row],[Catégorie de risque]],2))","v":""},null,{"$f":"IF(ISBLANK(Risque[[#This Row],[Moyens de prévention]]),\"\",CONCATENATE(Risque[[#This Row],[Moyens de prévention]],1))","v":""},null,null,null,null,null,{"$f":"IF(ISBLANK(Risque[[#This Row],[Catégorie de risque]]),\"\",CONCATENATE(Risque[[#This Row],[Catégorie de risque]],3))","v":""},null,null,null,{"$f":"IF(ISBLANK(Risque[[#This Row],[Catégorie de risque]]),\"\",CONCATENATE(Risque[[#This Row],[Catégorie de risque]],4))","v":""},null,null,null,null,null,{"$f":"IF(Risque[[#This Row],[Date d''inscription du risque]]<>\"\",YEAR(Risque[[#This Row],[Date d''inscription du risque]]),\"\")","v":""}]
[null,null,{"$f":"IF(ISBLANK(Risque[[#This Row],[Catégorie de risque]]),\"\",CONCATENATE(Risque[[#This Row],[Catégorie de risque]],1))","v":""},null,null,null,null,null,{"$f":"IF(ISBLANK(Risque[[#This Row],[Catégorie de risque]]),\"\",IF(OR(ISNUMBER(SEARCH(\"RZ\",Risque[[#This Row],[Source de danger]]))=TRUE,ISNUMBER(SEARCH(\"RP\",Risque[[#This Row],[Source de danger]]))=TRUE,ISNUMBER(SEARCH(\"RZ\",Risque[[#This Row],[Risques associés]]))=TRUE,ISNUMBER(SEARCH(\"RP\",Risque[[#This Row],[Risques associés]]))=TRUE,ISNUMBER(SEARCH(\"RZ\",Risque[[#This Row],[Précision du risque\n(si liste déroulante présente)]]))=TRUE,ISNUMBER(SEARCH(\"RP\",Risque[[#This Row],[Précision du risque\n(si liste déroulante présente)]]))=TRUE),\"Oui --> Priorité d'action\",\"Non\"))","v":""},null,null,null,null,{"$f":"IF(ISBLANK(Risque[[#This Row],[Catégorie de risque]]),\"\",CONCATENATE(Risque[[#This Row],[Catégorie de risque]],2))","v":""},null,{"$f":"IF(ISBLANK(Risque[[#This Row],[Moyens de prévention]]),\"\",CONCATENATE(Risque[[#This Row],[Moyens de prévention]],1))","v":""},null,null,null,null,null,{"$f":"IF(ISBLANK(Risque[[#This Row],[Catégorie de risque]]),\"\",CONCATENATE(Risque[[#This Row],[Catégorie de risque]],3))","v":""},null,null,null,{"$f":"IF(ISBLANK(Risque[[#This Row],[Catégorie de risque]]),\"\",CONCATENATE(Risque[[#This Row],[Catégorie de risque]],4))","v":""},null,null,null,null,null,{"$f":"IF(Risque[[#This Row],[Date d''inscription du risque]]<>\"\",YEAR(Risque[[#This Row],[Date d''inscription du risque]]),\"\")","v":""}]
[null,null,{"$f":"IF(ISBLANK(Risque[[#This Row],[Catégorie de risque]]),\"\",CONCATENATE(Risque[[#This Row],[Catégorie de risque]],1))","v":""},null,null,null,null,null,{"$f":"IF(ISBLANK(Risque[[#This Row],[Catégorie de risque]]),\"\",IF(OR(ISNUMBER(SEARCH(\"RZ\",Risque[[#This Row],[Source de danger]]))=TRUE,ISNUMBER(SEARCH(\"RP\",Risque[[#This Row],[Source de danger]]))=TRUE,ISNUMBER(SEARCH(\"RZ\",Risque[[#This Row],[Risques associés]]))=TRUE,ISNUMBER(SEARCH(\"RP\",Risque[[#This Row],[Risques associés]]))=TRUE,ISNUMBER(SEARCH(\"RZ\",Risque[[#This Row],[Précision du risque\n(si liste déroulante présente)]]))=TRUE,ISNUMBER(SEARCH(\"RP\",Risque[[#This Row],[Précision du risque\n(si liste déroulante présente)]]))=TRUE),\"Oui --> Priorité d'action\",\"Non\"))","v":""},null,null,null,null,{"$f":"IF(ISBLANK(Risque[[#This Row],[Catégorie de risque]]),\"\",CONCATENATE(Risque[[#This Row],[Catégorie de risque]],2))","v":""},null,{"$f":"IF(ISBLANK(Risque[[#This Row],[Moyens de prévention]]),\"\",CONCATENATE(Risque[[#This Row],[Moyens de prévention]],1))","v":""},null,null,null,null,null,{"$f":"IF(ISBLANK(Risque[[#This Row],[Catégorie de risque]]),\"\",CONCATENATE(Risque[[#This Row],[Catégorie de risque]],3))","v":""},null,null,null,{"$f":"IF(ISBLANK(Risque[[#This Row],[Catégorie de risque]]),\"\",CONCATENATE(Risque[[#This Row],[Catégorie de risque]],4))","v":""},null,null,null,null,null,{"$f":"IF(Risque[[#This Row],[Date d''inscription du risque]]<>\"\",YEAR(Risque[[#This Row],[Date d''inscription du risque]]),\"\")","v":""}]
[null,null,{"$f":"IF(ISBLANK(Risque[[#This Row],[Catégorie de risque]]),\"\",CONCATENATE(Risque[[#This Row],[Catégorie de risque]],1))","v":""},null,null,null,null,null,{"$f":"IF(ISBLANK(Risque[[#This Row],[Catégorie de risque]]),\"\",IF(OR(ISNUMBER(SEARCH(\"RZ\",Risque[[#This Row],[Source de danger]]))=TRUE,ISNUMBER(SEARCH(\"RP\",Risque[[#This Row],[Source de danger]]))=TRUE,ISNUMBER(SEARCH(\"RZ\",Risque[[#This Row],[Risques associés]]))=TRUE,ISNUMBER(SEARCH(\"RP\",Risque[[#This Row],[Risques associés]]))=TRUE,ISNUMBER(SEARCH(\"RZ\",Risque[[#This Row],[Précision du risque\n(si liste déroulante présente)]]))=TRUE,ISNUMBER(SEARCH(\"RP\",Risque[[#This Row],[Précision du risque\n(si liste déroulante présente)]]))=TRUE),\"Oui --> Priorité d'action\",\"Non\"))","v":""},null,null,null,null,{"$f":"IF(ISBLANK(Risque[[#This Row],[Catégorie de risque]]),\"\",CONCATENATE(Risque[[#This Row],[Catégorie de risque]],2))","v":""},null,{"$f":"IF(ISBLANK(Risque[[#This Row],[Moyens de prévention]]),\"\",CONCATENATE(Risque[[#This Row],[Moyens de prévention]],1))","v":""},null,null,null,null,null,{"$f":"IF(ISBLANK(Risque[[#This Row],[Catégorie de risque]]),\"\",CONCATENATE(Risque[[#This Row],[Catégorie de risque]],3))","v":""},null,null,null,{"$f":"IF(ISBLANK(Risque[[#This Row],[Catégorie de risque]]),\"\",CONCATENATE(Risque[[#This Row],[Catégorie de risque]],4))","v":""},null,null,null,null,null,{"$f":"IF(Risque[[#This Row],[Date d''inscription du risque]]<>\"\",YEAR(Risque[[#This Row],[Date d''inscription du risque]]),\"\")","v":""}]
[null,null,{"$f":"IF(ISBLANK(Risque[[#This Row],[Catégorie de risque]]),\"\",CONCATENATE(Risque[[#This Row],[Catégorie de risque]],1))","v":""},null,null,null,null,null,{"$f":"IF(ISBLANK(Risque[[#This Row],[Catégorie de risque]]),\"\",IF(OR(ISNUMBER(SEARCH(\"RZ\",Risque[[#This Row],[Source de danger]]))=TRUE,ISNUMBER(SEARCH(\"RP\",Risque[[#This Row],[Source de danger]]))=TRUE,ISNUMBER(SEARCH(\"RZ\",Risque[[#This Row],[Risques associés]]))=TRUE,ISNUMBER(SEARCH(\"RP\",Risque[[#This Row],[Risques associés]]))=TRUE,ISNUMBER(SEARCH(\"RZ\",Risque[[#This Row],[Précision du risque\n(si liste déroulante présente)]]))=TRUE,ISNUMBER(SEARCH(\"RP\",Risque[[#This Row],[Précision du risque\n(si liste déroulante présente)]]))=TRUE),\"Oui --> Priorité d'action\",\"Non\"))","v":""},null,null,null,null,{"$f":"IF(ISBLANK(Risque[[#This Row],[Catégorie de risque]]),\"\",CONCATENATE(Risque[[#This Row],[Catégorie de risque]],2))","v":""},null,{"$f":"IF(ISBLANK(Risque[[#This Row],[Moyens de prévention]]),\"\",CONCATENATE(Risque[[#This Row],[Moyens de prévention]],1))","v":""},null,null,null,null,null,{"$f":"IF(ISBLANK(Risque[[#This Row],[Catégorie de risque]]),\"\",CONCATENATE(Risque[[#This Row],[Catégorie de risque]],3))","v":""},null,null,null,{"$f":"IF(ISBLANK(Risque[[#This Row],[Catégorie de risque]]),\"\",CONCATENATE(Risque[[#This Row],[Catégorie de risque]],4))","v":""},null,null,null,null,null,{"$f":"IF(Risque[[#This Row],[Date d''inscription du risque]]<>\"\",YEAR(Risque[[#This Row],[Date d''inscription du risque]]),\"\")","v":""}]
[null,null,{"$f":"IF(ISBLANK(Risque[[#This Row],[Catégorie de risque]]),\"\",CONCATENATE(Risque[[#This Row],[Catégorie de risque]],1))","v":""},null,null,null,null,null,{"$f":"IF(ISBLANK(Risque[[#This Row],[Catégorie de risque]]),\"\",IF(OR(ISNUMBER(SEARCH(\"RZ\",Risque[[#This Row],[Source de danger]]))=TRUE,ISNUMBER(SEARCH(\"RP\",Risque[[#This Row],[Source de danger]]))=TRUE,ISNUMBER(SEARCH(\"RZ\",Risque[[#This Row],[Risques associés]]))=TRUE,ISNUMBER(SEARCH(\"RP\",Risque[[#This Row],[Risques associés]]))=TRUE,ISNUMBER(SEARCH(\"RZ\",Risque[[#This Row],[Précision du risque\n(si liste déroulante présente)]]))=TRUE,ISNUMBER(SEARCH(\"RP\",Risque[[#This Row],[Précision du risque\n(si liste déroulante présente)]]))=TRUE),\"Oui --> Priorité d'action\",\"Non\"))","v":""},null,null,null,null,{"$f":"IF(ISBLANK(Risque[[#This Row],[Catégorie de risque]]),\"\",CONCATENATE(Risque[[#This Row],[Catégorie de risque]],2))","v":""},null,{"$f":"IF(ISBLANK(Risque[[#This Row],[Moyens de prévention]]),\"\",CONCATENATE(Risque[[#This Row],[Moyens de prévention]],1))","v":""},null,null,null,null,null,{"$f":"IF(ISBLANK(Risque[[#This Row],[Catégorie de risque]]),\"\",CONCATENATE(Risque[[#This Row],[Catégorie de risque]],3))","v":""},null,null,null,{"$f":"IF(ISBLANK(Risque[[#This Row],[Catégorie de risque]]),\"\",CONCATENATE(Risque[[#This Row],[Catégorie de risque]],4))","v":""},null,null,null,null,null,{"$f":"IF(Risque[[#This Row],[Date d''inscription du risque]]<>\"\",YEAR(Risque[[#This Row],[Date d''inscription du risque]]),\"\")","v":""}]
[null,null,{"$f":"IF(ISBLANK(Risque[[#This Row],[Catégorie de risque]]),\"\",CONCATENATE(Risque[[#This Row],[Catégorie de risque]],1))","v":""},null,null,null,null,null,{"$f":"IF(ISBLANK(Risque[[#This Row],[Catégorie de risque]]),\"\",IF(OR(ISNUMBER(SEARCH(\"RZ\",Risque[[#This Row],[Source de danger]]))=TRUE,ISNUMBER(SEARCH(\"RP\",Risque[[#This Row],[Source de danger]]))=TRUE,ISNUMBER(SEARCH(\"RZ\",Risque[[#This Row],[Risques associés]]))=TRUE,ISNUMBER(SEARCH(\"RP\",Risque[[#This Row],[Risques associés]]))=TRUE,ISNUMBER(SEARCH(\"RZ\",Risque[[#This Row],[Précision du risque\n(si liste déroulante présente)]]))=TRUE,ISNUMBER(SEARCH(\"RP\",Risque[[#This Row],[Précision du risque\n(si liste déroulante présente)]]))=TRUE),\"Oui --> Priorité d'action\",\"Non\"))","v":""},null,null,null,null,{"$f":"IF(ISBLANK(Risque[[#This Row],[Catégorie de risque]]),\"\",CONCATENATE(Risque[[#This Row],[Catégorie de risque]],2))","v":""},null,{"$f":"IF(ISBLANK(Risque[[#This Row],[Moyens de prévention]]),\"\",CONCATENATE(Risque[[#This Row],[Moyens de prévention]],1))","v":""},null,null,null,null,null,{"$f":"IF(ISBLANK(Risque[[#This Row],[Catégorie de risque]]),\"\",CONCATENATE(Risque[[#This Row],[Catégorie de risque]],3))","v":""},null,null,null,{"$f":"IF(ISBLANK(Risque[[#This Row],[Catégorie de risque]]),\"\",CONCATENATE(Risque[[#This Row],[Catégorie de risque]],4))","v":""},null,null,null,null,null,{"$f":"IF(Risque[[#This Row],[Date d''inscription du risque]]<>\"\",YEAR(Risque[[#This Row],[Date d''inscription du risque]]),\"\")","v":""}]
[null,null,{"$f":"IF(ISBLANK(Risque[[#This Row],[Catégorie de risque]]),\"\",CONCATENATE(Risque[[#This Row],[Catégorie de risque]],1))","v":""},null,null,null,null,null,{"$f":"IF(ISBLANK(Risque[[#This Row],[Catégorie de risque]]),\"\",IF(OR(ISNUMBER(SEARCH(\"RZ\",Risque[[#This Row],[Source de danger]]))=TRUE,ISNUMBER(SEARCH(\"RP\",Risque[[#This Row],[Source de danger]]))=TRUE,ISNUMBER(SEARCH(\"RZ\",Risque[[#This Row],[Risques associés]]))=TRUE,ISNUMBER(SEARCH(\"RP\",Risque[[#This Row],[Risques associés]]))=TRUE,ISNUMBER(SEARCH(\"RZ\",Risque[[#This Row],[Précision du risque\n(si liste déroulante présente)]]))=TRUE,ISNUMBER(SEARCH(\"RP\",Risque[[#This Row],[Précision du risque\n(si liste déroulante présente)]]))=TRUE),\"Oui --> Priorité d'action\",\"Non\"))","v":""},null,null,null,null,{"$f":"IF(ISBLANK(Risque[[#This Row],[Catégorie de risque]]),\"\",CONCATENATE(Risque[[#This Row],[Catégorie de risque]],2))","v":""},null,{"$f":"IF(ISBLANK(Risque[[#This Row],[Moyens de prévention]]),\"\",CONCATENATE(Risque[[#This Row],[Moyens de prévention]],1))","v":""},null,null,null,null,null,{"$f":"IF(ISBLANK(Risque[[#This Row],[Catégorie de risque]]),\"\",CONCATENATE(Risque[[#This Row],[Catégorie de risque]],3))","v":""},null,null,null,{"$f":"IF(ISBLANK(Risque[[#This Row],[Catégorie de risque]]),\"\",CONCATENATE(Risque[[#This Row],[Catégorie de risque]],4))","v":""},null,null,null,null,null,{"$f":"IF(Risque[[#This Row],[Date d''inscription du risque]]<>\"\",YEAR(Risque[[#This Row],[Date d''inscription du risque]]),\"\")","v":""}]
[null,null,{"$f":"IF(ISBLANK(Risque[[#This Row],[Catégorie de risque]]),\"\",CONCATENATE(Risque[[#This Row],[Catégorie de risque]],1))","v":""},null,null,null,null,null,{"$f":"IF(ISBLANK(Risque[[#This Row],[Catégorie de risque]]),\"\",IF(OR(ISNUMBER(SEARCH(\"RZ\",Risque[[#This Row],[Source de danger]]))=TRUE,ISNUMBER(SEARCH(\"RP\",Risque[[#This Row],[Source de danger]]))=TRUE,ISNUMBER(SEARCH(\"RZ\",Risque[[#This Row],[Risques associés]]))=TRUE,ISNUMBER(SEARCH(\"RP\",Risque[[#This Row],[Risques associés]]))=TRUE,ISNUMBER(SEARCH(\"RZ\",Risque[[#This Row],[Précision du risque\n(si liste déroulante présente)]]))=TRUE,ISNUMBER(SEARCH(\"RP\",Risque[[#This Row],[Précision du risque\n(si liste déroulante présente)]]))=TRUE),\"Oui --> Priorité d'action\",\"Non\"))","v":""},null,null,null,null,{"$f":"IF(ISBLANK(Risque[[#This Row],[Catégorie de risque]]),\"\",CONCATENATE(Risque[[#This Row],[Catégorie de risque]],2))","v":""},null,{"$f":"IF(ISBLANK(Risque[[#This Row],[Moyens de prévention]]),\"\",CONCATENATE(Risque[[#This Row],[Moyens de prévention]],1))","v":""},null,null,null,null,null,{"$f":"IF(ISBLANK(Risque[[#This Row],[Catégorie de risque]]),\"\",CONCATENATE(Risque[[#This Row],[Catégorie de risque]],3))","v":""},null,null,null,{"$f":"IF(ISBLANK(Risque[[#This Row],[Catégorie de risque]]),\"\",CONCATENATE(Risque[[#This Row],[Catégorie de risque]],4))","v":""},null,null,null,null,null,{"$f":"IF(Risque[[#This Row],[Date d''inscription du risque]]<>\"\",YEAR(Risque[[#This Row],[Date d''inscription du risque]]),\"\")","v":""}]
[null,null,{"$f":"IF(ISBLANK(Risque[[#This Row],[Catégorie de risque]]),\"\",CONCATENATE(Risque[[#This Row],[Catégorie de risque]],1))","v":""},null,null,null,null,null,{"$f":"IF(ISBLANK(Risque[[#This Row],[Catégorie de risque]]),\"\",IF(OR(ISNUMBER(SEARCH(\"RZ\",Risque[[#This Row],[Source de danger]]))=TRUE,ISNUMBER(SEARCH(\"RP\",Risque[[#This Row],[Source de danger]]))=TRUE,ISNUMBER(SEARCH(\"RZ\",Risque[[#This Row],[Risques associés]]))=TRUE,ISNUMBER(SEARCH(\"RP\",Risque[[#This Row],[Risques associés]]))=TRUE,ISNUMBER(SEARCH(\"RZ\",Risque[[#This Row],[Précision du risque\n(si liste déroulante présente)]]))=TRUE,ISNUMBER(SEARCH(\"RP\",Risque[[#This Row],[Précision du risque\n(si liste déroulante présente)]]))=TRUE),\"Oui --> Priorité d'action\",\"Non\"))","v":""},null,null,null,null,{"$f":"IF(ISBLANK(Risque[[#This Row],[Catégorie de risque]]),\"\",CONCATENATE(Risque[[#This Row],[Catégorie de risque]],2))","v":""},null,{"$f":"IF(ISBLANK(Risque[[#This Row],[Moyens de prévention]]),\"\",CONCATENATE(Risque[[#This Row],[Moyens de prévention]],1))","v":""},null,null,null,null,null,{"$f":"IF(ISBLANK(Risque[[#This Row],[Catégorie de risque]]),\"\",CONCATENATE(Risque[[#This Row],[Catégorie de risque]],3))","v":""},null,null,null,{"$f":"IF(ISBLANK(Risque[[#This Row],[Catégorie de risque]]),\"\",CONCATENATE(Risque[[#This Row],[Catégorie de risque]],4))","v":""},null,null,null,null,null,{"$f":"IF(Risque[[#This Row],[Date d''inscription du risque]]<>\"\",YEAR(Risque[[#This Row],[Date d''inscription du risque]]),\"\")","v":""}]
[null,null,{"$f":"IF(ISBLANK(Risque[[#This Row],[Catégorie de risque]]),\"\",CONCATENATE(Risque[[#This Row],[Catégorie de risque]],1))","v":""},null,null,null,null,null,{"$f":"IF(ISBLANK(Risque[[#This Row],[Catégorie de risque]]),\"\",IF(OR(ISNUMBER(SEARCH(\"RZ\",Risque[[#This Row],[Source de danger]]))=TRUE,ISNUMBER(SEARCH(\"RP\",Risque[[#This Row],[Source de danger]]))=TRUE,ISNUMBER(SEARCH(\"RZ\",Risque[[#This Row],[Risques associés]]))=TRUE,ISNUMBER(SEARCH(\"RP\",Risque[[#This Row],[Risques associés]]))=TRUE,ISNUMBER(SEARCH(\"RZ\",Risque[[#This Row],[Précision du risque\n(si liste déroulante présente)]]))=TRUE,ISNUMBER(SEARCH(\"RP\",Risque[[#This Row],[Précision du risque\n(si liste déroulante présente)]]))=TRUE),\"Oui --> Priorité d'action\",\"Non\"))","v":""},null,null,null,null,{"$f":"IF(ISBLANK(Risque[[#This Row],[Catégorie de risque]]),\"\",CONCATENATE(Risque[[#This Row],[Catégorie de risque]],2))","v":""},null,{"$f":"IF(ISBLANK(Risque[[#This Row],[Moyens de prévention]]),\"\",CONCATENATE(Risque[[#This Row],[Moyens de prévention]],1))","v":""},null,null,null,null,null,{"$f":"IF(ISBLANK(Risque[[#This Row],[Catégorie de risque]]),\"\",CONCATENATE(Risque[[#This Row],[Catégorie de risque]],3))","v":""},null,null,null,{"$f":"IF(ISBLANK(Risque[[#This Row],[Catégorie de risque]]),\"\",CONCATENATE(Risque[[#This Row],[Catégorie de risque]],4))","v":""},null,null,null,null,null,{"$f":"IF(Risque[[#This Row],[Date d''inscription du risque]]<>\"\",YEAR(Risque[[#This Row],[Date d''inscription du risque]]),\"\")","v":""}]
[null,null,{"$f":"IF(ISBLANK(Risque[[#This Row],[Catégorie de risque]]),\"\",CONCATENATE(Risque[[#This Row],[Catégorie de risque]],1))","v":""},null,null,null,null,null,{"$f":"IF(ISBLANK(Risque[[#This Row],[Catégorie de risque]]),\"\",IF(OR(ISNUMBER(SEARCH(\"RZ\",Risque[[#This Row],[Source de danger]]))=TRUE,ISNUMBER(SEARCH(\"RP\",Risque[[#This Row],[Source de danger]]))=TRUE,ISNUMBER(SEARCH(\"RZ\",Risque[[#This Row],[Risques associés]]))=TRUE,ISNUMBER(SEARCH(\"RP\",Risque[[#This Row],[Risques associés]]))=TRUE,ISNUMBER(SEARCH(\"RZ\",Risque[[#This Row],[Précision du risque\n(si liste déroulante présente)]]))=TRUE,ISNUMBER(SEARCH(\"RP\",Risque[[#This Row],[Précision du risque\n(si liste déroulante présente)]]))=TRUE),\"Oui --> Priorité d'action\",\"Non\"))","v":""},null,null,null,null,{"$f":"IF(ISBLANK(Risque[[#This Row],[Catégorie de risque]]),\"\",CONCATENATE(Risque[[#This Row],[Catégorie de risque]],2))","v":""},null,{"$f":"IF(ISBLANK(Risque[[#This Row],[Moyens de prévention]]),\"\",CONCATENATE(Risque[[#This Row],[Moyens de prévention]],1))","v":""},null,null,null,null,null,{"$f":"IF(ISBLANK(Risque[[#This Row],[Catégorie de risque]]),\"\",CONCATENATE(Risque[[#This Row],[Catégorie de risque]],3))","v":""},null,null,null,{"$f":"IF(ISBLANK(Risque[[#This Row],[Catégorie de risque]]),\"\",CONCATENATE(Risque[[#This Row],[Catégorie de risque]],4))","v":""},null,null,null,null,null,{"$f":"IF(Risque[[#This Row],[Date d''inscription du risque]]<>\"\",YEAR(Risque[[#This Row],[Date d''inscription du risque]]),\"\")","v":""}]
[null,null,{"$f":"IF(ISBLANK(Risque[[#This Row],[Catégorie de risque]]),\"\",CONCATENATE(Risque[[#This Row],[Catégorie de risque]],1))","v":""},null,null,null,null,null,{"$f":"IF(ISBLANK(Risque[[#This Row],[Catégorie de risque]]),\"\",IF(OR(ISNUMBER(SEARCH(\"RZ\",Risque[[#This Row],[Source de danger]]))=TRUE,ISNUMBER(SEARCH(\"RP\",Risque[[#This Row],[Source de danger]]))=TRUE,ISNUMBER(SEARCH(\"RZ\",Risque[[#This Row],[Risques associés]]))=TRUE,ISNUMBER(SEARCH(\"RP\",Risque[[#This Row],[Risques associés]]))=TRUE,ISNUMBER(SEARCH(\"RZ\",Risque[[#This Row],[Précision du risque\n(si liste déroulante présente)]]))=TRUE,ISNUMBER(SEARCH(\"RP\",Risque[[#This Row],[Précision du risque\n(si liste déroulante présente)]]))=TRUE),\"Oui --> Priorité d'action\",\"Non\"))","v":""},null,null,null,null,{"$f":"IF(ISBLANK(Risque[[#This Row],[Catégorie de risque]]),\"\",CONCATENATE(Risque[[#This Row],[Catégorie de risque]],2))","v":""},null,{"$f":"IF(ISBLANK(Risque[[#This Row],[Moyens de prévention]]),\"\",CONCATENATE(Risque[[#This Row],[Moyens de prévention]],1))","v":""},null,null,null,null,null,{"$f":"IF(ISBLANK(Risque[[#This Row],[Catégorie de risque]]),\"\",CONCATENATE(Risque[[#This Row],[Catégorie de risque]],3))","v":""},null,null,null,{"$f":"IF(ISBLANK(Risque[[#This Row],[Catégorie de risque]]),\"\",CONCATENATE(Risque[[#This Row],[Catégorie de risque]],4))","v":""},null,null,null,null,null,{"$f":"IF(Risque[[#This Row],[Date d''inscription du risque]]<>\"\",YEAR(Risque[[#This Row],[Date d''inscription du risque]]),\"\")","v":""}]
[null,null,{"$f":"IF(ISBLANK(Risque[[#This Row],[Catégorie de risque]]),\"\",CONCATENATE(Risque[[#This Row],[Catégorie de risque]],1))","v":""},null,null,null,null,null,{"$f":"IF(ISBLANK(Risque[[#This Row],[Catégorie de risque]]),\"\",IF(OR(ISNUMBER(SEARCH(\"RZ\",Risque[[#This Row],[Source de danger]]))=TRUE,ISNUMBER(SEARCH(\"RP\",Risque[[#This Row],[Source de danger]]))=TRUE,ISNUMBER(SEARCH(\"RZ\",Risque[[#This Row],[Risques associés]]))=TRUE,ISNUMBER(SEARCH(\"RP\",Risque[[#This Row],[Risques associés]]))=TRUE,ISNUMBER(SEARCH(\"RZ\",Risque[[#This Row],[Précision du risque\n(si liste déroulante présente)]]))=TRUE,ISNUMBER(SEARCH(\"RP\",Risque[[#This Row],[Précision du risque\n(si liste déroulante présente)]]))=TRUE),\"Oui --> Priorité d'action\",\"Non\"))","v":""},null,null,null,null,{"$f":"IF(ISBLANK(Risque[[#This Row],[Catégorie de risque]]),\"\",CONCATENATE(Risque[[#This Row],[Catégorie de risque]],2))","v":""},null,{"$f":"IF(ISBLANK(Risque[[#This Row],[Moyens de prévention]]),\"\",CONCATENATE(Risque[[#This Row],[Moyens de prévention]],1))","v":""},null,null,null,null,null,{"$f":"IF(ISBLANK(Risque[[#This Row],[Catégorie de risque]]),\"\",CONCATENATE(Risque[[#This Row],[Catégorie de risque]],3))","v":""},null,null,null,{"$f":"IF(ISBLANK(Risque[[#This Row],[Catégorie de risque]]),\"\",CONCATENATE(Risque[[#This Row],[Catégorie de risque]],4))","v":""},null,null,null,null,null,{"$f":"IF(Risque[[#This Row],[Date d''inscription du risque]]<>\"\",YEAR(Risque[[#This Row],[Date d''inscription du risque]]),\"\")","v":""}]
[null,null,{"$f":"IF(ISBLANK(Risque[[#This Row],[Catégorie de risque]]),\"\",CONCATENATE(Risque[[#This Row],[Catégorie de risque]],1))","v":""},null,null,null,null,null,{"$f":"IF(ISBLANK(Risque[[#This Row],[Catégorie de risque]]),\"\",IF(OR(ISNUMBER(SEARCH(\"RZ\",Risque[[#This Row],[Source de danger]]))=TRUE,ISNUMBER(SEARCH(\"RP\",Risque[[#This Row],[Source de danger]]))=TRUE,ISNUMBER(SEARCH(\"RZ\",Risque[[#This Row],[Risques associés]]))=TRUE,ISNUMBER(SEARCH(\"RP\",Risque[[#This Row],[Risques associés]]))=TRUE,ISNUMBER(SEARCH(\"RZ\",Risque[[#This Row],[Précision du risque\n(si liste déroulante présente)]]))=TRUE,ISNUMBER(SEARCH(\"RP\",Risque[[#This Row],[Précision du risque\n(si liste déroulante présente)]]))=TRUE),\"Oui --> Priorité d'action\",\"Non\"))","v":""},null,null,null,null,{"$f":"IF(ISBLANK(Risque[[#This Row],[Catégorie de risque]]),\"\",CONCATENATE(Risque[[#This Row],[Catégorie de risque]],2))","v":""},null,{"$f":"IF(ISBLANK(Risque[[#This Row],[Moyens de prévention]]),\"\",CONCATENATE(Risque[[#This Row],[Moyens de prévention]],1))","v":""},null,null,null,null,null,{"$f":"IF(ISBLANK(Risque[[#This Row],[Catégorie de risque]]),\"\",CONCATENATE(Risque[[#This Row],[Catégorie de risque]],3))","v":""},null,null,null,{"$f":"IF(ISBLANK(Risque[[#This Row],[Catégorie de risque]]),\"\",CONCATENATE(Risque[[#This Row],[Catégorie de risque]],4))","v":""},null,null,null,null,null,{"$f":"IF(Risque[[#This Row],[Date d''inscription du risque]]<>\"\",YEAR(Risque[[#This Row],[Date d''inscription du risque]]),\"\")","v":""}]
[null,null,{"$f":"IF(ISBLANK(Risque[[#This Row],[Catégorie de risque]]),\"\",CONCATENATE(Risque[[#This Row],[Catégorie de risque]],1))","v":""},null,null,null,null,null,{"$f":"IF(ISBLANK(Risque[[#This Row],[Catégorie de risque]]),\"\",IF(OR(ISNUMBER(SEARCH(\"RZ\",Risque[[#This Row],[Source de danger]]))=TRUE,ISNUMBER(SEARCH(\"RP\",Risque[[#This Row],[Source de danger]]))=TRUE,ISNUMBER(SEARCH(\"RZ\",Risque[[#This Row],[Risques associés]]))=TRUE,ISNUMBER(SEARCH(\"RP\",Risque[[#This Row],[Risques associés]]))=TRUE,ISNUMBER(SEARCH(\"RZ\",Risque[[#This Row],[Précision du risque\n(si liste déroulante présente)]]))=TRUE,ISNUMBER(SEARCH(\"RP\",Risque[[#This Row],[Précision du risque\n(si liste déroulante présente)]]))=TRUE),\"Oui --> Priorité d'action\",\"Non\"))","v":""},null,null,null,null,{"$f":"IF(ISBLANK(Risque[[#This Row],[Catégorie de risque]]),\"\",CONCATENATE(Risque[[#This Row],[Catégorie de risque]],2))","v":""},null,{"$f":"IF(ISBLANK(Risque[[#This Row],[Moyens de prévention]]),\"\",CONCATENATE(Risque[[#This Row],[Moyens de prévention]],1))","v":""},null,null,null,null,null,{"$f":"IF(ISBLANK(Risque[[#This Row],[Catégorie de risque]]),\"\",CONCATENATE(Risque[[#This Row],[Catégorie de risque]],3))","v":""},null,null,null,{"$f":"IF(ISBLANK(Risque[[#This Row],[Catégorie de risque]]),\"\",CONCATENATE(Risque[[#This Row],[Catégorie de risque]],4))","v":""},null,null,null,null,null,{"$f":"IF(Risque[[#This Row],[Date d''inscription du risque]]<>\"\",YEAR(Risque[[#This Row],[Date d''inscription du risque]]),\"\")","v":""}]
[null,null,{"$f":"IF(ISBLANK(Risque[[#This Row],[Catégorie de risque]]),\"\",CONCATENATE(Risque[[#This Row],[Catégorie de risque]],1))","v":""},null,null,null,null,null,{"$f":"IF(ISBLANK(Risque[[#This Row],[Catégorie de risque]]),\"\",IF(OR(ISNUMBER(SEARCH(\"RZ\",Risque[[#This Row],[Source de danger]]))=TRUE,ISNUMBER(SEARCH(\"RP\",Risque[[#This Row],[Source de danger]]))=TRUE,ISNUMBER(SEARCH(\"RZ\",Risque[[#This Row],[Risques associés]]))=TRUE,ISNUMBER(SEARCH(\"RP\",Risque[[#This Row],[Risques associés]]))=TRUE,ISNUMBER(SEARCH(\"RZ\",Risque[[#This Row],[Précision du risque\n(si liste déroulante présente)]]))=TRUE,ISNUMBER(SEARCH(\"RP\",Risque[[#This Row],[Précision du risque\n(si liste déroulante présente)]]))=TRUE),\"Oui --> Priorité d'action\",\"Non\"))","v":""},null,null,null,null,{"$f":"IF(ISBLANK(Risque[[#This Row],[Catégorie de risque]]),\"\",CONCATENATE(Risque[[#This Row],[Catégorie de risque]],2))","v":""},null,{"$f":"IF(ISBLANK(Risque[[#This Row],[Moyens de prévention]]),\"\",CONCATENATE(Risque[[#This Row],[Moyens de prévention]],1))","v":""},null,null,null,null,null,{"$f":"IF(ISBLANK(Risque[[#This Row],[Catégorie de risque]]),\"\",CONCATENATE(Risque[[#This Row],[Catégorie de risque]],3))","v":""},null,null,null,{"$f":"IF(ISBLANK(Risque[[#This Row],[Catégorie de risque]]),\"\",CONCATENATE(Risque[[#This Row],[Catégorie de risque]],4))","v":""},null,null,null,null,null,{"$f":"IF(Risque[[#This Row],[Date d''inscription du risque]]<>\"\",YEAR(Risque[[#This Row],[Date d''inscription du risque]]),\"\")","v":""}]
[null,null,{"$f":"IF(ISBLANK(Risque[[#This Row],[Catégorie de risque]]),\"\",CONCATENATE(Risque[[#This Row],[Catégorie de risque]],1))","v":""},null,null,null,null,null,{"$f":"IF(ISBLANK(Risque[[#This Row],[Catégorie de risque]]),\"\",IF(OR(ISNUMBER(SEARCH(\"RZ\",Risque[[#This Row],[Source de danger]]))=TRUE,ISNUMBER(SEARCH(\"RP\",Risque[[#This Row],[Source de danger]]))=TRUE,ISNUMBER(SEARCH(\"RZ\",Risque[[#This Row],[Risques associés]]))=TRUE,ISNUMBER(SEARCH(\"RP\",Risque[[#This Row],[Risques associés]]))=TRUE,ISNUMBER(SEARCH(\"RZ\",Risque[[#This Row],[Précision du risque\n(si liste déroulante présente)]]))=TRUE,ISNUMBER(SEARCH(\"RP\",Risque[[#This Row],[Précision du risque\n(si liste déroulante présente)]]))=TRUE),\"Oui --> Priorité d'action\",\"Non\"))","v":""},null,null,null,null,{"$f":"IF(ISBLANK(Risque[[#This Row],[Catégorie de risque]]),\"\",CONCATENATE(Risque[[#This Row],[Catégorie de risque]],2))","v":""},null,{"$f":"IF(ISBLANK(Risque[[#This Row],[Moyens de prévention]]),\"\",CONCATENATE(Risque[[#This Row],[Moyens de prévention]],1))","v":""},null,null,null,null,null,{"$f":"IF(ISBLANK(Risque[[#This Row],[Catégorie de risque]]),\"\",CONCATENATE(Risque[[#This Row],[Catégorie de risque]],3))","v":""},null,null,null,{"$f":"IF(ISBLANK(Risque[[#This Row],[Catégorie de risque]]),\"\",CONCATENATE(Risque[[#This Row],[Catégorie de risque]],4))","v":""},null,null,null,null,null,{"$f":"IF(Risque[[#This Row],[Date d''inscription du risque]]<>\"\",YEAR(Risque[[#This Row],[Date d''inscription du risque]]),\"\")","v":""}]
[null,null,{"$f":"IF(ISBLANK(Risque[[#This Row],[Catégorie de risque]]),\"\",CONCATENATE(Risque[[#This Row],[Catégorie de risque]],1))","v":""},null,null,null,null,null,{"$f":"IF(ISBLANK(Risque[[#This Row],[Catégorie de risque]]),\"\",IF(OR(ISNUMBER(SEARCH(\"RZ\",Risque[[#This Row],[Source de danger]]))=TRUE,ISNUMBER(SEARCH(\"RP\",Risque[[#This Row],[Source de danger]]))=TRUE,ISNUMBER(SEARCH(\"RZ\",Risque[[#This Row],[Risques associés]]))=TRUE,ISNUMBER(SEARCH(\"RP\",Risque[[#This Row],[Risques associés]]))=TRUE,ISNUMBER(SEARCH(\"RZ\",Risque[[#This Row],[Précision du risque\n(si liste déroulante présente)]]))=TRUE,ISNUMBER(SEARCH(\"RP\",Risque[[#This Row],[Précision du risque\n(si liste déroulante présente)]]))=TRUE),\"Oui --> Priorité d'action\",\"Non\"))","v":""},null,null,null,null,{"$f":"IF(ISBLANK(Risque[[#This Row],[Catégorie de risque]]),\"\",CONCATENATE(Risque[[#This Row],[Catégorie de risque]],2))","v":""},null,{"$f":"IF(ISBLANK(Risque[[#This Row],[Moyens de prévention]]),\"\",CONCATENATE(Risque[[#This Row],[Moyens de prévention]],1))","v":""},null,null,null,null,null,{"$f":"IF(ISBLANK(Risque[[#This Row],[Catégorie de risque]]),\"\",CONCATENATE(Risque[[#This Row],[Catégorie de risque]],3))","v":""},null,null,null,{"$f":"IF(ISBLANK(Risque[[#This Row],[Catégorie de risque]]),\"\",CONCATENATE(Risque[[#This Row],[Catégorie de risque]],4))","v":""},null,null,null,null,null,{"$f":"IF(Risque[[#This Row],[Date d''inscription du risque]]<>\"\",YEAR(Risque[[#This Row],[Date d''inscription du risque]]),\"\")","v":""}]
[null,null,{"$f":"IF(ISBLANK(Risque[[#This Row],[Catégorie de risque]]),\"\",CONCATENATE(Risque[[#This Row],[Catégorie de risque]],1))","v":""},null,null,null,null,null,{"$f":"IF(ISBLANK(Risque[[#This Row],[Catégorie de risque]]),\"\",IF(OR(ISNUMBER(SEARCH(\"RZ\",Risque[[#This Row],[Source de danger]]))=TRUE,ISNUMBER(SEARCH(\"RP\",Risque[[#This Row],[Source de danger]]))=TRUE,ISNUMBER(SEARCH(\"RZ\",Risque[[#This Row],[Risques associés]]))=TRUE,ISNUMBER(SEARCH(\"RP\",Risque[[#This Row],[Risques associés]]))=TRUE,ISNUMBER(SEARCH(\"RZ\",Risque[[#This Row],[Précision du risque\n(si liste déroulante présente)]]))=TRUE,ISNUMBER(SEARCH(\"RP\",Risque[[#This Row],[Précision du risque\n(si liste déroulante présente)]]))=TRUE),\"Oui --> Priorité d'action\",\"Non\"))","v":""},null,null,null,null,{"$f":"IF(ISBLANK(Risque[[#This Row],[Catégorie de risque]]),\"\",CONCATENATE(Risque[[#This Row],[Catégorie de risque]],2))","v":""},null,{"$f":"IF(ISBLANK(Risque[[#This Row],[Moyens de prévention]]),\"\",CONCATENATE(Risque[[#This Row],[Moyens de prévention]],1))","v":""},null,null,null,null,null,{"$f":"IF(ISBLANK(Risque[[#This Row],[Catégorie de risque]]),\"\",CONCATENATE(Risque[[#This Row],[Catégorie de risque]],3))","v":""},null,null,null,{"$f":"IF(ISBLANK(Risque[[#This Row],[Catégorie de risque]]),\"\",CONCATENATE(Risque[[#This Row],[Catégorie de risque]],4))","v":""},null,null,null,null,null,{"$f":"IF(Risque[[#This Row],[Date d''inscription du risque]]<>\"\",YEAR(Risque[[#This Row],[Date d''inscription du risque]]),\"\")","v":""}]
[null,null,{"$f":"IF(ISBLANK(Risque[[#This Row],[Catégorie de risque]]),\"\",CONCATENATE(Risque[[#This Row],[Catégorie de risque]],1))","v":""},null,null,null,null,null,{"$f":"IF(ISBLANK(Risque[[#This Row],[Catégorie de risque]]),\"\",IF(OR(ISNUMBER(SEARCH(\"RZ\",Risque[[#This Row],[Source de danger]]))=TRUE,ISNUMBER(SEARCH(\"RP\",Risque[[#This Row],[Source de danger]]))=TRUE,ISNUMBER(SEARCH(\"RZ\",Risque[[#This Row],[Risques associés]]))=TRUE,ISNUMBER(SEARCH(\"RP\",Risque[[#This Row],[Risques associés]]))=TRUE,ISNUMBER(SEARCH(\"RZ\",Risque[[#This Row],[Précision du risque\n(si liste déroulante présente)]]))=TRUE,ISNUMBER(SEARCH(\"RP\",Risque[[#This Row],[Précision du risque\n(si liste déroulante présente)]]))=TRUE),\"Oui --> Priorité d'action\",\"Non\"))","v":""},null,null,null,null,{"$f":"IF(ISBLANK(Risque[[#This Row],[Catégorie de risque]]),\"\",CONCATENATE(Risque[[#This Row],[Catégorie de risque]],2))","v":""},null,{"$f":"IF(ISBLANK(Risque[[#This Row],[Moyens de prévention]]),\"\",CONCATENATE(Risque[[#This Row],[Moyens de prévention]],1))","v":""},null,null,null,null,null,{"$f":"IF(ISBLANK(Risque[[#This Row],[Catégorie de risque]]),\"\",CONCATENATE(Risque[[#This Row],[Catégorie de risque]],3))","v":""},null,null,null,{"$f":"IF(ISBLANK(Risque[[#This Row],[Catégorie de risque]]),\"\",CONCATENATE(Risque[[#This Row],[Catégorie de risque]],4))","v":""},null,null,null,null,null,{"$f":"IF(Risque[[#This Row],[Date d''inscription du risque]]<>\"\",YEAR(Risque[[#This Row],[Date d''inscription du risque]]),\"\")","v":""}]
[null,null,{"$f":"IF(ISBLANK(Risque[[#This Row],[Catégorie de risque]]),\"\",CONCATENATE(Risque[[#This Row],[Catégorie de risque]],1))","v":""},null,null,null,null,null,{"$f":"IF(ISBLANK(Risque[[#This Row],[Catégorie de risque]]),\"\",IF(OR(ISNUMBER(SEARCH(\"RZ\",Risque[[#This Row],[Source de danger]]))=TRUE,ISNUMBER(SEARCH(\"RP\",Risque[[#This Row],[Source de danger]]))=TRUE,ISNUMBER(SEARCH(\"RZ\",Risque[[#This Row],[Risques associés]]))=TRUE,ISNUMBER(SEARCH(\"RP\",Risque[[#This Row],[Risques associés]]))=TRUE,ISNUMBER(SEARCH(\"RZ\",Risque[[#This Row],[Précision du risque\n(si liste déroulante présente)]]))=TRUE,ISNUMBER(SEARCH(\"RP\",Risque[[#This Row],[Précision du risque\n(si liste déroulante présente)]]))=TRUE),\"Oui --> Priorité d'action\",\"Non\"))","v":""},null,null,null,null,{"$f":"IF(ISBLANK(Risque[[#This Row],[Catégorie de risque]]),\"\",CONCATENATE(Risque[[#This Row],[Catégorie de risque]],2))","v":""},null,{"$f":"IF(ISBLANK(Risque[[#This Row],[Moyens de prévention]]),\"\",CONCATENATE(Risque[[#This Row],[Moyens de prévention]],1))","v":""},null,null,null,null,null,{"$f":"IF(ISBLANK(Risque[[#This Row],[Catégorie de risque]]),\"\",CONCATENATE(Risque[[#This Row],[Catégorie de risque]],3))","v":""},null,null,null,{"$f":"IF(ISBLANK(Risque[[#This Row],[Catégorie de risque]]),\"\",CONCATENATE(Risque[[#This Row],[Catégorie de risque]],4))","v":""},null,null,null,null,null,{"$f":"IF(Risque[[#This Row],[Date d''inscription du risque]]<>\"\",YEAR(Risque[[#This Row],[Date d''inscription du risque]]),\"\")","v":""}]
[null,null,{"$f":"IF(ISBLANK(Risque[[#This Row],[Catégorie de risque]]),\"\",CONCATENATE(Risque[[#This Row],[Catégorie de risque]],1))","v":""},null,null,null,null,null,{"$f":"IF(ISBLANK(Risque[[#This Row],[Catégorie de risque]]),\"\",IF(OR(ISNUMBER(SEARCH(\"RZ\",Risque[[#This Row],[Source de danger]]))=TRUE,ISNUMBER(SEARCH(\"RP\",Risque[[#This Row],[Source de danger]]))=TRUE,ISNUMBER(SEARCH(\"RZ\",Risque[[#This Row],[Risques associés]]))=TRUE,ISNUMBER(SEARCH(\"RP\",Risque[[#This Row],[Risques associés]]))=TRUE,ISNUMBER(SEARCH(\"RZ\",Risque[[#This Row],[Précision du risque\n(si liste déroulante présente)]]))=TRUE,ISNUMBER(SEARCH(\"RP\",Risque[[#This Row],[Précision du risque\n(si liste déroulante présente)]]))=TRUE),\"Oui --> Priorité d'action\",\"Non\"))","v":""},null,null,null,null,{"$f":"IF(ISBLANK(Risque[[#This Row],[Catégorie de risque]]),\"\",CONCATENATE(Risque[[#This Row],[Catégorie de risque]],2))","v":""},null,{"$f":"IF(ISBLANK(Risque[[#This Row],[Moyens de prévention]]),\"\",CONCATENATE(Risque[[#This Row],[Moyens de prévention]],1))","v":""},null,null,null,null,null,{"$f":"IF(ISBLANK(Risque[[#This Row],[Catégorie de risque]]),\"\",CONCATENATE(Risque[[#This Row],[Catégorie de risque]],3))","v":""},null,null,null,{"$f":"IF(ISBLANK(Risque[[#This Row],[Catégorie de risque]]),\"\",CONCATENATE(Risque[[#This Row],[Catégorie de risque]],4))","v":""},null,null,null,null,null,{"$f":"IF(Risque[[#This Row],[Date d''inscription du risque]]<>\"\",YEAR(Risque[[#This Row],[Date d''inscription du risque]]),\"\")","v":""}]
[null,null,{"$f":"IF(ISBLANK(Risque[[#This Row],[Catégorie de risque]]),\"\",CONCATENATE(Risque[[#This Row],[Catégorie de risque]],1))","v":""},null,null,null,null,null,{"$f":"IF(ISBLANK(Risque[[#This Row],[Catégorie de risque]]),\"\",IF(OR(ISNUMBER(SEARCH(\"RZ\",Risque[[#This Row],[Source de danger]]))=TRUE,ISNUMBER(SEARCH(\"RP\",Risque[[#This Row],[Source de danger]]))=TRUE,ISNUMBER(SEARCH(\"RZ\",Risque[[#This Row],[Risques associés]]))=TRUE,ISNUMBER(SEARCH(\"RP\",Risque[[#This Row],[Risques associés]]))=TRUE,ISNUMBER(SEARCH(\"RZ\",Risque[[#This Row],[Précision du risque\n(si liste déroulante présente)]]))=TRUE,ISNUMBER(SEARCH(\"RP\",Risque[[#This Row],[Précision du risque\n(si liste déroulante présente)]]))=TRUE),\"Oui --> Priorité d'action\",\"Non\"))","v":""},null,null,null,null,{"$f":"IF(ISBLANK(Risque[[#This Row],[Catégorie de risque]]),\"\",CONCATENATE(Risque[[#This Row],[Catégorie de risque]],2))","v":""},null,{"$f":"IF(ISBLANK(Risque[[#This Row],[Moyens de prévention]]),\"\",CONCATENATE(Risque[[#This Row],[Moyens de prévention]],1))","v":""},null,null,null,null,null,{"$f":"IF(ISBLANK(Risque[[#This Row],[Catégorie de risque]]),\"\",CONCATENATE(Risque[[#This Row],[Catégorie de risque]],3))","v":""},null,null,null,{"$f":"IF(ISBLANK(Risque[[#This Row],[Catégorie de risque]]),\"\",CONCATENATE(Risque[[#This Row],[Catégorie de risque]],4))","v":""},null,null,null,null,null,{"$f":"IF(Risque[[#This Row],[Date d''inscription du risque]]<>\"\",YEAR(Risque[[#This Row],[Date d''inscription du risque]]),\"\")","v":""}]
[null,null,{"$f":"IF(ISBLANK(Risque[[#This Row],[Catégorie de risque]]),\"\",CONCATENATE(Risque[[#This Row],[Catégorie de risque]],1))","v":""},null,null,null,null,null,{"$f":"IF(ISBLANK(Risque[[#This Row],[Catégorie de risque]]),\"\",IF(OR(ISNUMBER(SEARCH(\"RZ\",Risque[[#This Row],[Source de danger]]))=TRUE,ISNUMBER(SEARCH(\"RP\",Risque[[#This Row],[Source de danger]]))=TRUE,ISNUMBER(SEARCH(\"RZ\",Risque[[#This Row],[Risques associés]]))=TRUE,ISNUMBER(SEARCH(\"RP\",Risque[[#This Row],[Risques associés]]))=TRUE,ISNUMBER(SEARCH(\"RZ\",Risque[[#This Row],[Précision du risque\n(si liste déroulante présente)]]))=TRUE,ISNUMBER(SEARCH(\"RP\",Risque[[#This Row],[Précision du risque\n(si liste déroulante présente)]]))=TRUE),\"Oui --> Priorité d'action\",\"Non\"))","v":""},null,null,null,null,{"$f":"IF(ISBLANK(Risque[[#This Row],[Catégorie de risque]]),\"\",CONCATENATE(Risque[[#This Row],[Catégorie de risque]],2))","v":""},null,{"$f":"IF(ISBLANK(Risque[[#This Row],[Moyens de prévention]]),\"\",CONCATENATE(Risque[[#This Row],[Moyens de prévention]],1))","v":""},null,null,null,null,null,{"$f":"IF(ISBLANK(Risque[[#This Row],[Catégorie de risque]]),\"\",CONCATENATE(Risque[[#This Row],[Catégorie de risque]],3))","v":""},null,null,null,{"$f":"IF(ISBLANK(Risque[[#This Row],[Catégorie de risque]]),\"\",CONCATENATE(Risque[[#This Row],[Catégorie de risque]],4))","v":""},null,null,null,null,null,{"$f":"IF(Risque[[#This Row],[Date d''inscription du risque]]<>\"\",YEAR(Risque[[#This Row],[Date d''inscription du risque]]),\"\")","v":""}]
[null,null,{"$f":"IF(ISBLANK(Risque[[#This Row],[Catégorie de risque]]),\"\",CONCATENATE(Risque[[#This Row],[Catégorie de risque]],1))","v":""},null,null,null,null,null,{"$f":"IF(ISBLANK(Risque[[#This Row],[Catégorie de risque]]),\"\",IF(OR(ISNUMBER(SEARCH(\"RZ\",Risque[[#This Row],[Source de danger]]))=TRUE,ISNUMBER(SEARCH(\"RP\",Risque[[#This Row],[Source de danger]]))=TRUE,ISNUMBER(SEARCH(\"RZ\",Risque[[#This Row],[Risques associés]]))=TRUE,ISNUMBER(SEARCH(\"RP\",Risque[[#This Row],[Risques associés]]))=TRUE,ISNUMBER(SEARCH(\"RZ\",Risque[[#This Row],[Précision du risque\n(si liste déroulante présente)]]))=TRUE,ISNUMBER(SEARCH(\"RP\",Risque[[#This Row],[Précision du risque\n(si liste déroulante présente)]]))=TRUE),\"Oui --> Priorité d'action\",\"Non\"))","v":""},null,null,null,null,{"$f":"IF(ISBLANK(Risque[[#This Row],[Catégorie de risque]]),\"\",CONCATENATE(Risque[[#This Row],[Catégorie de risque]],2))","v":""},null,{"$f":"IF(ISBLANK(Risque[[#This Row],[Moyens de prévention]]),\"\",CONCATENATE(Risque[[#This Row],[Moyens de prévention]],1))","v":""},null,null,null,null,null,{"$f":"IF(ISBLANK(Risque[[#This Row],[Catégorie de risque]]),\"\",CONCATENATE(Risque[[#This Row],[Catégorie de risque]],3))","v":""},null,null,null,{"$f":"IF(ISBLANK(Risque[[#This Row],[Catégorie de risque]]),\"\",CONCATENATE(Risque[[#This Row],[Catégorie de risque]],4))","v":""},null,null,null,null,null,{"$f":"IF(Risque[[#This Row],[Date d''inscription du risque]]<>\"\",YEAR(Risque[[#This Row],[Date d''inscription du risque]]),\"\")","v":""}]
[null,null,{"$f":"IF(ISBLANK(Risque[[#This Row],[Catégorie de risque]]),\"\",CONCATENATE(Risque[[#This Row],[Catégorie de risque]],1))","v":""},null,null,null,null,null,{"$f":"IF(ISBLANK(Risque[[#This Row],[Catégorie de risque]]),\"\",IF(OR(ISNUMBER(SEARCH(\"RZ\",Risque[[#This Row],[Source de danger]]))=TRUE,ISNUMBER(SEARCH(\"RP\",Risque[[#This Row],[Source de danger]]))=TRUE,ISNUMBER(SEARCH(\"RZ\",Risque[[#This Row],[Risques associés]]))=TRUE,ISNUMBER(SEARCH(\"RP\",Risque[[#This Row],[Risques associés]]))=TRUE,ISNUMBER(SEARCH(\"RZ\",Risque[[#This Row],[Précision du risque\n(si liste déroulante présente)]]))=TRUE,ISNUMBER(SEARCH(\"RP\",Risque[[#This Row],[Précision du risque\n(si liste déroulante présente)]]))=TRUE),\"Oui --> Priorité d'action\",\"Non\"))","v":""},null,null,null,null,{"$f":"IF(ISBLANK(Risque[[#This Row],[Catégorie de risque]]),\"\",CONCATENATE(Risque[[#This Row],[Catégorie de risque]],2))","v":""},null,{"$f":"IF(ISBLANK(Risque[[#This Row],[Moyens de prévention]]),\"\",CONCATENATE(Risque[[#This Row],[Moyens de prévention]],1))","v":""},null,null,null,null,null,{"$f":"IF(ISBLANK(Risque[[#This Row],[Catégorie de risque]]),\"\",CONCATENATE(Risque[[#This Row],[Catégorie de risque]],3))","v":""},null,null,null,{"$f":"IF(ISBLANK(Risque[[#This Row],[Catégorie de risque]]),\"\",CONCATENATE(Risque[[#This Row],[Catégorie de risque]],4))","v":""},null,null,null,null,null,{"$f":"IF(Risque[[#This Row],[Date d''inscription du risque]]<>\"\",YEAR(Risque[[#This Row],[Date d''inscription du risque]]),\"\")","v":""}]
[null,null,{"$f":"IF(ISBLANK(Risque[[#This Row],[Catégorie de risque]]),\"\",CONCATENATE(Risque[[#This Row],[Catégorie de risque]],1))","v":""},null,null,null,null,null,{"$f":"IF(ISBLANK(Risque[[#This Row],[Catégorie de risque]]),\"\",IF(OR(ISNUMBER(SEARCH(\"RZ\",Risque[[#This Row],[Source de danger]]))=TRUE,ISNUMBER(SEARCH(\"RP\",Risque[[#This Row],[Source de danger]]))=TRUE,ISNUMBER(SEARCH(\"RZ\",Risque[[#This Row],[Risques associés]]))=TRUE,ISNUMBER(SEARCH(\"RP\",Risque[[#This Row],[Risques associés]]))=TRUE,ISNUMBER(SEARCH(\"RZ\",Risque[[#This Row],[Précision du risque\n(si liste déroulante présente)]]))=TRUE,ISNUMBER(SEARCH(\"RP\",Risque[[#This Row],[Précision du risque\n(si liste déroulante présente)]]))=TRUE),\"Oui --> Priorité d'action\",\"Non\"))","v":""},null,null,null,null,{"$f":"IF(ISBLANK(Risque[[#This Row],[Catégorie de risque]]),\"\",CONCATENATE(Risque[[#This Row],[Catégorie de risque]],2))","v":""},null,{"$f":"IF(ISBLANK(Risque[[#This Row],[Moyens de prévention]]),\"\",CONCATENATE(Risque[[#This Row],[Moyens de prévention]],1))","v":""},null,null,null,null,null,{"$f":"IF(ISBLANK(Risque[[#This Row],[Catégorie de risque]]),\"\",CONCATENATE(Risque[[#This Row],[Catégorie de risque]],3))","v":""},null,null,null,{"$f":"IF(ISBLANK(Risque[[#This Row],[Catégorie de risque]]),\"\",CONCATENATE(Risque[[#This Row],[Catégorie de risque]],4))","v":""},null,null,null,null,null,{"$f":"IF(Risque[[#This Row],[Date d''inscription du risque]]<>\"\",YEAR(Risque[[#This Row],[Date d''inscription du risque]]),\"\")","v":""}]
[null,null,{"$f":"IF(ISBLANK(Risque[[#This Row],[Catégorie de risque]]),\"\",CONCATENATE(Risque[[#This Row],[Catégorie de risque]],1))","v":""},null,null,null,null,null,{"$f":"IF(ISBLANK(Risque[[#This Row],[Catégorie de risque]]),\"\",IF(OR(ISNUMBER(SEARCH(\"RZ\",Risque[[#This Row],[Source de danger]]))=TRUE,ISNUMBER(SEARCH(\"RP\",Risque[[#This Row],[Source de danger]]))=TRUE,ISNUMBER(SEARCH(\"RZ\",Risque[[#This Row],[Risques associés]]))=TRUE,ISNUMBER(SEARCH(\"RP\",Risque[[#This Row],[Risques associés]]))=TRUE,ISNUMBER(SEARCH(\"RZ\",Risque[[#This Row],[Précision du risque\n(si liste déroulante présente)]]))=TRUE,ISNUMBER(SEARCH(\"RP\",Risque[[#This Row],[Précision du risque\n(si liste déroulante présente)]]))=TRUE),\"Oui --> Priorité d'action\",\"Non\"))","v":""},null,null,null,null,{"$f":"IF(ISBLANK(Risque[[#This Row],[Catégorie de risque]]),\"\",CONCATENATE(Risque[[#This Row],[Catégorie de risque]],2))","v":""},null,{"$f":"IF(ISBLANK(Risque[[#This Row],[Moyens de prévention]]),\"\",CONCATENATE(Risque[[#This Row],[Moyens de prévention]],1))","v":""},null,null,null,null,null,{"$f":"IF(ISBLANK(Risque[[#This Row],[Catégorie de risque]]),\"\",CONCATENATE(Risque[[#This Row],[Catégorie de risque]],3))","v":""},null,null,null,{"$f":"IF(ISBLANK(Risque[[#This Row],[Catégorie de risque]]),\"\",CONCATENATE(Risque[[#This Row],[Catégorie de risque]],4))","v":""},null,null,null,null,null,{"$f":"IF(Risque[[#This Row],[Date d''inscription du risque]]<>\"\",YEAR(Risque[[#This Row],[Date d''inscription du risque]]),\"\")","v":""}]
[null,null,{"$f":"IF(ISBLANK(Risque[[#This Row],[Catégorie de risque]]),\"\",CONCATENATE(Risque[[#This Row],[Catégorie de risque]],1))","v":""},null,null,null,null,null,{"$f":"IF(ISBLANK(Risque[[#This Row],[Catégorie de risque]]),\"\",IF(OR(ISNUMBER(SEARCH(\"RZ\",Risque[[#This Row],[Source de danger]]))=TRUE,ISNUMBER(SEARCH(\"RP\",Risque[[#This Row],[Source de danger]]))=TRUE,ISNUMBER(SEARCH(\"RZ\",Risque[[#This Row],[Risques associés]]))=TRUE,ISNUMBER(SEARCH(\"RP\",Risque[[#This Row],[Risques associés]]))=TRUE,ISNUMBER(SEARCH(\"RZ\",Risque[[#This Row],[Précision du risque\n(si liste déroulante présente)]]))=TRUE,ISNUMBER(SEARCH(\"RP\",Risque[[#This Row],[Précision du risque\n(si liste déroulante présente)]]))=TRUE),\"Oui --> Priorité d'action\",\"Non\"))","v":""},null,null,null,null,{"$f":"IF(ISBLANK(Risque[[#This Row],[Catégorie de risque]]),\"\",CONCATENATE(Risque[[#This Row],[Catégorie de risque]],2))","v":""},null,{"$f":"IF(ISBLANK(Risque[[#This Row],[Moyens de prévention]]),\"\",CONCATENATE(Risque[[#This Row],[Moyens de prévention]],1))","v":""},null,null,null,null,null,{"$f":"IF(ISBLANK(Risque[[#This Row],[Catégorie de risque]]),\"\",CONCATENATE(Risque[[#This Row],[Catégorie de risque]],3))","v":""},null,null,null,{"$f":"IF(ISBLANK(Risque[[#This Row],[Catégorie de risque]]),\"\",CONCATENATE(Risque[[#This Row],[Catégorie de risque]],4))","v":""},null,null,null,null,null,{"$f":"IF(Risque[[#This Row],[Date d''inscription du risque]]<>\"\",YEAR(Risque[[#This Row],[Date d''inscription du risque]]),\"\")","v":""}]
[null,null,{"$f":"IF(ISBLANK(Risque[[#This Row],[Catégorie de risque]]),\"\",CONCATENATE(Risque[[#This Row],[Catégorie de risque]],1))","v":""},null,null,null,null,null,{"$f":"IF(ISBLANK(Risque[[#This Row],[Catégorie de risque]]),\"\",IF(OR(ISNUMBER(SEARCH(\"RZ\",Risque[[#This Row],[Source de danger]]))=TRUE,ISNUMBER(SEARCH(\"RP\",Risque[[#This Row],[Source de danger]]))=TRUE,ISNUMBER(SEARCH(\"RZ\",Risque[[#This Row],[Risques associés]]))=TRUE,ISNUMBER(SEARCH(\"RP\",Risque[[#This Row],[Risques associés]]))=TRUE,ISNUMBER(SEARCH(\"RZ\",Risque[[#This Row],[Précision du risque\n(si liste déroulante présente)]]))=TRUE,ISNUMBER(SEARCH(\"RP\",Risque[[#This Row],[Précision du risque\n(si liste déroulante présente)]]))=TRUE),\"Oui --> Priorité d'action\",\"Non\"))","v":""},null,null,null,null,{"$f":"IF(ISBLANK(Risque[[#This Row],[Catégorie de risque]]),\"\",CONCATENATE(Risque[[#This Row],[Catégorie de risque]],2))","v":""},null,{"$f":"IF(ISBLANK(Risque[[#This Row],[Moyens de prévention]]),\"\",CONCATENATE(Risque[[#This Row],[Moyens de prévention]],1))","v":""},null,null,null,null,null,{"$f":"IF(ISBLANK(Risque[[#This Row],[Catégorie de risque]]),\"\",CONCATENATE(Risque[[#This Row],[Catégorie de risque]],3))","v":""},null,null,null,{"$f":"IF(ISBLANK(Risque[[#This Row],[Catégorie de risque]]),\"\",CONCATENATE(Risque[[#This Row],[Catégorie de risque]],4))","v":""},null,null,null,null,null,{"$f":"IF(Risque[[#This Row],[Date d''inscription du risque]]<>\"\",YEAR(Risque[[#This Row],[Date d''inscription du risque]]),\"\")","v":""}]
[null,null,{"$f":"IF(ISBLANK(Risque[[#This Row],[Catégorie de risque]]),\"\",CONCATENATE(Risque[[#This Row],[Catégorie de risque]],1))","v":""},null,null,null,null,null,{"$f":"IF(ISBLANK(Risque[[#This Row],[Catégorie de risque]]),\"\",IF(OR(ISNUMBER(SEARCH(\"RZ\",Risque[[#This Row],[Source de danger]]))=TRUE,ISNUMBER(SEARCH(\"RP\",Risque[[#This Row],[Source de danger]]))=TRUE,ISNUMBER(SEARCH(\"RZ\",Risque[[#This Row],[Risques associés]]))=TRUE,ISNUMBER(SEARCH(\"RP\",Risque[[#This Row],[Risques associés]]))=TRUE,ISNUMBER(SEARCH(\"RZ\",Risque[[#This Row],[Précision du risque\n(si liste déroulante présente)]]))=TRUE,ISNUMBER(SEARCH(\"RP\",Risque[[#This Row],[Précision du risque\n(si liste déroulante présente)]]))=TRUE),\"Oui --> Priorité d'action\",\"Non\"))","v":""},null,null,null,null,{"$f":"IF(ISBLANK(Risque[[#This Row],[Catégorie de risque]]),\"\",CONCATENATE(Risque[[#This Row],[Catégorie de risque]],2))","v":""},null,{"$f":"IF(ISBLANK(Risque[[#This Row],[Moyens de prévention]]),\"\",CONCATENATE(Risque[[#This Row],[Moyens de prévention]],1))","v":""},null,null,null,null,null,{"$f":"IF(ISBLANK(Risque[[#This Row],[Catégorie de risque]]),\"\",CONCATENATE(Risque[[#This Row],[Catégorie de risque]],3))","v":""},null,null,null,{"$f":"IF(ISBLANK(Risque[[#This Row],[Catégorie de risque]]),\"\",CONCATENATE(Risque[[#This Row],[Catégorie de risque]],4))","v":""},null,null,null,null,null,{"$f":"IF(Risque[[#This Row],[Date d''inscription du risque]]<>\"\",YEAR(Risque[[#This Row],[Date d''inscription du risque]]),\"\")","v":""}]
[null,null,{"$f":"IF(ISBLANK(Risque[[#This Row],[Catégorie de risque]]),\"\",CONCATENATE(Risque[[#This Row],[Catégorie de risque]],1))","v":""},null,null,null,null,null,{"$f":"IF(ISBLANK(Risque[[#This Row],[Catégorie de risque]]),\"\",IF(OR(ISNUMBER(SEARCH(\"RZ\",Risque[[#This Row],[Source de danger]]))=TRUE,ISNUMBER(SEARCH(\"RP\",Risque[[#This Row],[Source de danger]]))=TRUE,ISNUMBER(SEARCH(\"RZ\",Risque[[#This Row],[Risques associés]]))=TRUE,ISNUMBER(SEARCH(\"RP\",Risque[[#This Row],[Risques associés]]))=TRUE,ISNUMBER(SEARCH(\"RZ\",Risque[[#This Row],[Précision du risque\n(si liste déroulante présente)]]))=TRUE,ISNUMBER(SEARCH(\"RP\",Risque[[#This Row],[Précision du risque\n(si liste déroulante présente)]]))=TRUE),\"Oui --> Priorité d'action\",\"Non\"))","v":""},null,null,null,null,{"$f":"IF(ISBLANK(Risque[[#This Row],[Catégorie de risque]]),\"\",CONCATENATE(Risque[[#This Row],[Catégorie de risque]],2))","v":""},null,{"$f":"IF(ISBLANK(Risque[[#This Row],[Moyens de prévention]]),\"\",CONCATENATE(Risque[[#This Row],[Moyens de prévention]],1))","v":""},null,null,null,null,null,{"$f":"IF(ISBLANK(Risque[[#This Row],[Catégorie de risque]]),\"\",CONCATENATE(Risque[[#This Row],[Catégorie de risque]],3))","v":""},null,null,null,{"$f":"IF(ISBLANK(Risque[[#This Row],[Catégorie de risque]]),\"\",CONCATENATE(Risque[[#This Row],[Catégorie de risque]],4))","v":""},null,null,null,null,null,{"$f":"IF(Risque[[#This Row],[Date d''inscription du risque]]<>\"\",YEAR(Risque[[#This Row],[Date d''inscription du risque]]),\"\")","v":""}]
[null,null,{"$f":"IF(ISBLANK(Risque[[#This Row],[Catégorie de risque]]),\"\",CONCATENATE(Risque[[#This Row],[Catégorie de risque]],1))","v":""},null,null,null,null,null,{"$f":"IF(ISBLANK(Risque[[#This Row],[Catégorie de risque]]),\"\",IF(OR(ISNUMBER(SEARCH(\"RZ\",Risque[[#This Row],[Source de danger]]))=TRUE,ISNUMBER(SEARCH(\"RP\",Risque[[#This Row],[Source de danger]]))=TRUE,ISNUMBER(SEARCH(\"RZ\",Risque[[#This Row],[Risques associés]]))=TRUE,ISNUMBER(SEARCH(\"RP\",Risque[[#This Row],[Risques associés]]))=TRUE,ISNUMBER(SEARCH(\"RZ\",Risque[[#This Row],[Précision du risque\n(si liste déroulante présente)]]))=TRUE,ISNUMBER(SEARCH(\"RP\",Risque[[#This Row],[Précision du risque\n(si liste déroulante présente)]]))=TRUE),\"Oui --> Priorité d'action\",\"Non\"))","v":""},null,null,null,null,{"$f":"IF(ISBLANK(Risque[[#This Row],[Catégorie de risque]]),\"\",CONCATENATE(Risque[[#This Row],[Catégorie de risque]],2))","v":""},null,{"$f":"IF(ISBLANK(Risque[[#This Row],[Moyens de prévention]]),\"\",CONCATENATE(Risque[[#This Row],[Moyens de prévention]],1))","v":""},null,null,null,null,null,{"$f":"IF(ISBLANK(Risque[[#This Row],[Catégorie de risque]]),\"\",CONCATENATE(Risque[[#This Row],[Catégorie de risque]],3))","v":""},null,null,null,{"$f":"IF(ISBLANK(Risque[[#This Row],[Catégorie de risque]]),\"\",CONCATENATE(Risque[[#This Row],[Catégorie de risque]],4))","v":""},null,null,null,null,null,{"$f":"IF(Risque[[#This Row],[Date d''inscription du risque]]<>\"\",YEAR(Risque[[#This Row],[Date d''inscription du risque]]),\"\")","v":""}]
[null,null,{"$f":"IF(ISBLANK(Risque[[#This Row],[Catégorie de risque]]),\"\",CONCATENATE(Risque[[#This Row],[Catégorie de risque]],1))","v":""},null,null,null,null,null,{"$f":"IF(ISBLANK(Risque[[#This Row],[Catégorie de risque]]),\"\",IF(OR(ISNUMBER(SEARCH(\"RZ\",Risque[[#This Row],[Source de danger]]))=TRUE,ISNUMBER(SEARCH(\"RP\",Risque[[#This Row],[Source de danger]]))=TRUE,ISNUMBER(SEARCH(\"RZ\",Risque[[#This Row],[Risques associés]]))=TRUE,ISNUMBER(SEARCH(\"RP\",Risque[[#This Row],[Risques associés]]))=TRUE,ISNUMBER(SEARCH(\"RZ\",Risque[[#This Row],[Précision du risque\n(si liste déroulante présente)]]))=TRUE,ISNUMBER(SEARCH(\"RP\",Risque[[#This Row],[Précision du risque\n(si liste déroulante présente)]]))=TRUE),\"Oui --> Priorité d'action\",\"Non\"))","v":""},null,null,null,null,{"$f":"IF(ISBLANK(Risque[[#This Row],[Catégorie de risque]]),\"\",CONCATENATE(Risque[[#This Row],[Catégorie de risque]],2))","v":""},null,{"$f":"IF(ISBLANK(Risque[[#This Row],[Moyens de prévention]]),\"\",CONCATENATE(Risque[[#This Row],[Moyens de prévention]],1))","v":""},null,null,null,null,null,{"$f":"IF(ISBLANK(Risque[[#This Row],[Catégorie de risque]]),\"\",CONCATENATE(Risque[[#This Row],[Catégorie de risque]],3))","v":""},null,null,null,{"$f":"IF(ISBLANK(Risque[[#This Row],[Catégorie de risque]]),\"\",CONCATENATE(Risque[[#This Row],[Catégorie de risque]],4))","v":""},null,null,null,null,null,{"$f":"IF(Risque[[#This Row],[Date d''inscription du risque]]<>\"\",YEAR(Risque[[#This Row],[Date d''inscription du risque]]),\"\")","v":""}]
[null,null,{"$f":"IF(ISBLANK(Risque[[#This Row],[Catégorie de risque]]),\"\",CONCATENATE(Risque[[#This Row],[Catégorie de risque]],1))","v":""},null,null,null,null,null,{"$f":"IF(ISBLANK(Risque[[#This Row],[Catégorie de risque]]),\"\",IF(OR(ISNUMBER(SEARCH(\"RZ\",Risque[[#This Row],[Source de danger]]))=TRUE,ISNUMBER(SEARCH(\"RP\",Risque[[#This Row],[Source de danger]]))=TRUE,ISNUMBER(SEARCH(\"RZ\",Risque[[#This Row],[Risques associés]]))=TRUE,ISNUMBER(SEARCH(\"RP\",Risque[[#This Row],[Risques associés]]))=TRUE,ISNUMBER(SEARCH(\"RZ\",Risque[[#This Row],[Précision du risque\n(si liste déroulante présente)]]))=TRUE,ISNUMBER(SEARCH(\"RP\",Risque[[#This Row],[Précision du risque\n(si liste déroulante présente)]]))=TRUE),\"Oui --> Priorité d'action\",\"Non\"))","v":""},null,null,null,null,{"$f":"IF(ISBLANK(Risque[[#This Row],[Catégorie de risque]]),\"\",CONCATENATE(Risque[[#This Row],[Catégorie de risque]],2))","v":""},null,{"$f":"IF(ISBLANK(Risque[[#This Row],[Moyens de prévention]]),\"\",CONCATENATE(Risque[[#This Row],[Moyens de prévention]],1))","v":""},null,null,null,null,null,{"$f":"IF(ISBLANK(Risque[[#This Row],[Catégorie de risque]]),\"\",CONCATENATE(Risque[[#This Row],[Catégorie de risque]],3))","v":""},null,null,null,{"$f":"IF(ISBLANK(Risque[[#This Row],[Catégorie de risque]]),\"\",CONCATENATE(Risque[[#This Row],[Catégorie de risque]],4))","v":""},null,null,null,null,null,{"$f":"IF(Risque[[#This Row],[Date d''inscription du risque]]<>\"\",YEAR(Risque[[#This Row],[Date d''inscription du risque]]),\"\")","v":""}]
[null,null,{"$f":"IF(ISBLANK(Risque[[#This Row],[Catégorie de risque]]),\"\",CONCATENATE(Risque[[#This Row],[Catégorie de risque]],1))","v":""},null,null,null,null,null,{"$f":"IF(ISBLANK(Risque[[#This Row],[Catégorie de risque]]),\"\",IF(OR(ISNUMBER(SEARCH(\"RZ\",Risque[[#This Row],[Source de danger]]))=TRUE,ISNUMBER(SEARCH(\"RP\",Risque[[#This Row],[Source de danger]]))=TRUE,ISNUMBER(SEARCH(\"RZ\",Risque[[#This Row],[Risques associés]]))=TRUE,ISNUMBER(SEARCH(\"RP\",Risque[[#This Row],[Risques associés]]))=TRUE,ISNUMBER(SEARCH(\"RZ\",Risque[[#This Row],[Précision du risque\n(si liste déroulante présente)]]))=TRUE,ISNUMBER(SEARCH(\"RP\",Risque[[#This Row],[Précision du risque\n(si liste déroulante présente)]]))=TRUE),\"Oui --> Priorité d'action\",\"Non\"))","v":""},null,null,null,null,{"$f":"IF(ISBLANK(Risque[[#This Row],[Catégorie de risque]]),\"\",CONCATENATE(Risque[[#This Row],[Catégorie de risque]],2))","v":""},null,{"$f":"IF(ISBLANK(Risque[[#This Row],[Moyens de prévention]]),\"\",CONCATENATE(Risque[[#This Row],[Moyens de prévention]],1))","v":""},null,null,null,null,null,{"$f":"IF(ISBLANK(Risque[[#This Row],[Catégorie de risque]]),\"\",CONCATENATE(Risque[[#This Row],[Catégorie de risque]],3))","v":""},null,null,null,{"$f":"IF(ISBLANK(Risque[[#This Row],[Catégorie de risque]]),\"\",CONCATENATE(Risque[[#This Row],[Catégorie de risque]],4))","v":""},null,null,null,null,null,{"$f":"IF(Risque[[#This Row],[Date d''inscription du risque]]<>\"\",YEAR(Risque[[#This Row],[Date d''inscription du risque]]),\"\")","v":""}]
[null,null,{"$f":"IF(ISBLANK(Risque[[#This Row],[Catégorie de risque]]),\"\",CONCATENATE(Risque[[#This Row],[Catégorie de risque]],1))","v":""},null,null,null,null,null,{"$f":"IF(ISBLANK(Risque[[#This Row],[Catégorie de risque]]),\"\",IF(OR(ISNUMBER(SEARCH(\"RZ\",Risque[[#This Row],[Source de danger]]))=TRUE,ISNUMBER(SEARCH(\"RP\",Risque[[#This Row],[Source de danger]]))=TRUE,ISNUMBER(SEARCH(\"RZ\",Risque[[#This Row],[Risques associés]]))=TRUE,ISNUMBER(SEARCH(\"RP\",Risque[[#This Row],[Risques associés]]))=TRUE,ISNUMBER(SEARCH(\"RZ\",Risque[[#This Row],[Précision du risque\n(si liste déroulante présente)]]))=TRUE,ISNUMBER(SEARCH(\"RP\",Risque[[#This Row],[Précision du risque\n(si liste déroulante présente)]]))=TRUE),\"Oui --> Priorité d'action\",\"Non\"))","v":""},null,null,null,null,{"$f":"IF(ISBLANK(Risque[[#This Row],[Catégorie de risque]]),\"\",CONCATENATE(Risque[[#This Row],[Catégorie de risque]],2))","v":""},null,{"$f":"IF(ISBLANK(Risque[[#This Row],[Moyens de prévention]]),\"\",CONCATENATE(Risque[[#This Row],[Moyens de prévention]],1))","v":""},null,null,null,null,null,{"$f":"IF(ISBLANK(Risque[[#This Row],[Catégorie de risque]]),\"\",CONCATENATE(Risque[[#This Row],[Catégorie de risque]],3))","v":""},null,null,null,{"$f":"IF(ISBLANK(Risque[[#This Row],[Catégorie de risque]]),\"\",CONCATENATE(Risque[[#This Row],[Catégorie de risque]],4))","v":""},null,null,null,null,null,{"$f":"IF(Risque[[#This Row],[Date d''inscription du risque]]<>\"\",YEAR(Risque[[#This Row],[Date d''inscription du risque]]),\"\")","v":""}]
[null,null,{"$f":"IF(ISBLANK(Risque[[#This Row],[Catégorie de risque]]),\"\",CONCATENATE(Risque[[#This Row],[Catégorie de risque]],1))","v":""},null,null,null,null,null,{"$f":"IF(ISBLANK(Risque[[#This Row],[Catégorie de risque]]),\"\",IF(OR(ISNUMBER(SEARCH(\"RZ\",Risque[[#This Row],[Source de danger]]))=TRUE,ISNUMBER(SEARCH(\"RP\",Risque[[#This Row],[Source de danger]]))=TRUE,ISNUMBER(SEARCH(\"RZ\",Risque[[#This Row],[Risques associés]]))=TRUE,ISNUMBER(SEARCH(\"RP\",Risque[[#This Row],[Risques associés]]))=TRUE,ISNUMBER(SEARCH(\"RZ\",Risque[[#This Row],[Précision du risque\n(si liste déroulante présente)]]))=TRUE,ISNUMBER(SEARCH(\"RP\",Risque[[#This Row],[Précision du risque\n(si liste déroulante présente)]]))=TRUE),\"Oui --> Priorité d'action\",\"Non\"))","v":""},null,null,null,null,{"$f":"IF(ISBLANK(Risque[[#This Row],[Catégorie de risque]]),\"\",CONCATENATE(Risque[[#This Row],[Catégorie de risque]],2))","v":""},null,{"$f":"IF(ISBLANK(Risque[[#This Row],[Moyens de prévention]]),\"\",CONCATENATE(Risque[[#This Row],[Moyens de prévention]],1))","v":""},null,null,null,null,null,{"$f":"IF(ISBLANK(Risque[[#This Row],[Catégorie de risque]]),\"\",CONCATENATE(Risque[[#This Row],[Catégorie de risque]],3))","v":""},null,null,null,{"$f":"IF(ISBLANK(Risque[[#This Row],[Catégorie de risque]]),\"\",CONCATENATE(Risque[[#This Row],[Catégorie de risque]],4))","v":""},null,null,null,null,null,{"$f":"IF(Risque[[#This Row],[Date d''inscription du risque]]<>\"\",YEAR(Risque[[#This Row],[Date d''inscription du risque]]),\"\")","v":""}]
[null,null,{"$f":"IF(ISBLANK(Risque[[#This Row],[Catégorie de risque]]),\"\",CONCATENATE(Risque[[#This Row],[Catégorie de risque]],1))","v":""},null,null,null,null,null,{"$f":"IF(ISBLANK(Risque[[#This Row],[Catégorie de risque]]),\"\",IF(OR(ISNUMBER(SEARCH(\"RZ\",Risque[[#This Row],[Source de danger]]))=TRUE,ISNUMBER(SEARCH(\"RP\",Risque[[#This Row],[Source de danger]]))=TRUE,ISNUMBER(SEARCH(\"RZ\",Risque[[#This Row],[Risques associés]]))=TRUE,ISNUMBER(SEARCH(\"RP\",Risque[[#This Row],[Risques associés]]))=TRUE,ISNUMBER(SEARCH(\"RZ\",Risque[[#This Row],[Précision du risque\n(si liste déroulante présente)]]))=TRUE,ISNUMBER(SEARCH(\"RP\",Risque[[#This Row],[Précision du risque\n(si liste déroulante présente)]]))=TRUE),\"Oui --> Priorité d'action\",\"Non\"))","v":""},null,null,null,null,{"$f":"IF(ISBLANK(Risque[[#This Row],[Catégorie de risque]]),\"\",CONCATENATE(Risque[[#This Row],[Catégorie de risque]],2))","v":""},null,{"$f":"IF(ISBLANK(Risque[[#This Row],[Moyens de prévention]]),\"\",CONCATENATE(Risque[[#This Row],[Moyens de prévention]],1))","v":""},null,null,null,null,null,{"$f":"IF(ISBLANK(Risque[[#This Row],[Catégorie de risque]]),\"\",CONCATENATE(Risque[[#This Row],[Catégorie de risque]],3))","v":""},null,null,null,{"$f":"IF(ISBLANK(Risque[[#This Row],[Catégorie de risque]]),\"\",CONCATENATE(Risque[[#This Row],[Catégorie de risque]],4))","v":""},null,null,null,null,null,{"$f":"IF(Risque[[#This Row],[Date d''inscription du risque]]<>\"\",YEAR(Risque[[#This Row],[Date d''inscription du risque]]),\"\")","v":""}]
[null,null,{"$f":"IF(ISBLANK(Risque[[#This Row],[Catégorie de risque]]),\"\",CONCATENATE(Risque[[#This Row],[Catégorie de risque]],1))","v":""},null,null,null,null,null,{"$f":"IF(ISBLANK(Risque[[#This Row],[Catégorie de risque]]),\"\",IF(OR(ISNUMBER(SEARCH(\"RZ\",Risque[[#This Row],[Source de danger]]))=TRUE,ISNUMBER(SEARCH(\"RP\",Risque[[#This Row],[Source de danger]]))=TRUE,ISNUMBER(SEARCH(\"RZ\",Risque[[#This Row],[Risques associés]]))=TRUE,ISNUMBER(SEARCH(\"RP\",Risque[[#This Row],[Risques associés]]))=TRUE,ISNUMBER(SEARCH(\"RZ\",Risque[[#This Row],[Précision du risque\n(si liste déroulante présente)]]))=TRUE,ISNUMBER(SEARCH(\"RP\",Risque[[#This Row],[Précision du risque\n(si liste déroulante présente)]]))=TRUE),\"Oui --> Priorité d'action\",\"Non\"))","v":""},null,null,null,null,{"$f":"IF(ISBLANK(Risque[[#This Row],[Catégorie de risque]]),\"\",CONCATENATE(Risque[[#This Row],[Catégorie de risque]],2))","v":""},null,{"$f":"IF(ISBLANK(Risque[[#This Row],[Moyens de prévention]]),\"\",CONCATENATE(Risque[[#This Row],[Moyens de prévention]],1))","v":""},null,null,null,null,null,{"$f":"IF(ISBLANK(Risque[[#This Row],[Catégorie de risque]]),\"\",CONCATENATE(Risque[[#This Row],[Catégorie de risque]],3))","v":""},null,null,null,{"$f":"IF(ISBLANK(Risque[[#This Row],[Catégorie de risque]]),\"\",CONCATENATE(Risque[[#This Row],[Catégorie de risque]],4))","v":""},null,null,null,null,null,{"$f":"IF(Risque[[#This Row],[Date d''inscription du risque]]<>\"\",YEAR(Risque[[#This Row],[Date d''inscription du risque]]),\"\")","v":""}]
[null,null,{"$f":"IF(ISBLANK(Risque[[#This Row],[Catégorie de risque]]),\"\",CONCATENATE(Risque[[#This Row],[Catégorie de risque]],1))","v":""},null,null,null,null,null,{"$f":"IF(ISBLANK(Risque[[#This Row],[Catégorie de risque]]),\"\",IF(OR(ISNUMBER(SEARCH(\"RZ\",Risque[[#This Row],[Source de danger]]))=TRUE,ISNUMBER(SEARCH(\"RP\",Risque[[#This Row],[Source de danger]]))=TRUE,ISNUMBER(SEARCH(\"RZ\",Risque[[#This Row],[Risques associés]]))=TRUE,ISNUMBER(SEARCH(\"RP\",Risque[[#This Row],[Risques associés]]))=TRUE,ISNUMBER(SEARCH(\"RZ\",Risque[[#This Row],[Précision du risque\n(si liste déroulante présente)]]))=TRUE,ISNUMBER(SEARCH(\"RP\",Risque[[#This Row],[Précision du risque\n(si liste déroulante présente)]]))=TRUE),\"Oui --> Priorité d'action\",\"Non\"))","v":""},null,null,null,null,{"$f":"IF(ISBLANK(Risque[[#This Row],[Catégorie de risque]]),\"\",CONCATENATE(Risque[[#This Row],[Catégorie de risque]],2))","v":""},null,{"$f":"IF(ISBLANK(Risque[[#This Row],[Moyens de prévention]]),\"\",CONCATENATE(Risque[[#This Row],[Moyens de prévention]],1))","v":""},null,null,null,null,null,{"$f":"IF(ISBLANK(Risque[[#This Row],[Catégorie de risque]]),\"\",CONCATENATE(Risque[[#This Row],[Catégorie de risque]],3))","v":""},null,null,null,{"$f":"IF(ISBLANK(Risque[[#This Row],[Catégorie de risque]]),\"\",CONCATENATE(Risque[[#This Row],[Catégorie de risque]],4))","v":""},null,null,null,null,null,{"$f":"IF(Risque[[#This Row],[Date d''inscription du risque]]<>\"\",YEAR(Risque[[#This Row],[Date d''inscription du risque]]),\"\")","v":""}]
[null,null,{"$f":"IF(ISBLANK(Risque[[#This Row],[Catégorie de risque]]),\"\",CONCATENATE(Risque[[#This Row],[Catégorie de risque]],1))","v":""},null,null,null,null,null,{"$f":"IF(ISBLANK(Risque[[#This Row],[Catégorie de risque]]),\"\",IF(OR(ISNUMBER(SEARCH(\"RZ\",Risque[[#This Row],[Source de danger]]))=TRUE,ISNUMBER(SEARCH(\"RP\",Risque[[#This Row],[Source de danger]]))=TRUE,ISNUMBER(SEARCH(\"RZ\",Risque[[#This Row],[Risques associés]]))=TRUE,ISNUMBER(SEARCH(\"RP\",Risque[[#This Row],[Risques associés]]))=TRUE,ISNUMBER(SEARCH(\"RZ\",Risque[[#This Row],[Précision du risque\n(si liste déroulante présente)]]))=TRUE,ISNUMBER(SEARCH(\"RP\",Risque[[#This Row],[Précision du risque\n(si liste déroulante présente)]]))=TRUE),\"Oui --> Priorité d'action\",\"Non\"))","v":""},null,null,null,null,{"$f":"IF(ISBLANK(Risque[[#This Row],[Catégorie de risque]]),\"\",CONCATENATE(Risque[[#This Row],[Catégorie de risque]],2))","v":""},null,{"$f":"IF(ISBLANK(Risque[[#This Row],[Moyens de prévention]]),\"\",CONCATENATE(Risque[[#This Row],[Moyens de prévention]],1))","v":""},null,null,null,null,null,{"$f":"IF(ISBLANK(Risque[[#This Row],[Catégorie de risque]]),\"\",CONCATENATE(Risque[[#This Row],[Catégorie de risque]],3))","v":""},null,null,null,{"$f":"IF(ISBLANK(Risque[[#This Row],[Catégorie de risque]]),\"\",CONCATENATE(Risque[[#This Row],[Catégorie de risque]],4))","v":""},null,null,null,null,null,{"$f":"IF(Risque[[#This Row],[Date d''inscription du risque]]<>\"\",YEAR(Risque[[#This Row],[Date d''inscription du risque]]),\"\")","v":""}]
[null,null,{"$f":"IF(ISBLANK(Risque[[#This Row],[Catégorie de risque]]),\"\",CONCATENATE(Risque[[#This Row],[Catégorie de risque]],1))","v":""},null,null,null,null,null,{"$f":"IF(ISBLANK(Risque[[#This Row],[Catégorie de risque]]),\"\",IF(OR(ISNUMBER(SEARCH(\"RZ\",Risque[[#This Row],[Source de danger]]))=TRUE,ISNUMBER(SEARCH(\"RP\",Risque[[#This Row],[Source de danger]]))=TRUE,ISNUMBER(SEARCH(\"RZ\",Risque[[#This Row],[Risques associés]]))=TRUE,ISNUMBER(SEARCH(\"RP\",Risque[[#This Row],[Risques associés]]))=TRUE,ISNUMBER(SEARCH(\"RZ\",Risque[[#This Row],[Précision du risque\n(si liste déroulante présente)]]))=TRUE,ISNUMBER(SEARCH(\"RP\",Risque[[#This Row],[Précision du risque\n(si liste déroulante présente)]]))=TRUE),\"Oui --> Priorité d'action\",\"Non\"))","v":""},null,null,null,null,{"$f":"IF(ISBLANK(Risque[[#This Row],[Catégorie de risque]]),\"\",CONCATENATE(Risque[[#This Row],[Catégorie de risque]],2))","v":""},null,{"$f":"IF(ISBLANK(Risque[[#This Row],[Moyens de prévention]]),\"\",CONCATENATE(Risque[[#This Row],[Moyens de prévention]],1))","v":""},null,null,null,null,null,{"$f":"IF(ISBLANK(Risque[[#This Row],[Catégorie de risque]]),\"\",CONCATENATE(Risque[[#This Row],[Catégorie de risque]],3))","v":""},null,null,null,{"$f":"IF(ISBLANK(Risque[[#This Row],[Catégorie de risque]]),\"\",CONCATENATE(Risque[[#This Row],[Catégorie de risque]],4))","v":""},null,null,null,null,null,{"$f":"IF(Risque[[#This Row],[Date d''inscription du risque]]<>\"\",YEAR(Risque[[#This Row],[Date d''inscription du risque]]),\"\")","v":""}]
[null,null,{"$f":"IF(ISBLANK(Risque[[#This Row],[Catégorie de risque]]),\"\",CONCATENATE(Risque[[#This Row],[Catégorie de risque]],1))","v":""},null,null,null,null,null,{"$f":"IF(ISBLANK(Risque[[#This Row],[Catégorie de risque]]),\"\",IF(OR(ISNUMBER(SEARCH(\"RZ\",Risque[[#This Row],[Source de danger]]))=TRUE,ISNUMBER(SEARCH(\"RP\",Risque[[#This Row],[Source de danger]]))=TRUE,ISNUMBER(SEARCH(\"RZ\",Risque[[#This Row],[Risques associés]]))=TRUE,ISNUMBER(SEARCH(\"RP\",Risque[[#This Row],[Risques associés]]))=TRUE,ISNUMBER(SEARCH(\"RZ\",Risque[[#This Row],[Précision du risque\n(si liste déroulante présente)]]))=TRUE,ISNUMBER(SEARCH(\"RP\",Risque[[#This Row],[Précision du risque\n(si liste déroulante présente)]]))=TRUE),\"Oui --> Priorité d'action\",\"Non\"))","v":""},null,null,null,null,{"$f":"IF(ISBLANK(Risque[[#This Row],[Catégorie de risque]]),\"\",CONCATENATE(Risque[[#This Row],[Catégorie de risque]],2))","v":""},null,{"$f":"IF(ISBLANK(Risque[[#This Row],[Moyens de prévention]]),\"\",CONCATENATE(Risque[[#This Row],[Moyens de prévention]],1))","v":""},null,null,null,null,null,{"$f":"IF(ISBLANK(Risque[[#This Row],[Catégorie de risque]]),\"\",CONCATENATE(Risque[[#This Row],[Catégorie de risque]],3))","v":""},null,null,null,{"$f":"IF(ISBLANK(Risque[[#This Row],[Catégorie de risque]]),\"\",CONCATENATE(Risque[[#This Row],[Catégorie de risque]],4))","v":""},null,null,null,null,null,{"$f":"IF(Risque[[#This Row],[Date d''inscription du risque]]<>\"\",YEAR(Risque[[#This Row],[Date d''inscription du risque]]),\"\")","v":""}]
[null,null,{"$f":"IF(ISBLANK(Risque[[#This Row],[Catégorie de risque]]),\"\",CONCATENATE(Risque[[#This Row],[Catégorie de risque]],1))","v":""},null,null,null,null,null,{"$f":"IF(ISBLANK(Risque[[#This Row],[Catégorie de risque]]),\"\",IF(OR(ISNUMBER(SEARCH(\"RZ\",Risque[[#This Row],[Source de danger]]))=TRUE,ISNUMBER(SEARCH(\"RP\",Risque[[#This Row],[Source de danger]]))=TRUE,ISNUMBER(SEARCH(\"RZ\",Risque[[#This Row],[Risques associés]]))=TRUE,ISNUMBER(SEARCH(\"RP\",Risque[[#This Row],[Risques associés]]))=TRUE,ISNUMBER(SEARCH(\"RZ\",Risque[[#This Row],[Précision du risque\n(si liste déroulante présente)]]))=TRUE,ISNUMBER(SEARCH(\"RP\",Risque[[#This Row],[Précision du risque\n(si liste déroulante présente)]]))=TRUE),\"Oui --> Priorité d'action\",\"Non\"))","v":""},null,null,null,null,{"$f":"IF(ISBLANK(Risque[[#This Row],[Catégorie de risque]]),\"\",CONCATENATE(Risque[[#This Row],[Catégorie de risque]],2))","v":""},null,{"$f":"IF(ISBLANK(Risque[[#This Row],[Moyens de prévention]]),\"\",CONCATENATE(Risque[[#This Row],[Moyens de prévention]],1))","v":""},null,null,null,null,null,{"$f":"IF(ISBLANK(Risque[[#This Row],[Catégorie de risque]]),\"\",CONCATENATE(Risque[[#This Row],[Catégorie de risque]],3))","v":""},null,null,null,{"$f":"IF(ISBLANK(Risque[[#This Row],[Catégorie de risque]]),\"\",CONCATENATE(Risque[[#This Row],[Catégorie de risque]],4))","v":""},null,null,null,null,null,{"$f":"IF(Risque[[#This Row],[Date d''inscription du risque]]<>\"\",YEAR(Risque[[#This Row],[Date d''inscription du risque]]),\"\")","v":""}]
[null,null,{"$f":"IF(ISBLANK(Risque[[#This Row],[Catégorie de risque]]),\"\",CONCATENATE(Risque[[#This Row],[Catégorie de risque]],1))","v":""},null,null,null,null,null,{"$f":"IF(ISBLANK(Risque[[#This Row],[Catégorie de risque]]),\"\",IF(OR(ISNUMBER(SEARCH(\"RZ\",Risque[[#This Row],[Source de danger]]))=TRUE,ISNUMBER(SEARCH(\"RP\",Risque[[#This Row],[Source de danger]]))=TRUE,ISNUMBER(SEARCH(\"RZ\",Risque[[#This Row],[Risques associés]]))=TRUE,ISNUMBER(SEARCH(\"RP\",Risque[[#This Row],[Risques associés]]))=TRUE,ISNUMBER(SEARCH(\"RZ\",Risque[[#This Row],[Précision du risque\n(si liste déroulante présente)]]))=TRUE,ISNUMBER(SEARCH(\"RP\",Risque[[#This Row],[Précision du risque\n(si liste déroulante présente)]]))=TRUE),\"Oui --> Priorité d'action\",\"Non\"))","v":""},null,null,null,null,{"$f":"IF(ISBLANK(Risque[[#This Row],[Catégorie de risque]]),\"\",CONCATENATE(Risque[[#This Row],[Catégorie de risque]],2))","v":""},null,{"$f":"IF(ISBLANK(Risque[[#This Row],[Moyens de prévention]]),\"\",CONCATENATE(Risque[[#This Row],[Moyens de prévention]],1))","v":""},null,null,null,null,null,{"$f":"IF(ISBLANK(Risque[[#This Row],[Catégorie de risque]]),\"\",CONCATENATE(Risque[[#This Row],[Catégorie de risque]],3))","v":""},null,null,null,{"$f":"IF(ISBLANK(Risque[[#This Row],[Catégorie de risque]]),\"\",CONCATENATE(Risque[[#This Row],[Catégorie de risque]],4))","v":""},null,null,null,null,null,{"$f":"IF(Risque[[#This Row],[Date d''inscription du risque]]<>\"\",YEAR(Risque[[#This Row],[Date d''inscription du risque]]),\"\")","v":""}]
[null,null,{"$f":"IF(ISBLANK(Risque[[#This Row],[Catégorie de risque]]),\"\",CONCATENATE(Risque[[#This Row],[Catégorie de risque]],1))","v":""},null,null,null,null,null,{"$f":"IF(ISBLANK(Risque[[#This Row],[Catégorie de risque]]),\"\",IF(OR(ISNUMBER(SEARCH(\"RZ\",Risque[[#This Row],[Source de danger]]))=TRUE,ISNUMBER(SEARCH(\"RP\",Risque[[#This Row],[Source de danger]]))=TRUE,ISNUMBER(SEARCH(\"RZ\",Risque[[#This Row],[Risques associés]]))=TRUE,ISNUMBER(SEARCH(\"RP\",Risque[[#This Row],[Risques associés]]))=TRUE,ISNUMBER(SEARCH(\"RZ\",Risque[[#This Row],[Précision du risque\n(si liste déroulante présente)]]))=TRUE,ISNUMBER(SEARCH(\"RP\",Risque[[#This Row],[Précision du risque\n(si liste déroulante présente)]]))=TRUE),\"Oui --> Priorité d'action\",\"Non\"))","v":""},null,null,null,null,{"$f":"IF(ISBLANK(Risque[[#This Row],[Catégorie de risque]]),\"\",CONCATENATE(Risque[[#This Row],[Catégorie de risque]],2))","v":""},null,{"$f":"IF(ISBLANK(Risque[[#This Row],[Moyens de prévention]]),\"\",CONCATENATE(Risque[[#This Row],[Moyens de prévention]],1))","v":""},null,null,null,null,null,{"$f":"IF(ISBLANK(Risque[[#This Row],[Catégorie de risque]]),\"\",CONCATENATE(Risque[[#This Row],[Catégorie de risque]],3))","v":""},null,null,null,{"$f":"IF(ISBLANK(Risque[[#This Row],[Catégorie de risque]]),\"\",CONCATENATE(Risque[[#This Row],[Catégorie de risque]],4))","v":""},null,null,null,null,null,{"$f":"IF(Risque[[#This Row],[Date d''inscription du risque]]<>\"\",YEAR(Risque[[#This Row],[Date d''inscription du risque]]),\"\")","v":""}]
[null,null,{"$f":"IF(ISBLANK(Risque[[#This Row],[Catégorie de risque]]),\"\",CONCATENATE(Risque[[#This Row],[Catégorie de risque]],1))","v":""},null,null,null,null,null,{"$f":"IF(ISBLANK(Risque[[#This Row],[Catégorie de risque]]),\"\",IF(OR(ISNUMBER(SEARCH(\"RZ\",Risque[[#This Row],[Source de danger]]))=TRUE,ISNUMBER(SEARCH(\"RP\",Risque[[#This Row],[Source de danger]]))=TRUE,ISNUMBER(SEARCH(\"RZ\",Risque[[#This Row],[Risques associés]]))=TRUE,ISNUMBER(SEARCH(\"RP\",Risque[[#This Row],[Risques associés]]))=TRUE,ISNUMBER(SEARCH(\"RZ\",Risque[[#This Row],[Précision du risque\n(si liste déroulante présente)]]))=TRUE,ISNUMBER(SEARCH(\"RP\",Risque[[#This Row],[Précision du risque\n(si liste déroulante présente)]]))=TRUE),\"Oui --> Priorité d'action\",\"Non\"))","v":""},null,null,null,null,{"$f":"IF(ISBLANK(Risque[[#This Row],[Catégorie de risque]]),\"\",CONCATENATE(Risque[[#This Row],[Catégorie de risque]],2))","v":""},null,{"$f":"IF(ISBLANK(Risque[[#This Row],[Moyens de prévention]]),\"\",CONCATENATE(Risque[[#This Row],[Moyens de prévention]],1))","v":""},null,null,null,null,null,{"$f":"IF(ISBLANK(Risque[[#This Row],[Catégorie de risque]]),\"\",CONCATENATE(Risque[[#This Row],[Catégorie de risque]],3))","v":""},null,null,null,{"$f":"IF(ISBLANK(Risque[[#This Row],[Catégorie de risque]]),\"\",CONCATENATE(Risque[[#This Row],[Catégorie de risque]],4))","v":""},null,null,null,null,null,{"$f":"IF(Risque[[#This Row],[Date d''inscription du risque]]<>\"\",YEAR(Risque[[#This Row],[Date d''inscription du risque]]),\"\")","v":""}]
[null,null,{"$f":"IF(ISBLANK(Risque[[#This Row],[Catégorie de risque]]),\"\",CONCATENATE(Risque[[#This Row],[Catégorie de risque]],1))","v":""},null,null,null,null,null,{"$f":"IF(ISBLANK(Risque[[#This Row],[Catégorie de risque]]),\"\",IF(OR(ISNUMBER(SEARCH(\"RZ\",Risque[[#This Row],[Source de danger]]))=TRUE,ISNUMBER(SEARCH(\"RP\",Risque[[#This Row],[Source de danger]]))=TRUE,ISNUMBER(SEARCH(\"RZ\",Risque[[#This Row],[Risques associés]]))=TRUE,ISNUMBER(SEARCH(\"RP\",Risque[[#This Row],[Risques associés]]))=TRUE,ISNUMBER(SEARCH(\"RZ\",Risque[[#This Row],[Précision du risque\n(si liste déroulante présente)]]))=TRUE,ISNUMBER(SEARCH(\"RP\",Risque[[#This Row],[Précision du risque\n(si liste déroulante présente)]]))=TRUE),\"Oui --> Priorité d'action\",\"Non\"))","v":""},null,null,null,null,{"$f":"IF(ISBLANK(Risque[[#This Row],[Catégorie de risque]]),\"\",CONCATENATE(Risque[[#This Row],[Catégorie de risque]],2))","v":""},null,{"$f":"IF(ISBLANK(Risque[[#This Row],[Moyens de prévention]]),\"\",CONCATENATE(Risque[[#This Row],[Moyens de prévention]],1))","v":""},null,null,null,null,null,{"$f":"IF(ISBLANK(Risque[[#This Row],[Catégorie de risque]]),\"\",CONCATENATE(Risque[[#This Row],[Catégorie de risque]],3))","v":""},null,null,null,{"$f":"IF(ISBLANK(Risque[[#This Row],[Catégorie de risque]]),\"\",CONCATENATE(Risque[[#This Row],[Catégorie de risque]],4))","v":""},null,null,null,null,null,{"$f":"IF(Risque[[#This Row],[Date d''inscription du risque]]<>\"\",YEAR(Risque[[#This Row],[Date d''inscription du risque]]),\"\")","v":""}]
[null,null,{"$f":"IF(ISBLANK(Risque[[#This Row],[Catégorie de risque]]),\"\",CONCATENATE(Risque[[#This Row],[Catégorie de risque]],1))","v":""},null,null,null,null,null,{"$f":"IF(ISBLANK(Risque[[#This Row],[Catégorie de risque]]),\"\",IF(OR(ISNUMBER(SEARCH(\"RZ\",Risque[[#This Row],[Source de danger]]))=TRUE,ISNUMBER(SEARCH(\"RP\",Risque[[#This Row],[Source de danger]]))=TRUE,ISNUMBER(SEARCH(\"RZ\",Risque[[#This Row],[Risques associés]]))=TRUE,ISNUMBER(SEARCH(\"RP\",Risque[[#This Row],[Risques associés]]))=TRUE,ISNUMBER(SEARCH(\"RZ\",Risque[[#This Row],[Précision du risque\n(si liste déroulante présente)]]))=TRUE,ISNUMBER(SEARCH(\"RP\",Risque[[#This Row],[Précision du risque\n(si liste déroulante présente)]]))=TRUE),\"Oui --> Priorité d'action\",\"Non\"))","v":""},null,null,null,null,{"$f":"IF(ISBLANK(Risque[[#This Row],[Catégorie de risque]]),\"\",CONCATENATE(Risque[[#This Row],[Catégorie de risque]],2))","v":""},null,{"$f":"IF(ISBLANK(Risque[[#This Row],[Moyens de prévention]]),\"\",CONCATENATE(Risque[[#This Row],[Moyens de prévention]],1))","v":""},null,null,null,null,null,{"$f":"IF(ISBLANK(Risque[[#This Row],[Catégorie de risque]]),\"\",CONCATENATE(Risque[[#This Row],[Catégorie de risque]],3))","v":""},null,null,null,{"$f":"IF(ISBLANK(Risque[[#This Row],[Catégorie de risque]]),\"\",CONCATENATE(Risque[[#This Row],[Catégorie de risque]],4))","v":""},null,null,null,null,null,{"$f":"IF(Risque[[#This Row],[Date d''inscription du risque]]<>\"\",YEAR(Risque[[#This Row],[Date d''inscription du risque]]),\"\")","v":""}]
[null,null,{"$f":"IF(ISBLANK(Risque[[#This Row],[Catégorie de risque]]),\"\",CONCATENATE(Risque[[#This Row],[Catégorie de risque]],1))","v":""},null,null,null,null,null,{"$f":"IF(ISBLANK(Risque[[#This Row],[Catégorie de risque]]),\"\",IF(OR(ISNUMBER(SEARCH(\"RZ\",Risque[[#This Row],[Source de danger]]))=TRUE,ISNUMBER(SEARCH(\"RP\",Risque[[#This Row],[Source de danger]]))=TRUE,ISNUMBER(SEARCH(\"RZ\",Risque[[#This Row],[Risques associés]]))=TRUE,ISNUMBER(SEARCH(\"RP\",Risque[[#This Row],[Risques associés]]))=TRUE,ISNUMBER(SEARCH(\"RZ\",Risque[[#This Row],[Précision du risque\n(si liste déroulante présente)]]))=TRUE,ISNUMBER(SEARCH(\"RP\",Risque[[#This Row],[Précision du risque\n(si liste déroulante présente)]]))=TRUE),\"Oui --> Priorité d'action\",\"Non\"))","v":""},null,null,null,null,{"$f":"IF(ISBLANK(Risque[[#This Row],[Catégorie de risque]]),\"\",CONCATENATE(Risque[[#This Row],[Catégorie de risque]],2))","v":""},null,{"$f":"IF(ISBLANK(Risque[[#This Row],[Moyens de prévention]]),\"\",CONCATENATE(Risque[[#This Row],[Moyens de prévention]],1))","v":""},null,null,null,null,null,{"$f":"IF(ISBLANK(Risque[[#This Row],[Catégorie de risque]]),\"\",CONCATENATE(Risque[[#This Row],[Catégorie de risque]],3))","v":""},null,null,null,{"$f":"IF(ISBLANK(Risque[[#This Row],[Catégorie de risque]]),\"\",CONCATENATE(Risque[[#This Row],[Catégorie de risque]],4))","v":""},null,null,null,null,null,{"$f":"IF(Risque[[#This Row],[Date d''inscription du risque]]<>\"\",YEAR(Risque[[#This Row],[Date d''inscription du risque]]),\"\")","v":""}]
[null,null,{"$f":"IF(ISBLANK(Risque[[#This Row],[Catégorie de risque]]),\"\",CONCATENATE(Risque[[#This Row],[Catégorie de risque]],1))","v":""},null,null,null,null,null,{"$f":"IF(ISBLANK(Risque[[#This Row],[Catégorie de risque]]),\"\",IF(OR(ISNUMBER(SEARCH(\"RZ\",Risque[[#This Row],[Source de danger]]))=TRUE,ISNUMBER(SEARCH(\"RP\",Risque[[#This Row],[Source de danger]]))=TRUE,ISNUMBER(SEARCH(\"RZ\",Risque[[#This Row],[Risques associés]]))=TRUE,ISNUMBER(SEARCH(\"RP\",Risque[[#This Row],[Risques associés]]))=TRUE,ISNUMBER(SEARCH(\"RZ\",Risque[[#This Row],[Précision du risque\n(si liste déroulante présente)]]))=TRUE,ISNUMBER(SEARCH(\"RP\",Risque[[#This Row],[Précision du risque\n(si liste déroulante présente)]]))=TRUE),\"Oui --> Priorité d'action\",\"Non\"))","v":""},null,null,null,null,{"$f":"IF(ISBLANK(Risque[[#This Row],[Catégorie de risque]]),\"\",CONCATENATE(Risque[[#This Row],[Catégorie de risque]],2))","v":""},null,{"$f":"IF(ISBLANK(Risque[[#This Row],[Moyens de prévention]]),\"\",CONCATENATE(Risque[[#This Row],[Moyens de prévention]],1))","v":""},null,null,null,null,null,{"$f":"IF(ISBLANK(Risque[[#This Row],[Catégorie de risque]]),\"\",CONCATENATE(Risque[[#This Row],[Catégorie de risque]],3))","v":""},null,null,null,{"$f":"IF(ISBLANK(Risque[[#This Row],[Catégorie de risque]]),\"\",CONCATENATE(Risque[[#This Row],[Catégorie de risque]],4))","v":""},null,null,null,null,null,{"$f":"IF(Risque[[#This Row],[Date d''inscription du risque]]<>\"\",YEAR(Risque[[#This Row],[Date d''inscription du risque]]),\"\")","v":""}]
[null,null,{"$f":"IF(ISBLANK(Risque[[#This Row],[Catégorie de risque]]),\"\",CONCATENATE(Risque[[#This Row],[Catégorie de risque]],1))","v":""},null,null,null,null,null,{"$f":"IF(ISBLANK(Risque[[#This Row],[Catégorie de risque]]),\"\",IF(OR(ISNUMBER(SEARCH(\"RZ\",Risque[[#This Row],[Source de danger]]))=TRUE,ISNUMBER(SEARCH(\"RP\",Risque[[#This Row],[Source de danger]]))=TRUE,ISNUMBER(SEARCH(\"RZ\",Risque[[#This Row],[Risques associés]]))=TRUE,ISNUMBER(SEARCH(\"RP\",Risque[[#This Row],[Risques associés]]))=TRUE,ISNUMBER(SEARCH(\"RZ\",Risque[[#This Row],[Précision du risque\n(si liste déroulante présente)]]))=TRUE,ISNUMBER(SEARCH(\"RP\",Risque[[#This Row],[Précision du risque\n(si liste déroulante présente)]]))=TRUE),\"Oui --> Priorité d'action\",\"Non\"))","v":""},null,null,null,null,{"$f":"IF(ISBLANK(Risque[[#This Row],[Catégorie de risque]]),\"\",CONCATENATE(Risque[[#This Row],[Catégorie de risque]],2))","v":""},null,{"$f":"IF(ISBLANK(Risque[[#This Row],[Moyens de prévention]]),\"\",CONCATENATE(Risque[[#This Row],[Moyens de prévention]],1))","v":""},null,null,null,null,null,{"$f":"IF(ISBLANK(Risque[[#This Row],[Catégorie de risque]]),\"\",CONCATENATE(Risque[[#This Row],[Catégorie de risque]],3))","v":""},null,null,null,{"$f":"IF(ISBLANK(Risque[[#This Row],[Catégorie de risque]]),\"\",CONCATENATE(Risque[[#This Row],[Catégorie de risque]],4))","v":""},null,null,null,null,null,{"$f":"IF(Risque[[#This Row],[Date d''inscription du risque]]<>\"\",YEAR(Risque[[#This Row],[Date d''inscription du risque]]),\"\")","v":""}]
[null,null,{"$f":"IF(ISBLANK(Risque[[#This Row],[Catégorie de risque]]),\"\",CONCATENATE(Risque[[#This Row],[Catégorie de risque]],1))","v":""},null,null,null,null,null,{"$f":"IF(ISBLANK(Risque[[#This Row],[Catégorie de risque]]),\"\",IF(OR(ISNUMBER(SEARCH(\"RZ\",Risque[[#This Row],[Source de danger]]))=TRUE,ISNUMBER(SEARCH(\"RP\",Risque[[#This Row],[Source de danger]]))=TRUE,ISNUMBER(SEARCH(\"RZ\",Risque[[#This Row],[Risques associés]]))=TRUE,ISNUMBER(SEARCH(\"RP\",Risque[[#This Row],[Risques associés]]))=TRUE,ISNUMBER(SEARCH(\"RZ\",Risque[[#This Row],[Précision du risque\n(si liste déroulante présente)]]))=TRUE,ISNUMBER(SEARCH(\"RP\",Risque[[#This Row],[Précision du risque\n(si liste déroulante présente)]]))=TRUE),\"Oui --> Priorité d'action\",\"Non\"))","v":""},null,null,null,null,{"$f":"IF(ISBLANK(Risque[[#This Row],[Catégorie de risque]]),\"\",CONCATENATE(Risque[[#This Row],[Catégorie de risque]],2))","v":""},null,{"$f":"IF(ISBLANK(Risque[[#This Row],[Moyens de prévention]]),\"\",CONCATENATE(Risque[[#This Row],[Moyens de prévention]],1))","v":""},null,null,null,null,null,{"$f":"IF(ISBLANK(Risque[[#This Row],[Catégorie de risque]]),\"\",CONCATENATE(Risque[[#This Row],[Catégorie de risque]],3))","v":""},null,null,null,{"$f":"IF(ISBLANK(Risque[[#This Row],[Catégorie de risque]]),\"\",CONCATENATE(Risque[[#This Row],[Catégorie de risque]],4))","v":""},null,null,null,null,null,{"$f":"IF(Risque[[#This Row],[Date d''inscription du risque]]<>\"\",YEAR(Risque[[#This Row],[Date d''inscription du risque]]),\"\")","v":""}]
[null,null,{"$f":"IF(ISBLANK(Risque[[#This Row],[Catégorie de risque]]),\"\",CONCATENATE(Risque[[#This Row],[Catégorie de risque]],1))","v":""},null,null,null,null,null,{"$f":"IF(ISBLANK(Risque[[#This Row],[Catégorie de risque]]),\"\",IF(OR(ISNUMBER(SEARCH(\"RZ\",Risque[[#This Row],[Source de danger]]))=TRUE,ISNUMBER(SEARCH(\"RP\",Risque[[#This Row],[Source de danger]]))=TRUE,ISNUMBER(SEARCH(\"RZ\",Risque[[#This Row],[Risques associés]]))=TRUE,ISNUMBER(SEARCH(\"RP\",Risque[[#This Row],[Risques associés]]))=TRUE,ISNUMBER(SEARCH(\"RZ\",Risque[[#This Row],[Précision du risque\n(si liste déroulante présente)]]))=TRUE,ISNUMBER(SEARCH(\"RP\",Risque[[#This Row],[Précision du risque\n(si liste déroulante présente)]]))=TRUE),\"Oui --> Priorité d'action\",\"Non\"))","v":""},null,null,null,null,{"$f":"IF(ISBLANK(Risque[[#This Row],[Catégorie de risque]]),\"\",CONCATENATE(Risque[[#This Row],[Catégorie de risque]],2))","v":""},null,{"$f":"IF(ISBLANK(Risque[[#This Row],[Moyens de prévention]]),\"\",CONCATENATE(Risque[[#This Row],[Moyens de prévention]],1))","v":""},null,null,null,null,null,{"$f":"IF(ISBLANK(Risque[[#This Row],[Catégorie de risque]]),\"\",CONCATENATE(Risque[[#This Row],[Catégorie de risque]],3))","v":""},null,null,null,{"$f":"IF(ISBLANK(Risque[[#This Row],[Catégorie de risque]]),\"\",CONCATENATE(Risque[[#This Row],[Catégorie de risque]],4))","v":""},null,null,null,null,null,{"$f":"IF(Risque[[#This Row],[Date d''inscription du risque]]<>\"\",YEAR(Risque[[#This Row],[Date d''inscription du risque]]),\"\")","v":""}]
[null,null,{"$f":"IF(ISBLANK(Risque[[#This Row],[Catégorie de risque]]),\"\",CONCATENATE(Risque[[#This Row],[Catégorie de risque]],1))","v":""},null,null,null,null,null,{"$f":"IF(ISBLANK(Risque[[#This Row],[Catégorie de risque]]),\"\",IF(OR(ISNUMBER(SEARCH(\"RZ\",Risque[[#This Row],[Source de danger]]))=TRUE,ISNUMBER(SEARCH(\"RP\",Risque[[#This Row],[Source de danger]]))=TRUE,ISNUMBER(SEARCH(\"RZ\",Risque[[#This Row],[Risques associés]]))=TRUE,ISNUMBER(SEARCH(\"RP\",Risque[[#This Row],[Risques associés]]))=TRUE,ISNUMBER(SEARCH(\"RZ\",Risque[[#This Row],[Précision du risque\n(si liste déroulante présente)]]))=TRUE,ISNUMBER(SEARCH(\"RP\",Risque[[#This Row],[Précision du risque\n(si liste déroulante présente)]]))=TRUE),\"Oui --> Priorité d'action\",\"Non\"))","v":""},null,null,null,null,{"$f":"IF(ISBLANK(Risque[[#This Row],[Catégorie de risque]]),\"\",CONCATENATE(Risque[[#This Row],[Catégorie de risque]],2))","v":""},null,{"$f":"IF(ISBLANK(Risque[[#This Row],[Moyens de prévention]]),\"\",CONCATENATE(Risque[[#This Row],[Moyens de prévention]],1))","v":""},null,null,null,null,null,{"$f":"IF(ISBLANK(Risque[[#This Row],[Catégorie de risque]]),\"\",CONCATENATE(Risque[[#This Row],[Catégorie de risque]],3))","v":""},null,null,null,{"$f":"IF(ISBLANK(Risque[[#This Row],[Catégorie de risque]]),\"\",CONCATENATE(Risque[[#This Row],[Catégorie de risque]],4))","v":""},null,null,null,null,null,{"$f":"IF(Risque[[#This Row],[Date d''inscription du risque]]<>\"\",YEAR(Risque[[#This Row],[Date d''inscription du risque]]),\"\")","v":""}]
[null,null,{"$f":"IF(ISBLANK(Risque[[#This Row],[Catégorie de risque]]),\"\",CONCATENATE(Risque[[#This Row],[Catégorie de risque]],1))","v":""},null,null,null,null,null,{"$f":"IF(ISBLANK(Risque[[#This Row],[Catégorie de risque]]),\"\",IF(OR(ISNUMBER(SEARCH(\"RZ\",Risque[[#This Row],[Source de danger]]))=TRUE,ISNUMBER(SEARCH(\"RP\",Risque[[#This Row],[Source de danger]]))=TRUE,ISNUMBER(SEARCH(\"RZ\",Risque[[#This Row],[Risques associés]]))=TRUE,ISNUMBER(SEARCH(\"RP\",Risque[[#This Row],[Risques associés]]))=TRUE,ISNUMBER(SEARCH(\"RZ\",Risque[[#This Row],[Précision du risque\n(si liste déroulante présente)]]))=TRUE,ISNUMBER(SEARCH(\"RP\",Risque[[#This Row],[Précision du risque\n(si liste déroulante présente)]]))=TRUE),\"Oui --> Priorité d'action\",\"Non\"))","v":""},null,null,null,null,{"$f":"IF(ISBLANK(Risque[[#This Row],[Catégorie de risque]]),\"\",CONCATENATE(Risque[[#This Row],[Catégorie de risque]],2))","v":""},null,{"$f":"IF(ISBLANK(Risque[[#This Row],[Moyens de prévention]]),\"\",CONCATENATE(Risque[[#This Row],[Moyens de prévention]],1))","v":""},null,null,null,null,null,{"$f":"IF(ISBLANK(Risque[[#This Row],[Catégorie de risque]]),\"\",CONCATENATE(Risque[[#This Row],[Catégorie de risque]],3))","v":""},null,null,null,{"$f":"IF(ISBLANK(Risque[[#This Row],[Catégorie de risque]]),\"\",CONCATENATE(Risque[[#This Row],[Catégorie de risque]],4))","v":""},null,null,null,null,null,{"$f":"IF(Risque[[#This Row],[Date d''inscription du risque]]<>\"\",YEAR(Risque[[#This Row],[Date d''inscription du risque]]),\"\")","v":""}]
[null,null,{"$f":"IF(ISBLANK(Risque[[#This Row],[Catégorie de risque]]),\"\",CONCATENATE(Risque[[#This Row],[Catégorie de risque]],1))","v":""},null,null,null,null,null,{"$f":"IF(ISBLANK(Risque[[#This Row],[Catégorie de risque]]),\"\",IF(OR(ISNUMBER(SEARCH(\"RZ\",Risque[[#This Row],[Source de danger]]))=TRUE,ISNUMBER(SEARCH(\"RP\",Risque[[#This Row],[Source de danger]]))=TRUE,ISNUMBER(SEARCH(\"RZ\",Risque[[#This Row],[Risques associés]]))=TRUE,ISNUMBER(SEARCH(\"RP\",Risque[[#This Row],[Risques associés]]))=TRUE,ISNUMBER(SEARCH(\"RZ\",Risque[[#This Row],[Précision du risque\n(si liste déroulante présente)]]))=TRUE,ISNUMBER(SEARCH(\"RP\",Risque[[#This Row],[Précision du risque\n(si liste déroulante présente)]]))=TRUE),\"Oui --> Priorité d'action\",\"Non\"))","v":""},null,null,null,null,{"$f":"IF(ISBLANK(Risque[[#This Row],[Catégorie de risque]]),\"\",CONCATENATE(Risque[[#This Row],[Catégorie de risque]],2))","v":""},null,{"$f":"IF(ISBLANK(Risque[[#This Row],[Moyens de prévention]]),\"\",CONCATENATE(Risque[[#This Row],[Moyens de prévention]],1))","v":""},null,null,null,null,null,{"$f":"IF(ISBLANK(Risque[[#This Row],[Catégorie de risque]]),\"\",CONCATENATE(Risque[[#This Row],[Catégorie de risque]],3))","v":""},null,null,null,{"$f":"IF(ISBLANK(Risque[[#This Row],[Catégorie de risque]]),\"\",CONCATENATE(Risque[[#This Row],[Catégorie de risque]],4))","v":""},null,null,null,null,null,{"$f":"IF(Risque[[#This Row],[Date d''inscription du risque]]<>\"\",YEAR(Risque[[#This Row],[Date d''inscription du risque]]),\"\")","v":""}]
[null,null,{"$f":"IF(ISBLANK(Risque[[#This Row],[Catégorie de risque]]),\"\",CONCATENATE(Risque[[#This Row],[Catégorie de risque]],1))","v":""},null,null,null,null,null,{"$f":"IF(ISBLANK(Risque[[#This Row],[Catégorie de risque]]),\"\",IF(OR(ISNUMBER(SEARCH(\"RZ\",Risque[[#This Row],[Source de danger]]))=TRUE,ISNUMBER(SEARCH(\"RP\",Risque[[#This Row],[Source de danger]]))=TRUE,ISNUMBER(SEARCH(\"RZ\",Risque[[#This Row],[Risques associés]]))=TRUE,ISNUMBER(SEARCH(\"RP\",Risque[[#This Row],[Risques associés]]))=TRUE,ISNUMBER(SEARCH(\"RZ\",Risque[[#This Row],[Précision du risque\n(si liste déroulante présente)]]))=TRUE,ISNUMBER(SEARCH(\"RP\",Risque[[#This Row],[Précision du risque\n(si liste déroulante présente)]]))=TRUE),\"Oui --> Priorité d'action\",\"Non\"))","v":""},null,null,null,null,{"$f":"IF(ISBLANK(Risque[[#This Row],[Catégorie de risque]]),\"\",CONCATENATE(Risque[[#This Row],[Catégorie de risque]],2))","v":""},null,{"$f":"IF(ISBLANK(Risque[[#This Row],[Moyens de prévention]]),\"\",CONCATENATE(Risque[[#This Row],[Moyens de prévention]],1))","v":""},null,null,null,null,null,{"$f":"IF(ISBLANK(Risque[[#This Row],[Catégorie de risque]]),\"\",CONCATENATE(Risque[[#This Row],[Catégorie de risque]],3))","v":""},null,null,null,{"$f":"IF(ISBLANK(Risque[[#This Row],[Catégorie de risque]]),\"\",CONCATENATE(Risque[[#This Row],[Catégorie de risque]],4))","v":""},null,null,null,null,null,{"$f":"IF(Risque[[#This Row],[Date d''inscription du risque]]<>\"\",YEAR(Risque[[#This Row],[Date d''inscription du risque]]),\"\")","v":""}]
[null,null,{"$f":"IF(ISBLANK(Risque[[#This Row],[Catégorie de risque]]),\"\",CONCATENATE(Risque[[#This Row],[Catégorie de risque]],1))","v":""},null,null,null,null,null,{"$f":"IF(ISBLANK(Risque[[#This Row],[Catégorie de risque]]),\"\",IF(OR(ISNUMBER(SEARCH(\"RZ\",Risque[[#This Row],[Source de danger]]))=TRUE,ISNUMBER(SEARCH(\"RP\",Risque[[#This Row],[Source de danger]]))=TRUE,ISNUMBER(SEARCH(\"RZ\",Risque[[#This Row],[Risques associés]]))=TRUE,ISNUMBER(SEARCH(\"RP\",Risque[[#This Row],[Risques associés]]))=TRUE,ISNUMBER(SEARCH(\"RZ\",Risque[[#This Row],[Précision du risque\n(si liste déroulante présente)]]))=TRUE,ISNUMBER(SEARCH(\"RP\",Risque[[#This Row],[Précision du risque\n(si liste déroulante présente)]]))=TRUE),\"Oui --> Priorité d'action\",\"Non\"))","v":""},null,null,null,null,{"$f":"IF(ISBLANK(Risque[[#This Row],[Catégorie de risque]]),\"\",CONCATENATE(Risque[[#This Row],[Catégorie de risque]],2))","v":""},null,{"$f":"IF(ISBLANK(Risque[[#This Row],[Moyens de prévention]]),\"\",CONCATENATE(Risque[[#This Row],[Moyens de prévention]],1))","v":""},null,null,null,null,null,{"$f":"IF(ISBLANK(Risque[[#This Row],[Catégorie de risque]]),\"\",CONCATENATE(Risque[[#This Row],[Catégorie de risque]],3))","v":""},null,null,null,{"$f":"IF(ISBLANK(Risque[[#This Row],[Catégorie de risque]]),\"\",CONCATENATE(Risque[[#This Row],[Catégorie de risque]],4))","v":""},null,null,null,null,null,{"$f":"IF(Risque[[#This Row],[Date d''inscription du risque]]<>\"\",YEAR(Risque[[#This Row],[Date d''inscription du risque]]),\"\")","v":""}]
[null,null,{"$f":"IF(ISBLANK(Risque[[#This Row],[Catégorie de risque]]),\"\",CONCATENATE(Risque[[#This Row],[Catégorie de risque]],1))","v":""},null,null,null,null,null,{"$f":"IF(ISBLANK(Risque[[#This Row],[Catégorie de risque]]),\"\",IF(OR(ISNUMBER(SEARCH(\"RZ\",Risque[[#This Row],[Source de danger]]))=TRUE,ISNUMBER(SEARCH(\"RP\",Risque[[#This Row],[Source de danger]]))=TRUE,ISNUMBER(SEARCH(\"RZ\",Risque[[#This Row],[Risques associés]]))=TRUE,ISNUMBER(SEARCH(\"RP\",Risque[[#This Row],[Risques associés]]))=TRUE,ISNUMBER(SEARCH(\"RZ\",Risque[[#This Row],[Précision du risque\n(si liste déroulante présente)]]))=TRUE,ISNUMBER(SEARCH(\"RP\",Risque[[#This Row],[Précision du risque\n(si liste déroulante présente)]]))=TRUE),\"Oui --> Priorité d'action\",\"Non\"))","v":""},null,null,null,null,{"$f":"IF(ISBLANK(Risque[[#This Row],[Catégorie de risque]]),\"\",CONCATENATE(Risque[[#This Row],[Catégorie de risque]],2))","v":""},null,{"$f":"IF(ISBLANK(Risque[[#This Row],[Moyens de prévention]]),\"\",CONCATENATE(Risque[[#This Row],[Moyens de prévention]],1))","v":""},null,null,null,null,null,{"$f":"IF(ISBLANK(Risque[[#This Row],[Catégorie de risque]]),\"\",CONCATENATE(Risque[[#This Row],[Catégorie de risque]],3))","v":""},null,null,null,{"$f":"IF(ISBLANK(Risque[[#This Row],[Catégorie de risque]]),\"\",CONCATENATE(Risque[[#This Row],[Catégorie de risque]],4))","v":""},null,null,null,null,null,{"$f":"IF(Risque[[#This Row],[Date d''inscription du risque]]<>\"\",YEAR(Risque[[#This Row],[Date d''inscription du risque]]),\"\")","v":""}]
[null,null,{"$f":"IF(ISBLANK(Risque[[#This Row],[Catégorie de risque]]),\"\",CONCATENATE(Risque[[#This Row],[Catégorie de risque]],1))","v":""},null,null,null,null,null,{"$f":"IF(ISBLANK(Risque[[#This Row],[Catégorie de risque]]),\"\",IF(OR(ISNUMBER(SEARCH(\"RZ\",Risque[[#This Row],[Source de danger]]))=TRUE,ISNUMBER(SEARCH(\"RP\",Risque[[#This Row],[Source de danger]]))=TRUE,ISNUMBER(SEARCH(\"RZ\",Risque[[#This Row],[Risques associés]]))=TRUE,ISNUMBER(SEARCH(\"RP\",Risque[[#This Row],[Risques associés]]))=TRUE,ISNUMBER(SEARCH(\"RZ\",Risque[[#This Row],[Précision du risque\n(si liste déroulante présente)]]))=TRUE,ISNUMBER(SEARCH(\"RP\",Risque[[#This Row],[Précision du risque\n(si liste déroulante présente)]]))=TRUE),\"Oui --> Priorité d'action\",\"Non\"))","v":""},null,null,null,null,{"$f":"IF(ISBLANK(Risque[[#This Row],[Catégorie de risque]]),\"\",CONCATENATE(Risque[[#This Row],[Catégorie de risque]],2))","v":""},null,{"$f":"IF(ISBLANK(Risque[[#This Row],[Moyens de prévention]]),\"\",CONCATENATE(Risque[[#This Row],[Moyens de prévention]],1))","v":""},null,null,null,null,null,{"$f":"IF(ISBLANK(Risque[[#This Row],[Catégorie de risque]]),\"\",CONCATENATE(Risque[[#This Row],[Catégorie de risque]],3))","v":""},null,null,null,{"$f":"IF(ISBLANK(Risque[[#This Row],[Catégorie de risque]]),\"\",CONCATENATE(Risque[[#This Row],[Catégorie de risque]],4))","v":""},null,null,null,null,null,{"$f":"IF(Risque[[#This Row],[Date d''inscription du risque]]<>\"\",YEAR(Risque[[#This Row],[Date d''inscription du risque]]),\"\")","v":""}]
[null,null,{"$f":"IF(ISBLANK(Risque[[#This Row],[Catégorie de risque]]),\"\",CONCATENATE(Risque[[#This Row],[Catégorie de risque]],1))","v":""},null,null,null,null,null,{"$f":"IF(ISBLANK(Risque[[#This Row],[Catégorie de risque]]),\"\",IF(OR(ISNUMBER(SEARCH(\"RZ\",Risque[[#This Row],[Source de danger]]))=TRUE,ISNUMBER(SEARCH(\"RP\",Risque[[#This Row],[Source de danger]]))=TRUE,ISNUMBER(SEARCH(\"RZ\",Risque[[#This Row],[Risques associés]]))=TRUE,ISNUMBER(SEARCH(\"RP\",Risque[[#This Row],[Risques associés]]))=TRUE,ISNUMBER(SEARCH(\"RZ\",Risque[[#This Row],[Précision du risque\n(si liste déroulante présente)]]))=TRUE,ISNUMBER(SEARCH(\"RP\",Risque[[#This Row],[Précision du risque\n(si liste déroulante présente)]]))=TRUE),\"Oui --> Priorité d'action\",\"Non\"))","v":""},null,null,null,null,{"$f":"IF(ISBLANK(Risque[[#This Row],[Catégorie de risque]]),\"\",CONCATENATE(Risque[[#This Row],[Catégorie de risque]],2))","v":""},null,{"$f":"IF(ISBLANK(Risque[[#This Row],[Moyens de prévention]]),\"\",CONCATENATE(Risque[[#This Row],[Moyens de prévention]],1))","v":""},null,null,null,null,null,{"$f":"IF(ISBLANK(Risque[[#This Row],[Catégorie de risque]]),\"\",CONCATENATE(Risque[[#This Row],[Catégorie de risque]],3))","v":""},null,null,null,{"$f":"IF(ISBLANK(Risque[[#This Row],[Catégorie de risque]]),\"\",CONCATENATE(Risque[[#This Row],[Catégorie de risque]],4))","v":""},null,null,null,null,null,{"$f":"IF(Risque[[#This Row],[Date d''inscription du risque]]<>\"\",YEAR(Risque[[#This Row],[Date d''inscription du risque]]),\"\")","v":""}]
[null,null,{"$f":"IF(ISBLANK(Risque[[#This Row],[Catégorie de risque]]),\"\",CONCATENATE(Risque[[#This Row],[Catégorie de risque]],1))","v":""},null,null,null,null,null,{"$f":"IF(ISBLANK(Risque[[#This Row],[Catégorie de risque]]),\"\",IF(OR(ISNUMBER(SEARCH(\"RZ\",Risque[[#This Row],[Source de danger]]))=TRUE,ISNUMBER(SEARCH(\"RP\",Risque[[#This Row],[Source de danger]]))=TRUE,ISNUMBER(SEARCH(\"RZ\",Risque[[#This Row],[Risques associés]]))=TRUE,ISNUMBER(SEARCH(\"RP\",Risque[[#This Row],[Risques associés]]))=TRUE,ISNUMBER(SEARCH(\"RZ\",Risque[[#This Row],[Précision du risque\n(si liste déroulante présente)]]))=TRUE,ISNUMBER(SEARCH(\"RP\",Risque[[#This Row],[Précision du risque\n(si liste déroulante présente)]]))=TRUE),\"Oui --> Priorité d'action\",\"Non\"))","v":""},null,null,null,null,{"$f":"IF(ISBLANK(Risque[[#This Row],[Catégorie de risque]]),\"\",CONCATENATE(Risque[[#This Row],[Catégorie de risque]],2))","v":""},null,{"$f":"IF(ISBLANK(Risque[[#This Row],[Moyens de prévention]]),\"\",CONCATENATE(Risque[[#This Row],[Moyens de prévention]],1))","v":""},null,null,null,null,null,{"$f":"IF(ISBLANK(Risque[[#This Row],[Catégorie de risque]]),\"\",CONCATENATE(Risque[[#This Row],[Catégorie de risque]],3))","v":""},null,null,null,{"$f":"IF(ISBLANK(Risque[[#This Row],[Catégorie de risque]]),\"\",CONCATENATE(Risque[[#This Row],[Catégorie de risque]],4))","v":""},null,null,null,null,null,{"$f":"IF(Risque[[#This Row],[Date d''inscription du risque]]<>\"\",YEAR(Risque[[#This Row],[Date d''inscription du risque]]),\"\")","v":""}]
[null,null,{"$f":"IF(ISBLANK(Risque[[#This Row],[Catégorie de risque]]),\"\",CONCATENATE(Risque[[#This Row],[Catégorie de risque]],1))","v":""},null,null,null,null,null,{"$f":"IF(ISBLANK(Risque[[#This Row],[Catégorie de risque]]),\"\",IF(OR(ISNUMBER(SEARCH(\"RZ\",Risque[[#This Row],[Source de danger]]))=TRUE,ISNUMBER(SEARCH(\"RP\",Risque[[#This Row],[Source de danger]]))=TRUE,ISNUMBER(SEARCH(\"RZ\",Risque[[#This Row],[Risques associés]]))=TRUE,ISNUMBER(SEARCH(\"RP\",Risque[[#This Row],[Risques associés]]))=TRUE,ISNUMBER(SEARCH(\"RZ\",Risque[[#This Row],[Précision du risque\n(si liste déroulante présente)]]))=TRUE,ISNUMBER(SEARCH(\"RP\",Risque[[#This Row],[Précision du risque\n(si liste déroulante présente)]]))=TRUE),\"Oui --> Priorité d'action\",\"Non\"))","v":""},null,null,null,null,{"$f":"IF(ISBLANK(Risque[[#This Row],[Catégorie de risque]]),\"\",CONCATENATE(Risque[[#This Row],[Catégorie de risque]],2))","v":""},null,{"$f":"IF(ISBLANK(Risque[[#This Row],[Moyens de prévention]]),\"\",CONCATENATE(Risque[[#This Row],[Moyens de prévention]],1))","v":""},null,null,null,null,null,{"$f":"IF(ISBLANK(Risque[[#This Row],[Catégorie de risque]]),\"\",CONCATENATE(Risque[[#This Row],[Catégorie de risque]],3))","v":""},null,null,null,{"$f":"IF(ISBLANK(Risque[[#This Row],[Catégorie de risque]]),\"\",CONCATENATE(Risque[[#This Row],[Catégorie de risque]],4))","v":""},null,null,null,null,null,{"$f":"IF(Risque[[#This Row],[Date d''inscription du risque]]<>\"\",YEAR(Risque[[#This Row],[Date d''inscription du risque]]),\"\")","v":""}]
[null,null,{"$f":"IF(ISBLANK(Risque[[#This Row],[Catégorie de risque]]),\"\",CONCATENATE(Risque[[#This Row],[Catégorie de risque]],1))","v":""},null,null,null,null,null,{"$f":"IF(ISBLANK(Risque[[#This Row],[Catégorie de risque]]),\"\",IF(OR(ISNUMBER(SEARCH(\"RZ\",Risque[[#This Row],[Source de danger]]))=TRUE,ISNUMBER(SEARCH(\"RP\",Risque[[#This Row],[Source de danger]]))=TRUE,ISNUMBER(SEARCH(\"RZ\",Risque[[#This Row],[Risques associés]]))=TRUE,ISNUMBER(SEARCH(\"RP\",Risque[[#This Row],[Risques associés]]))=TRUE,ISNUMBER(SEARCH(\"RZ\",Risque[[#This Row],[Précision du risque\n(si liste déroulante présente)]]))=TRUE,ISNUMBER(SEARCH(\"RP\",Risque[[#This Row],[Précision du risque\n(si liste déroulante présente)]]))=TRUE),\"Oui --> Priorité d'action\",\"Non\"))","v":""},null,null,null,null,{"$f":"IF(ISBLANK(Risque[[#This Row],[Catégorie de risque]]),\"\",CONCATENATE(Risque[[#This Row],[Catégorie de risque]],2))","v":""},null,{"$f":"IF(ISBLANK(Risque[[#This Row],[Moyens de prévention]]),\"\",CONCATENATE(Risque[[#This Row],[Moyens de prévention]],1))","v":""},null,null,null,null,null,{"$f":"IF(ISBLANK(Risque[[#This Row],[Catégorie de risque]]),\"\",CONCATENATE(Risque[[#This Row],[Catégorie de risque]],3))","v":""},null,null,null,{"$f":"IF(ISBLANK(Risque[[#This Row],[Catégorie de risque]]),\"\",CONCATENATE(Risque[[#This Row],[Catégorie de risque]],4))","v":""},null,null,null,null,null,{"$f":"IF(Risque[[#This Row],[Date d''inscription du risque]]<>\"\",YEAR(Risque[[#This Row],[Date d''inscription du risque]]),\"\")","v":""}]
[null,null,{"$f":"IF(ISBLANK(Risque[[#This Row],[Catégorie de risque]]),\"\",CONCATENATE(Risque[[#This Row],[Catégorie de risque]],1))","v":""},null,null,null,null,null,{"$f":"IF(ISBLANK(Risque[[#This Row],[Catégorie de risque]]),\"\",IF(OR(ISNUMBER(SEARCH(\"RZ\",Risque[[#This Row],[Source de danger]]))=TRUE,ISNUMBER(SEARCH(\"RP\",Risque[[#This Row],[Source de danger]]))=TRUE,ISNUMBER(SEARCH(\"RZ\",Risque[[#This Row],[Risques associés]]))=TRUE,ISNUMBER(SEARCH(\"RP\",Risque[[#This Row],[Risques associés]]))=TRUE,ISNUMBER(SEARCH(\"RZ\",Risque[[#This Row],[Précision du risque\n(si liste déroulante présente)]]))=TRUE,ISNUMBER(SEARCH(\"RP\",Risque[[#This Row],[Précision du risque\n(si liste déroulante présente)]]))=TRUE),\"Oui --> Priorité d'action\",\"Non\"))","v":""},null,null,null,null,{"$f":"IF(ISBLANK(Risque[[#This Row],[Catégorie de risque]]),\"\",CONCATENATE(Risque[[#This Row],[Catégorie de risque]],2))","v":""},null,{"$f":"IF(ISBLANK(Risque[[#This Row],[Moyens de prévention]]),\"\",CONCATENATE(Risque[[#This Row],[Moyens de prévention]],1))","v":""},null,null,null,null,null,{"$f":"IF(ISBLANK(Risque[[#This Row],[Catégorie de risque]]),\"\",CONCATENATE(Risque[[#This Row],[Catégorie de risque]],3))","v":""},null,null,null,{"$f":"IF(ISBLANK(Risque[[#This Row],[Catégorie de risque]]),\"\",CONCATENATE(Risque[[#This Row],[Catégorie de risque]],4))","v":""},null,null,null,null,null,{"$f":"IF(Risque[[#This Row],[Date d''inscription du risque]]<>\"\",YEAR(Risque[[#This Row],[Date d''inscription du risque]]),\"\")","v":""}]
[null,null,{"$f":"IF(ISBLANK(Risque[[#This Row],[Catégorie de risque]]),\"\",CONCATENATE(Risque[[#This Row],[Catégorie de risque]],1))","v":""},null,null,null,null,null,{"$f":"IF(ISBLANK(Risque[[#This Row],[Catégorie de risque]]),\"\",IF(OR(ISNUMBER(SEARCH(\"RZ\",Risque[[#This Row],[Source de danger]]))=TRUE,ISNUMBER(SEARCH(\"RP\",Risque[[#This Row],[Source de danger]]))=TRUE,ISNUMBER(SEARCH(\"RZ\",Risque[[#This Row],[Risques associés]]))=TRUE,ISNUMBER(SEARCH(\"RP\",Risque[[#This Row],[Risques associés]]))=TRUE,ISNUMBER(SEARCH(\"RZ\",Risque[[#This Row],[Précision du risque\n(si liste déroulante présente)]]))=TRUE,ISNUMBER(SEARCH(\"RP\",Risque[[#This Row],[Précision du risque\n(si liste déroulante présente)]]))=TRUE),\"Oui --> Priorité d'action\",\"Non\"))","v":""},null,null,null,null,{"$f":"IF(ISBLANK(Risque[[#This Row],[Catégorie de risque]]),\"\",CONCATENATE(Risque[[#This Row],[Catégorie de risque]],2))","v":""},null,{"$f":"IF(ISBLANK(Risque[[#This Row],[Moyens de prévention]]),\"\",CONCATENATE(Risque[[#This Row],[Moyens de prévention]],1))","v":""},null,null,null,null,null,{"$f":"IF(ISBLANK(Risque[[#This Row],[Catégorie de risque]]),\"\",CONCATENATE(Risque[[#This Row],[Catégorie de risque]],3))","v":""},null,null,null,{"$f":"IF(ISBLANK(Risque[[#This Row],[Catégorie de risque]]),\"\",CONCATENATE(Risque[[#This Row],[Catégorie de risque]],4))","v":""},null,null,null,null,null,{"$f":"IF(Risque[[#This Row],[Date d''inscription du risque]]<>\"\",YEAR(Risque[[#This Row],[Date d''inscription du risque]]),\"\")","v":""}]
[null,null,{"$f":"IF(ISBLANK(Risque[[#This Row],[Catégorie de risque]]),\"\",CONCATENATE(Risque[[#This Row],[Catégorie de risque]],1))","v":""},null,null,null,null,null,{"$f":"IF(ISBLANK(Risque[[#This Row],[Catégorie de risque]]),\"\",IF(OR(ISNUMBER(SEARCH(\"RZ\",Risque[[#This Row],[Source de danger]]))=TRUE,ISNUMBER(SEARCH(\"RP\",Risque[[#This Row],[Source de danger]]))=TRUE,ISNUMBER(SEARCH(\"RZ\",Risque[[#This Row],[Risques associés]]))=TRUE,ISNUMBER(SEARCH(\"RP\",Risque[[#This Row],[Risques associés]]))=TRUE,ISNUMBER(SEARCH(\"RZ\",Risque[[#This Row],[Précision du risque\n(si liste déroulante présente)]]))=TRUE,ISNUMBER(SEARCH(\"RP\",Risque[[#This Row],[Précision du risque\n(si liste déroulante présente)]]))=TRUE),\"Oui --> Priorité d'action\",\"Non\"))","v":""},null,null,null,null,{"$f":"IF(ISBLANK(Risque[[#This Row],[Catégorie de risque]]),\"\",CONCATENATE(Risque[[#This Row],[Catégorie de risque]],2))","v":""},null,{"$f":"IF(ISBLANK(Risque[[#This Row],[Moyens de prévention]]),\"\",CONCATENATE(Risque[[#This Row],[Moyens de prévention]],1))","v":""},null,null,null,null,null,{"$f":"IF(ISBLANK(Risque[[#This Row],[Catégorie de risque]]),\"\",CONCATENATE(Risque[[#This Row],[Catégorie de risque]],3))","v":""},null,null,null,{"$f":"IF(ISBLANK(Risque[[#This Row],[Catégorie de risque]]),\"\",CONCATENATE(Risque[[#This Row],[Catégorie de risque]],4))","v":""},null,null,null,null,null,{"$f":"IF(Risque[[#This Row],[Date d''inscription du risque]]<>\"\",YEAR(Risque[[#This Row],[Date d''inscription du risque]]),\"\")","v":""}]
[null,null,{"$f":"IF(ISBLANK(Risque[[#This Row],[Catégorie de risque]]),\"\",CONCATENATE(Risque[[#This Row],[Catégorie de risque]],1))","v":""},null,null,null,null,null,{"$f":"IF(ISBLANK(Risque[[#This Row],[Catégorie de risque]]),\"\",IF(OR(ISNUMBER(SEARCH(\"RZ\",Risque[[#This Row],[Source de danger]]))=TRUE,ISNUMBER(SEARCH(\"RP\",Risque[[#This Row],[Source de danger]]))=TRUE,ISNUMBER(SEARCH(\"RZ\",Risque[[#This Row],[Risques associés]]))=TRUE,ISNUMBER(SEARCH(\"RP\",Risque[[#This Row],[Risques associés]]))=TRUE,ISNUMBER(SEARCH(\"RZ\",Risque[[#This Row],[Précision du risque\n(si liste déroulante présente)]]))=TRUE,ISNUMBER(SEARCH(\"RP\",Risque[[#This Row],[Précision du risque\n(si liste déroulante présente)]]))=TRUE),\"Oui --> Priorité d'action\",\"Non\"))","v":""},null,null,null,null,{"$f":"IF(ISBLANK(Risque[[#This Row],[Catégorie de risque]]),\"\",CONCATENATE(Risque[[#This Row],[Catégorie de risque]],2))","v":""},null,{"$f":"IF(ISBLANK(Risque[[#This Row],[Moyens de prévention]]),\"\",CONCATENATE(Risque[[#This Row],[Moyens de prévention]],1))","v":""},null,null,null,null,null,{"$f":"IF(ISBLANK(Risque[[#This Row],[Catégorie de risque]]),\"\",CONCATENATE(Risque[[#This Row],[Catégorie de risque]],3))","v":""},null,null,null,{"$f":"IF(ISBLANK(Risque[[#This Row],[Catégorie de risque]]),\"\",CONCATENATE(Risque[[#This Row],[Catégorie de risque]],4))","v":""},null,null,null,null,null,{"$f":"IF(Risque[[#This Row],[Date d''inscription du risque]]<>\"\",YEAR(Risque[[#This Row],[Date d''inscription du risque]]),\"\")","v":""}]
[null,null,{"$f":"IF(ISBLANK(Risque[[#This Row],[Catégorie de risque]]),\"\",CONCATENATE(Risque[[#This Row],[Catégorie de risque]],1))","v":""},null,null,null,null,null,{"$f":"IF(ISBLANK(Risque[[#This Row],[Catégorie de risque]]),\"\",IF(OR(ISNUMBER(SEARCH(\"RZ\",Risque[[#This Row],[Source de danger]]))=TRUE,ISNUMBER(SEARCH(\"RP\",Risque[[#This Row],[Source de danger]]))=TRUE,ISNUMBER(SEARCH(\"RZ\",Risque[[#This Row],[Risques associés]]))=TRUE,ISNUMBER(SEARCH(\"RP\",Risque[[#This Row],[Risques associés]]))=TRUE,ISNUMBER(SEARCH(\"RZ\",Risque[[#This Row],[Précision du risque\n(si liste déroulante présente)]]))=TRUE,ISNUMBER(SEARCH(\"RP\",Risque[[#This Row],[Précision du risque\n(si liste déroulante présente)]]))=TRUE),\"Oui --> Priorité d'action\",\"Non\"))","v":""},null,null,null,null,{"$f":"IF(ISBLANK(Risque[[#This Row],[Catégorie de risque]]),\"\",CONCATENATE(Risque[[#This Row],[Catégorie de risque]],2))","v":""},null,{"$f":"IF(ISBLANK(Risque[[#This Row],[Moyens de prévention]]),\"\",CONCATENATE(Risque[[#This Row],[Moyens de prévention]],1))","v":""},null,null,null,null,null,{"$f":"IF(ISBLANK(Risque[[#This Row],[Catégorie de risque]]),\"\",CONCATENATE(Risque[[#This Row],[Catégorie de risque]],3))","v":""},null,null,null,{"$f":"IF(ISBLANK(Risque[[#This Row],[Catégorie de risque]]),\"\",CONCATENATE(Risque[[#This Row],[Catégorie de risque]],4))","v":""},null,null,null,null,null,{"$f":"IF(Risque[[#This Row],[Date d''inscription du risque]]<>\"\",YEAR(Risque[[#This Row],[Date d''inscription du risque]]),\"\")","v":""}]
[null,null,{"$f":"IF(ISBLANK(Risque[[#This Row],[Catégorie de risque]]),\"\",CONCATENATE(Risque[[#This Row],[Catégorie de risque]],1))","v":""},null,null,null,null,null,{"$f":"IF(ISBLANK(Risque[[#This Row],[Catégorie de risque]]),\"\",IF(OR(ISNUMBER(SEARCH(\"RZ\",Risque[[#This Row],[Source de danger]]))=TRUE,ISNUMBER(SEARCH(\"RP\",Risque[[#This Row],[Source de danger]]))=TRUE,ISNUMBER(SEARCH(\"RZ\",Risque[[#This Row],[Risques associés]]))=TRUE,ISNUMBER(SEARCH(\"RP\",Risque[[#This Row],[Risques associés]]))=TRUE,ISNUMBER(SEARCH(\"RZ\",Risque[[#This Row],[Précision du risque\n(si liste déroulante présente)]]))=TRUE,ISNUMBER(SEARCH(\"RP\",Risque[[#This Row],[Précision du risque\n(si liste déroulante présente)]]))=TRUE),\"Oui --> Priorité d'action\",\"Non\"))","v":""},null,null,null,null,{"$f":"IF(ISBLANK(Risque[[#This Row],[Catégorie de risque]]),\"\",CONCATENATE(Risque[[#This Row],[Catégorie de risque]],2))","v":""},null,{"$f":"IF(ISBLANK(Risque[[#This Row],[Moyens de prévention]]),\"\",CONCATENATE(Risque[[#This Row],[Moyens de prévention]],1))","v":""},null,null,null,null,null,{"$f":"IF(ISBLANK(Risque[[#This Row],[Catégorie de risque]]),\"\",CONCATENATE(Risque[[#This Row],[Catégorie de risque]],3))","v":""},null,null,null,{"$f":"IF(ISBLANK(Risque[[#This Row],[Catégorie de risque]]),\"\",CONCATENATE(Risque[[#This Row],[Catégorie de risque]],4))","v":""},null,null,null,null,null,{"$f":"IF(Risque[[#This Row],[Date d''inscription du risque]]<>\"\",YEAR(Risque[[#This Row],[Date d''inscription du risque]]),\"\")","v":""}]
[null,null,{"$f":"IF(ISBLANK(Risque[[#This Row],[Catégorie de risque]]),\"\",CONCATENATE(Risque[[#This Row],[Catégorie de risque]],1))","v":""},null,null,null,null,null,{"$f":"IF(ISBLANK(Risque[[#This Row],[Catégorie de risque]]),\"\",IF(OR(ISNUMBER(SEARCH(\"RZ\",Risque[[#This Row],[Source de danger]]))=TRUE,ISNUMBER(SEARCH(\"RP\",Risque[[#This Row],[Source de danger]]))=TRUE,ISNUMBER(SEARCH(\"RZ\",Risque[[#This Row],[Risques associés]]))=TRUE,ISNUMBER(SEARCH(\"RP\",Risque[[#This Row],[Risques associés]]))=TRUE,ISNUMBER(SEARCH(\"RZ\",Risque[[#This Row],[Précision du risque\n(si liste déroulante présente)]]))=TRUE,ISNUMBER(SEARCH(\"RP\",Risque[[#This Row],[Précision du risque\n(si liste déroulante présente)]]))=TRUE),\"Oui --> Priorité d'action\",\"Non\"))","v":""},null,null,null,null,{"$f":"IF(ISBLANK(Risque[[#This Row],[Catégorie de risque]]),\"\",CONCATENATE(Risque[[#This Row],[Catégorie de risque]],2))","v":""},null,{"$f":"IF(ISBLANK(Risque[[#This Row],[Moyens de prévention]]),\"\",CONCATENATE(Risque[[#This Row],[Moyens de prévention]],1))","v":""},null,null,null,null,null,{"$f":"IF(ISBLANK(Risque[[#This Row],[Catégorie de risque]]),\"\",CONCATENATE(Risque[[#This Row],[Catégorie de risque]],3))","v":""},null,null,null,{"$f":"IF(ISBLANK(Risque[[#This Row],[Catégorie de risque]]),\"\",CONCATENATE(Risque[[#This Row],[Catégorie de risque]],4))","v":""},null,null,null,null,null,{"$f":"IF(Risque[[#This Row],[Date d''inscription du risque]]<>\"\",YEAR(Risque[[#This Row],[Date d''inscription du risque]]),\"\")","v":""}]
[null,null,{"$f":"IF(ISBLANK(Risque[[#This Row],[Catégorie de risque]]),\"\",CONCATENATE(Risque[[#This Row],[Catégorie de risque]],1))","v":""},null,null,null,null,null,{"$f":"IF(ISBLANK(Risque[[#This Row],[Catégorie de risque]]),\"\",IF(OR(ISNUMBER(SEARCH(\"RZ\",Risque[[#This Row],[Source de danger]]))=TRUE,ISNUMBER(SEARCH(\"RP\",Risque[[#This Row],[Source de danger]]))=TRUE,ISNUMBER(SEARCH(\"RZ\",Risque[[#This Row],[Risques associés]]))=TRUE,ISNUMBER(SEARCH(\"RP\",Risque[[#This Row],[Risques associés]]))=TRUE,ISNUMBER(SEARCH(\"RZ\",Risque[[#This Row],[Précision du risque\n(si liste déroulante présente)]]))=TRUE,ISNUMBER(SEARCH(\"RP\",Risque[[#This Row],[Précision du risque\n(si liste déroulante présente)]]))=TRUE),\"Oui --> Priorité d'action\",\"Non\"))","v":""},null,null,null,null,{"$f":"IF(ISBLANK(Risque[[#This Row],[Catégorie de risque]]),\"\",CONCATENATE(Risque[[#This Row],[Catégorie de risque]],2))","v":""},null,{"$f":"IF(ISBLANK(Risque[[#This Row],[Moyens de prévention]]),\"\",CONCATENATE(Risque[[#This Row],[Moyens de prévention]],1))","v":""},null,null,null,null,null,{"$f":"IF(ISBLANK(Risque[[#This Row],[Catégorie de risque]]),\"\",CONCATENATE(Risque[[#This Row],[Catégorie de risque]],3))","v":""},null,null,null,{"$f":"IF(ISBLANK(Risque[[#This Row],[Catégorie de risque]]),\"\",CONCATENATE(Risque[[#This Row],[Catégorie de risque]],4))","v":""},null,null,null,null,null,{"$f":"IF(Risque[[#This Row],[Date d''inscription du risque]]<>\"\",YEAR(Risque[[#This Row],[Date d''inscription du risque]]),\"\")","v":""}]
[null,null,{"$f":"IF(ISBLANK(Risque[[#This Row],[Catégorie de risque]]),\"\",CONCATENATE(Risque[[#This Row],[Catégorie de risque]],1))","v":""},null,null,null,null,null,{"$f":"IF(ISBLANK(Risque[[#This Row],[Catégorie de risque]]),\"\",IF(OR(ISNUMBER(SEARCH(\"RZ\",Risque[[#This Row],[Source de danger]]))=TRUE,ISNUMBER(SEARCH(\"RP\",Risque[[#This Row],[Source de danger]]))=TRUE,ISNUMBER(SEARCH(\"RZ\",Risque[[#This Row],[Risques associés]]))=TRUE,ISNUMBER(SEARCH(\"RP\",Risque[[#This Row],[Risques associés]]))=TRUE,ISNUMBER(SEARCH(\"RZ\",Risque[[#This Row],[Précision du risque\n(si liste déroulante présente)]]))=TRUE,ISNUMBER(SEARCH(\"RP\",Risque[[#This Row],[Précision du risque\n(si liste déroulante présente)]]))=TRUE),\"Oui --> Priorité d'action\",\"Non\"))","v":""},null,null,null,null,{"$f":"IF(ISBLANK(Risque[[#This Row],[Catégorie de risque]]),\"\",CONCATENATE(Risque[[#This Row],[Catégorie de risque]],2))","v":""},null,{"$f":"IF(ISBLANK(Risque[[#This Row],[Moyens de prévention]]),\"\",CONCATENATE(Risque[[#This Row],[Moyens de prévention]],1))","v":""},null,null,null,null,null,{"$f":"IF(ISBLANK(Risque[[#This Row],[Catégorie de risque]]),\"\",CONCATENATE(Risque[[#This Row],[Catégorie de risque]],3))","v":""},null,null,null,{"$f":"IF(ISBLANK(Risque[[#This Row],[Catégorie de risque]]),\"\",CONCATENATE(Risque[[#This Row],[Catégorie de risque]],4))","v":""},null,null,null,null,null,{"$f":"IF(Risque[[#This Row],[Date d''inscription du risque]]<>\"\",YEAR(Risque[[#This Row],[Date d''inscription du risque]]),\"\")","v":""}]
[null,null,{"$f":"IF(ISBLANK(Risque[[#This Row],[Catégorie de risque]]),\"\",CONCATENATE(Risque[[#This Row],[Catégorie de risque]],1))","v":""},null,null,null,null,null,{"$f":"IF(ISBLANK(Risque[[#This Row],[Catégorie de risque]]),\"\",IF(OR(ISNUMBER(SEARCH(\"RZ\",Risque[[#This Row],[Source de danger]]))=TRUE,ISNUMBER(SEARCH(\"RP\",Risque[[#This Row],[Source de danger]]))=TRUE,ISNUMBER(SEARCH(\"RZ\",Risque[[#This Row],[Risques associés]]))=TRUE,ISNUMBER(SEARCH(\"RP\",Risque[[#This Row],[Risques associés]]))=TRUE,ISNUMBER(SEARCH(\"RZ\",Risque[[#This Row],[Précision du risque\n(si liste déroulante présente)]]))=TRUE,ISNUMBER(SEARCH(\"RP\",Risque[[#This Row],[Précision du risque\n(si liste déroulante présente)]]))=TRUE),\"Oui --> Priorité d'action\",\"Non\"))","v":""},null,null,null,null,{"$f":"IF(ISBLANK(Risque[[#This Row],[Catégorie de risque]]),\"\",CONCATENATE(Risque[[#This Row],[Catégorie de risque]],2))","v":""},null,{"$f":"IF(ISBLANK(Risque[[#This Row],[Moyens de prévention]]),\"\",CONCATENATE(Risque[[#This Row],[Moyens de prévention]],1))","v":""},null,null,null,null,null,{"$f":"IF(ISBLANK(Risque[[#This Row],[Catégorie de risque]]),\"\",CONCATENATE(Risque[[#This Row],[Catégorie de risque]],3))","v":""},null,null,null,{"$f":"IF(ISBLANK(Risque[[#This Row],[Catégorie de risque]]),\"\",CONCATENATE(Risque[[#This Row],[Catégorie de risque]],4))","v":""},null,null,null,null,null,{"$f":"IF(Risque[[#This Row],[Date d''inscription du risque]]<>\"\",YEAR(Risque[[#This Row],[Date d''inscription du risque]]),\"\")","v":""}]
[null,null,{"$f":"IF(ISBLANK(Risque[[#This Row],[Catégorie de risque]]),\"\",CONCATENATE(Risque[[#This Row],[Catégorie de risque]],1))","v":""},null,null,null,null,null,{"$f":"IF(ISBLANK(Risque[[#This Row],[Catégorie de risque]]),\"\",IF(OR(ISNUMBER(SEARCH(\"RZ\",Risque[[#This Row],[Source de danger]]))=TRUE,ISNUMBER(SEARCH(\"RP\",Risque[[#This Row],[Source de danger]]))=TRUE,ISNUMBER(SEARCH(\"RZ\",Risque[[#This Row],[Risques associés]]))=TRUE,ISNUMBER(SEARCH(\"RP\",Risque[[#This Row],[Risques associés]]))=TRUE,ISNUMBER(SEARCH(\"RZ\",Risque[[#This Row],[Précision du risque\n(si liste déroulante présente)]]))=TRUE,ISNUMBER(SEARCH(\"RP\",Risque[[#This Row],[Précision du risque\n(si liste déroulante présente)]]))=TRUE),\"Oui --> Priorité d'action\",\"Non\"))","v":""},null,null,null,null,{"$f":"IF(ISBLANK(Risque[[#This Row],[Catégorie de risque]]),\"\",CONCATENATE(Risque[[#This Row],[Catégorie de risque]],2))","v":""},null,{"$f":"IF(ISBLANK(Risque[[#This Row],[Moyens de prévention]]),\"\",CONCATENATE(Risque[[#This Row],[Moyens de prévention]],1))","v":""},null,null,null,null,null,{"$f":"IF(ISBLANK(Risque[[#This Row],[Catégorie de risque]]),\"\",CONCATENATE(Risque[[#This Row],[Catégorie de risque]],3))","v":""},null,null,null,{"$f":"IF(ISBLANK(Risque[[#This Row],[Catégorie de risque]]),\"\",CONCATENATE(Risque[[#This Row],[Catégorie de risque]],4))","v":""},null,null,null,null,null,{"$f":"IF(Risque[[#This Row],[Date d''inscription du risque]]<>\"\",YEAR(Risque[[#This Row],[Date d''inscription du risque]]),\"\")","v":""}]
[null,null,{"$f":"IF(ISBLANK(Risque[[#This Row],[Catégorie de risque]]),\"\",CONCATENATE(Risque[[#This Row],[Catégorie de risque]],1))","v":""},null,null,null,null,null,{"$f":"IF(ISBLANK(Risque[[#This Row],[Catégorie de risque]]),\"\",IF(OR(ISNUMBER(SEARCH(\"RZ\",Risque[[#This Row],[Source de danger]]))=TRUE,ISNUMBER(SEARCH(\"RP\",Risque[[#This Row],[Source de danger]]))=TRUE,ISNUMBER(SEARCH(\"RZ\",Risque[[#This Row],[Risques associés]]))=TRUE,ISNUMBER(SEARCH(\"RP\",Risque[[#This Row],[Risques associés]]))=TRUE,ISNUMBER(SEARCH(\"RZ\",Risque[[#This Row],[Précision du risque\n(si liste déroulante présente)]]))=TRUE,ISNUMBER(SEARCH(\"RP\",Risque[[#This Row],[Précision du risque\n(si liste déroulante présente)]]))=TRUE),\"Oui --> Priorité d'action\",\"Non\"))","v":""},null,null,null,null,{"$f":"IF(ISBLANK(Risque[[#This Row],[Catégorie de risque]]),\"\",CONCATENATE(Risque[[#This Row],[Catégorie de risque]],2))","v":""},null,{"$f":"IF(ISBLANK(Risque[[#This Row],[Moyens de prévention]]),\"\",CONCATENATE(Risque[[#This Row],[Moyens de prévention]],1))","v":""},null,null,null,null,null,{"$f":"IF(ISBLANK(Risque[[#This Row],[Catégorie de risque]]),\"\",CONCATENATE(Risque[[#This Row],[Catégorie de risque]],3))","v":""},null,null,null,{"$f":"IF(ISBLANK(Risque[[#This Row],[Catégorie de risque]]),\"\",CONCATENATE(Risque[[#This Row],[Catégorie de risque]],4))","v":""},null,null,null,null,null,{"$f":"IF(Risque[[#This Row],[Date d''inscription du risque]]<>\"\",YEAR(Risque[[#This Row],[Date d''inscription du risque]]),\"\")","v":""}]
[null,null,{"$f":"IF(ISBLANK(Risque[[#This Row],[Catégorie de risque]]),\"\",CONCATENATE(Risque[[#This Row],[Catégorie de risque]],1))","v":""},null,null,null,null,null,{"$f":"IF(ISBLANK(Risque[[#This Row],[Catégorie de risque]]),\"\",IF(OR(ISNUMBER(SEARCH(\"RZ\",Risque[[#This Row],[Source de danger]]))=TRUE,ISNUMBER(SEARCH(\"RP\",Risque[[#This Row],[Source de danger]]))=TRUE,ISNUMBER(SEARCH(\"RZ\",Risque[[#This Row],[Risques associés]]))=TRUE,ISNUMBER(SEARCH(\"RP\",Risque[[#This Row],[Risques associés]]))=TRUE,ISNUMBER(SEARCH(\"RZ\",Risque[[#This Row],[Précision du risque\n(si liste déroulante présente)]]))=TRUE,ISNUMBER(SEARCH(\"RP\",Risque[[#This Row],[Précision du risque\n(si liste déroulante présente)]]))=TRUE),\"Oui --> Priorité d'action\",\"Non\"))","v":""},null,null,null,null,{"$f":"IF(ISBLANK(Risque[[#This Row],[Catégorie de risque]]),\"\",CONCATENATE(Risque[[#This Row],[Catégorie de risque]],2))","v":""},null,{"$f":"IF(ISBLANK(Risque[[#This Row],[Moyens de prévention]]),\"\",CONCATENATE(Risque[[#This Row],[Moyens de prévention]],1))","v":""},null,null,null,null,null,{"$f":"IF(ISBLANK(Risque[[#This Row],[Catégorie de risque]]),\"\",CONCATENATE(Risque[[#This Row],[Catégorie de risque]],3))","v":""},null,null,null,{"$f":"IF(ISBLANK(Risque[[#This Row],[Catégorie de risque]]),\"\",CONCATENATE(Risque[[#This Row],[Catégorie de risque]],4))","v":""},null,null,null,null,null,{"$f":"IF(Risque[[#This Row],[Date d''inscription du risque]]<>\"\",YEAR(Risque[[#This Row],[Date d''inscription du risque]]),\"\")","v":""}]
[null,null,{"$f":"IF(ISBLANK(Risque[[#This Row],[Catégorie de risque]]),\"\",CONCATENATE(Risque[[#This Row],[Catégorie de risque]],1))","v":""},null,null,null,null,null,{"$f":"IF(ISBLANK(Risque[[#This Row],[Catégorie de risque]]),\"\",IF(OR(ISNUMBER(SEARCH(\"RZ\",Risque[[#This Row],[Source de danger]]))=TRUE,ISNUMBER(SEARCH(\"RP\",Risque[[#This Row],[Source de danger]]))=TRUE,ISNUMBER(SEARCH(\"RZ\",Risque[[#This Row],[Risques associés]]))=TRUE,ISNUMBER(SEARCH(\"RP\",Risque[[#This Row],[Risques associés]]))=TRUE,ISNUMBER(SEARCH(\"RZ\",Risque[[#This Row],[Précision du risque\n(si liste déroulante présente)]]))=TRUE,ISNUMBER(SEARCH(\"RP\",Risque[[#This Row],[Précision du risque\n(si liste déroulante présente)]]))=TRUE),\"Oui --> Priorité d'action\",\"Non\"))","v":""},null,null,null,null,{"$f":"IF(ISBLANK(Risque[[#This Row],[Catégorie de risque]]),\"\",CONCATENATE(Risque[[#This Row],[Catégorie de risque]],2))","v":""},null,{"$f":"IF(ISBLANK(Risque[[#This Row],[Moyens de prévention]]),\"\",CONCATENATE(Risque[[#This Row],[Moyens de prévention]],1))","v":""},null,null,null,null,null,{"$f":"IF(ISBLANK(Risque[[#This Row],[Catégorie de risque]]),\"\",CONCATENATE(Risque[[#This Row],[Catégorie de risque]],3))","v":""},null,null,null,{"$f":"IF(ISBLANK(Risque[[#This Row],[Catégorie de risque]]),\"\",CONCATENATE(Risque[[#This Row],[Catégorie de risque]],4))","v":""},null,null,null,null,null,{"$f":"IF(Risque[[#This Row],[Date d''inscription du risque]]<>\"\",YEAR(Risque[[#This Row],[Date d''inscription du risque]]),\"\")","v":""}]
[null,null,{"$f":"IF(ISBLANK(Risque[[#This Row],[Catégorie de risque]]),\"\",CONCATENATE(Risque[[#This Row],[Catégorie de risque]],1))","v":""},null,null,null,null,null,{"$f":"IF(ISBLANK(Risque[[#This Row],[Catégorie de risque]]),\"\",IF(OR(ISNUMBER(SEARCH(\"RZ\",Risque[[#This Row],[Source de danger]]))=TRUE,ISNUMBER(SEARCH(\"RP\",Risque[[#This Row],[Source de danger]]))=TRUE,ISNUMBER(SEARCH(\"RZ\",Risque[[#This Row],[Risques associés]]))=TRUE,ISNUMBER(SEARCH(\"RP\",Risque[[#This Row],[Risques associés]]))=TRUE,ISNUMBER(SEARCH(\"RZ\",Risque[[#This Row],[Précision du risque\n(si liste déroulante présente)]]))=TRUE,ISNUMBER(SEARCH(\"RP\",Risque[[#This Row],[Précision du risque\n(si liste déroulante présente)]]))=TRUE),\"Oui --> Priorité d'action\",\"Non\"))","v":""},null,null,null,null,{"$f":"IF(ISBLANK(Risque[[#This Row],[Catégorie de risque]]),\"\",CONCATENATE(Risque[[#This Row],[Catégorie de risque]],2))","v":""},null,{"$f":"IF(ISBLANK(Risque[[#This Row],[Moyens de prévention]]),\"\",CONCATENATE(Risque[[#This Row],[Moyens de prévention]],1))","v":""},null,null,null,null,null,{"$f":"IF(ISBLANK(Risque[[#This Row],[Catégorie de risque]]),\"\",CONCATENATE(Risque[[#This Row],[Catégorie de risque]],3))","v":""},null,null,null,{"$f":"IF(ISBLANK(Risque[[#This Row],[Catégorie de risque]]),\"\",CONCATENATE(Risque[[#This Row],[Catégorie de risque]],4))","v":""},null,null,null,null,null,{"$f":"IF(Risque[[#This Row],[Date d''inscription du risque]]<>\"\",YEAR(Risque[[#This Row],[Date d''inscription du risque]]),\"\")","v":""}]
[null,null,{"$f":"IF(ISBLANK(Risque[[#This Row],[Catégorie de risque]]),\"\",CONCATENATE(Risque[[#This Row],[Catégorie de risque]],1))","v":""},null,null,null,null,null,{"$f":"IF(ISBLANK(Risque[[#This Row],[Catégorie de risque]]),\"\",IF(OR(ISNUMBER(SEARCH(\"RZ\",Risque[[#This Row],[Source de danger]]))=TRUE,ISNUMBER(SEARCH(\"RP\",Risque[[#This Row],[Source de danger]]))=TRUE,ISNUMBER(SEARCH(\"RZ\",Risque[[#This Row],[Risques associés]]))=TRUE,ISNUMBER(SEARCH(\"RP\",Risque[[#This Row],[Risques associés]]))=TRUE,ISNUMBER(SEARCH(\"RZ\",Risque[[#This Row],[Précision du risque\n(si liste déroulante présente)]]))=TRUE,ISNUMBER(SEARCH(\"RP\",Risque[[#This Row],[Précision du risque\n(si liste déroulante présente)]]))=TRUE),\"Oui --> Priorité d'action\",\"Non\"))","v":""},null,null,null,null,{"$f":"IF(ISBLANK(Risque[[#This Row],[Catégorie de risque]]),\"\",CONCATENATE(Risque[[#This Row],[Catégorie de risque]],2))","v":""},null,{"$f":"IF(ISBLANK(Risque[[#This Row],[Moyens de prévention]]),\"\",CONCATENATE(Risque[[#This Row],[Moyens de prévention]],1))","v":""},null,null,null,null,null,{"$f":"IF(ISBLANK(Risque[[#This Row],[Catégorie de risque]]),\"\",CONCATENATE(Risque[[#This Row],[Catégorie de risque]],3))","v":""},null,null,null,{"$f":"IF(ISBLANK(Risque[[#This Row],[Catégorie de risque]]),\"\",CONCATENATE(Risque[[#This Row],[Catégorie de risque]],4))","v":""},null,null,null,null,null,{"$f":"IF(Risque[[#This Row],[Date d''inscription du risque]]<>\"\",YEAR(Risque[[#This Row],[Date d''inscription du risque]]),\"\")","v":""}]
[null,null,{"$f":"IF(ISBLANK(Risque[[#This Row],[Catégorie de risque]]),\"\",CONCATENATE(Risque[[#This Row],[Catégorie de risque]],1))","v":""},null,null,null,null,null,{"$f":"IF(ISBLANK(Risque[[#This Row],[Catégorie de risque]]),\"\",IF(OR(ISNUMBER(SEARCH(\"RZ\",Risque[[#This Row],[Source de danger]]))=TRUE,ISNUMBER(SEARCH(\"RP\",Risque[[#This Row],[Source de danger]]))=TRUE,ISNUMBER(SEARCH(\"RZ\",Risque[[#This Row],[Risques associés]]))=TRUE,ISNUMBER(SEARCH(\"RP\",Risque[[#This Row],[Risques associés]]))=TRUE,ISNUMBER(SEARCH(\"RZ\",Risque[[#This Row],[Précision du risque\n(si liste déroulante présente)]]))=TRUE,ISNUMBER(SEARCH(\"RP\",Risque[[#This Row],[Précision du risque\n(si liste déroulante présente)]]))=TRUE),\"Oui --> Priorité d'action\",\"Non\"))","v":""},null,null,null,null,{"$f":"IF(ISBLANK(Risque[[#This Row],[Catégorie de risque]]),\"\",CONCATENATE(Risque[[#This Row],[Catégorie de risque]],2))","v":""},null,{"$f":"IF(ISBLANK(Risque[[#This Row],[Moyens de prévention]]),\"\",CONCATENATE(Risque[[#This Row],[Moyens de prévention]],1))","v":""},null,null,null,null,null,{"$f":"IF(ISBLANK(Risque[[#This Row],[Catégorie de risque]]),\"\",CONCATENATE(Risque[[#This Row],[Catégorie de risque]],3))","v":""},null,null,null,{"$f":"IF(ISBLANK(Risque[[#This Row],[Catégorie de risque]]),\"\",CONCATENATE(Risque[[#This Row],[Catégorie de risque]],4))","v":""},null,null,null,null,null,{"$f":"IF(Risque[[#This Row],[Date d''inscription du risque]]<>\"\",YEAR(Risque[[#This Row],[Date d''inscription du risque]]),\"\")","v":""}]
[null,null,{"$f":"IF(ISBLANK(Risque[[#This Row],[Catégorie de risque]]),\"\",CONCATENATE(Risque[[#This Row],[Catégorie de risque]],1))","v":""},null,null,null,null,null,{"$f":"IF(ISBLANK(Risque[[#This Row],[Catégorie de risque]]),\"\",IF(OR(ISNUMBER(SEARCH(\"RZ\",Risque[[#This Row],[Source de danger]]))=TRUE,ISNUMBER(SEARCH(\"RP\",Risque[[#This Row],[Source de danger]]))=TRUE,ISNUMBER(SEARCH(\"RZ\",Risque[[#This Row],[Risques associés]]))=TRUE,ISNUMBER(SEARCH(\"RP\",Risque[[#This Row],[Risques associés]]))=TRUE,ISNUMBER(SEARCH(\"RZ\",Risque[[#This Row],[Précision du risque\n(si liste déroulante présente)]]))=TRUE,ISNUMBER(SEARCH(\"RP\",Risque[[#This Row],[Précision du risque\n(si liste déroulante présente)]]))=TRUE),\"Oui --> Priorité d'action\",\"Non\"))","v":""},null,null,null,null,{"$f":"IF(ISBLANK(Risque[[#This Row],[Catégorie de risque]]),\"\",CONCATENATE(Risque[[#This Row],[Catégorie de risque]],2))","v":""},null,{"$f":"IF(ISBLANK(Risque[[#This Row],[Moyens de prévention]]),\"\",CONCATENATE(Risque[[#This Row],[Moyens de prévention]],1))","v":""},null,null,null,null,null,{"$f":"IF(ISBLANK(Risque[[#This Row],[Catégorie de risque]]),\"\",CONCATENATE(Risque[[#This Row],[Catégorie de risque]],3))","v":""},null,null,null,{"$f":"IF(ISBLANK(Risque[[#This Row],[Catégorie de risque]]),\"\",CONCATENATE(Risque[[#This Row],[Catégorie de risque]],4))","v":""},null,null,null,null,null,{"$f":"IF(Risque[[#This Row],[Date d''inscription du risque]]<>\"\",YEAR(Risque[[#This Row],[Date d''inscription du risque]]),\"\")","v":""}]
[null,null,{"$f":"IF(ISBLANK(Risque[[#This Row],[Catégorie de risque]]),\"\",CONCATENATE(Risque[[#This Row],[Catégorie de risque]],1))","v":""},null,null,null,null,null,{"$f":"IF(ISBLANK(Risque[[#This Row],[Catégorie de risque]]),\"\",IF(OR(ISNUMBER(SEARCH(\"RZ\",Risque[[#This Row],[Source de danger]]))=TRUE,ISNUMBER(SEARCH(\"RP\",Risque[[#This Row],[Source de danger]]))=TRUE,ISNUMBER(SEARCH(\"RZ\",Risque[[#This Row],[Risques associés]]))=TRUE,ISNUMBER(SEARCH(\"RP\",Risque[[#This Row],[Risques associés]]))=TRUE,ISNUMBER(SEARCH(\"RZ\",Risque[[#This Row],[Précision du risque\n(si liste déroulante présente)]]))=TRUE,ISNUMBER(SEARCH(\"RP\",Risque[[#This Row],[Précision du risque\n(si liste déroulante présente)]]))=TRUE),\"Oui --> Priorité d'action\",\"Non\"))","v":""},null,null,null,null,{"$f":"IF(ISBLANK(Risque[[#This Row],[Catégorie de risque]]),\"\",CONCATENATE(Risque[[#This Row],[Catégorie de risque]],2))","v":""},null,{"$f":"IF(ISBLANK(Risque[[#This Row],[Moyens de prévention]]),\"\",CONCATENATE(Risque[[#This Row],[Moyens de prévention]],1))","v":""},null,null,null,null,null,{"$f":"IF(ISBLANK(Risque[[#This Row],[Catégorie de risque]]),\"\",CONCATENATE(Risque[[#This Row],[Catégorie de risque]],3))","v":""},null,null,null,{"$f":"IF(ISBLANK(Risque[[#This Row],[Catégorie de risque]]),\"\",CONCATENATE(Risque[[#This Row],[Catégorie de risque]],4))","v":""},null,null,null,null,null,{"$f":"IF(Risque[[#This Row],[Date d''inscription du risque]]<>\"\",YEAR(Risque[[#This Row],[Date d''inscription du risque]]),\"\")","v":""}]
[null,null,{"$f":"IF(ISBLANK(Risque[[#This Row],[Catégorie de risque]]),\"\",CONCATENATE(Risque[[#This Row],[Catégorie de risque]],1))","v":""},null,null,null,null,null,{"$f":"IF(ISBLANK(Risque[[#This Row],[Catégorie de risque]]),\"\",IF(OR(ISNUMBER(SEARCH(\"RZ\",Risque[[#This Row],[Source de danger]]))=TRUE,ISNUMBER(SEARCH(\"RP\",Risque[[#This Row],[Source de danger]]))=TRUE,ISNUMBER(SEARCH(\"RZ\",Risque[[#This Row],[Risques associés]]))=TRUE,ISNUMBER(SEARCH(\"RP\",Risque[[#This Row],[Risques associés]]))=TRUE,ISNUMBER(SEARCH(\"RZ\",Risque[[#This Row],[Précision du risque\n(si liste déroulante présente)]]))=TRUE,ISNUMBER(SEARCH(\"RP\",Risque[[#This Row],[Précision du risque\n(si liste déroulante présente)]]))=TRUE),\"Oui --> Priorité d'action\",\"Non\"))","v":""},null,null,null,null,{"$f":"IF(ISBLANK(Risque[[#This Row],[Catégorie de risque]]),\"\",CONCATENATE(Risque[[#This Row],[Catégorie de risque]],2))","v":""},null,{"$f":"IF(ISBLANK(Risque[[#This Row],[Moyens de prévention]]),\"\",CONCATENATE(Risque[[#This Row],[Moyens de prévention]],1))","v":""},null,null,null,null,null,{"$f":"IF(ISBLANK(Risque[[#This Row],[Catégorie de risque]]),\"\",CONCATENATE(Risque[[#This Row],[Catégorie de risque]],3))","v":""},null,null,null,{"$f":"IF(ISBLANK(Risque[[#This Row],[Catégorie de risque]]),\"\",CONCATENATE(Risque[[#This Row],[Catégorie de risque]],4))","v":""},null,null,null,null,null,{"$f":"IF(Risque[[#This Row],[Date d''inscription du risque]]<>\"\",YEAR(Risque[[#This Row],[Date d''inscription du risque]]),\"\")","v":""}]
[null,null,{"$f":"IF(ISBLANK(Risque[[#This Row],[Catégorie de risque]]),\"\",CONCATENATE(Risque[[#This Row],[Catégorie de risque]],1))","v":""},null,null,null,null,null,{"$f":"IF(ISBLANK(Risque[[#This Row],[Catégorie de risque]]),\"\",IF(OR(ISNUMBER(SEARCH(\"RZ\",Risque[[#This Row],[Source de danger]]))=TRUE,ISNUMBER(SEARCH(\"RP\",Risque[[#This Row],[Source de danger]]))=TRUE,ISNUMBER(SEARCH(\"RZ\",Risque[[#This Row],[Risques associés]]))=TRUE,ISNUMBER(SEARCH(\"RP\",Risque[[#This Row],[Risques associés]]))=TRUE,ISNUMBER(SEARCH(\"RZ\",Risque[[#This Row],[Précision du risque\n(si liste déroulante présente)]]))=TRUE,ISNUMBER(SEARCH(\"RP\",Risque[[#This Row],[Précision du risque\n(si liste déroulante présente)]]))=TRUE),\"Oui --> Priorité d'action\",\"Non\"))","v":""},null,null,null,null,{"$f":"IF(ISBLANK(Risque[[#This Row],[Catégorie de risque]]),\"\",CONCATENATE(Risque[[#This Row],[Catégorie de risque]],2))","v":""},null,{"$f":"IF(ISBLANK(Risque[[#This Row],[Moyens de prévention]]),\"\",CONCATENATE(Risque[[#This Row],[Moyens de prévention]],1))","v":""},null,null,null,null,null,{"$f":"IF(ISBLANK(Risque[[#This Row],[Catégorie de risque]]),\"\",CONCATENATE(Risque[[#This Row],[Catégorie de risque]],3))","v":""},null,null,null,{"$f":"IF(ISBLANK(Risque[[#This Row],[Catégorie de risque]]),\"\",CONCATENATE(Risque[[#This Row],[Catégorie de risque]],4))","v":""},null,null,null,null,null,{"$f":"IF(Risque[[#This Row],[Date d''inscription du risque]]<>\"\",YEAR(Risque[[#This Row],[Date d''inscription du risque]]),\"\")","v":""}]
[null,null,{"$f":"IF(ISBLANK(Risque[[#This Row],[Catégorie de risque]]),\"\",CONCATENATE(Risque[[#This Row],[Catégorie de risque]],1))","v":""},null,null,null,null,null,{"$f":"IF(ISBLANK(Risque[[#This Row],[Catégorie de risque]]),\"\",IF(OR(ISNUMBER(SEARCH(\"RZ\",Risque[[#This Row],[Source de danger]]))=TRUE,ISNUMBER(SEARCH(\"RP\",Risque[[#This Row],[Source de danger]]))=TRUE,ISNUMBER(SEARCH(\"RZ\",Risque[[#This Row],[Risques associés]]))=TRUE,ISNUMBER(SEARCH(\"RP\",Risque[[#This Row],[Risques associés]]))=TRUE,ISNUMBER(SEARCH(\"RZ\",Risque[[#This Row],[Précision du risque\n(si liste déroulante présente)]]))=TRUE,ISNUMBER(SEARCH(\"RP\",Risque[[#This Row],[Précision du risque\n(si liste déroulante présente)]]))=TRUE),\"Oui --> Priorité d'action\",\"Non\"))","v":""},null,null,null,null,{"$f":"IF(ISBLANK(Risque[[#This Row],[Catégorie de risque]]),\"\",CONCATENATE(Risque[[#This Row],[Catégorie de risque]],2))","v":""},null,{"$f":"IF(ISBLANK(Risque[[#This Row],[Moyens de prévention]]),\"\",CONCATENATE(Risque[[#This Row],[Moyens de prévention]],1))","v":""},null,null,null,null,null,{"$f":"IF(ISBLANK(Risque[[#This Row],[Catégorie de risque]]),\"\",CONCATENATE(Risque[[#This Row],[Catégorie de risque]],3))","v":""},null,null,null,{"$f":"IF(ISBLANK(Risque[[#This Row],[Catégorie de risque]]),\"\",CONCATENATE(Risque[[#This Row],[Catégorie de risque]],4))","v":""},null,null,null,null,null,{"$f":"IF(Risque[[#This Row],[Date d''inscription du risque]]<>\"\",YEAR(Risque[[#This Row],[Date d''inscription du risque]]),\"\")","v":""}]
[null,null,{"$f":"IF(ISBLANK(Risque[[#This Row],[Catégorie de risque]]),\"\",CONCATENATE(Risque[[#This Row],[Catégorie de risque]],1))","v":""},null,null,null,null,null,{"$f":"IF(ISBLANK(Risque[[#This Row],[Catégorie de risque]]),\"\",IF(OR(ISNUMBER(SEARCH(\"RZ\",Risque[[#This Row],[Source de danger]]))=TRUE,ISNUMBER(SEARCH(\"RP\",Risque[[#This Row],[Source de danger]]))=TRUE,ISNUMBER(SEARCH(\"RZ\",Risque[[#This Row],[Risques associés]]))=TRUE,ISNUMBER(SEARCH(\"RP\",Risque[[#This Row],[Risques associés]]))=TRUE,ISNUMBER(SEARCH(\"RZ\",Risque[[#This Row],[Précision du risque\n(si liste déroulante présente)]]))=TRUE,ISNUMBER(SEARCH(\"RP\",Risque[[#This Row],[Précision du risque\n(si liste déroulante présente)]]))=TRUE),\"Oui --> Priorité d'action\",\"Non\"))","v":""},null,null,null,null,{"$f":"IF(ISBLANK(Risque[[#This Row],[Catégorie de risque]]),\"\",CONCATENATE(Risque[[#This Row],[Catégorie de risque]],2))","v":""},null,{"$f":"IF(ISBLANK(Risque[[#This Row],[Moyens de prévention]]),\"\",CONCATENATE(Risque[[#This Row],[Moyens de prévention]],1))","v":""},null,null,null,null,null,{"$f":"IF(ISBLANK(Risque[[#This Row],[Catégorie de risque]]),\"\",CONCATENATE(Risque[[#This Row],[Catégorie de risque]],3))","v":""},null,null,null,{"$f":"IF(ISBLANK(Risque[[#This Row],[Catégorie de risque]]),\"\",CONCATENATE(Risque[[#This Row],[Catégorie de risque]],4))","v":""},null,null,null,null,null,{"$f":"IF(Risque[[#This Row],[Date d''inscription du risque]]<>\"\",YEAR(Risque[[#This Row],[Date d''inscription du risque]]),\"\")","v":""}]
[null,null,{"$f":"IF(ISBLANK(Risque[[#This Row],[Catégorie de risque]]),\"\",CONCATENATE(Risque[[#This Row],[Catégorie de risque]],1))","v":""},null,null,null,null,null,{"$f":"IF(ISBLANK(Risque[[#This Row],[Catégorie de risque]]),\"\",IF(OR(ISNUMBER(SEARCH(\"RZ\",Risque[[#This Row],[Source de danger]]))=TRUE,ISNUMBER(SEARCH(\"RP\",Risque[[#This Row],[Source de danger]]))=TRUE,ISNUMBER(SEARCH(\"RZ\",Risque[[#This Row],[Risques associés]]))=TRUE,ISNUMBER(SEARCH(\"RP\",Risque[[#This Row],[Risques associés]]))=TRUE,ISNUMBER(SEARCH(\"RZ\",Risque[[#This Row],[Précision du risque\n(si liste déroulante présente)]]))=TRUE,ISNUMBER(SEARCH(\"RP\",Risque[[#This Row],[Précision du risque\n(si liste déroulante présente)]]))=TRUE),\"Oui --> Priorité d'action\",\"Non\"))","v":""},null,null,null,null,{"$f":"IF(ISBLANK(Risque[[#This Row],[Catégorie de risque]]),\"\",CONCATENATE(Risque[[#This Row],[Catégorie de risque]],2))","v":""},null,{"$f":"IF(ISBLANK(Risque[[#This Row],[Moyens de prévention]]),\"\",CONCATENATE(Risque[[#This Row],[Moyens de prévention]],1))","v":""},null,null,null,null,null,{"$f":"IF(ISBLANK(Risque[[#This Row],[Catégorie de risque]]),\"\",CONCATENATE(Risque[[#This Row],[Catégorie de risque]],3))","v":""},null,null,null,{"$f":"IF(ISBLANK(Risque[[#This Row],[Catégorie de risque]]),\"\",CONCATENATE(Risque[[#This Row],[Catégorie de risque]],4))","v":""},null,null,null,null,null,{"$f":"IF(Risque[[#This Row],[Date d''inscription du risque]]<>\"\",YEAR(Risque[[#This Row],[Date d''inscription du risque]]),\"\")","v":""}]
[null,null,{"$f":"IF(ISBLANK(Risque[[#This Row],[Catégorie de risque]]),\"\",CONCATENATE(Risque[[#This Row],[Catégorie de risque]],1))","v":""},null,null,null,null,null,{"$f":"IF(ISBLANK(Risque[[#This Row],[Catégorie de risque]]),\"\",IF(OR(ISNUMBER(SEARCH(\"RZ\",Risque[[#This Row],[Source de danger]]))=TRUE,ISNUMBER(SEARCH(\"RP\",Risque[[#This Row],[Source de danger]]))=TRUE,ISNUMBER(SEARCH(\"RZ\",Risque[[#This Row],[Risques associés]]))=TRUE,ISNUMBER(SEARCH(\"RP\",Risque[[#This Row],[Risques associés]]))=TRUE,ISNUMBER(SEARCH(\"RZ\",Risque[[#This Row],[Précision du risque\n(si liste déroulante présente)]]))=TRUE,ISNUMBER(SEARCH(\"RP\",Risque[[#This Row],[Précision du risque\n(si liste déroulante présente)]]))=TRUE),\"Oui --> Priorité d'action\",\"Non\"))","v":""},null,null,null,null,{"$f":"IF(ISBLANK(Risque[[#This Row],[Catégorie de risque]]),\"\",CONCATENATE(Risque[[#This Row],[Catégorie de risque]],2))","v":""},null,{"$f":"IF(ISBLANK(Risque[[#This Row],[Moyens de prévention]]),\"\",CONCATENATE(Risque[[#This Row],[Moyens de prévention]],1))","v":""},null,null,null,null,null,{"$f":"IF(ISBLANK(Risque[[#This Row],[Catégorie de risque]]),\"\",CONCATENATE(Risque[[#This Row],[Catégorie de risque]],3))","v":""},null,null,null,{"$f":"IF(ISBLANK(Risque[[#This Row],[Catégorie de risque]]),\"\",CONCATENATE(Risque[[#This Row],[Catégorie de risque]],4))","v":""},null,null,null,null,null,{"$f":"IF(Risque[[#This Row],[Date d''inscription du risque]]<>\"\",YEAR(Risque[[#This Row],[Date d''inscription du risque]]),\"\")","v":""}]
[null,null,{"$f":"IF(ISBLANK(Risque[[#This Row],[Catégorie de risque]]),\"\",CONCATENATE(Risque[[#This Row],[Catégorie de risque]],1))","v":""},null,null,null,null,null,{"$f":"IF(ISBLANK(Risque[[#This Row],[Catégorie de risque]]),\"\",IF(OR(ISNUMBER(SEARCH(\"RZ\",Risque[[#This Row],[Source de danger]]))=TRUE,ISNUMBER(SEARCH(\"RP\",Risque[[#This Row],[Source de danger]]))=TRUE,ISNUMBER(SEARCH(\"RZ\",Risque[[#This Row],[Risques associés]]))=TRUE,ISNUMBER(SEARCH(\"RP\",Risque[[#This Row],[Risques associés]]))=TRUE,ISNUMBER(SEARCH(\"RZ\",Risque[[#This Row],[Précision du risque\n(si liste déroulante présente)]]))=TRUE,ISNUMBER(SEARCH(\"RP\",Risque[[#This Row],[Précision du risque\n(si liste déroulante présente)]]))=TRUE),\"Oui --> Priorité d'action\",\"Non\"))","v":""},null,null,null,null,{"$f":"IF(ISBLANK(Risque[[#This Row],[Catégorie de risque]]),\"\",CONCATENATE(Risque[[#This Row],[Catégorie de risque]],2))","v":""},null,{"$f":"IF(ISBLANK(Risque[[#This Row],[Moyens de prévention]]),\"\",CONCATENATE(Risque[[#This Row],[Moyens de prévention]],1))","v":""},null,null,null,null,null,{"$f":"IF(ISBLANK(Risque[[#This Row],[Catégorie de risque]]),\"\",CONCATENATE(Risque[[#This Row],[Catégorie de risque]],3))","v":""},null,null,null,{"$f":"IF(ISBLANK(Risque[[#This Row],[Catégorie de risque]]),\"\",CONCATENATE(Risque[[#This Row],[Catégorie de risque]],4))","v":""},null,null,null,null,null,{"$f":"IF(Risque[[#This Row],[Date d''inscription du risque]]<>\"\",YEAR(Risque[[#This Row],[Date d''inscription du risque]]),\"\")","v":""}]
[null,null,{"$f":"IF(ISBLANK(Risque[[#This Row],[Catégorie de risque]]),\"\",CONCATENATE(Risque[[#This Row],[Catégorie de risque]],1))","v":""},null,null,null,null,null,{"$f":"IF(ISBLANK(Risque[[#This Row],[Catégorie de risque]]),\"\",IF(OR(ISNUMBER(SEARCH(\"RZ\",Risque[[#This Row],[Source de danger]]))=TRUE,ISNUMBER(SEARCH(\"RP\",Risque[[#This Row],[Source de danger]]))=TRUE,ISNUMBER(SEARCH(\"RZ\",Risque[[#This Row],[Risques associés]]))=TRUE,ISNUMBER(SEARCH(\"RP\",Risque[[#This Row],[Risques associés]]))=TRUE,ISNUMBER(SEARCH(\"RZ\",Risque[[#This Row],[Précision du risque\n(si liste déroulante présente)]]))=TRUE,ISNUMBER(SEARCH(\"RP\",Risque[[#This Row],[Précision du risque\n(si liste déroulante présente)]]))=TRUE),\"Oui --> Priorité d'action\",\"Non\"))","v":""},null,null,null,null,{"$f":"IF(ISBLANK(Risque[[#This Row],[Catégorie de risque]]),\"\",CONCATENATE(Risque[[#This Row],[Catégorie de risque]],2))","v":""},null,{"$f":"IF(ISBLANK(Risque[[#This Row],[Moyens de prévention]]),\"\",CONCATENATE(Risque[[#This Row],[Moyens de prévention]],1))","v":""},null,null,null,null,null,{"$f":"IF(ISBLANK(Risque[[#This Row],[Catégorie de risque]]),\"\",CONCATENATE(Risque[[#This Row],[Catégorie de risque]],3))","v":""},null,null,null,{"$f":"IF(ISBLANK(Risque[[#This Row],[Catégorie de risque]]),\"\",CONCATENATE(Risque[[#This Row],[Catégorie de risque]],4))","v":""},null,null,null,null,null,{"$f":"IF(Risque[[#This Row],[Date d''inscription du risque]]<>\"\",YEAR(Risque[[#This Row],[Date d''inscription du risque]]),\"\")","v":""}]
[null,null,{"$f":"IF(ISBLANK(Risque[[#This Row],[Catégorie de risque]]),\"\",CONCATENATE(Risque[[#This Row],[Catégorie de risque]],1))","v":""},null,null,null,null,null,{"$f":"IF(ISBLANK(Risque[[#This Row],[Catégorie de risque]]),\"\",IF(OR(ISNUMBER(SEARCH(\"RZ\",Risque[[#This Row],[Source de danger]]))=TRUE,ISNUMBER(SEARCH(\"RP\",Risque[[#This Row],[Source de danger]]))=TRUE,ISNUMBER(SEARCH(\"RZ\",Risque[[#This Row],[Risques associés]]))=TRUE,ISNUMBER(SEARCH(\"RP\",Risque[[#This Row],[Risques associés]]))=TRUE,ISNUMBER(SEARCH(\"RZ\",Risque[[#This Row],[Précision du risque\n(si liste déroulante présente)]]))=TRUE,ISNUMBER(SEARCH(\"RP\",Risque[[#This Row],[Précision du risque\n(si liste déroulante présente)]]))=TRUE),\"Oui --> Priorité d'action\",\"Non\"))","v":""},null,null,null,null,{"$f":"IF(ISBLANK(Risque[[#This Row],[Catégorie de risque]]),\"\",CONCATENATE(Risque[[#This Row],[Catégorie de risque]],2))","v":""},null,{"$f":"IF(ISBLANK(Risque[[#This Row],[Moyens de prévention]]),\"\",CONCATENATE(Risque[[#This Row],[Moyens de prévention]],1))","v":""},null,null,null,null,null,{"$f":"IF(ISBLANK(Risque[[#This Row],[Catégorie de risque]]),\"\",CONCATENATE(Risque[[#This Row],[Catégorie de risque]],3))","v":""},null,null,null,{"$f":"IF(ISBLANK(Risque[[#This Row],[Catégorie de risque]]),\"\",CONCATENATE(Risque[[#This Row],[Catégorie de risque]],4))","v":""},null,null,null,null,null,{"$f":"IF(Risque[[#This Row],[Date d''inscription du risque]]<>\"\",YEAR(Risque[[#This Row],[Date d''inscription du risque]]),\"\")","v":""}]
[null,null,{"$f":"IF(ISBLANK(Risque[[#This Row],[Catégorie de risque]]),\"\",CONCATENATE(Risque[[#This Row],[Catégorie de risque]],1))","v":""},null,null,null,null,null,{"$f":"IF(ISBLANK(Risque[[#This Row],[Catégorie de risque]]),\"\",IF(OR(ISNUMBER(SEARCH(\"RZ\",Risque[[#This Row],[Source de danger]]))=TRUE,ISNUMBER(SEARCH(\"RP\",Risque[[#This Row],[Source de danger]]))=TRUE,ISNUMBER(SEARCH(\"RZ\",Risque[[#This Row],[Risques associés]]))=TRUE,ISNUMBER(SEARCH(\"RP\",Risque[[#This Row],[Risques associés]]))=TRUE,ISNUMBER(SEARCH(\"RZ\",Risque[[#This Row],[Précision du risque\n(si liste déroulante présente)]]))=TRUE,ISNUMBER(SEARCH(\"RP\",Risque[[#This Row],[Précision du risque\n(si liste déroulante présente)]]))=TRUE),\"Oui --> Priorité d'action\",\"Non\"))","v":""},null,null,null,null,{"$f":"IF(ISBLANK(Risque[[#This Row],[Catégorie de risque]]),\"\",CONCATENATE(Risque[[#This Row],[Catégorie de risque]],2))","v":""},null,{"$f":"IF(ISBLANK(Risque[[#This Row],[Moyens de prévention]]),\"\",CONCATENATE(Risque[[#This Row],[Moyens de prévention]],1))","v":""},null,null,null,null,null,{"$f":"IF(ISBLANK(Risque[[#This Row],[Catégorie de risque]]),\"\",CONCATENATE(Risque[[#This Row],[Catégorie de risque]],3))","v":""},null,null,null,{"$f":"IF(ISBLANK(Risque[[#This Row],[Catégorie de risque]]),\"\",CONCATENATE(Risque[[#This Row],[Catégorie de risque]],4))","v":""},null,null,null,null,null,{"$f":"IF(Risque[[#This Row],[Date d''inscription du risque]]<>\"\",YEAR(Risque[[#This Row],[Date d''inscription du risque]]),\"\")","v":""}]
[null,null,{"$f":"IF(ISBLANK(Risque[[#This Row],[Catégorie de risque]]),\"\",CONCATENATE(Risque[[#This Row],[Catégorie de risque]],1))","v":""},null,null,null,null,null,{"$f":"IF(ISBLANK(Risque[[#This Row],[Catégorie de risque]]),\"\",IF(OR(ISNUMBER(SEARCH(\"RZ\",Risque[[#This Row],[Source de danger]]))=TRUE,ISNUMBER(SEARCH(\"RP\",Risque[[#This Row],[Source de danger]]))=TRUE,ISNUMBER(SEARCH(\"RZ\",Risque[[#This Row],[Risques associés]]))=TRUE,ISNUMBER(SEARCH(\"RP\",Risque[[#This Row],[Risques associés]]))=TRUE,ISNUMBER(SEARCH(\"RZ\",Risque[[#This Row],[Précision du risque\n(si liste déroulante présente)]]))=TRUE,ISNUMBER(SEARCH(\"RP\",Risque[[#This Row],[Précision du risque\n(si liste déroulante présente)]]))=TRUE),\"Oui --> Priorité d'action\",\"Non\"))","v":""},null,null,null,null,{"$f":"IF(ISBLANK(Risque[[#This Row],[Catégorie de risque]]),\"\",CONCATENATE(Risque[[#This Row],[Catégorie de risque]],2))","v":""},null,{"$f":"IF(ISBLANK(Risque[[#This Row],[Moyens de prévention]]),\"\",CONCATENATE(Risque[[#This Row],[Moyens de prévention]],1))","v":""},null,null,null,null,null,{"$f":"IF(ISBLANK(Risque[[#This Row],[Catégorie de risque]]),\"\",CONCATENATE(Risque[[#This Row],[Catégorie de risque]],3))","v":""},null,null,null,{"$f":"IF(ISBLANK(Risque[[#This Row],[Catégorie de risque]]),\"\",CONCATENATE(Risque[[#This Row],[Catégorie de risque]],4))","v":""},null,null,null,null,null,{"$f":"IF(Risque[[#This Row],[Date d''inscription du risque]]<>\"\",YEAR(Risque[[#This Row],[Date d''inscription du risque]]),\"\")","v":""}]
[null,null,{"$f":"IF(ISBLANK(Risque[[#This Row],[Catégorie de risque]]),\"\",CONCATENATE(Risque[[#This Row],[Catégorie de risque]],1))","v":""},null,null,null,null,null,{"$f":"IF(ISBLANK(Risque[[#This Row],[Catégorie de risque]]),\"\",IF(OR(ISNUMBER(SEARCH(\"RZ\",Risque[[#This Row],[Source de danger]]))=TRUE,ISNUMBER(SEARCH(\"RP\",Risque[[#This Row],[Source de danger]]))=TRUE,ISNUMBER(SEARCH(\"RZ\",Risque[[#This Row],[Risques associés]]))=TRUE,ISNUMBER(SEARCH(\"RP\",Risque[[#This Row],[Risques associés]]))=TRUE,ISNUMBER(SEARCH(\"RZ\",Risque[[#This Row],[Précision du risque\n(si liste déroulante présente)]]))=TRUE,ISNUMBER(SEARCH(\"RP\",Risque[[#This Row],[Précision du risque\n(si liste déroulante présente)]]))=TRUE),\"Oui --> Priorité d'action\",\"Non\"))","v":""},null,null,null,null,{"$f":"IF(ISBLANK(Risque[[#This Row],[Catégorie de risque]]),\"\",CONCATENATE(Risque[[#This Row],[Catégorie de risque]],2))","v":""},null,{"$f":"IF(ISBLANK(Risque[[#This Row],[Moyens de prévention]]),\"\",CONCATENATE(Risque[[#This Row],[Moyens de prévention]],1))","v":""},null,null,null,null,null,{"$f":"IF(ISBLANK(Risque[[#This Row],[Catégorie de risque]]),\"\",CONCATENATE(Risque[[#This Row],[Catégorie de risque]],3))","v":""},null,null,null,{"$f":"IF(ISBLANK(Risque[[#This Row],[Catégorie de risque]]),\"\",CONCATENATE(Risque[[#This Row],[Catégorie de risque]],4))","v":""},null,null,null,null,null,{"$f":"IF(Risque[[#This Row],[Date d''inscription du risque]]<>\"\",YEAR(Risque[[#This Row],[Date d''inscription du risque]]),\"\")","v":""}]
[null,null,{"$f":"IF(ISBLANK(Risque[[#This Row],[Catégorie de risque]]),\"\",CONCATENATE(Risque[[#This Row],[Catégorie de risque]],1))","v":""},null,null,null,null,null,{"$f":"IF(ISBLANK(Risque[[#This Row],[Catégorie de risque]]),\"\",IF(OR(ISNUMBER(SEARCH(\"RZ\",Risque[[#This Row],[Source de danger]]))=TRUE,ISNUMBER(SEARCH(\"RP\",Risque[[#This Row],[Source de danger]]))=TRUE,ISNUMBER(SEARCH(\"RZ\",Risque[[#This Row],[Risques associés]]))=TRUE,ISNUMBER(SEARCH(\"RP\",Risque[[#This Row],[Risques associés]]))=TRUE,ISNUMBER(SEARCH(\"RZ\",Risque[[#This Row],[Précision du risque\n(si liste déroulante présente)]]))=TRUE,ISNUMBER(SEARCH(\"RP\",Risque[[#This Row],[Précision du risque\n(si liste déroulante présente)]]))=TRUE),\"Oui --> Priorité d'action\",\"Non\"))","v":""},null,null,null,null,{"$f":"IF(ISBLANK(Risque[[#This Row],[Catégorie de risque]]),\"\",CONCATENATE(Risque[[#This Row],[Catégorie de risque]],2))","v":""},null,{"$f":"IF(ISBLANK(Risque[[#This Row],[Moyens de prévention]]),\"\",CONCATENATE(Risque[[#This Row],[Moyens de prévention]],1))","v":""},null,null,null,null,null,{"$f":"IF(ISBLANK(Risque[[#This Row],[Catégorie de risque]]),\"\",CONCATENATE(Risque[[#This Row],[Catégorie de risque]],3))","v":""},null,null,null,{"$f":"IF(ISBLANK(Risque[[#This Row],[Catégorie de risque]]),\"\",CONCATENATE(Risque[[#This Row],[Catégorie de risque]],4))","v":""},null,null,null,null,null,{"$f":"IF(Risque[[#This Row],[Date d''inscription du risque]]<>\"\",YEAR(Risque[[#This Row],[Date d''inscription du risque]]),\"\")","v":""}]
[null,null,{"$f":"IF(ISBLANK(Risque[[#This Row],[Catégorie de risque]]),\"\",CONCATENATE(Risque[[#This Row],[Catégorie de risque]],1))","v":""},null,null,null,null,null,{"$f":"IF(ISBLANK(Risque[[#This Row],[Catégorie de risque]]),\"\",IF(OR(ISNUMBER(SEARCH(\"RZ\",Risque[[#This Row],[Source de danger]]))=TRUE,ISNUMBER(SEARCH(\"RP\",Risque[[#This Row],[Source de danger]]))=TRUE,ISNUMBER(SEARCH(\"RZ\",Risque[[#This Row],[Risques associés]]))=TRUE,ISNUMBER(SEARCH(\"RP\",Risque[[#This Row],[Risques associés]]))=TRUE,ISNUMBER(SEARCH(\"RZ\",Risque[[#This Row],[Précision du risque\n(si liste déroulante présente)]]))=TRUE,ISNUMBER(SEARCH(\"RP\",Risque[[#This Row],[Précision du risque\n(si liste déroulante présente)]]))=TRUE),\"Oui --> Priorité d'action\",\"Non\"))","v":""},null,null,null,null,{"$f":"IF(ISBLANK(Risque[[#This Row],[Catégorie de risque]]),\"\",CONCATENATE(Risque[[#This Row],[Catégorie de risque]],2))","v":""},null,{"$f":"IF(ISBLANK(Risque[[#This Row],[Moyens de prévention]]),\"\",CONCATENATE(Risque[[#This Row],[Moyens de prévention]],1))","v":""},null,null,null,null,null,{"$f":"IF(ISBLANK(Risque[[#This Row],[Catégorie de risque]]),\"\",CONCATENATE(Risque[[#This Row],[Catégorie de risque]],3))","v":""},null,null,null,{"$f":"IF(ISBLANK(Risque[[#This Row],[Catégorie de risque]]),\"\",CONCATENATE(Risque[[#This Row],[Catégorie de risque]],4))","v":""},null,null,null,null,null,{"$f":"IF(Risque[[#This Row],[Date d''inscription du risque]]<>\"\",YEAR(Risque[[#This Row],[Date d''inscription du risque]]),\"\")","v":""}]
[null,null,{"$f":"IF(ISBLANK(Risque[[#This Row],[Catégorie de risque]]),\"\",CONCATENATE(Risque[[#This Row],[Catégorie de risque]],1))","v":""},null,null,null,null,null,{"$f":"IF(ISBLANK(Risque[[#This Row],[Catégorie de risque]]),\"\",IF(OR(ISNUMBER(SEARCH(\"RZ\",Risque[[#This Row],[Source de danger]]))=TRUE,ISNUMBER(SEARCH(\"RP\",Risque[[#This Row],[Source de danger]]))=TRUE,ISNUMBER(SEARCH(\"RZ\",Risque[[#This Row],[Risques associés]]))=TRUE,ISNUMBER(SEARCH(\"RP\",Risque[[#This Row],[Risques associés]]))=TRUE,ISNUMBER(SEARCH(\"RZ\",Risque[[#This Row],[Précision du risque\n(si liste déroulante présente)]]))=TRUE,ISNUMBER(SEARCH(\"RP\",Risque[[#This Row],[Précision du risque\n(si liste déroulante présente)]]))=TRUE),\"Oui --> Priorité d'action\",\"Non\"))","v":""},null,null,null,null,{"$f":"IF(ISBLANK(Risque[[#This Row],[Catégorie de risque]]),\"\",CONCATENATE(Risque[[#This Row],[Catégorie de risque]],2))","v":""},null,{"$f":"IF(ISBLANK(Risque[[#This Row],[Moyens de prévention]]),\"\",CONCATENATE(Risque[[#This Row],[Moyens de prévention]],1))","v":""},null,null,null,null,null,{"$f":"IF(ISBLANK(Risque[[#This Row],[Catégorie de risque]]),\"\",CONCATENATE(Risque[[#This Row],[Catégorie de risque]],3))","v":""},null,null,null,{"$f":"IF(ISBLANK(Risque[[#This Row],[Catégorie de risque]]),\"\",CONCATENATE(Risque[[#This Row],[Catégorie de risque]],4))","v":""},null,null,null,null,null,{"$f":"IF(Risque[[#This Row],[Date d''inscription du risque]]<>\"\",YEAR(Risque[[#This Row],[Date d''inscription du risque]]),\"\")","v":""}]
[null,null,{"$f":"IF(ISBLANK(Risque[[#This Row],[Catégorie de risque]]),\"\",CONCATENATE(Risque[[#This Row],[Catégorie de risque]],1))","v":""},null,null,null,null,null,{"$f":"IF(ISBLANK(Risque[[#This Row],[Catégorie de risque]]),\"\",IF(OR(ISNUMBER(SEARCH(\"RZ\",Risque[[#This Row],[Source de danger]]))=TRUE,ISNUMBER(SEARCH(\"RP\",Risque[[#This Row],[Source de danger]]))=TRUE,ISNUMBER(SEARCH(\"RZ\",Risque[[#This Row],[Risques associés]]))=TRUE,ISNUMBER(SEARCH(\"RP\",Risque[[#This Row],[Risques associés]]))=TRUE,ISNUMBER(SEARCH(\"RZ\",Risque[[#This Row],[Précision du risque\n(si liste déroulante présente)]]))=TRUE,ISNUMBER(SEARCH(\"RP\",Risque[[#This Row],[Précision du risque\n(si liste déroulante présente)]]))=TRUE),\"Oui --> Priorité d'action\",\"Non\"))","v":""},null,null,null,null,{"$f":"IF(ISBLANK(Risque[[#This Row],[Catégorie de risque]]),\"\",CONCATENATE(Risque[[#This Row],[Catégorie de risque]],2))","v":""},null,{"$f":"IF(ISBLANK(Risque[[#This Row],[Moyens de prévention]]),\"\",CONCATENATE(Risque[[#This Row],[Moyens de prévention]],1))","v":""},null,null,null,null,null,{"$f":"IF(ISBLANK(Risque[[#This Row],[Catégorie de risque]]),\"\",CONCATENATE(Risque[[#This Row],[Catégorie de risque]],3))","v":""},null,null,null,{"$f":"IF(ISBLANK(Risque[[#This Row],[Catégorie de risque]]),\"\",CONCATENATE(Risque[[#This Row],[Catégorie de risque]],4))","v":""},null,null,null,null,null,{"$f":"IF(Risque[[#This Row],[Date d''inscription du risque]]<>\"\",YEAR(Risque[[#This Row],[Date d''inscription du risque]]),\"\")","v":""}]
[null,null,{"$f":"IF(ISBLANK(Risque[[#This Row],[Catégorie de risque]]),\"\",CONCATENATE(Risque[[#This Row],[Catégorie de risque]],1))","v":""},null,null,null,null,null,{"$f":"IF(ISBLANK(Risque[[#This Row],[Catégorie de risque]]),\"\",IF(OR(ISNUMBER(SEARCH(\"RZ\",Risque[[#This Row],[Source de danger]]))=TRUE,ISNUMBER(SEARCH(\"RP\",Risque[[#This Row],[Source de danger]]))=TRUE,ISNUMBER(SEARCH(\"RZ\",Risque[[#This Row],[Risques associés]]))=TRUE,ISNUMBER(SEARCH(\"RP\",Risque[[#This Row],[Risques associés]]))=TRUE,ISNUMBER(SEARCH(\"RZ\",Risque[[#This Row],[Précision du risque\n(si liste déroulante présente)]]))=TRUE,ISNUMBER(SEARCH(\"RP\",Risque[[#This Row],[Précision du risque\n(si liste déroulante présente)]]))=TRUE),\"Oui --> Priorité d'action\",\"Non\"))","v":""},null,null,null,null,{"$f":"IF(ISBLANK(Risque[[#This Row],[Catégorie de risque]]),\"\",CONCATENATE(Risque[[#This Row],[Catégorie de risque]],2))","v":""},null,{"$f":"IF(ISBLANK(Risque[[#This Row],[Moyens de prévention]]),\"\",CONCATENATE(Risque[[#This Row],[Moyens de prévention]],1))","v":""},null,null,null,null,null,{"$f":"IF(ISBLANK(Risque[[#This Row],[Catégorie de risque]]),\"\",CONCATENATE(Risque[[#This Row],[Catégorie de risque]],3))","v":""},null,null,null,{"$f":"IF(ISBLANK(Risque[[#This Row],[Catégorie de risque]]),\"\",CONCATENATE(Risque[[#This Row],[Catégorie de risque]],4))","v":""},null,null,null,null,null,{"$f":"IF(Risque[[#This Row],[Date d''inscription du risque]]<>\"\",YEAR(Risque[[#This Row],[Date d''inscription du risque]]),\"\")","v":""}]
[null,null,{"$f":"IF(ISBLANK(Risque[[#This Row],[Catégorie de risque]]),\"\",CONCATENATE(Risque[[#This Row],[Catégorie de risque]],1))","v":""},null,null,null,null,null,{"$f":"IF(ISBLANK(Risque[[#This Row],[Catégorie de risque]]),\"\",IF(OR(ISNUMBER(SEARCH(\"RZ\",Risque[[#This Row],[Source de danger]]))=TRUE,ISNUMBER(SEARCH(\"RP\",Risque[[#This Row],[Source de danger]]))=TRUE,ISNUMBER(SEARCH(\"RZ\",Risque[[#This Row],[Risques associés]]))=TRUE,ISNUMBER(SEARCH(\"RP\",Risque[[#This Row],[Risques associés]]))=TRUE,ISNUMBER(SEARCH(\"RZ\",Risque[[#This Row],[Précision du risque\n(si liste déroulante présente)]]))=TRUE,ISNUMBER(SEARCH(\"RP\",Risque[[#This Row],[Précision du risque\n(si liste déroulante présente)]]))=TRUE),\"Oui --> Priorité d'action\",\"Non\"))","v":""},null,null,null,null,{"$f":"IF(ISBLANK(Risque[[#This Row],[Catégorie de risque]]),\"\",CONCATENATE(Risque[[#This Row],[Catégorie de risque]],2))","v":""},null,{"$f":"IF(ISBLANK(Risque[[#This Row],[Moyens de prévention]]),\"\",CONCATENATE(Risque[[#This Row],[Moyens de prévention]],1))","v":""},null,null,null,null,null,{"$f":"IF(ISBLANK(Risque[[#This Row],[Catégorie de risque]]),\"\",CONCATENATE(Risque[[#This Row],[Catégorie de risque]],3))","v":""},null,null,null,{"$f":"IF(ISBLANK(Risque[[#This Row],[Catégorie de risque]]),\"\",CONCATENATE(Risque[[#This Row],[Catégorie de risque]],4))","v":""},null,null,null,null,null,{"$f":"IF(Risque[[#This Row],[Date d''inscription du risque]]<>\"\",YEAR(Risque[[#This Row],[Date d''inscription du risque]]),\"\")","v":""}]
[null,null,{"$f":"IF(ISBLANK(Risque[[#This Row],[Catégorie de risque]]),\"\",CONCATENATE(Risque[[#This Row],[Catégorie de risque]],1))","v":""},null,null,null,null,null,{"$f":"IF(ISBLANK(Risque[[#This Row],[Catégorie de risque]]),\"\",IF(OR(ISNUMBER(SEARCH(\"RZ\",Risque[[#This Row],[Source de danger]]))=TRUE,ISNUMBER(SEARCH(\"RP\",Risque[[#This Row],[Source de danger]]))=TRUE,ISNUMBER(SEARCH(\"RZ\",Risque[[#This Row],[Risques associés]]))=TRUE,ISNUMBER(SEARCH(\"RP\",Risque[[#This Row],[Risques associés]]))=TRUE,ISNUMBER(SEARCH(\"RZ\",Risque[[#This Row],[Précision du risque\n(si liste déroulante présente)]]))=TRUE,ISNUMBER(SEARCH(\"RP\",Risque[[#This Row],[Précision du risque\n(si liste déroulante présente)]]))=TRUE),\"Oui --> Priorité d'action\",\"Non\"))","v":""},null,null,null,null,{"$f":"IF(ISBLANK(Risque[[#This Row],[Catégorie de risque]]),\"\",CONCATENATE(Risque[[#This Row],[Catégorie de risque]],2))","v":""},null,{"$f":"IF(ISBLANK(Risque[[#This Row],[Moyens de prévention]]),\"\",CONCATENATE(Risque[[#This Row],[Moyens de prévention]],1))","v":""},null,null,null,null,null,{"$f":"IF(ISBLANK(Risque[[#This Row],[Catégorie de risque]]),\"\",CONCATENATE(Risque[[#This Row],[Catégorie de risque]],3))","v":""},null,null,null,{"$f":"IF(ISBLANK(Risque[[#This Row],[Catégorie de risque]]),\"\",CONCATENATE(Risque[[#This Row],[Catégorie de risque]],4))","v":""},null,null,null,null,null,{"$f":"IF(Risque[[#This Row],[Date d''inscription du risque]]<>\"\",YEAR(Risque[[#This Row],[Date d''inscription du risque]]),\"\")","v":""}]
[null,null,{"$f":"IF(ISBLANK(Risque[[#This Row],[Catégorie de risque]]),\"\",CONCATENATE(Risque[[#This Row],[Catégorie de risque]],1))","v":""},null,null,null,null,null,{"$f":"IF(ISBLANK(Risque[[#This Row],[Catégorie de risque]]),\"\",IF(OR(ISNUMBER(SEARCH(\"RZ\",Risque[[#This Row],[Source de danger]]))=TRUE,ISNUMBER(SEARCH(\"RP\",Risque[[#This Row],[Source de danger]]))=TRUE,ISNUMBER(SEARCH(\"RZ\",Risque[[#This Row],[Risques associés]]))=TRUE,ISNUMBER(SEARCH(\"RP\",Risque[[#This Row],[Risques associés]]))=TRUE,ISNUMBER(SEARCH(\"RZ\",Risque[[#This Row],[Précision du risque\n(si liste déroulante présente)]]))=TRUE,ISNUMBER(SEARCH(\"RP\",Risque[[#This Row],[Précision du risque\n(si liste déroulante présente)]]))=TRUE),\"Oui --> Priorité d'action\",\"Non\"))","v":""},null,null,null,null,{"$f":"IF(ISBLANK(Risque[[#This Row],[Catégorie de risque]]),\"\",CONCATENATE(Risque[[#This Row],[Catégorie de risque]],2))","v":""},null,{"$f":"IF(ISBLANK(Risque[[#This Row],[Moyens de prévention]]),\"\",CONCATENATE(Risque[[#This Row],[Moyens de prévention]],1))","v":""},null,null,null,null,null,{"$f":"IF(ISBLANK(Risque[[#This Row],[Catégorie de risque]]),\"\",CONCATENATE(Risque[[#This Row],[Catégorie de risque]],3))","v":""},null,null,null,{"$f":"IF(ISBLANK(Risque[[#This Row],[Catégorie de risque]]),\"\",CONCATENATE(Risque[[#This Row],[Catégorie de risque]],4))","v":""},null,null,null,null,null,{"$f":"IF(Risque[[#This Row],[Date d''inscription du risque]]<>\"\",YEAR(Risque[[#This Row],[Date d''inscription du risque]]),\"\")","v":""}]
[null,null,{"$f":"IF(ISBLANK(Risque[[#This Row],[Catégorie de risque]]),\"\",CONCATENATE(Risque[[#This Row],[Catégorie de risque]],1))","v":""},null,null,null,null,null,{"$f":"IF(ISBLANK(Risque[[#This Row],[Catégorie de risque]]),\"\",IF(OR(ISNUMBER(SEARCH(\"RZ\",Risque[[#This Row],[Source de danger]]))=TRUE,ISNUMBER(SEARCH(\"RP\",Risque[[#This Row],[Source de danger]]))=TRUE,ISNUMBER(SEARCH(\"RZ\",Risque[[#This Row],[Risques associés]]))=TRUE,ISNUMBER(SEARCH(\"RP\",Risque[[#This Row],[Risques associés]]))=TRUE,ISNUMBER(SEARCH(\"RZ\",Risque[[#This Row],[Précision du risque\n(si liste déroulante présente)]]))=TRUE,ISNUMBER(SEARCH(\"RP\",Risque[[#This Row],[Précision du risque\n(si liste déroulante présente)]]))=TRUE),\"Oui --> Priorité d'action\",\"Non\"))","v":""},null,null,null,null,{"$f":"IF(ISBLANK(Risque[[#This Row],[Catégorie de risque]]),\"\",CONCATENATE(Risque[[#This Row],[Catégorie de risque]],2))","v":""},null,{"$f":"IF(ISBLANK(Risque[[#This Row],[Moyens de prévention]]),\"\",CONCATENATE(Risque[[#This Row],[Moyens de prévention]],1))","v":""},null,null,null,null,null,{"$f":"IF(ISBLANK(Risque[[#This Row],[Catégorie de risque]]),\"\",CONCATENATE(Risque[[#This Row],[Catégorie de risque]],3))","v":""},null,null,null,{"$f":"IF(ISBLANK(Risque[[#This Row],[Catégorie de risque]]),\"\",CONCATENATE(Risque[[#This Row],[Catégorie de risque]],4))","v":""},null,null,null,null,null,{"$f":"IF(Risque[[#This Row],[Date d''inscription du risque]]<>\"\",YEAR(Risque[[#This Row],[Date d''inscription du risque]]),\"\")","v":""}]
[null,null,{"$f":"IF(ISBLANK(Risque[[#This Row],[Catégorie de risque]]),\"\",CONCATENATE(Risque[[#This Row],[Catégorie de risque]],1))","v":""},null,null,null,null,null,{"$f":"IF(ISBLANK(Risque[[#This Row],[Catégorie de risque]]),\"\",IF(OR(ISNUMBER(SEARCH(\"RZ\",Risque[[#This Row],[Source de danger]]))=TRUE,ISNUMBER(SEARCH(\"RP\",Risque[[#This Row],[Source de danger]]))=TRUE,ISNUMBER(SEARCH(\"RZ\",Risque[[#This Row],[Risques associés]]))=TRUE,ISNUMBER(SEARCH(\"RP\",Risque[[#This Row],[Risques associés]]))=TRUE,ISNUMBER(SEARCH(\"RZ\",Risque[[#This Row],[Précision du risque\n(si liste déroulante présente)]]))=TRUE,ISNUMBER(SEARCH(\"RP\",Risque[[#This Row],[Précision du risque\n(si liste déroulante présente)]]))=TRUE),\"Oui --> Priorité d'action\",\"Non\"))","v":""},null,null,null,null,{"$f":"IF(ISBLANK(Risque[[#This Row],[Catégorie de risque]]),\"\",CONCATENATE(Risque[[#This Row],[Catégorie de risque]],2))","v":""},null,{"$f":"IF(ISBLANK(Risque[[#This Row],[Moyens de prévention]]),\"\",CONCATENATE(Risque[[#This Row],[Moyens de prévention]],1))","v":""},null,null,null,null,null,{"$f":"IF(ISBLANK(Risque[[#This Row],[Catégorie de risque]]),\"\",CONCATENATE(Risque[[#This Row],[Catégorie de risque]],3))","v":""},null,null,null,{"$f":"IF(ISBLANK(Risque[[#This Row],[Catégorie de risque]]),\"\",CONCATENATE(Risque[[#This Row],[Catégorie de risque]],4))","v":""},null,null,null,null,null,{"$f":"IF(Risque[[#This Row],[Date d''inscription du risque]]<>\"\",YEAR(Risque[[#This Row],[Date d''inscription du risque]]),\"\")","v":""}]
[null,null,{"$f":"IF(ISBLANK(Risque[[#This Row],[Catégorie de risque]]),\"\",CONCATENATE(Risque[[#This Row],[Catégorie de risque]],1))","v":""},null,null,null,null,null,{"$f":"IF(ISBLANK(Risque[[#This Row],[Catégorie de risque]]),\"\",IF(OR(ISNUMBER(SEARCH(\"RZ\",Risque[[#This Row],[Source de danger]]))=TRUE,ISNUMBER(SEARCH(\"RP\",Risque[[#This Row],[Source de danger]]))=TRUE,ISNUMBER(SEARCH(\"RZ\",Risque[[#This Row],[Risques associés]]))=TRUE,ISNUMBER(SEARCH(\"RP\",Risque[[#This Row],[Risques associés]]))=TRUE,ISNUMBER(SEARCH(\"RZ\",Risque[[#This Row],[Précision du risque\n(si liste déroulante présente)]]))=TRUE,ISNUMBER(SEARCH(\"RP\",Risque[[#This Row],[Précision du risque\n(si liste déroulante présente)]]))=TRUE),\"Oui --> Priorité d'action\",\"Non\"))","v":""},null,null,null,null,{"$f":"IF(ISBLANK(Risque[[#This Row],[Catégorie de risque]]),\"\",CONCATENATE(Risque[[#This Row],[Catégorie de risque]],2))","v":""},null,{"$f":"IF(ISBLANK(Risque[[#This Row],[Moyens de prévention]]),\"\",CONCATENATE(Risque[[#This Row],[Moyens de prévention]],1))","v":""},null,null,null,null,null,{"$f":"IF(ISBLANK(Risque[[#This Row],[Catégorie de risque]]),\"\",CONCATENATE(Risque[[#This Row],[Catégorie de risque]],3))","v":""},null,null,null,{"$f":"IF(ISBLANK(Risque[[#This Row],[Catégorie de risque]]),\"\",CONCATENATE(Risque[[#This Row],[Catégorie de risque]],4))","v":""},null,null,null,null,null,{"$f":"IF(Risque[[#This Row],[Date d''inscription du risque]]<>\"\",YEAR(Risque[[#This Row],[Date d''inscription du risque]]),\"\")","v":""}]
[null,null,{"$f":"IF(ISBLANK(Risque[[#This Row],[Catégorie de risque]]),\"\",CONCATENATE(Risque[[#This Row],[Catégorie de risque]],1))","v":""},null,null,null,null,null,{"$f":"IF(ISBLANK(Risque[[#This Row],[Catégorie de risque]]),\"\",IF(OR(ISNUMBER(SEARCH(\"RZ\",Risque[[#This Row],[Source de danger]]))=TRUE,ISNUMBER(SEARCH(\"RP\",Risque[[#This Row],[Source de danger]]))=TRUE,ISNUMBER(SEARCH(\"RZ\",Risque[[#This Row],[Risques associés]]))=TRUE,ISNUMBER(SEARCH(\"RP\",Risque[[#This Row],[Risques associés]]))=TRUE,ISNUMBER(SEARCH(\"RZ\",Risque[[#This Row],[Précision du risque\n(si liste déroulante présente)]]))=TRUE,ISNUMBER(SEARCH(\"RP\",Risque[[#This Row],[Précision du risque\n(si liste déroulante présente)]]))=TRUE),\"Oui --> Priorité d'action\",\"Non\"))","v":""},null,null,null,null,{"$f":"IF(ISBLANK(Risque[[#This Row],[Catégorie de risque]]),\"\",CONCATENATE(Risque[[#This Row],[Catégorie de risque]],2))","v":""},null,{"$f":"IF(ISBLANK(Risque[[#This Row],[Moyens de prévention]]),\"\",CONCATENATE(Risque[[#This Row],[Moyens de prévention]],1))","v":""},null,null,null,null,null,{"$f":"IF(ISBLANK(Risque[[#This Row],[Catégorie de risque]]),\"\",CONCATENATE(Risque[[#This Row],[Catégorie de risque]],3))","v":""},null,null,null,{"$f":"IF(ISBLANK(Risque[[#This Row],[Catégorie de risque]]),\"\",CONCATENATE(Risque[[#This Row],[Catégorie de risque]],4))","v":""},null,null,null,null,null,{"$f":"IF(Risque[[#This Row],[Date d''inscription du risque]]<>\"\",YEAR(Risque[[#This Row],[Date d''inscription du risque]]),\"\")","v":""}]
[null,null,{"$f":"IF(ISBLANK(Risque[[#This Row],[Catégorie de risque]]),\"\",CONCATENATE(Risque[[#This Row],[Catégorie de risque]],1))","v":""},null,null,null,null,null,{"$f":"IF(ISBLANK(Risque[[#This Row],[Catégorie de risque]]),\"\",IF(OR(ISNUMBER(SEARCH(\"RZ\",Risque[[#This Row],[Source de danger]]))=TRUE,ISNUMBER(SEARCH(\"RP\",Risque[[#This Row],[Source de danger]]))=TRUE,ISNUMBER(SEARCH(\"RZ\",Risque[[#This Row],[Risques associés]]))=TRUE,ISNUMBER(SEARCH(\"RP\",Risque[[#This Row],[Risques associés]]))=TRUE,ISNUMBER(SEARCH(\"RZ\",Risque[[#This Row],[Précision du risque\n(si liste déroulante présente)]]))=TRUE,ISNUMBER(SEARCH(\"RP\",Risque[[#This Row],[Précision du risque\n(si liste déroulante présente)]]))=TRUE),\"Oui --> Priorité d'action\",\"Non\"))","v":""},null,null,null,null,{"$f":"IF(ISBLANK(Risque[[#This Row],[Catégorie de risque]]),\"\",CONCATENATE(Risque[[#This Row],[Catégorie de risque]],2))","v":""},null,{"$f":"IF(ISBLANK(Risque[[#This Row],[Moyens de prévention]]),\"\",CONCATENATE(Risque[[#This Row],[Moyens de prévention]],1))","v":""},null,null,null,null,null,{"$f":"IF(ISBLANK(Risque[[#This Row],[Catégorie de risque]]),\"\",CONCATENATE(Risque[[#This Row],[Catégorie de risque]],3))","v":""},null,null,null,{"$f":"IF(ISBLANK(Risque[[#This Row],[Catégorie de risque]]),\"\",CONCATENATE(Risque[[#This Row],[Catégorie de risque]],4))","v":""},null,null,null,null,null,{"$f":"IF(Risque[[#This Row],[Date d''inscription du risque]]<>\"\",YEAR(Risque[[#This Row],[Date d''inscription du risque]]),\"\")","v":""}]
[null,null,{"$f":"IF(ISBLANK(Risque[[#This Row],[Catégorie de risque]]),\"\",CONCATENATE(Risque[[#This Row],[Catégorie de risque]],1))","v":""},null,null,null,null,null,{"$f":"IF(ISBLANK(Risque[[#This Row],[Catégorie de risque]]),\"\",IF(OR(ISNUMBER(SEARCH(\"RZ\",Risque[[#This Row],[Source de danger]]))=TRUE,ISNUMBER(SEARCH(\"RP\",Risque[[#This Row],[Source de danger]]))=TRUE,ISNUMBER(SEARCH(\"RZ\",Risque[[#This Row],[Risques associés]]))=TRUE,ISNUMBER(SEARCH(\"RP\",Risque[[#This Row],[Risques associés]]))=TRUE,ISNUMBER(SEARCH(\"RZ\",Risque[[#This Row],[Précision du risque\n(si liste déroulante présente)]]))=TRUE,ISNUMBER(SEARCH(\"RP\",Risque[[#This Row],[Précision du risque\n(si liste déroulante présente)]]))=TRUE),\"Oui --> Priorité d'action\",\"Non\"))","v":""},null,null,null,null,{"$f":"IF(ISBLANK(Risque[[#This Row],[Catégorie de risque]]),\"\",CONCATENATE(Risque[[#This Row],[Catégorie de risque]],2))","v":""},null,{"$f":"IF(ISBLANK(Risque[[#This Row],[Moyens de prévention]]),\"\",CONCATENATE(Risque[[#This Row],[Moyens de prévention]],1))","v":""},null,null,null,null,null,{"$f":"IF(ISBLANK(Risque[[#This Row],[Catégorie de risque]]),\"\",CONCATENATE(Risque[[#This Row],[Catégorie de risque]],3))","v":""},null,null,null,{"$f":"IF(ISBLANK(Risque[[#This Row],[Catégorie de risque]]),\"\",CONCATENATE(Risque[[#This Row],[Catégorie de risque]],4))","v":""},null,null,null,null,null,{"$f":"IF(Risque[[#This Row],[Date d''inscription du risque]]<>\"\",YEAR(Risque[[#This Row],[Date d''inscription du risque]]),\"\")","v":""}]
[null,null,{"$f":"IF(ISBLANK(Risque[[#This Row],[Catégorie de risque]]),\"\",CONCATENATE(Risque[[#This Row],[Catégorie de risque]],1))","v":""},null,null,null,null,null,{"$f":"IF(ISBLANK(Risque[[#This Row],[Catégorie de risque]]),\"\",IF(OR(ISNUMBER(SEARCH(\"RZ\",Risque[[#This Row],[Source de danger]]))=TRUE,ISNUMBER(SEARCH(\"RP\",Risque[[#This Row],[Source de danger]]))=TRUE,ISNUMBER(SEARCH(\"RZ\",Risque[[#This Row],[Risques associés]]))=TRUE,ISNUMBER(SEARCH(\"RP\",Risque[[#This Row],[Risques associés]]))=TRUE,ISNUMBER(SEARCH(\"RZ\",Risque[[#This Row],[Précision du risque\n(si liste déroulante présente)]]))=TRUE,ISNUMBER(SEARCH(\"RP\",Risque[[#This Row],[Précision du risque\n(si liste déroulante présente)]]))=TRUE),\"Oui --> Priorité d'action\",\"Non\"))","v":""},null,null,null,null,{"$f":"IF(ISBLANK(Risque[[#This Row],[Catégorie de risque]]),\"\",CONCATENATE(Risque[[#This Row],[Catégorie de risque]],2))","v":""},null,{"$f":"IF(ISBLANK(Risque[[#This Row],[Moyens de prévention]]),\"\",CONCATENATE(Risque[[#This Row],[Moyens de prévention]],1))","v":""},null,null,null,null,null,{"$f":"IF(ISBLANK(Risque[[#This Row],[Catégorie de risque]]),\"\",CONCATENATE(Risque[[#This Row],[Catégorie de risque]],3))","v":""},null,null,null,{"$f":"IF(ISBLANK(Risque[[#This Row],[Catégorie de risque]]),\"\",CONCATENATE(Risque[[#This Row],[Catégorie de risque]],4))","v":""},null,null,null,null,null,{"$f":"IF(Risque[[#This Row],[Date d''inscription du risque]]<>\"\",YEAR(Risque[[#This Row],[Date d''inscription du risque]]),\"\")","v":""}]
[null,null,{"$f":"IF(ISBLANK(Risque[[#This Row],[Catégorie de risque]]),\"\",CONCATENATE(Risque[[#This Row],[Catégorie de risque]],1))","v":""},null,null,null,null,null,{"$f":"IF(ISBLANK(Risque[[#This Row],[Catégorie de risque]]),\"\",IF(OR(ISNUMBER(SEARCH(\"RZ\",Risque[[#This Row],[Source de danger]]))=TRUE,ISNUMBER(SEARCH(\"RP\",Risque[[#This Row],[Source de danger]]))=TRUE,ISNUMBER(SEARCH(\"RZ\",Risque[[#This Row],[Risques associés]]))=TRUE,ISNUMBER(SEARCH(\"RP\",Risque[[#This Row],[Risques associés]]))=TRUE,ISNUMBER(SEARCH(\"RZ\",Risque[[#This Row],[Précision du risque\n(si liste déroulante présente)]]))=TRUE,ISNUMBER(SEARCH(\"RP\",Risque[[#This Row],[Précision du risque\n(si liste déroulante présente)]]))=TRUE),\"Oui --> Priorité d'action\",\"Non\"))","v":""},null,null,null,null,{"$f":"IF(ISBLANK(Risque[[#This Row],[Catégorie de risque]]),\"\",CONCATENATE(Risque[[#This Row],[Catégorie de risque]],2))","v":""},null,{"$f":"IF(ISBLANK(Risque[[#This Row],[Moyens de prévention]]),\"\",CONCATENATE(Risque[[#This Row],[Moyens de prévention]],1))","v":""},null,null,null,null,null,{"$f":"IF(ISBLANK(Risque[[#This Row],[Catégorie de risque]]),\"\",CONCATENATE(Risque[[#This Row],[Catégorie de risque]],3))","v":""},null,null,null,{"$f":"IF(ISBLANK(Risque[[#This Row],[Catégorie de risque]]),\"\",CONCATENATE(Risque[[#This Row],[Catégorie de risque]],4))","v":""},null,null,null,null,null,{"$f":"IF(Risque[[#This Row],[Date d''inscription du risque]]<>\"\",YEAR(Risque[[#This Row],[Date d''inscription du risque]]),\"\")","v":""}]
[null,null,{"$f":"IF(ISBLANK(Risque[[#This Row],[Catégorie de risque]]),\"\",CONCATENATE(Risque[[#This Row],[Catégorie de risque]],1))","v":""},null,null,null,null,null,{"$f":"IF(ISBLANK(Risque[[#This Row],[Catégorie de risque]]),\"\",IF(OR(ISNUMBER(SEARCH(\"RZ\",Risque[[#This Row],[Source de danger]]))=TRUE,ISNUMBER(SEARCH(\"RP\",Risque[[#This Row],[Source de danger]]))=TRUE,ISNUMBER(SEARCH(\"RZ\",Risque[[#This Row],[Risques associés]]))=TRUE,ISNUMBER(SEARCH(\"RP\",Risque[[#This Row],[Risques associés]]))=TRUE,ISNUMBER(SEARCH(\"RZ\",Risque[[#This Row],[Précision du risque\n(si liste déroulante présente)]]))=TRUE,ISNUMBER(SEARCH(\"RP\",Risque[[#This Row],[Précision du risque\n(si liste déroulante présente)]]))=TRUE),\"Oui --> Priorité d'action\",\"Non\"))","v":""},null,null,null,null,{"$f":"IF(ISBLANK(Risque[[#This Row],[Catégorie de risque]]),\"\",CONCATENATE(Risque[[#This Row],[Catégorie de risque]],2))","v":""},null,{"$f":"IF(ISBLANK(Risque[[#This Row],[Moyens de prévention]]),\"\",CONCATENATE(Risque[[#This Row],[Moyens de prévention]],1))","v":""},null,null,null,null,null,{"$f":"IF(ISBLANK(Risque[[#This Row],[Catégorie de risque]]),\"\",CONCATENATE(Risque[[#This Row],[Catégorie de risque]],3))","v":""},null,null,null,{"$f":"IF(ISBLANK(Risque[[#This Row],[Catégorie de risque]]),\"\",CONCATENATE(Risque[[#This Row],[Catégorie de risque]],4))","v":""},null,null,null,null,null,{"$f":"IF(Risque[[#This Row],[Date d''inscription du risque]]<>\"\",YEAR(Risque[[#This Row],[Date d''inscription du risque]]),\"\")","v":""}]
[null,null,{"$f":"IF(ISBLANK(Risque[[#This Row],[Catégorie de risque]]),\"\",CONCATENATE(Risque[[#This Row],[Catégorie de risque]],1))","v":""},null,null,null,null,null,{"$f":"IF(ISBLANK(Risque[[#This Row],[Catégorie de risque]]),\"\",IF(OR(ISNUMBER(SEARCH(\"RZ\",Risque[[#This Row],[Source de danger]]))=TRUE,ISNUMBER(SEARCH(\"RP\",Risque[[#This Row],[Source de danger]]))=TRUE,ISNUMBER(SEARCH(\"RZ\",Risque[[#This Row],[Risques associés]]))=TRUE,ISNUMBER(SEARCH(\"RP\",Risque[[#This Row],[Risques associés]]))=TRUE,ISNUMBER(SEARCH(\"RZ\",Risque[[#This Row],[Précision du risque\n(si liste déroulante présente)]]))=TRUE,ISNUMBER(SEARCH(\"RP\",Risque[[#This Row],[Précision du risque\n(si liste déroulante présente)]]))=TRUE),\"Oui --> Priorité d'action\",\"Non\"))","v":""},null,null,null,null,{"$f":"IF(ISBLANK(Risque[[#This Row],[Catégorie de risque]]),\"\",CONCATENATE(Risque[[#This Row],[Catégorie de risque]],2))","v":""},null,{"$f":"IF(ISBLANK(Risque[[#This Row],[Moyens de prévention]]),\"\",CONCATENATE(Risque[[#This Row],[Moyens de prévention]],1))","v":""},null,null,null,null,null,{"$f":"IF(ISBLANK(Risque[[#This Row],[Catégorie de risque]]),\"\",CONCATENATE(Risque[[#This Row],[Catégorie de risque]],3))","v":""},null,null,null,{"$f":"IF(ISBLANK(Risque[[#This Row],[Catégorie de risque]]),\"\",CONCATENATE(Risque[[#This Row],[Catégorie de risque]],4))","v":""},null,null,null,null,null,{"$f":"IF(Risque[[#This Row],[Date d''inscription du risque]]<>\"\",YEAR(Risque[[#This Row],[Date d''inscription du risque]]),\"\")","v":""}]
[null,null,{"$f":"IF(ISBLANK(Risque[[#This Row],[Catégorie de risque]]),\"\",CONCATENATE(Risque[[#This Row],[Catégorie de risque]],1))","v":""},null,null,null,null,null,{"$f":"IF(ISBLANK(Risque[[#This Row],[Catégorie de risque]]),\"\",IF(OR(ISNUMBER(SEARCH(\"RZ\",Risque[[#This Row],[Source de danger]]))=TRUE,ISNUMBER(SEARCH(\"RP\",Risque[[#This Row],[Source de danger]]))=TRUE,ISNUMBER(SEARCH(\"RZ\",Risque[[#This Row],[Risques associés]]))=TRUE,ISNUMBER(SEARCH(\"RP\",Risque[[#This Row],[Risques associés]]))=TRUE,ISNUMBER(SEARCH(\"RZ\",Risque[[#This Row],[Précision du risque\n(si liste déroulante présente)]]))=TRUE,ISNUMBER(SEARCH(\"RP\",Risque[[#This Row],[Précision du risque\n(si liste déroulante présente)]]))=TRUE),\"Oui --> Priorité d'action\",\"Non\"))","v":""},null,null,null,null,{"$f":"IF(ISBLANK(Risque[[#This Row],[Catégorie de risque]]),\"\",CONCATENATE(Risque[[#This Row],[Catégorie de risque]],2))","v":""},null,{"$f":"IF(ISBLANK(Risque[[#This Row],[Moyens de prévention]]),\"\",CONCATENATE(Risque[[#This Row],[Moyens de prévention]],1))","v":""},null,null,null,null,null,{"$f":"IF(ISBLANK(Risque[[#This Row],[Catégorie de risque]]),\"\",CONCATENATE(Risque[[#This Row],[Catégorie de risque]],3))","v":""},null,null,null,{"$f":"IF(ISBLANK(Risque[[#This Row],[Catégorie de risque]]),\"\",CONCATENATE(Risque[[#This Row],[Catégorie de risque]],4))","v":""},null,null,null,null,null,{"$f":"IF(Risque[[#This Row],[Date d''inscription du risque]]<>\"\",YEAR(Risque[[#This Row],[Date d''inscription du risque]]),\"\")","v":""}]
[null,null,{"$f":"IF(ISBLANK(Risque[[#This Row],[Catégorie de risque]]),\"\",CONCATENATE(Risque[[#This Row],[Catégorie de risque]],1))","v":""},null,null,null,null,null,{"$f":"IF(ISBLANK(Risque[[#This Row],[Catégorie de risque]]),\"\",IF(OR(ISNUMBER(SEARCH(\"RZ\",Risque[[#This Row],[Source de danger]]))=TRUE,ISNUMBER(SEARCH(\"RP\",Risque[[#This Row],[Source de danger]]))=TRUE,ISNUMBER(SEARCH(\"RZ\",Risque[[#This Row],[Risques associés]]))=TRUE,ISNUMBER(SEARCH(\"RP\",Risque[[#This Row],[Risques associés]]))=TRUE,ISNUMBER(SEARCH(\"RZ\",Risque[[#This Row],[Précision du risque\n(si liste déroulante présente)]]))=TRUE,ISNUMBER(SEARCH(\"RP\",Risque[[#This Row],[Précision du risque\n(si liste déroulante présente)]]))=TRUE),\"Oui --> Priorité d'action\",\"Non\"))","v":""},null,null,null,null,{"$f":"IF(ISBLANK(Risque[[#This Row],[Catégorie de risque]]),\"\",CONCATENATE(Risque[[#This Row],[Catégorie de risque]],2))","v":""},null,{"$f":"IF(ISBLANK(Risque[[#This Row],[Moyens de prévention]]),\"\",CONCATENATE(Risque[[#This Row],[Moyens de prévention]],1))","v":""},null,null,null,null,null,{"$f":"IF(ISBLANK(Risque[[#This Row],[Catégorie de risque]]),\"\",CONCATENATE(Risque[[#This Row],[Catégorie de risque]],3))","v":""},null,null,null,{"$f":"IF(ISBLANK(Risque[[#This Row],[Catégorie de risque]]),\"\",CONCATENATE(Risque[[#This Row],[Catégorie de risque]],4))","v":""},null,null,null,null,null,{"$f":"IF(Risque[[#This Row],[Date d''inscription du risque]]<>\"\",YEAR(Risque[[#This Row],[Date d''inscription du risque]]),\"\")","v":""}]
[null,null,{"$f":"IF(ISBLANK(Risque[[#This Row],[Catégorie de risque]]),\"\",CONCATENATE(Risque[[#This Row],[Catégorie de risque]],1))","v":""},null,null,null,null,null,{"$f":"IF(ISBLANK(Risque[[#This Row],[Catégorie de risque]]),\"\",IF(OR(ISNUMBER(SEARCH(\"RZ\",Risque[[#This Row],[Source de danger]]))=TRUE,ISNUMBER(SEARCH(\"RP\",Risque[[#This Row],[Source de danger]]))=TRUE,ISNUMBER(SEARCH(\"RZ\",Risque[[#This Row],[Risques associés]]))=TRUE,ISNUMBER(SEARCH(\"RP\",Risque[[#This Row],[Risques associés]]))=TRUE,ISNUMBER(SEARCH(\"RZ\",Risque[[#This Row],[Précision du risque\n(si liste déroulante présente)]]))=TRUE,ISNUMBER(SEARCH(\"RP\",Risque[[#This Row],[Précision du risque\n(si liste déroulante présente)]]))=TRUE),\"Oui --> Priorité d'action\",\"Non\"))","v":""},null,null,null,null,{"$f":"IF(ISBLANK(Risque[[#This Row],[Catégorie de risque]]),\"\",CONCATENATE(Risque[[#This Row],[Catégorie de risque]],2))","v":""},null,{"$f":"IF(ISBLANK(Risque[[#This Row],[Moyens de prévention]]),\"\",CONCATENATE(Risque[[#This Row],[Moyens de prévention]],1))","v":""},null,null,null,null,null,{"$f":"IF(ISBLANK(Risque[[#This Row],[Catégorie de risque]]),\"\",CONCATENATE(Risque[[#This Row],[Catégorie de risque]],3))","v":""},null,null,null,{"$f":"IF(ISBLANK(Risque[[#This Row],[Catégorie de risque]]),\"\",CONCATENATE(Risque[[#This Row],[Catégorie de risque]],4))","v":""},null,null,null,null,null,{"$f":"IF(Risque[[#This Row],[Date d''inscription du risque]]<>\"\",YEAR(Risque[[#This Row],[Date d''inscription du risque]]),\"\")","v":""}]
[null,null,{"$f":"IF(ISBLANK(Risque[[#This Row],[Catégorie de risque]]),\"\",CONCATENATE(Risque[[#This Row],[Catégorie de risque]],1))","v":""},null,null,null,null,null,{"$f":"IF(ISBLANK(Risque[[#This Row],[Catégorie de risque]]),\"\",IF(OR(ISNUMBER(SEARCH(\"RZ\",Risque[[#This Row],[Source de danger]]))=TRUE,ISNUMBER(SEARCH(\"RP\",Risque[[#This Row],[Source de danger]]))=TRUE,ISNUMBER(SEARCH(\"RZ\",Risque[[#This Row],[Risques associés]]))=TRUE,ISNUMBER(SEARCH(\"RP\",Risque[[#This Row],[Risques associés]]))=TRUE,ISNUMBER(SEARCH(\"RZ\",Risque[[#This Row],[Précision du risque\n(si liste déroulante présente)]]))=TRUE,ISNUMBER(SEARCH(\"RP\",Risque[[#This Row],[Précision du risque\n(si liste déroulante présente)]]))=TRUE),\"Oui --> Priorité d'action\",\"Non\"))","v":""},null,null,null,null,{"$f":"IF(ISBLANK(Risque[[#This Row],[Catégorie de risque]]),\"\",CONCATENATE(Risque[[#This Row],[Catégorie de risque]],2))","v":""},null,{"$f":"IF(ISBLANK(Risque[[#This Row],[Moyens de prévention]]),\"\",CONCATENATE(Risque[[#This Row],[Moyens de prévention]],1))","v":""},null,null,null,null,null,{"$f":"IF(ISBLANK(Risque[[#This Row],[Catégorie de risque]]),\"\",CONCATENATE(Risque[[#This Row],[Catégorie de risque]],3))","v":""},null,null,null,{"$f":"IF(ISBLANK(Risque[[#This Row],[Catégorie de risque]]),\"\",CONCATENATE(Risque[[#This Row],[Catégorie de risque]],4))","v":""},null,null,null,null,null,{"$f":"IF(Risque[[#This Row],[Date d''inscription du risque]]<>\"\",YEAR(Risque[[#This Row],[Date d''inscription du risque]]),\"\")","v":""}]
[null,null,{"$f":"IF(ISBLANK(Risque[[#This Row],[Catégorie de risque]]),\"\",CONCATENATE(Risque[[#This Row],[Catégorie de risque]],1))","v":""},null,null,null,null,null,{"$f":"IF(ISBLANK(Risque[[#This Row],[Catégorie de risque]]),\"\",IF(OR(ISNUMBER(SEARCH(\"RZ\",Risque[[#This Row],[Source de danger]]))=TRUE,ISNUMBER(SEARCH(\"RP\",Risque[[#This Row],[Source de danger]]))=TRUE,ISNUMBER(SEARCH(\"RZ\",Risque[[#This Row],[Risques associés]]))=TRUE,ISNUMBER(SEARCH(\"RP\",Risque[[#This Row],[Risques associés]]))=TRUE,ISNUMBER(SEARCH(\"RZ\",Risque[[#This Row],[Précision du risque\n(si liste déroulante présente)]]))=TRUE,ISNUMBER(SEARCH(\"RP\",Risque[[#This Row],[Précision du risque\n(si liste déroulante présente)]]))=TRUE),\"Oui --> Priorité d'action\",\"Non\"))","v":""},null,null,null,null,{"$f":"IF(ISBLANK(Risque[[#This Row],[Catégorie de risque]]),\"\",CONCATENATE(Risque[[#This Row],[Catégorie de risque]],2))","v":""},null,{"$f":"IF(ISBLANK(Risque[[#This Row],[Moyens de prévention]]),\"\",CONCATENATE(Risque[[#This Row],[Moyens de prévention]],1))","v":""},null,null,null,null,null,{"$f":"IF(ISBLANK(Risque[[#This Row],[Catégorie de risque]]),\"\",CONCATENATE(Risque[[#This Row],[Catégorie de risque]],3))","v":""},null,null,null,{"$f":"IF(ISBLANK(Risque[[#This Row],[Catégorie de risque]]),\"\",CONCATENATE(Risque[[#This Row],[Catégorie de risque]],4))","v":""},null,null,null,null,null,{"$f":"IF(Risque[[#This Row],[Date d''inscription du risque]]<>\"\",YEAR(Risque[[#This Row],[Date d''inscription du risque]]),\"\")","v":""}]
[null,null,{"$f":"IF(ISBLANK(Risque[[#This Row],[Catégorie de risque]]),\"\",CONCATENATE(Risque[[#This Row],[Catégorie de risque]],1))","v":""},null,null,null,null,null,{"$f":"IF(ISBLANK(Risque[[#This Row],[Catégorie de risque]]),\"\",IF(OR(ISNUMBER(SEARCH(\"RZ\",Risque[[#This Row],[Source de danger]]))=TRUE,ISNUMBER(SEARCH(\"RP\",Risque[[#This Row],[Source de danger]]))=TRUE,ISNUMBER(SEARCH(\"RZ\",Risque[[#This Row],[Risques associés]]))=TRUE,ISNUMBER(SEARCH(\"RP\",Risque[[#This Row],[Risques associés]]))=TRUE,ISNUMBER(SEARCH(\"RZ\",Risque[[#This Row],[Précision du risque\n(si liste déroulante présente)]]))=TRUE,ISNUMBER(SEARCH(\"RP\",Risque[[#This Row],[Précision du risque\n(si liste déroulante présente)]]))=TRUE),\"Oui --> Priorité d'action\",\"Non\"))","v":""},null,null,null,null,{"$f":"IF(ISBLANK(Risque[[#This Row],[Catégorie de risque]]),\"\",CONCATENATE(Risque[[#This Row],[Catégorie de risque]],2))","v":""},null,{"$f":"IF(ISBLANK(Risque[[#This Row],[Moyens de prévention]]),\"\",CONCATENATE(Risque[[#This Row],[Moyens de prévention]],1))","v":""},null,null,null,null,null,{"$f":"IF(ISBLANK(Risque[[#This Row],[Catégorie de risque]]),\"\",CONCATENATE(Risque[[#This Row],[Catégorie de risque]],3))","v":""},null,null,null,{"$f":"IF(ISBLANK(Risque[[#This Row],[Catégorie de risque]]),\"\",CONCATENATE(Risque[[#This Row],[Catégorie de risque]],4))","v":""},null,null,null,null,null,{"$f":"IF(Risque[[#This Row],[Date d''inscription du risque]]<>\"\",YEAR(Risque[[#This Row],[Date d''inscription du risque]]),\"\")","v":""}]
[null,null,{"$f":"IF(ISBLANK(Risque[[#This Row],[Catégorie de risque]]),\"\",CONCATENATE(Risque[[#This Row],[Catégorie de risque]],1))","v":""},null,null,null,null,null,{"$f":"IF(ISBLANK(Risque[[#This Row],[Catégorie de risque]]),\"\",IF(OR(ISNUMBER(SEARCH(\"RZ\",Risque[[#This Row],[Source de danger]]))=TRUE,ISNUMBER(SEARCH(\"RP\",Risque[[#This Row],[Source de danger]]))=TRUE,ISNUMBER(SEARCH(\"RZ\",Risque[[#This Row],[Risques associés]]))=TRUE,ISNUMBER(SEARCH(\"RP\",Risque[[#This Row],[Risques associés]]))=TRUE,ISNUMBER(SEARCH(\"RZ\",Risque[[#This Row],[Précision du risque\n(si liste déroulante présente)]]))=TRUE,ISNUMBER(SEARCH(\"RP\",Risque[[#This Row],[Précision du risque\n(si liste déroulante présente)]]))=TRUE),\"Oui --> Priorité d'action\",\"Non\"))","v":""},null,null,null,null,{"$f":"IF(ISBLANK(Risque[[#This Row],[Catégorie de risque]]),\"\",CONCATENATE(Risque[[#This Row],[Catégorie de risque]],2))","v":""},null,{"$f":"IF(ISBLANK(Risque[[#This Row],[Moyens de prévention]]),\"\",CONCATENATE(Risque[[#This Row],[Moyens de prévention]],1))","v":""},null,null,null,null,null,{"$f":"IF(ISBLANK(Risque[[#This Row],[Catégorie de risque]]),\"\",CONCATENATE(Risque[[#This Row],[Catégorie de risque]],3))","v":""},null,null,null,{"$f":"IF(ISBLANK(Risque[[#This Row],[Catégorie de risque]]),\"\",CONCATENATE(Risque[[#This Row],[Catégorie de risque]],4))","v":""},null,null,null,null,null,{"$f":"IF(Risque[[#This Row],[Date d''inscription du risque]]<>\"\",YEAR(Risque[[#This Row],[Date d''inscription du risque]]),\"\")","v":""}]
[null,null,{"$f":"IF(ISBLANK(Risque[[#This Row],[Catégorie de risque]]),\"\",CONCATENATE(Risque[[#This Row],[Catégorie de risque]],1))","v":""},null,null,null,null,null,{"$f":"IF(ISBLANK(Risque[[#This Row],[Catégorie de risque]]),\"\",IF(OR(ISNUMBER(SEARCH(\"RZ\",Risque[[#This Row],[Source de danger]]))=TRUE,ISNUMBER(SEARCH(\"RP\",Risque[[#This Row],[Source de danger]]))=TRUE,ISNUMBER(SEARCH(\"RZ\",Risque[[#This Row],[Risques associés]]))=TRUE,ISNUMBER(SEARCH(\"RP\",Risque[[#This Row],[Risques associés]]))=TRUE,ISNUMBER(SEARCH(\"RZ\",Risque[[#This Row],[Précision du risque\n(si liste déroulante présente)]]))=TRUE,ISNUMBER(SEARCH(\"RP\",Risque[[#This Row],[Précision du risque\n(si liste déroulante présente)]]))=TRUE),\"Oui --> Priorité d'action\",\"Non\"))","v":""},null,null,null,null,{"$f":"IF(ISBLANK(Risque[[#This Row],[Catégorie de risque]]),\"\",CONCATENATE(Risque[[#This Row],[Catégorie de risque]],2))","v":""},null,{"$f":"IF(ISBLANK(Risque[[#This Row],[Moyens de prévention]]),\"\",CONCATENATE(Risque[[#This Row],[Moyens de prévention]],1))","v":""},null,null,null,null,null,{"$f":"IF(ISBLANK(Risque[[#This Row],[Catégorie de risque]]),\"\",CONCATENATE(Risque[[#This Row],[Catégorie de risque]],3))","v":""},null,null,null,{"$f":"IF(ISBLANK(Risque[[#This Row],[Catégorie de risque]]),\"\",CONCATENATE(Risque[[#This Row],[Catégorie de risque]],4))","v":""},null,null,null,null,null,{"$f":"IF(Risque[[#This Row],[Date d''inscription du risque]]<>\"\",YEAR(Risque[[#This Row],[Date d''inscription du risque]]),\"\")","v":""}]
[null,null,{"$f":"IF(ISBLANK(Risque[[#This Row],[Catégorie de risque]]),\"\",CONCATENATE(Risque[[#This Row],[Catégorie de risque]],1))","v":""},null,null,null,null,null,{"$f":"IF(ISBLANK(Risque[[#This Row],[Catégorie de risque]]),\"\",IF(OR(ISNUMBER(SEARCH(\"RZ\",Risque[[#This Row],[Source de danger]]))=TRUE,ISNUMBER(SEARCH(\"RP\",Risque[[#This Row],[Source de danger]]))=TRUE,ISNUMBER(SEARCH(\"RZ\",Risque[[#This Row],[Risques associés]]))=TRUE,ISNUMBER(SEARCH(\"RP\",Risque[[#This Row],[Risques associés]]))=TRUE,ISNUMBER(SEARCH(\"RZ\",Risque[[#This Row],[Précision du risque\n(si liste déroulante présente)]]))=TRUE,ISNUMBER(SEARCH(\"RP\",Risque[[#This Row],[Précision du risque\n(si liste déroulante présente)]]))=TRUE),\"Oui --> Priorité d'action\",\"Non\"))","v":""},null,null,null,null,{"$f":"IF(ISBLANK(Risque[[#This Row],[Catégorie de risque]]),\"\",CONCATENATE(Risque[[#This Row],[Catégorie de risque]],2))","v":""},null,{"$f":"IF(ISBLANK(Risque[[#This Row],[Moyens de prévention]]),\"\",CONCATENATE(Risque[[#This Row],[Moyens de prévention]],1))","v":""},null,null,null,null,null,{"$f":"IF(ISBLANK(Risque[[#This Row],[Catégorie de risque]]),\"\",CONCATENATE(Risque[[#This Row],[Catégorie de risque]],3))","v":""},null,null,null,{"$f":"IF(ISBLANK(Risque[[#This Row],[Catégorie de risque]]),\"\",CONCATENATE(Risque[[#This Row],[Catégorie de risque]],4))","v":""},null,null,null,null,null,{"$f":"IF(Risque[[#This Row],[Date d''inscription du risque]]<>\"\",YEAR(Risque[[#This Row],[Date d''inscription du risque]]),\"\")","v":""}]
[null,null,{"$f":"IF(ISBLANK(Risque[[#This Row],[Catégorie de risque]]),\"\",CONCATENATE(Risque[[#This Row],[Catégorie de risque]],1))","v":""},null,null,null,null,null,{"$f":"IF(ISBLANK(Risque[[#This Row],[Catégorie de risque]]),\"\",IF(OR(ISNUMBER(SEARCH(\"RZ\",Risque[[#This Row],[Source de danger]]))=TRUE,ISNUMBER(SEARCH(\"RP\",Risque[[#This Row],[Source de danger]]))=TRUE,ISNUMBER(SEARCH(\"RZ\",Risque[[#This Row],[Risques associés]]))=TRUE,ISNUMBER(SEARCH(\"RP\",Risque[[#This Row],[Risques associés]]))=TRUE,ISNUMBER(SEARCH(\"RZ\",Risque[[#This Row],[Précision du risque\n(si liste déroulante présente)]]))=TRUE,ISNUMBER(SEARCH(\"RP\",Risque[[#This Row],[Précision du risque\n(si liste déroulante présente)]]))=TRUE),\"Oui --> Priorité d'action\",\"Non\"))","v":""},null,null,null,null,{"$f":"IF(ISBLANK(Risque[[#This Row],[Catégorie de risque]]),\"\",CONCATENATE(Risque[[#This Row],[Catégorie de risque]],2))","v":""},null,{"$f":"IF(ISBLANK(Risque[[#This Row],[Moyens de prévention]]),\"\",CONCATENATE(Risque[[#This Row],[Moyens de prévention]],1))","v":""},null,null,null,null,null,{"$f":"IF(ISBLANK(Risque[[#This Row],[Catégorie de risque]]),\"\",CONCATENATE(Risque[[#This Row],[Catégorie de risque]],3))","v":""},null,null,null,{"$f":"IF(ISBLANK(Risque[[#This Row],[Catégorie de risque]]),\"\",CONCATENATE(Risque[[#This Row],[Catégorie de risque]],4))","v":""},null,null,null,null,null,{"$f":"IF(Risque[[#This Row],[Date d''inscription du risque]]<>\"\",YEAR(Risque[[#This Row],[Date d''inscription du risque]]),\"\")","v":""}]
[null,null,{"$f":"IF(ISBLANK(Risque[[#This Row],[Catégorie de risque]]),\"\",CONCATENATE(Risque[[#This Row],[Catégorie de risque]],1))","v":""},null,null,null,null,null,{"$f":"IF(ISBLANK(Risque[[#This Row],[Catégorie de risque]]),\"\",IF(OR(ISNUMBER(SEARCH(\"RZ\",Risque[[#This Row],[Source de danger]]))=TRUE,ISNUMBER(SEARCH(\"RP\",Risque[[#This Row],[Source de danger]]))=TRUE,ISNUMBER(SEARCH(\"RZ\",Risque[[#This Row],[Risques associés]]))=TRUE,ISNUMBER(SEARCH(\"RP\",Risque[[#This Row],[Risques associés]]))=TRUE,ISNUMBER(SEARCH(\"RZ\",Risque[[#This Row],[Précision du risque\n(si liste déroulante présente)]]))=TRUE,ISNUMBER(SEARCH(\"RP\",Risque[[#This Row],[Précision du risque\n(si liste déroulante présente)]]))=TRUE),\"Oui --> Priorité d'action\",\"Non\"))","v":""},null,null,null,null,{"$f":"IF(ISBLANK(Risque[[#This Row],[Catégorie de risque]]),\"\",CONCATENATE(Risque[[#This Row],[Catégorie de risque]],2))","v":""},null,{"$f":"IF(ISBLANK(Risque[[#This Row],[Moyens de prévention]]),\"\",CONCATENATE(Risque[[#This Row],[Moyens de prévention]],1))","v":""},null,null,null,null,null,{"$f":"IF(ISBLANK(Risque[[#This Row],[Catégorie de risque]]),\"\",CONCATENATE(Risque[[#This Row],[Catégorie de risque]],3))","v":""},null,null,null,{"$f":"IF(ISBLANK(Risque[[#This Row],[Catégorie de risque]]),\"\",CONCATENATE(Risque[[#This Row],[Catégorie de risque]],4))","v":""},null,null,null,null,null,{"$f":"IF(Risque[[#This Row],[Date d''inscription du risque]]<>\"\",YEAR(Risque[[#This Row],[Date d''inscription du risque]]),\"\")","v":""}]
[null,null,{"$f":"IF(ISBLANK(Risque[[#This Row],[Catégorie de risque]]),\"\",CONCATENATE(Risque[[#This Row],[Catégorie de risque]],1))","v":""},null,null,null,null,null,{"$f":"IF(ISBLANK(Risque[[#This Row],[Catégorie de risque]]),\"\",IF(OR(ISNUMBER(SEARCH(\"RZ\",Risque[[#This Row],[Source de danger]]))=TRUE,ISNUMBER(SEARCH(\"RP\",Risque[[#This Row],[Source de danger]]))=TRUE,ISNUMBER(SEARCH(\"RZ\",Risque[[#This Row],[Risques associés]]))=TRUE,ISNUMBER(SEARCH(\"RP\",Risque[[#This Row],[Risques associés]]))=TRUE,ISNUMBER(SEARCH(\"RZ\",Risque[[#This Row],[Précision du risque\n(si liste déroulante présente)]]))=TRUE,ISNUMBER(SEARCH(\"RP\",Risque[[#This Row],[Précision du risque\n(si liste déroulante présente)]]))=TRUE),\"Oui --> Priorité d'action\",\"Non\"))","v":""},null,null,null,null,{"$f":"IF(ISBLANK(Risque[[#This Row],[Catégorie de risque]]),\"\",CONCATENATE(Risque[[#This Row],[Catégorie de risque]],2))","v":""},null,{"$f":"IF(ISBLANK(Risque[[#This Row],[Moyens de prévention]]),\"\",CONCATENATE(Risque[[#This Row],[Moyens de prévention]],1))","v":""},null,null,null,null,null,{"$f":"IF(ISBLANK(Risque[[#This Row],[Catégorie de risque]]),\"\",CONCATENATE(Risque[[#This Row],[Catégorie de risque]],3))","v":""},null,null,null,{"$f":"IF(ISBLANK(Risque[[#This Row],[Catégorie de risque]]),\"\",CONCATENATE(Risque[[#This Row],[Catégorie de risque]],4))","v":""},null,null,null,null,null,{"$f":"IF(Risque[[#This Row],[Date d''inscription du risque]]<>\"\",YEAR(Risque[[#This Row],[Date d''inscription du risque]]),\"\")","v":""}]
[null,null,{"$f":"IF(ISBLANK(Risque[[#This Row],[Catégorie de risque]]),\"\",CONCATENATE(Risque[[#This Row],[Catégorie de risque]],1))","v":""},null,null,null,null,null,{"$f":"IF(ISBLANK(Risque[[#This Row],[Catégorie de risque]]),\"\",IF(OR(ISNUMBER(SEARCH(\"RZ\",Risque[[#This Row],[Source de danger]]))=TRUE,ISNUMBER(SEARCH(\"RP\",Risque[[#This Row],[Source de danger]]))=TRUE,ISNUMBER(SEARCH(\"RZ\",Risque[[#This Row],[Risques associés]]))=TRUE,ISNUMBER(SEARCH(\"RP\",Risque[[#This Row],[Risques associés]]))=TRUE,ISNUMBER(SEARCH(\"RZ\",Risque[[#This Row],[Précision du risque\n(si liste déroulante présente)]]))=TRUE,ISNUMBER(SEARCH(\"RP\",Risque[[#This Row],[Précision du risque\n(si liste déroulante présente)]]))=TRUE),\"Oui --> Priorité d'action\",\"Non\"))","v":""},null,null,null,null,{"$f":"IF(ISBLANK(Risque[[#This Row],[Catégorie de risque]]),\"\",CONCATENATE(Risque[[#This Row],[Catégorie de risque]],2))","v":""},null,{"$f":"IF(ISBLANK(Risque[[#This Row],[Moyens de prévention]]),\"\",CONCATENATE(Risque[[#This Row],[Moyens de prévention]],1))","v":""},null,null,null,null,null,{"$f":"IF(ISBLANK(Risque[[#This Row],[Catégorie de risque]]),\"\",CONCATENATE(Risque[[#This Row],[Catégorie de risque]],3))","v":""},null,null,null,{"$f":"IF(ISBLANK(Risque[[#This Row],[Catégorie de risque]]),\"\",CONCATENATE(Risque[[#This Row],[Catégorie de risque]],4))","v":""},null,null,null,null,null,{"$f":"IF(Risque[[#This Row],[Date d''inscription du risque]]<>\"\",YEAR(Risque[[#This Row],[Date d''inscription du risque]]),\"\")","v":""}]
[null,null,{"$f":"IF(ISBLANK(Risque[[#This Row],[Catégorie de risque]]),\"\",CONCATENATE(Risque[[#This Row],[Catégorie de risque]],1))","v":""},null,null,null,null,null,{"$f":"IF(ISBLANK(Risque[[#This Row],[Catégorie de risque]]),\"\",IF(OR(ISNUMBER(SEARCH(\"RZ\",Risque[[#This Row],[Source de danger]]))=TRUE,ISNUMBER(SEARCH(\"RP\",Risque[[#This Row],[Source de danger]]))=TRUE,ISNUMBER(SEARCH(\"RZ\",Risque[[#This Row],[Risques associés]]))=TRUE,ISNUMBER(SEARCH(\"RP\",Risque[[#This Row],[Risques associés]]))=TRUE,ISNUMBER(SEARCH(\"RZ\",Risque[[#This Row],[Précision du risque\n(si liste déroulante présente)]]))=TRUE,ISNUMBER(SEARCH(\"RP\",Risque[[#This Row],[Précision du risque\n(si liste déroulante présente)]]))=TRUE),\"Oui --> Priorité d'action\",\"Non\"))","v":""},null,null,null,null,{"$f":"IF(ISBLANK(Risque[[#This Row],[Catégorie de risque]]),\"\",CONCATENATE(Risque[[#This Row],[Catégorie de risque]],2))","v":""},null,{"$f":"IF(ISBLANK(Risque[[#This Row],[Moyens de prévention]]),\"\",CONCATENATE(Risque[[#This Row],[Moyens de prévention]],1))","v":""},null,null,null,null,null,{"$f":"IF(ISBLANK(Risque[[#This Row],[Catégorie de risque]]),\"\",CONCATENATE(Risque[[#This Row],[Catégorie de risque]],3))","v":""},null,null,null,{"$f":"IF(ISBLANK(Risque[[#This Row],[Catégorie de risque]]),\"\",CONCATENATE(Risque[[#This Row],[Catégorie de risque]],4))","v":""},null,null,null,null,null,{"$f":"IF(Risque[[#This Row],[Date d''inscription du risque]]<>\"\",YEAR(Risque[[#This Row],[Date d''inscription du risque]]),\"\")","v":""}]
[null,null,{"$f":"IF(ISBLANK(Risque[[#This Row],[Catégorie de risque]]),\"\",CONCATENATE(Risque[[#This Row],[Catégorie de risque]],1))","v":""},null,null,null,null,null,{"$f":"IF(ISBLANK(Risque[[#This Row],[Catégorie de risque]]),\"\",IF(OR(ISNUMBER(SEARCH(\"RZ\",Risque[[#This Row],[Source de danger]]))=TRUE,ISNUMBER(SEARCH(\"RP\",Risque[[#This Row],[Source de danger]]))=TRUE,ISNUMBER(SEARCH(\"RZ\",Risque[[#This Row],[Risques associés]]))=TRUE,ISNUMBER(SEARCH(\"RP\",Risque[[#This Row],[Risques associés]]))=TRUE,ISNUMBER(SEARCH(\"RZ\",Risque[[#This Row],[Précision du risque\n(si liste déroulante présente)]]))=TRUE,ISNUMBER(SEARCH(\"RP\",Risque[[#This Row],[Précision du risque\n(si liste déroulante présente)]]))=TRUE),\"Oui --> Priorité d'action\",\"Non\"))","v":""},null,null,null,null,{"$f":"IF(ISBLANK(Risque[[#This Row],[Catégorie de risque]]),\"\",CONCATENATE(Risque[[#This Row],[Catégorie de risque]],2))","v":""},null,{"$f":"IF(ISBLANK(Risque[[#This Row],[Moyens de prévention]]),\"\",CONCATENATE(Risque[[#This Row],[Moyens de prévention]],1))","v":""},null,null,null,null,null,{"$f":"IF(ISBLANK(Risque[[#This Row],[Catégorie de risque]]),\"\",CONCATENATE(Risque[[#This Row],[Catégorie de risque]],3))","v":""},null,null,null,{"$f":"IF(ISBLANK(Risque[[#This Row],[Catégorie de risque]]),\"\",CONCATENATE(Risque[[#This Row],[Catégorie de risque]],4))","v":""},null,null,null,null,null,{"$f":"IF(Risque[[#This Row],[Date d''inscription du risque]]<>\"\",YEAR(Risque[[#This Row],[Date d''inscription du risque]]),\"\")","v":""}]
[null,null,{"$f":"IF(ISBLANK(Risque[[#This Row],[Catégorie de risque]]),\"\",CONCATENATE(Risque[[#This Row],[Catégorie de risque]],1))","v":""},null,null,null,null,null,{"$f":"IF(ISBLANK(Risque[[#This Row],[Catégorie de risque]]),\"\",IF(OR(ISNUMBER(SEARCH(\"RZ\",Risque[[#This Row],[Source de danger]]))=TRUE,ISNUMBER(SEARCH(\"RP\",Risque[[#This Row],[Source de danger]]))=TRUE,ISNUMBER(SEARCH(\"RZ\",Risque[[#This Row],[Risques associés]]))=TRUE,ISNUMBER(SEARCH(\"RP\",Risque[[#This Row],[Risques associés]]))=TRUE,ISNUMBER(SEARCH(\"RZ\",Risque[[#This Row],[Précision du risque\n(si liste déroulante présente)]]))=TRUE,ISNUMBER(SEARCH(\"RP\",Risque[[#This Row],[Précision du risque\n(si liste déroulante présente)]]))=TRUE),\"Oui --> Priorité d'action\",\"Non\"))","v":""},null,null,null,null,{"$f":"IF(ISBLANK(Risque[[#This Row],[Catégorie de risque]]),\"\",CONCATENATE(Risque[[#This Row],[Catégorie de risque]],2))","v":""},null,{"$f":"IF(ISBLANK(Risque[[#This Row],[Moyens de prévention]]),\"\",CONCATENATE(Risque[[#This Row],[Moyens de prévention]],1))","v":""},null,null,null,null,null,{"$f":"IF(ISBLANK(Risque[[#This Row],[Catégorie de risque]]),\"\",CONCATENATE(Risque[[#This Row],[Catégorie de risque]],3))","v":""},null,null,null,{"$f":"IF(ISBLANK(Risque[[#This Row],[Catégorie de risque]]),\"\",CONCATENATE(Risque[[#This Row],[Catégorie de risque]],4))","v":""},null,null,null,null,null,{"$f":"IF(Risque[[#This Row],[Date d''inscription du risque]]<>\"\",YEAR(Risque[[#This Row],[Date d''inscription du risque]]),\"\")","v":""}]
[null,null,{"$f":"IF(ISBLANK(Risque[[#This Row],[Catégorie de risque]]),\"\",CONCATENATE(Risque[[#This Row],[Catégorie de risque]],1))","v":""},null,null,null,null,null,{"$f":"IF(ISBLANK(Risque[[#This Row],[Catégorie de risque]]),\"\",IF(OR(ISNUMBER(SEARCH(\"RZ\",Risque[[#This Row],[Source de danger]]))=TRUE,ISNUMBER(SEARCH(\"RP\",Risque[[#This Row],[Source de danger]]))=TRUE,ISNUMBER(SEARCH(\"RZ\",Risque[[#This Row],[Risques associés]]))=TRUE,ISNUMBER(SEARCH(\"RP\",Risque[[#This Row],[Risques associés]]))=TRUE,ISNUMBER(SEARCH(\"RZ\",Risque[[#This Row],[Précision du risque\n(si liste déroulante présente)]]))=TRUE,ISNUMBER(SEARCH(\"RP\",Risque[[#This Row],[Précision du risque\n(si liste déroulante présente)]]))=TRUE),\"Oui --> Priorité d'action\",\"Non\"))","v":""},null,null,null,null,{"$f":"IF(ISBLANK(Risque[[#This Row],[Catégorie de risque]]),\"\",CONCATENATE(Risque[[#This Row],[Catégorie de risque]],2))","v":""},null,{"$f":"IF(ISBLANK(Risque[[#This Row],[Moyens de prévention]]),\"\",CONCATENATE(Risque[[#This Row],[Moyens de prévention]],1))","v":""},null,null,null,null,null,{"$f":"IF(ISBLANK(Risque[[#This Row],[Catégorie de risque]]),\"\",CONCATENATE(Risque[[#This Row],[Catégorie de risque]],3))","v":""},null,null,null,{"$f":"IF(ISBLANK(Risque[[#This Row],[Catégorie de risque]]),\"\",CONCATENATE(Risque[[#This Row],[Catégorie de risque]],4))","v":""},null,null,null,null,null,{"$f":"IF(Risque[[#This Row],[Date d''inscription du risque]]<>\"\",YEAR(Risque[[#This Row],[Date d''inscription du risque]]),\"\")","v":""}]
[null,null,{"$f":"IF(ISBLANK(Risque[[#This Row],[Catégorie de risque]]),\"\",CONCATENATE(Risque[[#This Row],[Catégorie de risque]],1))","v":""},null,null,null,null,null,{"$f":"IF(ISBLANK(Risque[[#This Row],[Catégorie de risque]]),\"\",IF(OR(ISNUMBER(SEARCH(\"RZ\",Risque[[#This Row],[Source de danger]]))=TRUE,ISNUMBER(SEARCH(\"RP\",Risque[[#This Row],[Source de danger]]))=TRUE,ISNUMBER(SEARCH(\"RZ\",Risque[[#This Row],[Risques associés]]))=TRUE,ISNUMBER(SEARCH(\"RP\",Risque[[#This Row],[Risques associés]]))=TRUE,ISNUMBER(SEARCH(\"RZ\",Risque[[#This Row],[Précision du risque\n(si liste déroulante présente)]]))=TRUE,ISNUMBER(SEARCH(\"RP\",Risque[[#This Row],[Précision du risque\n(si liste déroulante présente)]]))=TRUE),\"Oui --> Priorité d'action\",\"Non\"))","v":""},null,null,null,null,{"$f":"IF(ISBLANK(Risque[[#This Row],[Catégorie de risque]]),\"\",CONCATENATE(Risque[[#This Row],[Catégorie de risque]],2))","v":""},null,{"$f":"IF(ISBLANK(Risque[[#This Row],[Moyens de prévention]]),\"\",CONCATENATE(Risque[[#This Row],[Moyens de prévention]],1))","v":""},null,null,null,null,null,{"$f":"IF(ISBLANK(Risque[[#This Row],[Catégorie de risque]]),\"\",CONCATENATE(Risque[[#This Row],[Catégorie de risque]],3))","v":""},null,null,null,{"$f":"IF(ISBLANK(Risque[[#This Row],[Catégorie de risque]]),\"\",CONCATENATE(Risque[[#This Row],[Catégorie de risque]],4))","v":""},null,null,null,null,null,{"$f":"IF(Risque[[#This Row],[Date d''inscription du risque]]<>\"\",YEAR(Risque[[#This Row],[Date d''inscription du risque]]),\"\")","v":""}]
[null,null,{"$f":"IF(ISBLANK(Risque[[#This Row],[Catégorie de risque]]),\"\",CONCATENATE(Risque[[#This Row],[Catégorie de risque]],1))","v":""},null,null,null,null,null,{"$f":"IF(ISBLANK(Risque[[#This Row],[Catégorie de risque]]),\"\",IF(OR(ISNUMBER(SEARCH(\"RZ\",Risque[[#This Row],[Source de danger]]))=TRUE,ISNUMBER(SEARCH(\"RP\",Risque[[#This Row],[Source de danger]]))=TRUE,ISNUMBER(SEARCH(\"RZ\",Risque[[#This Row],[Risques associés]]))=TRUE,ISNUMBER(SEARCH(\"RP\",Risque[[#This Row],[Risques associés]]))=TRUE,ISNUMBER(SEARCH(\"RZ\",Risque[[#This Row],[Précision du risque\n(si liste déroulante présente)]]))=TRUE,ISNUMBER(SEARCH(\"RP\",Risque[[#This Row],[Précision du risque\n(si liste déroulante présente)]]))=TRUE),\"Oui --> Priorité d'action\",\"Non\"))","v":""},null,null,null,null,{"$f":"IF(ISBLANK(Risque[[#This Row],[Catégorie de risque]]),\"\",CONCATENATE(Risque[[#This Row],[Catégorie de risque]],2))","v":""},null,{"$f":"IF(ISBLANK(Risque[[#This Row],[Moyens de prévention]]),\"\",CONCATENATE(Risque[[#This Row],[Moyens de prévention]],1))","v":""},null,null,null,null,null,{"$f":"IF(ISBLANK(Risque[[#This Row],[Catégorie de risque]]),\"\",CONCATENATE(Risque[[#This Row],[Catégorie de risque]],3))","v":""},null,null,null,{"$f":"IF(ISBLANK(Risque[[#This Row],[Catégorie de risque]]),\"\",CONCATENATE(Risque[[#This Row],[Catégorie de risque]],4))","v":""},null,null,null,null,null,{"$f":"IF(Risque[[#This Row],[Date d''inscription du risque]]<>\"\",YEAR(Risque[[#This Row],[Date d''inscription du risque]]),\"\")","v":""}]
[null,null,{"$f":"IF(ISBLANK(Risque[[#This Row],[Catégorie de risque]]),\"\",CONCATENATE(Risque[[#This Row],[Catégorie de risque]],1))","v":""},null,null,null,null,null,{"$f":"IF(ISBLANK(Risque[[#This Row],[Catégorie de risque]]),\"\",IF(OR(ISNUMBER(SEARCH(\"RZ\",Risque[[#This Row],[Source de danger]]))=TRUE,ISNUMBER(SEARCH(\"RP\",Risque[[#This Row],[Source de danger]]))=TRUE,ISNUMBER(SEARCH(\"RZ\",Risque[[#This Row],[Risques associés]]))=TRUE,ISNUMBER(SEARCH(\"RP\",Risque[[#This Row],[Risques associés]]))=TRUE,ISNUMBER(SEARCH(\"RZ\",Risque[[#This Row],[Précision du risque\n(si liste déroulante présente)]]))=TRUE,ISNUMBER(SEARCH(\"RP\",Risque[[#This Row],[Précision du risque\n(si liste déroulante présente)]]))=TRUE),\"Oui --> Priorité d'action\",\"Non\"))","v":""},null,null,null,null,{"$f":"IF(ISBLANK(Risque[[#This Row],[Catégorie de risque]]),\"\",CONCATENATE(Risque[[#This Row],[Catégorie de risque]],2))","v":""},null,{"$f":"IF(ISBLANK(Risque[[#This Row],[Moyens de prévention]]),\"\",CONCATENATE(Risque[[#This Row],[Moyens de prévention]],1))","v":""},null,null,null,null,null,{"$f":"IF(ISBLANK(Risque[[#This Row],[Catégorie de risque]]),\"\",CONCATENATE(Risque[[#This Row],[Catégorie de risque]],3))","v":""},null,null,null,{"$f":"IF(ISBLANK(Risque[[#This Row],[Catégorie de risque]]),\"\",CONCATENATE(Risque[[#This Row],[Catégorie de risque]],4))","v":""},null,null,null,null,null,{"$f":"IF(Risque[[#This Row],[Date d''inscription du risque]]<>\"\",YEAR(Risque[[#This Row],[Date d''inscription du risque]]),\"\")","v":""}]
[null,null,{"$f":"IF(ISBLANK(Risque[[#This Row],[Catégorie de risque]]),\"\",CONCATENATE(Risque[[#This Row],[Catégorie de risque]],1))","v":""},null,null,null,null,null,{"$f":"IF(ISBLANK(Risque[[#This Row],[Catégorie de risque]]),\"\",IF(OR(ISNUMBER(SEARCH(\"RZ\",Risque[[#This Row],[Source de danger]]))=TRUE,ISNUMBER(SEARCH(\"RP\",Risque[[#This Row],[Source de danger]]))=TRUE,ISNUMBER(SEARCH(\"RZ\",Risque[[#This Row],[Risques associés]]))=TRUE,ISNUMBER(SEARCH(\"RP\",Risque[[#This Row],[Risques associés]]))=TRUE,ISNUMBER(SEARCH(\"RZ\",Risque[[#This Row],[Précision du risque\n(si liste déroulante présente)]]))=TRUE,ISNUMBER(SEARCH(\"RP\",Risque[[#This Row],[Précision du risque\n(si liste déroulante présente)]]))=TRUE),\"Oui --> Priorité d'action\",\"Non\"))","v":""},null,null,null,null,{"$f":"IF(ISBLANK(Risque[[#This Row],[Catégorie de risque]]),\"\",CONCATENATE(Risque[[#This Row],[Catégorie de risque]],2))","v":""},null,{"$f":"IF(ISBLANK(Risque[[#This Row],[Moyens de prévention]]),\"\",CONCATENATE(Risque[[#This Row],[Moyens de prévention]],1))","v":""},null,null,null,null,null,{"$f":"IF(ISBLANK(Risque[[#This Row],[Catégorie de risque]]),\"\",CONCATENATE(Risque[[#This Row],[Catégorie de risque]],3))","v":""},null,null,null,{"$f":"IF(ISBLANK(Risque[[#This Row],[Catégorie de risque]]),\"\",CONCATENATE(Risque[[#This Row],[Catégorie de risque]],4))","v":""},null,null,null,null,null,{"$f":"IF(Risque[[#This Row],[Date d''inscription du risque]]<>\"\",YEAR(Risque[[#This Row],[Date d''inscription du risque]]),\"\")","v":""}]
[null,null,{"$f":"IF(ISBLANK(Risque[[#This Row],[Catégorie de risque]]),\"\",CONCATENATE(Risque[[#This Row],[Catégorie de risque]],1))","v":""},null,null,null,null,null,{"$f":"IF(ISBLANK(Risque[[#This Row],[Catégorie de risque]]),\"\",IF(OR(ISNUMBER(SEARCH(\"RZ\",Risque[[#This Row],[Source de danger]]))=TRUE,ISNUMBER(SEARCH(\"RP\",Risque[[#This Row],[Source de danger]]))=TRUE,ISNUMBER(SEARCH(\"RZ\",Risque[[#This Row],[Risques associés]]))=TRUE,ISNUMBER(SEARCH(\"RP\",Risque[[#This Row],[Risques associés]]))=TRUE,ISNUMBER(SEARCH(\"RZ\",Risque[[#This Row],[Précision du risque\n(si liste déroulante présente)]]))=TRUE,ISNUMBER(SEARCH(\"RP\",Risque[[#This Row],[Précision du risque\n(si liste déroulante présente)]]))=TRUE),\"Oui --> Priorité d'action\",\"Non\"))","v":""},null,null,null,null,{"$f":"IF(ISBLANK(Risque[[#This Row],[Catégorie de risque]]),\"\",CONCATENATE(Risque[[#This Row],[Catégorie de risque]],2))","v":""},null,{"$f":"IF(ISBLANK(Risque[[#This Row],[Moyens de prévention]]),\"\",CONCATENATE(Risque[[#This Row],[Moyens de prévention]],1))","v":""},null,null,null,null,null,{"$f":"IF(ISBLANK(Risque[[#This Row],[Catégorie de risque]]),\"\",CONCATENATE(Risque[[#This Row],[Catégorie de risque]],3))","v":""},null,null,null,{"$f":"IF(ISBLANK(Risque[[#This Row],[Catégorie de risque]]),\"\",CONCATENATE(Risque[[#This Row],[Catégorie de risque]],4))","v":""},null,null,null,null,null,{"$f":"IF(Risque[[#This Row],[Date d''inscription du risque]]<>\"\",YEAR(Risque[[#This Row],[Date d''inscription du risque]]),\"\")","v":""}]
[null,null,{"$f":"IF(ISBLANK(Risque[[#This Row],[Catégorie de risque]]),\"\",CONCATENATE(Risque[[#This Row],[Catégorie de risque]],1))","v":""},null,null,null,null,null,{"$f":"IF(ISBLANK(Risque[[#This Row],[Catégorie de risque]]),\"\",IF(OR(ISNUMBER(SEARCH(\"RZ\",Risque[[#This Row],[Source de danger]]))=TRUE,ISNUMBER(SEARCH(\"RP\",Risque[[#This Row],[Source de danger]]))=TRUE,ISNUMBER(SEARCH(\"RZ\",Risque[[#This Row],[Risques associés]]))=TRUE,ISNUMBER(SEARCH(\"RP\",Risque[[#This Row],[Risques associés]]))=TRUE,ISNUMBER(SEARCH(\"RZ\",Risque[[#This Row],[Précision du risque\n(si liste déroulante présente)]]))=TRUE,ISNUMBER(SEARCH(\"RP\",Risque[[#This Row],[Précision du risque\n(si liste déroulante présente)]]))=TRUE),\"Oui --> Priorité d'action\",\"Non\"))","v":""},null,null,null,null,{"$f":"IF(ISBLANK(Risque[[#This Row],[Catégorie de risque]]),\"\",CONCATENATE(Risque[[#This Row],[Catégorie de risque]],2))","v":""},null,{"$f":"IF(ISBLANK(Risque[[#This Row],[Moyens de prévention]]),\"\",CONCATENATE(Risque[[#This Row],[Moyens de prévention]],1))","v":""},null,null,null,null,null,{"$f":"IF(ISBLANK(Risque[[#This Row],[Catégorie de risque]]),\"\",CONCATENATE(Risque[[#This Row],[Catégorie de risque]],3))","v":""},null,null,null,{"$f":"IF(ISBLANK(Risque[[#This Row],[Catégorie de risque]]),\"\",CONCATENATE(Risque[[#This Row],[Catégorie de risque]],4))","v":""},null,null,null,null,null,{"$f":"IF(Risque[[#This Row],[Date d''inscription du risque]]<>\"\",YEAR(Risque[[#This Row],[Date d''inscription du risque]]),\"\")","v":""}]
[null,null,{"$f":"IF(ISBLANK(Risque[[#This Row],[Catégorie de risque]]),\"\",CONCATENATE(Risque[[#This Row],[Catégorie de risque]],1))","v":""},null,null,null,null,null,{"$f":"IF(ISBLANK(Risque[[#This Row],[Catégorie de risque]]),\"\",IF(OR(ISNUMBER(SEARCH(\"RZ\",Risque[[#This Row],[Source de danger]]))=TRUE,ISNUMBER(SEARCH(\"RP\",Risque[[#This Row],[Source de danger]]))=TRUE,ISNUMBER(SEARCH(\"RZ\",Risque[[#This Row],[Risques associés]]))=TRUE,ISNUMBER(SEARCH(\"RP\",Risque[[#This Row],[Risques associés]]))=TRUE,ISNUMBER(SEARCH(\"RZ\",Risque[[#This Row],[Précision du risque\n(si liste déroulante présente)]]))=TRUE,ISNUMBER(SEARCH(\"RP\",Risque[[#This Row],[Précision du risque\n(si liste déroulante présente)]]))=TRUE),\"Oui --> Priorité d'action\",\"Non\"))","v":""},null,null,null,null,{"$f":"IF(ISBLANK(Risque[[#This Row],[Catégorie de risque]]),\"\",CONCATENATE(Risque[[#This Row],[Catégorie de risque]],2))","v":""},null,{"$f":"IF(ISBLANK(Risque[[#This Row],[Moyens de prévention]]),\"\",CONCATENATE(Risque[[#This Row],[Moyens de prévention]],1))","v":""},null,null,null,null,null,{"$f":"IF(ISBLANK(Risque[[#This Row],[Catégorie de risque]]),\"\",CONCATENATE(Risque[[#This Row],[Catégorie de risque]],3))","v":""},null,null,null,{"$f":"IF(ISBLANK(Risque[[#This Row],[Catégorie de risque]]),\"\",CONCATENATE(Risque[[#This Row],[Catégorie de risque]],4))","v":""},null,null,null,null,null,{"$f":"IF(Risque[[#This Row],[Date d''inscription du risque]]<>\"\",YEAR(Risque[[#This Row],[Date d''inscription du risque]]),\"\")","v":""}]
[null,null,{"$f":"IF(ISBLANK(Risque[[#This Row],[Catégorie de risque]]),\"\",CONCATENATE(Risque[[#This Row],[Catégorie de risque]],1))","v":""},null,null,null,null,null,{"$f":"IF(ISBLANK(Risque[[#This Row],[Catégorie de risque]]),\"\",IF(OR(ISNUMBER(SEARCH(\"RZ\",Risque[[#This Row],[Source de danger]]))=TRUE,ISNUMBER(SEARCH(\"RP\",Risque[[#This Row],[Source de danger]]))=TRUE,ISNUMBER(SEARCH(\"RZ\",Risque[[#This Row],[Risques associés]]))=TRUE,ISNUMBER(SEARCH(\"RP\",Risque[[#This Row],[Risques associés]]))=TRUE,ISNUMBER(SEARCH(\"RZ\",Risque[[#This Row],[Précision du risque\n(si liste déroulante présente)]]))=TRUE,ISNUMBER(SEARCH(\"RP\",Risque[[#This Row],[Précision du risque\n(si liste déroulante présente)]]))=TRUE),\"Oui --> Priorité d'action\",\"Non\"))","v":""},null,null,null,null,{"$f":"IF(ISBLANK(Risque[[#This Row],[Catégorie de risque]]),\"\",CONCATENATE(Risque[[#This Row],[Catégorie de risque]],2))","v":""},null,{"$f":"IF(ISBLANK(Risque[[#This Row],[Moyens de prévention]]),\"\",CONCATENATE(Risque[[#This Row],[Moyens de prévention]],1))","v":""},null,null,null,null,null,{"$f":"IF(ISBLANK(Risque[[#This Row],[Catégorie de risque]]),\"\",CONCATENATE(Risque[[#This Row],[Catégorie de risque]],3))","v":""},null,null,null,{"$f":"IF(ISBLANK(Risque[[#This Row],[Catégorie de risque]]),\"\",CONCATENATE(Risque[[#This Row],[Catégorie de risque]],4))","v":""},null,null,null,null,null,{"$f":"IF(Risque[[#This Row],[Date d''inscription du risque]]<>\"\",YEAR(Risque[[#This Row],[Date d''inscription du risque]]),\"\")","v":""}]
[null,null,{"$f":"IF(ISBLANK(Risque[[#This Row],[Catégorie de risque]]),\"\",CONCATENATE(Risque[[#This Row],[Catégorie de risque]],1))","v":""},null,null,null,null,null,{"$f":"IF(ISBLANK(Risque[[#This Row],[Catégorie de risque]]),\"\",IF(OR(ISNUMBER(SEARCH(\"RZ\",Risque[[#This Row],[Source de danger]]))=TRUE,ISNUMBER(SEARCH(\"RP\",Risque[[#This Row],[Source de danger]]))=TRUE,ISNUMBER(SEARCH(\"RZ\",Risque[[#This Row],[Risques associés]]))=TRUE,ISNUMBER(SEARCH(\"RP\",Risque[[#This Row],[Risques associés]]))=TRUE,ISNUMBER(SEARCH(\"RZ\",Risque[[#This Row],[Précision du risque\n(si liste déroulante présente)]]))=TRUE,ISNUMBER(SEARCH(\"RP\",Risque[[#This Row],[Précision du risque\n(si liste déroulante présente)]]))=TRUE),\"Oui --> Priorité d'action\",\"Non\"))","v":""},null,null,null,null,{"$f":"IF(ISBLANK(Risque[[#This Row],[Catégorie de risque]]),\"\",CONCATENATE(Risque[[#This Row],[Catégorie de risque]],2))","v":""},null,{"$f":"IF(ISBLANK(Risque[[#This Row],[Moyens de prévention]]),\"\",CONCATENATE(Risque[[#This Row],[Moyens de prévention]],1))","v":""},null,null,null,null,null,{"$f":"IF(ISBLANK(Risque[[#This Row],[Catégorie de risque]]),\"\",CONCATENATE(Risque[[#This Row],[Catégorie de risque]],3))","v":""},null,null,null,{"$f":"IF(ISBLANK(Risque[[#This Row],[Catégorie de risque]]),\"\",CONCATENATE(Risque[[#This Row],[Catégorie de risque]],4))","v":""},null,null,null,null,null,{"$f":"IF(Risque[[#This Row],[Date d''inscription du risque]]<>\"\",YEAR(Risque[[#This Row],[Date d''inscription du risque]]),\"\")","v":""}]
[null,null,{"$f":"IF(ISBLANK(Risque[[#This Row],[Catégorie de risque]]),\"\",CONCATENATE(Risque[[#This Row],[Catégorie de risque]],1))","v":""},null,null,null,null,null,{"$f":"IF(ISBLANK(Risque[[#This Row],[Catégorie de risque]]),\"\",IF(OR(ISNUMBER(SEARCH(\"RZ\",Risque[[#This Row],[Source de danger]]))=TRUE,ISNUMBER(SEARCH(\"RP\",Risque[[#This Row],[Source de danger]]))=TRUE,ISNUMBER(SEARCH(\"RZ\",Risque[[#This Row],[Risques associés]]))=TRUE,ISNUMBER(SEARCH(\"RP\",Risque[[#This Row],[Risques associés]]))=TRUE,ISNUMBER(SEARCH(\"RZ\",Risque[[#This Row],[Précision du risque\n(si liste déroulante présente)]]))=TRUE,ISNUMBER(SEARCH(\"RP\",Risque[[#This Row],[Précision du risque\n(si liste déroulante présente)]]))=TRUE),\"Oui --> Priorité d'action\",\"Non\"))","v":""},null,null,null,null,{"$f":"IF(ISBLANK(Risque[[#This Row],[Catégorie de risque]]),\"\",CONCATENATE(Risque[[#This Row],[Catégorie de risque]],2))","v":""},null,{"$f":"IF(ISBLANK(Risque[[#This Row],[Moyens de prévention]]),\"\",CONCATENATE(Risque[[#This Row],[Moyens de prévention]],1))","v":""},null,null,null,null,null,{"$f":"IF(ISBLANK(Risque[[#This Row],[Catégorie de risque]]),\"\",CONCATENATE(Risque[[#This Row],[Catégorie de risque]],3))","v":""},null,null,null,{"$f":"IF(ISBLANK(Risque[[#This Row],[Catégorie de risque]]),\"\",CONCATENATE(Risque[[#This Row],[Catégorie de risque]],4))","v":""},null,null,null,null,null,{"$f":"IF(Risque[[#This Row],[Date d''inscription du risque]]<>\"\",YEAR(Risque[[#This Row],[Date d''inscription du risque]]),\"\")","v":""}]
[null,null,{"$f":"IF(ISBLANK(Risque[[#This Row],[Catégorie de risque]]),\"\",CONCATENATE(Risque[[#This Row],[Catégorie de risque]],1))","v":""},null,null,null,null,null,{"$f":"IF(ISBLANK(Risque[[#This Row],[Catégorie de risque]]),\"\",IF(OR(ISNUMBER(SEARCH(\"RZ\",Risque[[#This Row],[Source de danger]]))=TRUE,ISNUMBER(SEARCH(\"RP\",Risque[[#This Row],[Source de danger]]))=TRUE,ISNUMBER(SEARCH(\"RZ\",Risque[[#This Row],[Risques associés]]))=TRUE,ISNUMBER(SEARCH(\"RP\",Risque[[#This Row],[Risques associés]]))=TRUE,ISNUMBER(SEARCH(\"RZ\",Risque[[#This Row],[Précision du risque\n(si liste déroulante présente)]]))=TRUE,ISNUMBER(SEARCH(\"RP\",Risque[[#This Row],[Précision du risque\n(si liste déroulante présente)]]))=TRUE),\"Oui --> Priorité d'action\",\"Non\"))","v":""},null,null,null,null,{"$f":"IF(ISBLANK(Risque[[#This Row],[Catégorie de risque]]),\"\",CONCATENATE(Risque[[#This Row],[Catégorie de risque]],2))","v":""},null,{"$f":"IF(ISBLANK(Risque[[#This Row],[Moyens de prévention]]),\"\",CONCATENATE(Risque[[#This Row],[Moyens de prévention]],1))","v":""},null,null,null,null,null,{"$f":"IF(ISBLANK(Risque[[#This Row],[Catégorie de risque]]),\"\",CONCATENATE(Risque[[#This Row],[Catégorie de risque]],3))","v":""},null,null,null,{"$f":"IF(ISBLANK(Risque[[#This Row],[Catégorie de risque]]),\"\",CONCATENATE(Risque[[#This Row],[Catégorie de risque]],4))","v":""},null,null,null,null,null,{"$f":"IF(Risque[[#This Row],[Date d''inscription du risque]]<>\"\",YEAR(Risque[[#This Row],[Date d''inscription du risque]]),\"\")","v":""}]
[null,null,{"$f":"IF(ISBLANK(Risque[[#This Row],[Catégorie de risque]]),\"\",CONCATENATE(Risque[[#This Row],[Catégorie de risque]],1))","v":""},null,null,null,null,null,{"$f":"IF(ISBLANK(Risque[[#This Row],[Catégorie de risque]]),\"\",IF(OR(ISNUMBER(SEARCH(\"RZ\",Risque[[#This Row],[Source de danger]]))=TRUE,ISNUMBER(SEARCH(\"RP\",Risque[[#This Row],[Source de danger]]))=TRUE,ISNUMBER(SEARCH(\"RZ\",Risque[[#This Row],[Risques associés]]))=TRUE,ISNUMBER(SEARCH(\"RP\",Risque[[#This Row],[Risques associés]]))=TRUE,ISNUMBER(SEARCH(\"RZ\",Risque[[#This Row],[Précision du risque\n(si liste déroulante présente)]]))=TRUE,ISNUMBER(SEARCH(\"RP\",Risque[[#This Row],[Précision du risque\n(si liste déroulante présente)]]))=TRUE),\"Oui --> Priorité d'action\",\"Non\"))","v":""},null,null,null,null,{"$f":"IF(ISBLANK(Risque[[#This Row],[Catégorie de risque]]),\"\",CONCATENATE(Risque[[#This Row],[Catégorie de risque]],2))","v":""},null,{"$f":"IF(ISBLANK(Risque[[#This Row],[Moyens de prévention]]),\"\",CONCATENATE(Risque[[#This Row],[Moyens de prévention]],1))","v":""},null,null,null,null,null,{"$f":"IF(ISBLANK(Risque[[#This Row],[Catégorie de risque]]),\"\",CONCATENATE(Risque[[#This Row],[Catégorie de risque]],3))","v":""},null,null,null,{"$f":"IF(ISBLANK(Risque[[#This Row],[Catégorie de risque]]),\"\",CONCATENATE(Risque[[#This Row],[Catégorie de risque]],4))","v":""},null,null,null,null,null,{"$f":"IF(Risque[[#This Row],[Date d''inscription du risque]]<>\"\",YEAR(Risque[[#This Row],[Date d''inscription du risque]]),\"\")","v":""}]
[null,null,{"$f":"IF(ISBLANK(Risque[[#This Row],[Catégorie de risque]]),\"\",CONCATENATE(Risque[[#This Row],[Catégorie de risque]],1))","v":""},null,null,null,null,null,{"$f":"IF(ISBLANK(Risque[[#This Row],[Catégorie de risque]]),\"\",IF(OR(ISNUMBER(SEARCH(\"RZ\",Risque[[#This Row],[Source de danger]]))=TRUE,ISNUMBER(SEARCH(\"RP\",Risque[[#This Row],[Source de danger]]))=TRUE,ISNUMBER(SEARCH(\"RZ\",Risque[[#This Row],[Risques associés]]))=TRUE,ISNUMBER(SEARCH(\"RP\",Risque[[#This Row],[Risques associés]]))=TRUE,ISNUMBER(SEARCH(\"RZ\",Risque[[#This Row],[Précision du risque\n(si liste déroulante présente)]]))=TRUE,ISNUMBER(SEARCH(\"RP\",Risque[[#This Row],[Précision du risque\n(si liste déroulante présente)]]))=TRUE),\"Oui --> Priorité d'action\",\"Non\"))","v":""},null,null,null,null,{"$f":"IF(ISBLANK(Risque[[#This Row],[Catégorie de risque]]),\"\",CONCATENATE(Risque[[#This Row],[Catégorie de risque]],2))","v":""},null,{"$f":"IF(ISBLANK(Risque[[#This Row],[Moyens de prévention]]),\"\",CONCATENATE(Risque[[#This Row],[Moyens de prévention]],1))","v":""},null,null,null,null,null,{"$f":"IF(ISBLANK(Risque[[#This Row],[Catégorie de risque]]),\"\",CONCATENATE(Risque[[#This Row],[Catégorie de risque]],3))","v":""},null,null,null,{"$f":"IF(ISBLANK(Risque[[#This Row],[Catégorie de risque]]),\"\",CONCATENATE(Risque[[#This Row],[Catégorie de risque]],4))","v":""},null,null,null,null,null,{"$f":"IF(Risque[[#This Row],[Date d''inscription du risque]]<>\"\",YEAR(Risque[[#This Row],[Date d''inscription du risque]]),\"\")","v":""}]
[null,null,{"$f":"IF(ISBLANK(Risque[[#This Row],[Catégorie de risque]]),\"\",CONCATENATE(Risque[[#This Row],[Catégorie de risque]],1))","v":""},null,null,null,null,null,{"$f":"IF(ISBLANK(Risque[[#This Row],[Catégorie de risque]]),\"\",IF(OR(ISNUMBER(SEARCH(\"RZ\",Risque[[#This Row],[Source de danger]]))=TRUE,ISNUMBER(SEARCH(\"RP\",Risque[[#This Row],[Source de danger]]))=TRUE,ISNUMBER(SEARCH(\"RZ\",Risque[[#This Row],[Risques associés]]))=TRUE,ISNUMBER(SEARCH(\"RP\",Risque[[#This Row],[Risques associés]]))=TRUE,ISNUMBER(SEARCH(\"RZ\",Risque[[#This Row],[Précision du risque\n(si liste déroulante présente)]]))=TRUE,ISNUMBER(SEARCH(\"RP\",Risque[[#This Row],[Précision du risque\n(si liste déroulante présente)]]))=TRUE),\"Oui --> Priorité d'action\",\"Non\"))","v":""},null,null,null,null,{"$f":"IF(ISBLANK(Risque[[#This Row],[Catégorie de risque]]),\"\",CONCATENATE(Risque[[#This Row],[Catégorie de risque]],2))","v":""},null,{"$f":"IF(ISBLANK(Risque[[#This Row],[Moyens de prévention]]),\"\",CONCATENATE(Risque[[#This Row],[Moyens de prévention]],1))","v":""},null,null,null,null,null,{"$f":"IF(ISBLANK(Risque[[#This Row],[Catégorie de risque]]),\"\",CONCATENATE(Risque[[#This Row],[Catégorie de risque]],3))","v":""},null,null,null,{"$f":"IF(ISBLANK(Risque[[#This Row],[Catégorie de risque]]),\"\",CONCATENATE(Risque[[#This Row],[Catégorie de risque]],4))","v":""},null,null,null,null,null,{"$f":"IF(Risque[[#This Row],[Date d''inscription du risque]]<>\"\",YEAR(Risque[[#This Row],[Date d''inscription du risque]]),\"\")","v":""}]
[null,null,{"$f":"IF(ISBLANK(Risque[[#This Row],[Catégorie de risque]]),\"\",CONCATENATE(Risque[[#This Row],[Catégorie de risque]],1))","v":""},null,null,null,null,null,{"$f":"IF(ISBLANK(Risque[[#This Row],[Catégorie de risque]]),\"\",IF(OR(ISNUMBER(SEARCH(\"RZ\",Risque[[#This Row],[Source de danger]]))=TRUE,ISNUMBER(SEARCH(\"RP\",Risque[[#This Row],[Source de danger]]))=TRUE,ISNUMBER(SEARCH(\"RZ\",Risque[[#This Row],[Risques associés]]))=TRUE,ISNUMBER(SEARCH(\"RP\",Risque[[#This Row],[Risques associés]]))=TRUE,ISNUMBER(SEARCH(\"RZ\",Risque[[#This Row],[Précision du risque\n(si liste déroulante présente)]]))=TRUE,ISNUMBER(SEARCH(\"RP\",Risque[[#This Row],[Précision du risque\n(si liste déroulante présente)]]))=TRUE),\"Oui --> Priorité d'action\",\"Non\"))","v":""},null,null,null,null,{"$f":"IF(ISBLANK(Risque[[#This Row],[Catégorie de risque]]),\"\",CONCATENATE(Risque[[#This Row],[Catégorie de risque]],2))","v":""},null,{"$f":"IF(ISBLANK(Risque[[#This Row],[Moyens de prévention]]),\"\",CONCATENATE(Risque[[#This Row],[Moyens de prévention]],1))","v":""},null,null,null,null,null,{"$f":"IF(ISBLANK(Risque[[#This Row],[Catégorie de risque]]),\"\",CONCATENATE(Risque[[#This Row],[Catégorie de risque]],3))","v":""},null,null,null,{"$f":"IF(ISBLANK(Risque[[#This Row],[Catégorie de risque]]),\"\",CONCATENATE(Risque[[#This Row],[Catégorie de risque]],4))","v":""},null,null,null,null,null,{"$f":"IF(Risque[[#This Row],[Date d''inscription du risque]]<>\"\",YEAR(Risque[[#This Row],[Date d''inscription du risque]]),\"\")","v":""}]
[null,null,{"$f":"IF(ISBLANK(Risque[[#This Row],[Catégorie de risque]]),\"\",CONCATENATE(Risque[[#This Row],[Catégorie de risque]],1))","v":""},null,null,null,null,null,{"$f":"IF(ISBLANK(Risque[[#This Row],[Catégorie de risque]]),\"\",IF(OR(ISNUMBER(SEARCH(\"RZ\",Risque[[#This Row],[Source de danger]]))=TRUE,ISNUMBER(SEARCH(\"RP\",Risque[[#This Row],[Source de danger]]))=TRUE,ISNUMBER(SEARCH(\"RZ\",Risque[[#This Row],[Risques associés]]))=TRUE,ISNUMBER(SEARCH(\"RP\",Risque[[#This Row],[Risques associés]]))=TRUE,ISNUMBER(SEARCH(\"RZ\",Risque[[#This Row],[Précision du risque\n(si liste déroulante présente)]]))=TRUE,ISNUMBER(SEARCH(\"RP\",Risque[[#This Row],[Précision du risque\n(si liste déroulante présente)]]))=TRUE),\"Oui --> Priorité d'action\",\"Non\"))","v":""},null,null,null,null,{"$f":"IF(ISBLANK(Risque[[#This Row],[Catégorie de risque]]),\"\",CONCATENATE(Risque[[#This Row],[Catégorie de risque]],2))","v":""},null,{"$f":"IF(ISBLANK(Risque[[#This Row],[Moyens de prévention]]),\"\",CONCATENATE(Risque[[#This Row],[Moyens de prévention]],1))","v":""},null,null,null,null,null,{"$f":"IF(ISBLANK(Risque[[#This Row],[Catégorie de risque]]),\"\",CONCATENATE(Risque[[#This Row],[Catégorie de risque]],3))","v":""},null,null,null,{"$f":"IF(ISBLANK(Risque[[#This Row],[Catégorie de risque]]),\"\",CONCATENATE(Risque[[#This Row],[Catégorie de risque]],4))","v":""},null,null,null,null,null,{"$f":"IF(Risque[[#This Row],[Date d''inscription du risque]]<>\"\",YEAR(Risque[[#This Row],[Date d''inscription du risque]]),\"\")","v":""}]
[null,null,{"$f":"IF(ISBLANK(Risque[[#This Row],[Catégorie de risque]]),\"\",CONCATENATE(Risque[[#This Row],[Catégorie de risque]],1))","v":""},null,null,null,null,null,{"$f":"IF(ISBLANK(Risque[[#This Row],[Catégorie de risque]]),\"\",IF(OR(ISNUMBER(SEARCH(\"RZ\",Risque[[#This Row],[Source de danger]]))=TRUE,ISNUMBER(SEARCH(\"RP\",Risque[[#This Row],[Source de danger]]))=TRUE,ISNUMBER(SEARCH(\"RZ\",Risque[[#This Row],[Risques associés]]))=TRUE,ISNUMBER(SEARCH(\"RP\",Risque[[#This Row],[Risques associés]]))=TRUE,ISNUMBER(SEARCH(\"RZ\",Risque[[#This Row],[Précision du risque\n(si liste déroulante présente)]]))=TRUE,ISNUMBER(SEARCH(\"RP\",Risque[[#This Row],[Précision du risque\n(si liste déroulante présente)]]))=TRUE),\"Oui --> Priorité d'action\",\"Non\"))","v":""},null,null,null,null,{"$f":"IF(ISBLANK(Risque[[#This Row],[Catégorie de risque]]),\"\",CONCATENATE(Risque[[#This Row],[Catégorie de risque]],2))","v":""},null,{"$f":"IF(ISBLANK(Risque[[#This Row],[Moyens de prévention]]),\"\",CONCATENATE(Risque[[#This Row],[Moyens de prévention]],1))","v":""},null,null,null,null,null,{"$f":"IF(ISBLANK(Risque[[#This Row],[Catégorie de risque]]),\"\",CONCATENATE(Risque[[#This Row],[Catégorie de risque]],3))","v":""},null,null,null,{"$f":"IF(ISBLANK(Risque[[#This Row],[Catégorie de risque]]),\"\",CONCATENATE(Risque[[#This Row],[Catégorie de risque]],4))","v":""},null,null,null,null,null,{"$f":"IF(Risque[[#This Row],[Date d''inscription du risque]]<>\"\",YEAR(Risque[[#This Row],[Date d''inscription du risque]]),\"\")","v":""}]
[null,null,{"$f":"IF(ISBLANK(Risque[[#This Row],[Catégorie de risque]]),\"\",CONCATENATE(Risque[[#This Row],[Catégorie de risque]],1))","v":""},null,null,null,null,null,{"$f":"IF(ISBLANK(Risque[[#This Row],[Catégorie de risque]]),\"\",IF(OR(ISNUMBER(SEARCH(\"RZ\",Risque[[#This Row],[Source de danger]]))=TRUE,ISNUMBER(SEARCH(\"RP\",Risque[[#This Row],[Source de danger]]))=TRUE,ISNUMBER(SEARCH(\"RZ\",Risque[[#This Row],[Risques associés]]))=TRUE,ISNUMBER(SEARCH(\"RP\",Risque[[#This Row],[Risques associés]]))=TRUE,ISNUMBER(SEARCH(\"RZ\",Risque[[#This Row],[Précision du risque\n(si liste déroulante présente)]]))=TRUE,ISNUMBER(SEARCH(\"RP\",Risque[[#This Row],[Précision du risque\n(si liste déroulante présente)]]))=TRUE),\"Oui --> Priorité d'action\",\"Non\"))","v":""},null,null,null,null,{"$f":"IF(ISBLANK(Risque[[#This Row],[Catégorie de risque]]),\"\",CONCATENATE(Risque[[#This Row],[Catégorie de risque]],2))","v":""},null,{"$f":"IF(ISBLANK(Risque[[#This Row],[Moyens de prévention]]),\"\",CONCATENATE(Risque[[#This Row],[Moyens de prévention]],1))","v":""},null,null,null,null,null,{"$f":"IF(ISBLANK(Risque[[#This Row],[Catégorie de risque]]),\"\",CONCATENATE(Risque[[#This Row],[Catégorie de risque]],3))","v":""},null,null,null,{"$f":"IF(ISBLANK(Risque[[#This Row],[Catégorie de risque]]),\"\",CONCATENATE(Risque[[#This Row],[Catégorie de risque]],4))","v":""},null,null,null,null,null,{"$f":"IF(Risque[[#This Row],[Date d''inscription du risque]]<>\"\",YEAR(Risque[[#This Row],[Date d''inscription du risque]]),\"\")","v":""}]
[null,null,{"$f":"IF(ISBLANK(Risque[[#This Row],[Catégorie de risque]]),\"\",CONCATENATE(Risque[[#This Row],[Catégorie de risque]],1))","v":""},null,null,null,null,null,{"$f":"IF(ISBLANK(Risque[[#This Row],[Catégorie de risque]]),\"\",IF(OR(ISNUMBER(SEARCH(\"RZ\",Risque[[#This Row],[Source de danger]]))=TRUE,ISNUMBER(SEARCH(\"RP\",Risque[[#This Row],[Source de danger]]))=TRUE,ISNUMBER(SEARCH(\"RZ\",Risque[[#This Row],[Risques associés]]))=TRUE,ISNUMBER(SEARCH(\"RP\",Risque[[#This Row],[Risques associés]]))=TRUE,ISNUMBER(SEARCH(\"RZ\",Risque[[#This Row],[Précision du risque\n(si liste déroulante présente)]]))=TRUE,ISNUMBER(SEARCH(\"RP\",Risque[[#This Row],[Précision du risque\n(si liste déroulante présente)]]))=TRUE),\"Oui --> Priorité d'action\",\"Non\"))","v":""},null,null,null,null,{"$f":"IF(ISBLANK(Risque[[#This Row],[Catégorie de risque]]),\"\",CONCATENATE(Risque[[#This Row],[Catégorie de risque]],2))","v":""},null,{"$f":"IF(ISBLANK(Risque[[#This Row],[Moyens de prévention]]),\"\",CONCATENATE(Risque[[#This Row],[Moyens de prévention]],1))","v":""},null,null,null,null,null,{"$f":"IF(ISBLANK(Risque[[#This Row],[Catégorie de risque]]),\"\",CONCATENATE(Risque[[#This Row],[Catégorie de risque]],3))","v":""},null,null,null,{"$f":"IF(ISBLANK(Risque[[#This Row],[Catégorie de risque]]),\"\",CONCATENATE(Risque[[#This Row],[Catégorie de risque]],4))","v":""},null,null,null,null,null,{"$f":"IF(Risque[[#This Row],[Date d''inscription du risque]]<>\"\",YEAR(Risque[[#This Row],[Date d''inscription du risque]]),\"\")","v":""}]
[null,null,{"$f":"IF(ISBLANK(Risque[[#This Row],[Catégorie de risque]]),\"\",CONCATENATE(Risque[[#This Row],[Catégorie de risque]],1))","v":""},null,null,null,null,null,{"$f":"IF(ISBLANK(Risque[[#This Row],[Catégorie de risque]]),\"\",IF(OR(ISNUMBER(SEARCH(\"RZ\",Risque[[#This Row],[Source de danger]]))=TRUE,ISNUMBER(SEARCH(\"RP\",Risque[[#This Row],[Source de danger]]))=TRUE,ISNUMBER(SEARCH(\"RZ\",Risque[[#This Row],[Risques associés]]))=TRUE,ISNUMBER(SEARCH(\"RP\",Risque[[#This Row],[Risques associés]]))=TRUE,ISNUMBER(SEARCH(\"RZ\",Risque[[#This Row],[Précision du risque\n(si liste déroulante présente)]]))=TRUE,ISNUMBER(SEARCH(\"RP\",Risque[[#This Row],[Précision du risque\n(si liste déroulante présente)]]))=TRUE),\"Oui --> Priorité d'action\",\"Non\"))","v":""},null,null,null,null,{"$f":"IF(ISBLANK(Risque[[#This Row],[Catégorie de risque]]),\"\",CONCATENATE(Risque[[#This Row],[Catégorie de risque]],2))","v":""},null,{"$f":"IF(ISBLANK(Risque[[#This Row],[Moyens de prévention]]),\"\",CONCATENATE(Risque[[#This Row],[Moyens de prévention]],1))","v":""},null,null,null,null,null,{"$f":"IF(ISBLANK(Risque[[#This Row],[Catégorie de risque]]),\"\",CONCATENATE(Risque[[#This Row],[Catégorie de risque]],3))","v":""},null,null,null,{"$f":"IF(ISBLANK(Risque[[#This Row],[Catégorie de risque]]),\"\",CONCATENATE(Risque[[#This Row],[Catégorie de risque]],4))","v":""},null,null,null,null,null,{"$f":"IF(Risque[[#This Row],[Date d''inscription du risque]]<>\"\",YEAR(Risque[[#This Row],[Date d''inscription du risque]]),\"\")","v":""}]
[null,null,{"$f":"IF(ISBLANK(Risque[[#This Row],[Catégorie de risque]]),\"\",CONCATENATE(Risque[[#This Row],[Catégorie de risque]],1))","v":""},null,null,null,null,null,{"$f":"IF(ISBLANK(Risque[[#This Row],[Catégorie de risque]]),\"\",IF(OR(ISNUMBER(SEARCH(\"RZ\",Risque[[#This Row],[Source de danger]]))=TRUE,ISNUMBER(SEARCH(\"RP\",Risque[[#This Row],[Source de danger]]))=TRUE,ISNUMBER(SEARCH(\"RZ\",Risque[[#This Row],[Risques associés]]))=TRUE,ISNUMBER(SEARCH(\"RP\",Risque[[#This Row],[Risques associés]]))=TRUE,ISNUMBER(SEARCH(\"RZ\",Risque[[#This Row],[Précision du risque\n(si liste déroulante présente)]]))=TRUE,ISNUMBER(SEARCH(\"RP\",Risque[[#This Row],[Précision du risque\n(si liste déroulante présente)]]))=TRUE),\"Oui --> Priorité d'action\",\"Non\"))","v":""},null,null,null,null,{"$f":"IF(ISBLANK(Risque[[#This Row],[Catégorie de risque]]),\"\",CONCATENATE(Risque[[#This Row],[Catégorie de risque]],2))","v":""},null,{"$f":"IF(ISBLANK(Risque[[#This Row],[Moyens de prévention]]),\"\",CONCATENATE(Risque[[#This Row],[Moyens de prévention]],1))","v":""},null,null,null,null,null,{"$f":"IF(ISBLANK(Risque[[#This Row],[Catégorie de risque]]),\"\",CONCATENATE(Risque[[#This Row],[Catégorie de risque]],3))","v":""},null,null,null,{"$f":"IF(ISBLANK(Risque[[#This Row],[Catégorie de risque]]),\"\",CONCATENATE(Risque[[#This Row],[Catégorie de risque]],4))","v":""},null,null,null,null,null,{"$f":"IF(Risque[[#This Row],[Date d''inscription du risque]]<>\"\",YEAR(Risque[[#This Row],[Date d''inscription du risque]]),\"\")","v":""}]
[null,null,{"$f":"IF(ISBLANK(Risque[[#This Row],[Catégorie de risque]]),\"\",CONCATENATE(Risque[[#This Row],[Catégorie de risque]],1))","v":""},null,null,null,null,null,{"$f":"IF(ISBLANK(Risque[[#This Row],[Catégorie de risque]]),\"\",IF(OR(ISNUMBER(SEARCH(\"RZ\",Risque[[#This Row],[Source de danger]]))=TRUE,ISNUMBER(SEARCH(\"RP\",Risque[[#This Row],[Source de danger]]))=TRUE,ISNUMBER(SEARCH(\"RZ\",Risque[[#This Row],[Risques associés]]))=TRUE,ISNUMBER(SEARCH(\"RP\",Risque[[#This Row],[Risques associés]]))=TRUE,ISNUMBER(SEARCH(\"RZ\",Risque[[#This Row],[Précision du risque\n(si liste déroulante présente)]]))=TRUE,ISNUMBER(SEARCH(\"RP\",Risque[[#This Row],[Précision du risque\n(si liste déroulante présente)]]))=TRUE),\"Oui --> Priorité d'action\",\"Non\"))","v":""},null,null,null,null,{"$f":"IF(ISBLANK(Risque[[#This Row],[Catégorie de risque]]),\"\",CONCATENATE(Risque[[#This Row],[Catégorie de risque]],2))","v":""},null,{"$f":"IF(ISBLANK(Risque[[#This Row],[Moyens de prévention]]),\"\",CONCATENATE(Risque[[#This Row],[Moyens de prévention]],1))","v":""},null,null,null,null,null,{"$f":"IF(ISBLANK(Risque[[#This Row],[Catégorie de risque]]),\"\",CONCATENATE(Risque[[#This Row],[Catégorie de risque]],3))","v":""},null,null,null,{"$f":"IF(ISBLANK(Risque[[#This Row],[Catégorie de risque]]),\"\",CONCATENATE(Risque[[#This Row],[Catégorie de risque]],4))","v":""},null,null,null,null,null,{"$f":"IF(Risque[[#This Row],[Date d''inscription du risque]]<>\"\",YEAR(Risque[[#This Row],[Date d''inscription du risque]]),\"\")","v":""}]
[null,null,{"$f":"IF(ISBLANK(Risque[[#This Row],[Catégorie de risque]]),\"\",CONCATENATE(Risque[[#This Row],[Catégorie de risque]],1))","v":""},null,null,null,null,null,{"$f":"IF(ISBLANK(Risque[[#This Row],[Catégorie de risque]]),\"\",IF(OR(ISNUMBER(SEARCH(\"RZ\",Risque[[#This Row],[Source de danger]]))=TRUE,ISNUMBER(SEARCH(\"RP\",Risque[[#This Row],[Source de danger]]))=TRUE,ISNUMBER(SEARCH(\"RZ\",Risque[[#This Row],[Risques associés]]))=TRUE,ISNUMBER(SEARCH(\"RP\",Risque[[#This Row],[Risques associés]]))=TRUE,ISNUMBER(SEARCH(\"RZ\",Risque[[#This Row],[Précision du risque\n(si liste déroulante présente)]]))=TRUE,ISNUMBER(SEARCH(\"RP\",Risque[[#This Row],[Précision du risque\n(si liste déroulante présente)]]))=TRUE),\"Oui --> Priorité d'action\",\"Non\"))","v":""},null,null,null,null,{"$f":"IF(ISBLANK(Risque[[#This Row],[Catégorie de risque]]),\"\",CONCATENATE(Risque[[#This Row],[Catégorie de risque]],2))","v":""},null,{"$f":"IF(ISBLANK(Risque[[#This Row],[Moyens de prévention]]),\"\",CONCATENATE(Risque[[#This Row],[Moyens de prévention]],1))","v":""},null,null,null,null,null,{"$f":"IF(ISBLANK(Risque[[#This Row],[Catégorie de risque]]),\"\",CONCATENATE(Risque[[#This Row],[Catégorie de risque]],3))","v":""},null,null,null,{"$f":"IF(ISBLANK(Risque[[#This Row],[Catégorie de risque]]),\"\",CONCATENATE(Risque[[#This Row],[Catégorie de risque]],4))","v":""},null,null,null,null,null,{"$f":"IF(Risque[[#This Row],[Date d''inscription du risque]]<>\"\",YEAR(Risque[[#This Row],[Date d''inscription du risque]]),\"\")","v":""}]
[null,null,{"$f":"IF(ISBLANK(Risque[[#This Row],[Catégorie de risque]]),\"\",CONCATENATE(Risque[[#This Row],[Catégorie de risque]],1))","v":""},null,null,null,null,null,{"$f":"IF(ISBLANK(Risque[[#This Row],[Catégorie de risque]]),\"\",IF(OR(ISNUMBER(SEARCH(\"RZ\",Risque[[#This Row],[Source de danger]]))=TRUE,ISNUMBER(SEARCH(\"RP\",Risque[[#This Row],[Source de danger]]))=TRUE,ISNUMBER(SEARCH(\"RZ\",Risque[[#This Row],[Risques associés]]))=TRUE,ISNUMBER(SEARCH(\"RP\",Risque[[#This Row],[Risques associés]]))=TRUE,ISNUMBER(SEARCH(\"RZ\",Risque[[#This Row],[Précision du risque\n(si liste déroulante présente)]]))=TRUE,ISNUMBER(SEARCH(\"RP\",Risque[[#This Row],[Précision du risque\n(si liste déroulante présente)]]))=TRUE),\"Oui --> Priorité d'action\",\"Non\"))","v":""},null,null,null,null,{"$f":"IF(ISBLANK(Risque[[#This Row],[Catégorie de risque]]),\"\",CONCATENATE(Risque[[#This Row],[Catégorie de risque]],2))","v":""},null,{"$f":"IF(ISBLANK(Risque[[#This Row],[Moyens de prévention]]),\"\",CONCATENATE(Risque[[#This Row],[Moyens de prévention]],1))","v":""},null,null,null,null,null,{"$f":"IF(ISBLANK(Risque[[#This Row],[Catégorie de risque]]),\"\",CONCATENATE(Risque[[#This Row],[Catégorie de risque]],3))","v":""},null,null,null,{"$f":"IF(ISBLANK(Risque[[#This Row],[Catégorie de risque]]),\"\",CONCATENATE(Risque[[#This Row],[Catégorie de risque]],4))","v":""},null,null,null,null,null,{"$f":"IF(Risque[[#This Row],[Date d''inscription du risque]]<>\"\",YEAR(Risque[[#This Row],[Date d''inscription du risque]]),\"\")","v":""}]
[null,null,{"$f":"IF(ISBLANK(Risque[[#This Row],[Catégorie de risque]]),\"\",CONCATENATE(Risque[[#This Row],[Catégorie de risque]],1))","v":""},null,null,null,null,null,{"$f":"IF(ISBLANK(Risque[[#This Row],[Catégorie de risque]]),\"\",IF(OR(ISNUMBER(SEARCH(\"RZ\",Risque[[#This Row],[Source de danger]]))=TRUE,ISNUMBER(SEARCH(\"RP\",Risque[[#This Row],[Source de danger]]))=TRUE,ISNUMBER(SEARCH(\"RZ\",Risque[[#This Row],[Risques associés]]))=TRUE,ISNUMBER(SEARCH(\"RP\",Risque[[#This Row],[Risques associés]]))=TRUE,ISNUMBER(SEARCH(\"RZ\",Risque[[#This Row],[Précision du risque\n(si liste déroulante présente)]]))=TRUE,ISNUMBER(SEARCH(\"RP\",Risque[[#This Row],[Précision du risque\n(si liste déroulante présente)]]))=TRUE),\"Oui --> Priorité d'action\",\"Non\"))","v":""},null,null,null,null,{"$f":"IF(ISBLANK(Risque[[#This Row],[Catégorie de risque]]),\"\",CONCATENATE(Risque[[#This Row],[Catégorie de risque]],2))","v":""},null,{"$f":"IF(ISBLANK(Risque[[#This Row],[Moyens de prévention]]),\"\",CONCATENATE(Risque[[#This Row],[Moyens de prévention]],1))","v":""},null,null,null,null,null,{"$f":"IF(ISBLANK(Risque[[#This Row],[Catégorie de risque]]),\"\",CONCATENATE(Risque[[#This Row],[Catégorie de risque]],3))","v":""},null,null,null,{"$f":"IF(ISBLANK(Risque[[#This Row],[Catégorie de risque]]),\"\",CONCATENATE(Risque[[#This Row],[Catégorie de risque]],4))","v":""},null,null,null,null,null,{"$f":"IF(Risque[[#This Row],[Date d''inscription du risque]]<>\"\",YEAR(Risque[[#This Row],[Date d''inscription du risque]]),\"\")","v":""}]
[null,null,{"$f":"IF(ISBLANK(Risque[[#This Row],[Catégorie de risque]]),\"\",CONCATENATE(Risque[[#This Row],[Catégorie de risque]],1))","v":""},null,null,null,null,null,{"$f":"IF(ISBLANK(Risque[[#This Row],[Catégorie de risque]]),\"\",IF(OR(ISNUMBER(SEARCH(\"RZ\",Risque[[#This Row],[Source de danger]]))=TRUE,ISNUMBER(SEARCH(\"RP\",Risque[[#This Row],[Source de danger]]))=TRUE,ISNUMBER(SEARCH(\"RZ\",Risque[[#This Row],[Risques associés]]))=TRUE,ISNUMBER(SEARCH(\"RP\",Risque[[#This Row],[Risques associés]]))=TRUE,ISNUMBER(SEARCH(\"RZ\",Risque[[#This Row],[Précision du risque\n(si liste déroulante présente)]]))=TRUE,ISNUMBER(SEARCH(\"RP\",Risque[[#This Row],[Précision du risque\n(si liste déroulante présente)]]))=TRUE),\"Oui --> Priorité d'action\",\"Non\"))","v":""},null,null,null,null,{"$f":"IF(ISBLANK(Risque[[#This Row],[Catégorie de risque]]),\"\",CONCATENATE(Risque[[#This Row],[Catégorie de risque]],2))","v":""},null,{"$f":"IF(ISBLANK(Risque[[#This Row],[Moyens de prévention]]),\"\",CONCATENATE(Risque[[#This Row],[Moyens de prévention]],1))","v":""},null,null,null,null,null,{"$f":"IF(ISBLANK(Risque[[#This Row],[Catégorie de risque]]),\"\",CONCATENATE(Risque[[#This Row],[Catégorie de risque]],3))","v":""},null,null,null,{"$f":"IF(ISBLANK(Risque[[#This Row],[Catégorie de risque]]),\"\",CONCATENATE(Risque[[#This Row],[Catégorie de risque]],4))","v":""},null,null,null,null,null,{"$f":"IF(Risque[[#This Row],[Date d''inscription du risque]]<>\"\",YEAR(Risque[[#This Row],[Date d''inscription du risque]]),\"\")","v":""}]
[null,null,{"$f":"IF(ISBLANK(Risque[[#This Row],[Catégorie de risque]]),\"\",CONCATENATE(Risque[[#This Row],[Catégorie de risque]],1))","v":""},null,null,null,null,null,{"$f":"IF(ISBLANK(Risque[[#This Row],[Catégorie de risque]]),\"\",IF(OR(ISNUMBER(SEARCH(\"RZ\",Risque[[#This Row],[Source de danger]]))=TRUE,ISNUMBER(SEARCH(\"RP\",Risque[[#This Row],[Source de danger]]))=TRUE,ISNUMBER(SEARCH(\"RZ\",Risque[[#This Row],[Risques associés]]))=TRUE,ISNUMBER(SEARCH(\"RP\",Risque[[#This Row],[Risques associés]]))=TRUE,ISNUMBER(SEARCH(\"RZ\",Risque[[#This Row],[Précision du risque\n(si liste déroulante présente)]]))=TRUE,ISNUMBER(SEARCH(\"RP\",Risque[[#This Row],[Précision du risque\n(si liste déroulante présente)]]))=TRUE),\"Oui --> Priorité d'action\",\"Non\"))","v":""},null,null,null,null,{"$f":"IF(ISBLANK(Risque[[#This Row],[Catégorie de risque]]),\"\",CONCATENATE(Risque[[#This Row],[Catégorie de risque]],2))","v":""},null,{"$f":"IF(ISBLANK(Risque[[#This Row],[Moyens de prévention]]),\"\",CONCATENATE(Risque[[#This Row],[Moyens de prévention]],1))","v":""},null,null,null,null,null,{"$f":"IF(ISBLANK(Risque[[#This Row],[Catégorie de risque]]),\"\",CONCATENATE(Risque[[#This Row],[Catégorie de risque]],3))","v":""},null,null,null,{"$f":"IF(ISBLANK(Risque[[#This Row],[Catégorie de risque]]),\"\",CONCATENATE(Risque[[#This Row],[Catégorie de risque]],4))","v":""},null,null,null,null,null,{"$f":"IF(Risque[[#This Row],[Date d''inscription du risque]]<>\"\",YEAR(Risque[[#This Row],[Date d''inscription du risque]]),\"\")","v":""}]
[null,null,{"$f":"IF(ISBLANK(Risque[[#This Row],[Catégorie de risque]]),\"\",CONCATENATE(Risque[[#This Row],[Catégorie de risque]],1))","v":""},null,null,null,null,null,{"$f":"IF(ISBLANK(Risque[[#This Row],[Catégorie de risque]]),\"\",IF(OR(ISNUMBER(SEARCH(\"RZ\",Risque[[#This Row],[Source de danger]]))=TRUE,ISNUMBER(SEARCH(\"RP\",Risque[[#This Row],[Source de danger]]))=TRUE,ISNUMBER(SEARCH(\"RZ\",Risque[[#This Row],[Risques associés]]))=TRUE,ISNUMBER(SEARCH(\"RP\",Risque[[#This Row],[Risques associés]]))=TRUE,ISNUMBER(SEARCH(\"RZ\",Risque[[#This Row],[Précision du risque\n(si liste déroulante présente)]]))=TRUE,ISNUMBER(SEARCH(\"RP\",Risque[[#This Row],[Précision du risque\n(si liste déroulante présente)]]))=TRUE),\"Oui --> Priorité d'action\",\"Non\"))","v":""},null,null,null,null,{"$f":"IF(ISBLANK(Risque[[#This Row],[Catégorie de risque]]),\"\",CONCATENATE(Risque[[#This Row],[Catégorie de risque]],2))","v":""},null,{"$f":"IF(ISBLANK(Risque[[#This Row],[Moyens de prévention]]),\"\",CONCATENATE(Risque[[#This Row],[Moyens de prévention]],1))","v":""},null,null,null,null,null,{"$f":"IF(ISBLANK(Risque[[#This Row],[Catégorie de risque]]),\"\",CONCATENATE(Risque[[#This Row],[Catégorie de risque]],3))","v":""},null,null,null,{"$f":"IF(ISBLANK(Risque[[#This Row],[Catégorie de risque]]),\"\",CONCATENATE(Risque[[#This Row],[Catégorie de risque]],4))","v":""},null,null,null,null,null,{"$f":"IF(Risque[[#This Row],[Date d''inscription du risque]]<>\"\",YEAR(Risque[[#This Row],[Date d''inscription du risque]]),\"\")","v":""}]
[null,null,{"$f":"IF(ISBLANK(Risque[[#This Row],[Catégorie de risque]]),\"\",CONCATENATE(Risque[[#This Row],[Catégorie de risque]],1))","v":""},null,null,null,null,null,{"$f":"IF(ISBLANK(Risque[[#This Row],[Catégorie de risque]]),\"\",IF(OR(ISNUMBER(SEARCH(\"RZ\",Risque[[#This Row],[Source de danger]]))=TRUE,ISNUMBER(SEARCH(\"RP\",Risque[[#This Row],[Source de danger]]))=TRUE,ISNUMBER(SEARCH(\"RZ\",Risque[[#This Row],[Risques associés]]))=TRUE,ISNUMBER(SEARCH(\"RP\",Risque[[#This Row],[Risques associés]]))=TRUE,ISNUMBER(SEARCH(\"RZ\",Risque[[#This Row],[Précision du risque\n(si liste déroulante présente)]]))=TRUE,ISNUMBER(SEARCH(\"RP\",Risque[[#This Row],[Précision du risque\n(si liste déroulante présente)]]))=TRUE),\"Oui --> Priorité d'action\",\"Non\"))","v":""},null,null,null,null,{"$f":"IF(ISBLANK(Risque[[#This Row],[Catégorie de risque]]),\"\",CONCATENATE(Risque[[#This Row],[Catégorie de risque]],2))","v":""},null,{"$f":"IF(ISBLANK(Risque[[#This Row],[Moyens de prévention]]),\"\",CONCATENATE(Risque[[#This Row],[Moyens de prévention]],1))","v":""},null,null,null,null,null,{"$f":"IF(ISBLANK(Risque[[#This Row],[Catégorie de risque]]),\"\",CONCATENATE(Risque[[#This Row],[Catégorie de risque]],3))","v":""},null,null,null,{"$f":"IF(ISBLANK(Risque[[#This Row],[Catégorie de risque]]),\"\",CONCATENATE(Risque[[#This Row],[Catégorie de risque]],4))","v":""},null,null,null,null,null,{"$f":"IF(Risque[[#This Row],[Date d''inscription du risque]]<>\"\",YEAR(Risque[[#This Row],[Date d''inscription du risque]]),\"\")","v":""}]
[null,null,{"$f":"IF(ISBLANK(Risque[[#This Row],[Catégorie de risque]]),\"\",CONCATENATE(Risque[[#This Row],[Catégorie de risque]],1))","v":""},null,null,null,null,null,{"$f":"IF(ISBLANK(Risque[[#This Row],[Catégorie de risque]]),\"\",IF(OR(ISNUMBER(SEARCH(\"RZ\",Risque[[#This Row],[Source de danger]]))=TRUE,ISNUMBER(SEARCH(\"RP\",Risque[[#This Row],[Source de danger]]))=TRUE,ISNUMBER(SEARCH(\"RZ\",Risque[[#This Row],[Risques associés]]))=TRUE,ISNUMBER(SEARCH(\"RP\",Risque[[#This Row],[Risques associés]]))=TRUE,ISNUMBER(SEARCH(\"RZ\",Risque[[#This Row],[Précision du risque\n(si liste déroulante présente)]]))=TRUE,ISNUMBER(SEARCH(\"RP\",Risque[[#This Row],[Précision du risque\n(si liste déroulante présente)]]))=TRUE),\"Oui --> Priorité d'action\",\"Non\"))","v":""},null,null,null,null,{"$f":"IF(ISBLANK(Risque[[#This Row],[Catégorie de risque]]),\"\",CONCATENATE(Risque[[#This Row],[Catégorie de risque]],2))","v":""},null,{"$f":"IF(ISBLANK(Risque[[#This Row],[Moyens de prévention]]),\"\",CONCATENATE(Risque[[#This Row],[Moyens de prévention]],1))","v":""},null,null,null,null,null,{"$f":"IF(ISBLANK(Risque[[#This Row],[Catégorie de risque]]),\"\",CONCATENATE(Risque[[#This Row],[Catégorie de risque]],3))","v":""},null,null,null,{"$f":"IF(ISBLANK(Risque[[#This Row],[Catégorie de risque]]),\"\",CONCATENATE(Risque[[#This Row],[Catégorie de risque]],4))","v":""},null,null,null,null,null,{"$f":"IF(Risque[[#This Row],[Date d''inscription du risque]]<>\"\",YEAR(Risque[[#This Row],[Date d''inscription du risque]]),\"\")","v":""}]
[null,null,{"$f":"IF(ISBLANK(Risque[[#This Row],[Catégorie de risque]]),\"\",CONCATENATE(Risque[[#This Row],[Catégorie de risque]],1))","v":""},null,null,null,null,null,{"$f":"IF(ISBLANK(Risque[[#This Row],[Catégorie de risque]]),\"\",IF(OR(ISNUMBER(SEARCH(\"RZ\",Risque[[#This Row],[Source de danger]]))=TRUE,ISNUMBER(SEARCH(\"RP\",Risque[[#This Row],[Source de danger]]))=TRUE,ISNUMBER(SEARCH(\"RZ\",Risque[[#This Row],[Risques associés]]))=TRUE,ISNUMBER(SEARCH(\"RP\",Risque[[#This Row],[Risques associés]]))=TRUE,ISNUMBER(SEARCH(\"RZ\",Risque[[#This Row],[Précision du risque\n(si liste déroulante présente)]]))=TRUE,ISNUMBER(SEARCH(\"RP\",Risque[[#This Row],[Précision du risque\n(si liste déroulante présente)]]))=TRUE),\"Oui --> Priorité d'action\",\"Non\"))","v":""},null,null,null,null,{"$f":"IF(ISBLANK(Risque[[#This Row],[Catégorie de risque]]),\"\",CONCATENATE(Risque[[#This Row],[Catégorie de risque]],2))","v":""},null,{"$f":"IF(ISBLANK(Risque[[#This Row],[Moyens de prévention]]),\"\",CONCATENATE(Risque[[#This Row],[Moyens de prévention]],1))","v":""},null,null,null,null,null,{"$f":"IF(ISBLANK(Risque[[#This Row],[Catégorie de risque]]),\"\",CONCATENATE(Risque[[#This Row],[Catégorie de risque]],3))","v":""},null,null,null,{"$f":"IF(ISBLANK(Risque[[#This Row],[Catégorie de risque]]),\"\",CONCATENATE(Risque[[#This Row],[Catégorie de risque]],4))","v":""},null,null,null,null,null,{"$f":"IF(Risque[[#This Row],[Date d''inscription du risque]]<>\"\",YEAR(Risque[[#This Row],[Date d''inscription du risque]]),\"\")","v":""}]
[null,null,{"$f":"IF(ISBLANK(Risque[[#This Row],[Catégorie de risque]]),\"\",CONCATENATE(Risque[[#This Row],[Catégorie de risque]],1))","v":""},null,null,null,null,null,{"$f":"IF(ISBLANK(Risque[[#This Row],[Catégorie de risque]]),\"\",IF(OR(ISNUMBER(SEARCH(\"RZ\",Risque[[#This Row],[Source de danger]]))=TRUE,ISNUMBER(SEARCH(\"RP\",Risque[[#This Row],[Source de danger]]))=TRUE,ISNUMBER(SEARCH(\"RZ\",Risque[[#This Row],[Risques associés]]))=TRUE,ISNUMBER(SEARCH(\"RP\",Risque[[#This Row],[Risques associés]]))=TRUE,ISNUMBER(SEARCH(\"RZ\",Risque[[#This Row],[Précision du risque\n(si liste déroulante présente)]]))=TRUE,ISNUMBER(SEARCH(\"RP\",Risque[[#This Row],[Précision du risque\n(si liste déroulante présente)]]))=TRUE),\"Oui --> Priorité d'action\",\"Non\"))","v":""},null,null,null,null,{"$f":"IF(ISBLANK(Risque[[#This Row],[Catégorie de risque]]),\"\",CONCATENATE(Risque[[#This Row],[Catégorie de risque]],2))","v":""},null,{"$f":"IF(ISBLANK(Risque[[#This Row],[Moyens de prévention]]),\"\",CONCATENATE(Risque[[#This Row],[Moyens de prévention]],1))","v":""},null,null,null,null,null,{"$f":"IF(ISBLANK(Risque[[#This Row],[Catégorie de risque]]),\"\",CONCATENATE(Risque[[#This Row],[Catégorie de risque]],3))","v":""},null,null,null,{"$f":"IF(ISBLANK(Risque[[#This Row],[Catégorie de risque]]),\"\",CONCATENATE(Risque[[#This Row],[Catégorie de risque]],4))","v":""},null,null,null,null,null,{"$f":"IF(Risque[[#This Row],[Date d''inscription du risque]]<>\"\",YEAR(Risque[[#This Row],[Date d''inscription du risque]]),\"\")","v":""}]
[null,null,{"$f":"IF(ISBLANK(Risque[[#This Row],[Catégorie de risque]]),\"\",CONCATENATE(Risque[[#This Row],[Catégorie de risque]],1))","v":""},null,null,null,null,null,{"$f":"IF(ISBLANK(Risque[[#This Row],[Catégorie de risque]]),\"\",IF(OR(ISNUMBER(SEARCH(\"RZ\",Risque[[#This Row],[Source de danger]]))=TRUE,ISNUMBER(SEARCH(\"RP\",Risque[[#This Row],[Source de danger]]))=TRUE,ISNUMBER(SEARCH(\"RZ\",Risque[[#This Row],[Risques associés]]))=TRUE,ISNUMBER(SEARCH(\"RP\",Risque[[#This Row],[Risques associés]]))=TRUE,ISNUMBER(SEARCH(\"RZ\",Risque[[#This Row],[Précision du risque\n(si liste déroulante présente)]]))=TRUE,ISNUMBER(SEARCH(\"RP\",Risque[[#This Row],[Précision du risque\n(si liste déroulante présente)]]))=TRUE),\"Oui --> Priorité d'action\",\"Non\"))","v":""},null,null,null,null,{"$f":"IF(ISBLANK(Risque[[#This Row],[Catégorie de risque]]),\"\",CONCATENATE(Risque[[#This Row],[Catégorie de risque]],2))","v":""},null,{"$f":"IF(ISBLANK(Risque[[#This Row],[Moyens de prévention]]),\"\",CONCATENATE(Risque[[#This Row],[Moyens de prévention]],1))","v":""},null,null,null,null,null,{"$f":"IF(ISBLANK(Risque[[#This Row],[Catégorie de risque]]),\"\",CONCATENATE(Risque[[#This Row],[Catégorie de risque]],3))","v":""},null,null,null,{"$f":"IF(ISBLANK(Risque[[#This Row],[Catégorie de risque]]),\"\",CONCATENATE(Risque[[#This Row],[Catégorie de risque]],4))","v":""},null,null,null,null,null,{"$f":"IF(Risque[[#This Row],[Date d''inscription du risque]]<>\"\",YEAR(Risque[[#This Row],[Date d''inscription du risque]]),\"\")","v":""}]
[null,null,{"$f":"IF(ISBLANK(Risque[[#This Row],[Catégorie de risque]]),\"\",CONCATENATE(Risque[[#This Row],[Catégorie de risque]],1))","v":""},null,null,null,null,null,{"$f":"IF(ISBLANK(Risque[[#This Row],[Catégorie de risque]]),\"\",IF(OR(ISNUMBER(SEARCH(\"RZ\",Risque[[#This Row],[Source de danger]]))=TRUE,ISNUMBER(SEARCH(\"RP\",Risque[[#This Row],[Source de danger]]))=TRUE,ISNUMBER(SEARCH(\"RZ\",Risque[[#This Row],[Risques associés]]))=TRUE,ISNUMBER(SEARCH(\"RP\",Risque[[#This Row],[Risques associés]]))=TRUE,ISNUMBER(SEARCH(\"RZ\",Risque[[#This Row],[Précision du risque\n(si liste déroulante présente)]]))=TRUE,ISNUMBER(SEARCH(\"RP\",Risque[[#This Row],[Précision du risque\n(si liste déroulante présente)]]))=TRUE),\"Oui --> Priorité d'action\",\"Non\"))","v":""},null,null,null,null,{"$f":"IF(ISBLANK(Risque[[#This Row],[Catégorie de risque]]),\"\",CONCATENATE(Risque[[#This Row],[Catégorie de risque]],2))","v":""},null,{"$f":"IF(ISBLANK(Risque[[#This Row],[Moyens de prévention]]),\"\",CONCATENATE(Risque[[#This Row],[Moyens de prévention]],1))","v":""},null,null,null,null,null,{"$f":"IF(ISBLANK(Risque[[#This Row],[Catégorie de risque]]),\"\",CONCATENATE(Risque[[#This Row],[Catégorie de risque]],3))","v":""},null,null,null,{"$f":"IF(ISBLANK(Risque[[#This Row],[Catégorie de risque]]),\"\",CONCATENATE(Risque[[#This Row],[Catégorie de risque]],4))","v":""},null,null,null,null,null,{"$f":"IF(Risque[[#This Row],[Date d''inscription du risque]]<>\"\",YEAR(Risque[[#This Row],[Date d''inscription du risque]]),\"\")","v":""}]
[null,null,{"$f":"IF(ISBLANK(Risque[[#This Row],[Catégorie de risque]]),\"\",CONCATENATE(Risque[[#This Row],[Catégorie de risque]],1))","v":""},null,null,null,null,null,{"$f":"IF(ISBLANK(Risque[[#This Row],[Catégorie de risque]]),\"\",IF(OR(ISNUMBER(SEARCH(\"RZ\",Risque[[#This Row],[Source de danger]]))=TRUE,ISNUMBER(SEARCH(\"RP\",Risque[[#This Row],[Source de danger]]))=TRUE,ISNUMBER(SEARCH(\"RZ\",Risque[[#This Row],[Risques associés]]))=TRUE,ISNUMBER(SEARCH(\"RP\",Risque[[#This Row],[Risques associés]]))=TRUE,ISNUMBER(SEARCH(\"RZ\",Risque[[#This Row],[Précision du risque\n(si liste déroulante présente)]]))=TRUE,ISNUMBER(SEARCH(\"RP\",Risque[[#This Row],[Précision du risque\n(si liste déroulante présente)]]))=TRUE),\"Oui --> Priorité d'action\",\"Non\"))","v":""},null,null,null,null,{"$f":"IF(ISBLANK(Risque[[#This Row],[Catégorie de risque]]),\"\",CONCATENATE(Risque[[#This Row],[Catégorie de risque]],2))","v":""},null,{"$f":"IF(ISBLANK(Risque[[#This Row],[Moyens de prévention]]),\"\",CONCATENATE(Risque[[#This Row],[Moyens de prévention]],1))","v":""},null,null,null,null,null,{"$f":"IF(ISBLANK(Risque[[#This Row],[Catégorie de risque]]),\"\",CONCATENATE(Risque[[#This Row],[Catégorie de risque]],3))","v":""},null,null,null,{"$f":"IF(ISBLANK(Risque[[#This Row],[Catégorie de risque]]),\"\",CONCATENATE(Risque[[#This Row],[Catégorie de risque]],4))","v":""},null,null,null,null,null,{"$f":"IF(Risque[[#This Row],[Date d''inscription du risque]]<>\"\",YEAR(Risque[[#This Row],[Date d''inscription du risque]]),\"\")","v":""}]
[null,null,{"$f":"IF(ISBLANK(Risque[[#This Row],[Catégorie de risque]]),\"\",CONCATENATE(Risque[[#This Row],[Catégorie de risque]],1))","v":""},null,null,null,null,null,{"$f":"IF(ISBLANK(Risque[[#This Row],[Catégorie de risque]]),\"\",IF(OR(ISNUMBER(SEARCH(\"RZ\",Risque[[#This Row],[Source de danger]]))=TRUE,ISNUMBER(SEARCH(\"RP\",Risque[[#This Row],[Source de danger]]))=TRUE,ISNUMBER(SEARCH(\"RZ\",Risque[[#This Row],[Risques associés]]))=TRUE,ISNUMBER(SEARCH(\"RP\",Risque[[#This Row],[Risques associés]]))=TRUE,ISNUMBER(SEARCH(\"RZ\",Risque[[#This Row],[Précision du risque\n(si liste déroulante présente)]]))=TRUE,ISNUMBER(SEARCH(\"RP\",Risque[[#This Row],[Précision du risque\n(si liste déroulante présente)]]))=TRUE),\"Oui --> Priorité d'action\",\"Non\"))","v":""},null,null,null,null,{"$f":"IF(ISBLANK(Risque[[#This Row],[Catégorie de risque]]),\"\",CONCATENATE(Risque[[#This Row],[Catégorie de risque]],2))","v":""},null,{"$f":"IF(ISBLANK(Risque[[#This Row],[Moyens de prévention]]),\"\",CONCATENATE(Risque[[#This Row],[Moyens de prévention]],1))","v":""},null,null,null,null,null,{"$f":"IF(ISBLANK(Risque[[#This Row],[Catégorie de risque]]),\"\",CONCATENATE(Risque[[#This Row],[Catégorie de risque]],3))","v":""},null,null,null,{"$f":"IF(ISBLANK(Risque[[#This Row],[Catégorie de risque]]),\"\",CONCATENATE(Risque[[#This Row],[Catégorie de risque]],4))","v":""},null,null,null,null,null,{"$f":"IF(Risque[[#This Row],[Date d''inscription du risque]]<>\"\",YEAR(Risque[[#This Row],[Date d''inscription du risque]]),\"\")","v":""}]

{"sheet":"Calcul du risque et priorités","index":8,"n_rows":33,"n_cols":8,"rows_kept":33,"cut":false,"hidden":false,"merged":[[27,1,27,7],[8,1,8,2],[19,1,19,6],[0,4,0,7],[3,1,5,1],[16,1,16,6],[17,1,17,6],[18,1,18,6],[15,1,15,7],[20,1,20,6],[21,1,21,6],[22,1,22,6],[23,1,23,6],[24,1,24,6]]}
[null,null,null,null,"GRAVITÉ (risque de)"]
[null,null,null,null,"Blessure mineure","Incapacité temporaire","Incapacité permanente","DÉCÈS"]
[null,null,null,null,1,3,5,10]
[null,"FRÉQUENCE ","Tâche quotidienne ",3,{"$f":"E3*D4","v":3},{"$f":"F3*D4","v":9},{"$f":"D4*G3","v":15},{"$f":"D4*H3","v":30}]
[null,null,"Tâche hebdomadaire ou mensuelle",2,{"$f":"D5*E3","v":2},{"$f":"E5*F3","v":6},{"$f":"D5*G3","v":10},{"$f":"D5*H3","v":20}]
[null,null,"Tâche annuelle ou rare ",1,{"$f":"D6*E3","v":1},{"$f":"D6*F3","v":3},{"$f":"D6*G3","v":5},{"$f":"D6*H3","v":10}]
[]
[]
[null,"NIVEAU DE RISQUE ",null,"POINTAGE","PRISE EN CHARGE "]
[null,1,"Critique","10-30","Immédiate "]
[null,2,"Élevé","3-9","Dans un court délai"]
[null,3,"Modéré","1-2","Moyen terme "]
[]
[]
[]
[null,"RZ = Risques à tolérance zéro (principe de tolérance zéro appliqué par la CNESST) \n      = CONTRÔLE PRIORITAIRE EN TOUT TEMPS"]
[null,"Chutes de hauteur de plus de 3 mètres"]
[null,"Chutes de hauteur à partir d'une échelle"]
[null,"Contact avec une pièce en mouvement d'une machine"]
[null,"Électrisation avec une ligne électrique aérienne sous tentsion"]
[null,"Effondrement d'un échafaudage"]
[null,"Effondrement des parois d'un creusement non étançonné"]
[null,"Exposition aux poussières d'amiante"]
[null,"Exposition aux poussières de silice"]
[null,"Roches instables"]
[]
[]
[null,"RP = Risques prédominants de la CNESST \n      = CONTRÔLE PRIORITAIRE"]
[null,"Risques ergonomiques (effort physique excessif, effort dynamique associé aux mouvements)"]
[null,"Risques de chute de même niveau"]
[null,"Risque d'être frappé, coincé ou écrasé par un objet ou de l'équipement"]
[null,"Risque d'exposition au bruit"]
[null,"Risques psychocosiaux liés au travail (violence, harcèlement, exposition à des événements traumatiques)"]

{"sheet":"Risque, Prévention & Contrôle","index":9,"n_rows":273,"n_cols":10,"rows_kept":273,"cut":false,"hidden":true,"merged":[[250,0,250,1],[132,0,132,9],[234,0,234,9],[233,0,233,1],[131,0,131,1],[164,0,164,1],[178,0,178,1],[205,0,205,1],[264,0,264,9],[206,0,206,8],[179,0,179,6],[165,0,165,3],[21,0,21,1],[60,0,60,1],[78,0,78,1],[95,0,95,1],[113,0,113,1],[96,0,96,3],[61,0,61,9],[22,0,22,7],[79,0,79,6],[114,0,114,3],[263,0,263,1],[251,0,251,1],[13,0,13,1],[12,0,12,1],[11,0,11,1],[10,0,10,1],[9,0,9,1],[3,0,3,1],[2,0,2,1],[1,0,1,1],[8,0,8,1],[7,0,7,1],[6,0,6,1],[5,0,5,1],[4,0,4,1]]}
["Table des matières\n\n    Aller à :",null,null,null,null,"annee"]
["Sources de danger",null,null,null,null,"2020 ou avant"]
["Risques associés",null,null,null,null,2021]
["Précision risque Physique",null,null,null,null,2022]
["Précision risque Psychosocial",null,null,null,null,2023]
["Précision risque Sécurité",null,null,null,null,2024]
["Mesures de prévention",null,null,null,null,2025]
["Précision mesure de prévention Chimique",null,null,null,null,2026]
["Précision mesure de prévention Physique",null,null,null,null,2027]
["Précision mesure de prévention Sécurité",null,null,null,null,2028]
["Mesures de contrôle",null,null,null,null,2029]
["Précision mesure de contrôle Sécurité - SILOS",null,null,null,null,2030]
["Formations obligatoires",null,null,null,null,2031]
[null,null,null,null,null,2032]
[null,null,null,null,null,2033]
["Questions O ou N","Fréquence exposition","Gravité","Priorité d'action","RZ/RP - O ou N",2034]
["Oui","Tâche quotidienne ","Blessure mineure","1 - Critique","Oui --> Priorité d'action",2035]
["Non","Tâche hebdomadaire ou mensuelle","Incapacité temporaire","2 - Élevé","Non",2036]
["N/A","Tâche annuelle ou rare ","Incapacité permanente","3 - Modéré",null,2037]
["À confirmer",null,"DÉCÈS",null,null,2038]
[null,null,null,null,null,2039]
["Retour à la table des matières"]
["Sources de danger"]
["Catégorie de Risque","Chimique","Biologique","Physique","Ergonomique","Psychosocial","Securite","Conformite_mutuelle"]
[null,"Espaces clos (présence gaz) ","Poussières","Tracteurs","Tracteurs","Nature du travail","Tracteurs","Certificat mutuelle"]
["Chimique","Garage/atelier (gaz combustion)","Brume","Machinerie agricole (moissoneuse, récolteuse, etc.)","Machinerie agricole","Organisation du travail","Machinerie agricole (moissoneuse, récolteuse, etc.)","Programme de prévention "]
["Biologique","Matières dangereuses","Animaux","Outils à main (sécateur, couteau, etc.) (préciser)","Outils à main","Facteurs sociaux","Outils à main (sécateur, couteau, etc.) (préciser)","Participation de l'employeur"]
["Physique","Pesticides et produits phytosanitaires","Biosécurité","Garage/atelier (appareils, bruits, etc.)","Garage/atelier","Travail isolé","Pièces et véhicules en mouvement (ex. vis balai)","Plan d'action affiché"]
["Ergonomique","Gaz/vapeurs/fumées/bioaérosols","Insectes (ex. : piqûres)","Systèmes électriques","Animaux","Autres (préciser)","Convoyeurs/écureur","Participation des travailleurs"]
["Psychosocial","Matières premières","Parasites/bactéries","Travail à l'extérieur (chaleur, froid)","Manutention",null,"Systèmes de traite","N/A"]
["Securite","Médicaments","Autres (préciser)","Scie à chaîne (bruit, vibrations)","Travail manuel au champ",null,"Meule, perceuse, etc."]
["Conformite_mutuelle","Laveuse à pression (monoxyde carbone)",null,"Ligne aérienne sous tension (RZ)","Déplacement d'animaux",null,"Mélangeur"]
[null,"Poussières de silice (RZ)",null,"Panneaux électriques","Autres (préciser)",null,"Scie à chaîne"]
[null,"Autres (préciser)",null,"Séchoir à grains",null,null,"Travaux en hauteur"]
[null,null,null,"Autres (préciser)",null,null,"Espaces clos"]
[null,null,null,null,null,null,"Silo ensilage (travaux hauteur, espace clos)"]
[null,null,null,null,null,null,"Silos à grains (ensevelissement, espace clos)"]
[null,null,null,null,null,null,"Fosses et préfosses à lisier"]
[null,null,null,null,null,null,"Appareil de levage"]
[null,null,null,null,null,null,"Chariot élévateur"]
[null,null,null,null,null,null,"Échelles/escabeau"]
[null,null,null,null,null,null,"Escalier/mezzanine"]
[null,null,null,null,null,null,"Chutes d'objets"]
[null,null,null,null,null,null,"Garage/atelier"]
[null,null,null,null,null,null,"Animaux"]
[null,null,null,null,null,null,"Matières inflammables (propane, gaz)"]
[null,null,null,null,null,null,"Environnement explosif"]
[null,null,null,null,null,null,"Contact collègues/clients/fournisseurs"]
[null,null,null,null,null,null,"Contats piétonniers (personnes, machines, voies de circulation)"]
[null,null,null,null,null,null,"Véhicules tout-terrain"]
[null,null,null,null,null,null,"Échafaudages (RZ)"]
[null,null,null,null,null,null,"Creusement non étançonné (RZ)"]
[null,null,null,null,null,null,"Roches instables (RZ)"]
[null,null,null,null,null,null,"Travail isolé"]
[null,null,null,null,null,null,"Autres (préciser)"]
[]
[]
[]
[]
[]
["Retour à la table des matières"]
["Risques associés"]
["Catégorie de Risque",{"$f":"IF(ISBLANK(B$24),\"\",CONCATENATE(B$24,1))","v":"Chimique1"},{"$f":"IF(ISBLANK(C$24),\"\",CONCATENATE(C$24,1))","v":"Biologique1"},"Physique1","Ergonomique1","Psychosocial1","Securite1","Conformite_mutuelle1","",{"$f":"IF(ISBLANK(J$24),\"\",CONCATENATE(J$24,1))","v":""}]
[null,"Risque d'inhalation","Risque de contact avec des agents infectieux (ex : virus, parasites, champignons, bactéries)","Bruit_RP","Postures contraignantes","Nature_du_travail","Mecaniques","N/A"]
[null,"Risque d'absorption cutanée","Présence de vecteurs (ex. : animaux, plantes, poussières, insectes (piqûres), oiseaux)","Vibrations","Travail en position debout prolongée","Organisation_du_travail","Pieces_outils_vehicules_en_mouvement_zone_a_risque_de_RZ"]
[null,"Risque d'ingestion","Présence d'agents allergènes (ex : pollen, déjections animales, salive)","Contraintes_thermiques","Manutation de charges","Facteurs_sociaux","Chutes_de_hauteur_RZ_et_chutes_de_meme_niveau_RP"]
[null,"Risque de brûlure chimique","Présence de toxines","Electricite","Efforts excessifs",null,"Espaces_clos"]
[null,"Risque d'irritation","Poussières végétales ou animales (ex. : poussière de grains)","Rayonnements","Mouvements répétitifs",null,"Violence_comportements_RP"]
[null,"Risques de problèmes respiratoires","Autre (préciser)","Postures_contraignantes","Vibrations ou pressions de contact",null,"Incendies_et_explosions"]
[null,"Autre (préciser)",null,null,"Tâches répétitives"]
[null,null,null,null,"Rythme de travail élevé ou cadence excessive"]
[null,null,null,null,"Mauvaise visibilité"]
[null,null,null,null,"Commandes difficles d'accès"]
[]
[]
[]
[]
[]
["Retour à la table des matières"]
["Précision du risque"]
["Risque Physique",{"$f":"D64","v":"Bruit_RP"},{"$f":"D65","v":"Vibrations"},{"$f":"D66","v":"Contraintes_thermiques"},{"$f":"D67","v":"Electricite"},{"$f":"D68","v":"Rayonnements"},{"$f":"D69","v":"Postures_contraignantes"}]
[null,"Exposition au bruit","Exposition à des vibrations transmises par des outils, équipements, machines ou véhicules","Exposition à des températures froides ou chaudes","Contact avec des pièces sous tension","Rayonnements de basse fréquence, de fréquence radio, micro-ondes, rayons X et gamma","Travail en position debout prolongée"]
[null,null,"Exposition à d'autres vibrations (préciser)","Exposition à des objets ou matériaux à des températures extrêmes","Exposition à l'électricité par un conducteur ou autre élément sous tension","Laser/lumière infrarouge, visigle et ultraviolette, etc.","Manutation de charges"]
[null,null,null,"Exposition à des flammes, rayonnements par source de chaleur ou à des explosions","Proximité avec des pièces sous haute tension","Ergonomiques (RP)","Efforts excessifs"]
[null,null,null,"Exposition à des courants d'air","Contact avec des pièces chargées","Implique la présence de risques pour la personne dans ses tâches","Mouvements répétitifs"]
[null,null,null,"Exposition à d'autres contraintes thermiques (préciser)","Exposition à l'électricité",null,"Vibrations ou pressions de contact"]
[null,null,null,null,null,null,"Tâches répétitives"]
[null,null,null,null,null,null,"Rythme de travail élevé ou cadence excessive"]
[null,null,null,null,null,null,"Mauvaise visibilité"]
[null,null,null,null,null,null,"Commandes difficles d'accès"]
[null,null,null,null,null,null,"Autre (préciser)"]
[]
[]
[]
[]
["Retour à la table des matières"]
["Précision du risque"]
["Risque psychosocial",{"$f":"F64","v":"Nature_du_travail"},{"$f":"F65","v":"Organisation_du_travail"},{"$f":"F66","v":"Facteurs_sociaux"}]
[null,"Environnement de travail malsain","Surcharge de travail","Ambigüité ou conflit dans les rôles et responsabilités"]
[null,"Faible autonomie décisionnelle","Sous-charge de travail","Relations de travail conflituelles"]
[null,"Absence de soutien","Rythme de travail élevé ou cadence excessive","Discrimination"]
[null,null,"Demande psychologique élevée","Incivilité"]
[null,null,"Formation insuffisante","Harcèlement psychologique"]
[null,null,"Interruptions fréquentes","Harcèlement sexuel"]
[null,null,"Horaire de travail irrégulier","Intimidation et violence"]
[null,null,null,"Supervision autoritaire ou laissez-faire"]
[null,null,null,"Perception d'iniquité ou d'injustice"]
[null,null,null,"Promotion de la compétition"]
[null,null,null,"Absence de communication"]
[null,null,null,"Changements organisationnels"]
[null,null,null,"Autre (préciser)"]
[]
[]
["Retour à la table des matières"]
["Précision du risque"]
["Risques Securite",{"$f":"G64","v":"Mecaniques"},{"$f":"G65","v":"Pieces_outils_vehicules_en_mouvement_zone_a_risque_de_RZ"},{"$f":"G66","v":"Chutes_de_hauteur_RZ_et_chutes_de_meme_niveau_RP"},{"$f":"G67","v":"Espaces_clos"},{"$f":"G68","v":"Violence_comportements_RP"},{"$f":"G69","v":"Incendies_et_explosions"}]
[null,"Contact avec des sources d'énergie","Renversement","Travail en hauteur de plus de 3 mètres (RZ) ","Atmosphère interne inadéquate (ex. : présence de gaz, taux oxygène faible)","Par la clientèle externe","Entreposage de produits inflammables"]
[null,"Contact avec une forme dangereuse, fixe ou mobile (ex. tranchante, pointue)","Happement ou enroulement","Travail à partir d'une échelle  (RZ) ","Ventilation insuffisante","Par une clientèle particulière","Procédés, équipement ou machines qui utilisent des matières inflammables"]
[null,"Contact avec des sources d'énergie accumulée dans une machine (ressorts, gaz ou liquide sous pression","Coupure, sectionnement ou cisaillement","Travail sous une charge","Configuration intérieure inadéquate","Par des collègues","Travail à chaud (ex. soudage)"]
[null,"Autre (préciser)","Entraînement ou emprisonnement","Travail sous une machine","Présence d'énergies","Par des fournisseurs","Environnement explosif (ex. : espace clos)"]
[null,null,"Frappement, coincement ou écrasement par un objet ou de l'équipement (RP)","Travail à proximité du vide (ex. : échafaudage, trou, échelle)","Présence de sources d'inflammation","Par des animaux (peut être accidentelle)","Installations électriques"]
[null,null,"Angles rentrants","Sol, voie de circulation ou plancher glissant, inégal ou encombré","Autre (préciser)","Autre (préciser)","Autre (préciser)"]
[null,null,"Écrasement ou choc","Exposition à une chute d'objets"]
[null,null,"Frottement ou abrasion","Entraînement par des objects ou matériaux (ex. : grains silo, eau)"]
[null,null,"Perforation ou piqûre","Escaliers mal conçus"]
[null,null,"Autre (préciser)","Dénivellation sur le plancher"]
[null,null,null,"Planchers ou surfaces glissantes ou irrégulières"]
[null,null,null,"Autre (préciser)"]
[]
[]
[]
["Retour à la table des matières"]
["Mesure de prévention"]
["Catégorie de Risque",{"$f":"IF(ISBLANK(B$24),\"\",CONCATENATE(B$24,2))","v":"Chimique2"},{"$f":"IF(ISBLANK(C$24),\"\",CONCATENATE(C$24,2))","v":"Biologique2"},"Physique2","Ergonomique2","Psychosocial2","Securite2","Conformite_mutuelle2","",""]
[null,"Éliminer le produit dangereux dans la conception du procédé","Concevoir des instruments et des appareils sécuritaires","Informer","Concevoir des postes de travail et des outils ergonomiques","Afficher et informer sur la tolérance zéro en matière de violence et de harcèlement","Utiliser les machines et équipements selon les directives du fabricants"]
[null,"Utiliser un produit de remplacement moins réactif et moins toxique","Utiliser un produit de remplacement ou un équipement plus sécuritaire","Former (ou formation d'appoint)","Utiliser de l’équipement d’aide à la manutention","Instaurer des pratiques de gestion justes et équitables","Concevoir des machines sécuritaires"]
[null,"Diminuer la quantité de produit","Assurer une ventilation générale ou locale","Procéder à des inspections","Aménager et ajuster les postes de travail","Élaborer et mettre en application une politique contre le harcèlement et la violence au travail et sur les mesures disciplinaires","Inspecter les machines avant leur utilisation"]
[null,"Installer un système de captation à la source","Confiner les procédés","Superviser","Utiliser des accessoires ergonomiques (ex. : tapis antifatigue, banc assis-debout)","Gérer les conflits","Installer des protecteurs (mobiles, fixes, avec dispositif de verrouillage ou d’interverrouillage, etc.)"]
[null,"Assurer une ventilation adéquate","Afficher les procédures à suivre (ex. : lavage des mains obligatoire, démarrer la ventilation avant le début de la tâche)","Procéder à des entretiens préventifs","Afficher les procédures à suivre (ex. : façon de soulever une boîte, ajustement du poste de travail)","Définir les rôles et les responsabilités de chacun","Installer un dispositif de protection (ex. : barrage immatériel, commande bimanuelle, détecteur surfacique)"]
[null,"Confiner les procédés","Utiliser des fiches de données de sécurité ou des fiches signalétiques et des étiquettes","Élaborer une politique d'achat qui tient compte des risques et mesures de prévention","Assurer une rotation des tâches","Planifier et organiser le travail","Installer des avertisseurs (ex. : lumière clignotante, alarme sonore, affiche)"]
[null,"Installer des capteurs de détection","Utiliser des méthodes de travail sécuritaires","Élaborer une politique de sous-traitance","Favoriser les micropauses","Former les travailleurs","Utiliser des méthodes de travail sécuritaires"]
[null,"Utiliser des dispositifs de détection à lecture directe ou continue","Élaborer des règles de biosécurité et de salubrité ( ex. : lavage des mains,\nassainissement des outils et des équipements)","Élaborer une politique d'ingénierie","Fournir de l’équipement en bon état","Planifier l’accueil et le retour au travail des travailleurs","Utiliser des procédures de cadenassage"]
[null,"Afficher les procédures à suivre (ex. : démarrer la ventilation avant de commencer la tâche)","Élaborer et mettre en place une procédure d'entreposage sécuritaire des produits","Surveiller la qualité du milieu de travail","Analyser les postes et les tâches et élaborer des méthodes de travail sécuritaires","Offrir un programme d’aide aux employés (PAE)","Former les travailleurs : méthodes de travail, risques à la sécurité, utilisation et entretien des ÉPI"]
[null,"Utiliser et respecter les fiches de données de sécurité ou les fiches signalétiques et les étiquettes des produits","Manipuler et entreposer adéquatement les déchets biomédicaux","Surveiller la santé et la sécurité des travailleurs","Former les travailleurs : méthodes de travail sécuritaires, risques à la santé,\ntechniques de manutention, utilisation de l’équipement d’aide à la manutention","Favoriser la reconnaissance au travail et le soutien social","Fournir les ÉPI requis et s'assurer qu'ils sont utilisés, entretenus et entreposés de façon adéquate  (préciser les ÉPI nécessaires dans le commentaire)"]
[null,"Établir une liste des matières dangereuses utilisées et des contaminants","Former les travailleurs : méthodes de travail sécuritaires, risques à la santé, règles de biosécurité, utilisation et entretien des ÉPI","Autres(s)","Réaliser des analyses ergonomiques des postes de travail","Instaurer des rencontres individuelles et d’équipe","Tracteurs_et_machines_automotrices_Precision"]
[null,"Utiliser des méthodes de travail sécuritaires","Entretenir les lieux et effectuer un nettoyage périodique",null,"Se doter d’un programme d’achat d’équipements ergonomiques","Autre(s)","Machines_agricoles_portees_semi_portees_ou_tirees_Precision"]
[null,"Élaborer et mettre en place une procédure d'entreposage sécuritaire des produits","Assainir périodiquement les outils et les équipements",null,"Fournir des équipements de protection collectifs (ex. : équipements de manutention)",null,"Pieces_outils_vehicules_en_mouvement_zone_a_risque_de_Precision"]
[null,"Former les travailleurs : SIMDUT (matières dangereuses), méthodes de travail sécuritaires, risques à la santé","Appliquer du répulsif pour éloigner les insectes vecteurs",null,"Porter des équipements de protection individuelle confortables et adaptés à la profession  (préciser les ÉPI nécessaires)",null,"Vis_balayeuse_et_vis_de_plancher_Precision"]
[null,"S’assurer du bon état de l’équipement et des contenants pour éviter les fuites, les déversements et les émissions","Offrir la vaccination aux travailleurs",null,"Autre(s)",null,"Chutes_travailleurs_et_objets_Precision"]
[null,"Entretenir les lieux pour éviter l’accumulation de contaminants sur les surfaces et dans le système de ventilation","Prévoir la présence d’auto-injecteurs d’épinéphrine",null,null,null,"Espaces_clos_Precision"]
[null,"Planifier des mesures d’urgence, incluant l’installation des équipements d’urgence (douches oculaires, douches de secours et extincteurs), un plan d’évacuation et la présence de trousses de premiers secours et de secouristes en nombre suffisant","Planifier des mesures d'urgence, incluant l'installation des équipements d'urgence (douches oculaires, douches de secours et extincteurs), un plan d'évacuation et la présence de secouristes",null,null,null,"Violence_comportements_Precision"]
[null,"Installer des vestiaires doubles","Fournir les ÉPI requis et s’assurer qu’ils sont utilisés, entretenus et entreposés de façon adéquate",null,null,null,"Incendies_et_explosions_Precision"]
[null,"Décontaminer les surfaces","Autres(s)",null,null,null,"Autre(s)"]
[null,"Fournir les ÉPI requis et s’assurer qu’ils sont utilisés, entretenus et entreposés de façon adéquate (préciser les ÉPI nécessaires)"]
[null,"Pesticides_Precision"]
[null,"Monoxyde_de_carbonne_Precision"]
[null,"Gaz_de_lisier_et_gaz_d_ensilage_Precision"]
[null,"Autre(s)"]
[]
[]
[]
[]
[]
[]
["Retour à la table des matières"]
["Précision de la mesure de prévention"]
["Risques chimiques",{"$f":"CONCATENATE(B$155,1)","v":"Pesticides_Precision1"},{"$f":"CONCATENATE(B$156,1)","v":"Monoxyde_de_carbonne_Precision1"},{"$f":"CONCATENATE(B$157,1)","v":"Gaz_de_lisier_et_gaz_d_ensilage_Precision1"}]
[null,"Ne pas manger, boire ou fumer lors de la manutention de pesticides","Privilégier les équipements éléctriques (machines-outils, chariots) ","Prioriser des installations qui permettent d'intervenir de l'extérieur"]
[null,"Réduire le nombre de travailleurs pouvant être exposés","Assurer un débit de ventilation pour balayer toute la zone de travail","Avertir du danger (affiches)"]
[null,"Exclure les travailleurs non affectés aux traitements","Porter un détecteur de CO sur soi","Ventiler minimum de 3/4 heure avant les travaux et ensuite en continu"]
[null,"Faire les traitements en serre hors des heures de travail régulières"]
[null,"Faire les traitements en champs durant les périodes sans vent (dérive)"]
[null,"Faire préparer la bouillie par une personne autre que le conducteur "]
[null,"Identifier les délais de réentrée"]
[]
[]
[]
[]
["Retour à la table des matières"]
["Précision de la mesure de prévention"]
["Risques physiques",{"$f":"IF(ISBLANK(B$81),\"\",CONCATENATE(B$81,1))","v":"Bruit_RP1"},"Vibrations1","Contraintes_thermiques1","Electricite1","Rayonnements1","Postures_contraignantes1"]
[null,"Concevoir et acheter de l’équipement, des machines et des procédés moins bruyants","Concevoir des procédés, des outils, des machines et des véhicules produisant moins de vibrations","Concevoir des procédés, des outils et des équipements sécuritaires","Recourir à un électricien pour les travaux d'installation électrique (acte réservé)","Concevoir des procédés, outils, équipements et machines sécuritaires"]
[null,"Modifier ou remplacer les équipements, les machines et les procédés ayant un niveau de bruit élevé","Modifier les procédés, les outils, les machines et les véhicules pour réduire les vibrations","Modifier les procédés, les outils et les machines pour diminuer l’émission de chaleur","Travailler hors tension","Éliminer ou réduire l'utilisation de rayons ionisants"]
[null,"Réduire le niveau de bruit des équipements, des machines et des procédés existants (ex. : encoffrer, isoler, insonoriser)","Isoler mécaniquement la source ou la surface vibrante","Éliminer l’exposition à la chaleur radiante émise par des surfaces chaudes (ex. : écran) ","Cadenasser","Appliquer le principe de radioprotection (ALARA)"]
[null,"Afficher les méthodes de travail, les ÉPI requis, la présence de bruit","Utiliser une cabine ou une plateforme isolée","Réduire l’apport de chaleur par convection (ex. : contrôle de la température, ventilation, cabines climatisées)","Identifier adéquatement les panneaux électriques","Utiliser d'autres techniques plus sécuritaires"]
[null,"Utiliser des méthodes de travail sécuritaires","Afficher les méthodes de travail sécuritaires et les moyens de prévention à utiliser","Utiliser de l’équipement d’aide à la manutention permettant de réduire la charge de travail et les efforts requis","Utiliser des procédés automatisés pour les travaux sous tension (robotisation)","Éloigner la source"]
[null,"Former les travailleurs sur les méthodes de travail sécuritaires et les risques à la SST","Afficher l’information mentionnant que l’équipement, l’outil, la machine ou le procédé émet des vibrations","Recouvrir les poignées et les barres métalliques d’un isolant thermique","Éloigner et isoler les circuits de puissance des circuits de contrôle","Isoler la source de rayons ionisants (ex. : blindage)"]
[null,"Réduire le temps d’exposition au bruit","Utiliser des méthodes de travail sécuritaires","Afficher les mesures de prévention et les méthodes de travail sécuritaires","Isoler les éléments sous tension accessibles","Utiliser des écrans absorbeurs de radiations"]
[null,"Mettre en application un programme de surveillance du niveau de bruit et de la santé des travailleurs","Former les travailleurs sur les méthodes de travail sécuritaires et les risques à la SST","Former les travailleurs sur les méthodes de travail sécuritaires, les règles à suivre et les risques liés à la santé et à la sécurité","Utiliser des appareillages électriques conformes et installés selon les normes","Bloquer les rayonnements"]
[null,"Fournir les ÉPI requis et s'assurer qu'ils sont utilisés, entretenus et entreposés de façon adéquate  (préciser les ÉPI nécessaires)","Réduire le temps d’exposition aux vibrations","Permettre l’acclimatation avant le travail à plein régime","Réduire le temps d’ouverture des disjoncteurs pour limiter l’énergie dégagée en cas de court-circuit","Mettre en place des zones à accès restreint (zones d'exclusion)"]
[null,"Autre(s)","Prendre des pauses régulièrement","Réduire le temps d’exposition au froid ou à la chaleur","Utiliser des outils et des équipements isolés, des équipements de manipulation de fusibles et des écrans protecteurs","Installer un système de verrouillage réciproque"]
[null,null,"Fournir les ÉPI requis (ex. : gants antivibrations) et s’assurer qu’ils sont utilisés, entretenus et entreposés de façon adéquate  (préciser les ÉPI nécessaires)","Organiser le travail en fonction des conditions climatiques et atmosphériques","Réduire l’accumulation des charges électrostatiques par des mises à la terre","Afficher des panneaux d'avertissement (ex. : alarme sonore ou visuelle)"]
[null,null,"Autre(s)","S’assurer d’avoir accès à l’eau potable","Afficher la présence d’appareillages et de lignes électriques et les risques qui y sont associés","Utiliser des radiomètres"]
[null,null,null,"Aménager des aires de repos chauffées ou climatisées","Établir des périmètres de sécurité lors de travaux électriques","Utiliser des méthodes de travail sécuritaires"]
[null,null,null,"Porter une tenue vestimentaire appropriée selon le travail à effectue","Élaborer et mettre en place un programme de sécurité électrique","Former les travailleurs sur les méthodes de travail sécuritaires, les règles à respecter et les risques à la SST"]
[null,null,null,"Fournir les ÉPI requis et s’assurer qu’ils sont utilisés, entretenus et entreposés de façon adéquate  (préciser les ÉPI nécessaires)","Former les travailleurs sur le programme de sécurité électrique et sur les méthodes de travail sécuritaire","Élaborer et mettre en place un programme de radioprotection"]
[null,null,null,"Autre(s)","Restreindre l’accès aux appareillages électriques","Élaborer et mettre en place un programme pour les activités effectuées à l'extérieur"]
[null,null,null,null,"Utiliser des permis de travail pour les travaux sous tension et tenir des registres","Limiter le temps d'exposition"]
[null,null,null,null,"Fournir les ÉPI requis et s'assurer qu'ils sont utilisés, entretenus et entreposés de façon adéquate  (préciser les ÉPI nécessaires)","Surveiller la qualité du milieu de travail"]
[null,null,null,null,"Autre(s)","Surveiller la santé des travailleurs"]
[null,null,null,null,null,"Fournir les ÉPI requis et s'assurer qu'ils sont utilisés, entretenus et entreposés de façon adéquate  (préciser les ÉPI nécessaires)"]
[null,null,null,null,null,"Autre(s)"]
[]
[]
[]
["Retour à la table des matières"]
["Précision de la mesure de prévention"]
["Risque à la sécurité",{"$f":"CONCATENATE(G$145,1)","v":"Tracteurs_et_machines_automotrices_Precision1"},{"$f":"CONCATENATE(G$146,1)","v":"Machines_agricoles_portees_semi_portees_ou_tirees_Precision1"},{"$f":"CONCATENATE(G$147,1)","v":"Pieces_outils_vehicules_en_mouvement_zone_a_risque_de_Precision1"},{"$f":"CONCATENATE(G$148,1)","v":"Vis_balayeuse_et_vis_de_plancher_Precision1"},{"$f":"CONCATENATE(G$149,1)","v":"Chutes_travailleurs_et_objets_Precision1"},{"$f":"CONCATENATE(G$150,1)","v":"Espaces_clos_Precision1"},{"$f":"CONCATENATE(G$151,1)","v":"Violence_comportements_Precision1"},{"$f":"CONCATENATE(G$152,1)","v":"Incendies_et_explosions_Precision1"}]
[null,"Les tracteurs et les machines automotrices sont munis de structures de protection en cas de renversement ainsi que de ceintures de sécurité conformes et en bon état","Établir une procédure d’urgence aux divers postes de travail ainsi qu’une procédure d’arrêt des machines et de vérification avant de les redémarrer","Concevoir des machines sécuritaires (ex. : éliminer les zones de coincement et les arêtes vives, limiter les efforts d’entraînement","Toujours arrêter la vis balai et appliquer une procédure de cadenassage avant d’entrer pour procéder au nettoyage d’un silo;","Réaliser le travail à partir du sol","Éviter de concevoir des espaces clos et de modifier les lieux existants pour les éliminer","Aménager les lieux de travail pour assurer la protection du travailleur","Concevoir des bâtiments, des entrepôts et des équipements conformes aux normes"]
[null,"Les accessoires pour chargeurs sont adaptés aux charges à manutentionner et qu’une protection est installée lorsqu’il y a un risque de chute d’objets sur l’opérateur","S'assurer que la procédure est appliquée par tous les opérateurs (tracteurs et machines)","Installer des protecteurs (mobiles, fixes, avec dispositif de verrouillage ou d’interverrouillage)","S’assurer que tous les protecteurs sont en place et en bon état, notamment sur les ouvertures dans le plancher du silo et sur les systèmes d’entraînement des vis de plancher","Réaliser le travail en utilisant un appareil de levage","Réduire la nécessité d’entrer en espace clos (ex. : par robotisation, par l’utilisation de caméras)","Élaborer et mettre en place des méthodes de travail sécuritaires","S’assurer que les installations électriques et au gaz sont conformes au Code du bâtiment et en bon état"]
[null,"Les véhicules sont munis d’un garde-corps là où il y a des risques de chute (passerelle,  trémie, etc.)","Prévoir un moyen de communication bidirectionnel entre les divers opérateurs","Installer des dispositifs de protection (ex. : barrage immatériel, commande bimanuelle, détecteur surfacique, tapis sensible, dispositif de validation","S'assurer que les autres équipements ne peuvent démarrer","Installer un garde-corps","Respecter les règlements et normes en vigueur pour les espaces clos","Former les travailleurs sur les méthodes de travail sécuritaires et sur les risques à la SST","Remplacer les produits, les équipements et les procédés à haut risque d’incendie et d’explosion"]
[null,"Le poste de conduite des véhicules est propre et désencombré, que les commandes sont facilement accessibles et qu’il n’y a aucun objet libre (outil, pièce d’équipement, etc.)","S’assurer que les pièces mobiles sont entourées d’un protecteur en bon état (courroies, arbres de transmission, PTO, etc.)","Installer des dispositifs pour isoler, couper, arrêter et libérer les énergies dangereuses","Installer une grille protectrice","Protéger les ouvertures sur le plancher ","Installer une ventilation adéquate","Utiliser des méthodes de travail sécuritaires","Assurer une ventilation adéquate des lieux"]
[null,"Le démarrage du véhicule ne puisse se faire que du poste de conduite facilement accessibles et qu’il n’y a aucun objet libre (outil, pièce d’équipement, etc.)","S'assurer que les dispositifs d'arrêt d'urgence sont fonctionnels","Installer des avertisseurs (ex. : lumière clignotante, alarme sonore, affiche)","Établir des consignes (procédure) de sécurité et s'assurer qu'elle soit respectée","Installer un système pour limiter les déplacements","Utiliser un système de détection des gaz avant l’entrée","Assurer une surveillance du travailleur lorsqu'il travaille seul ou dans un lieu isolé","Fournir des équipements et des moteurs anti explosion"]
[null,"Les commandes sont identifiées, fonctionnelles, en bon état et qu’elles empêchent une mise en marche accidentelle du véhicule","S'assurer les dispositifs d’arrêt d’urgence sont fonctionnels","Délimiter les zones de circulation","Fournir les ÉPI requis et s’assurer qu’ils sont utilisés, entretenus et entreposés de façon adéquate  (préciser les ÉPI nécessaires)","Utiliser un moyen de protection collective (ex. : filet de sécurité)","Installer des avertisseurs (ex. : alarmes, affiches)","Afficher les consignes à respeter, pour le travailleur et, le cas échéant, pour la clientèle","Utiliser des détecteurs et des dispositifs permettant de détecter et de réduire la propagation"]
[null,"Les freins et le frein de stationnement sont fonctionnels et en bon état","S'assurer les systèmes hydrauliques, valves, boyaux et connecteurs sont  fonctionnels et en bon état","Utiliser des méthodes de travail sécuritaires",null,"Installer des avertisseurs (ex. : affiche, indication de chute de balles de foin)","Élaborer et mettre en place un programme de gestion des espaces clos incluant les permis d’entrée","Afficher la tolérance zéro de la violence envers les travailleurs","Installer des avertisseurs (ex. : alarme, affiche, fiches de sécurité ou fiches signalétiques des produits)"]
[null,"Les pneus sont en bon état","S'assurer les pneus sont en bon état","Utiliser des procédures de cadenassage",null,"Tracer des voies de circulation","Assurer la surveillance en continu, mettre en place une procédure de sauvetage et des procédures de cadenassage","Fournir les ÉPI requis et s'assurer qu'ils sont utilisés, entretenus et entreposés de façon adéquate  (préciser les ÉPI nécessaires)","Utiliser des méthodes de travail sécuritaires"]
[null,"Les protecteurs des prises de force (PDF) et les autres protecteurs (courroies, chaînes, engrenages, etc.) sont en place et en bon état","S'assurer les échelons et les passerelles sont propres, antidérapants et en bon état","Former les travailleurs : méthodes de travail sécuritaires, risques à la sécurité, utilisation et entretien des ÉPI",null,"Utiliser des méthodes de travail sécuritaires","Former les travailleurs sur le programme de gestion des espaces clos, les méthodes de travail sécuritaires, les procédures de cadenassage et les risques à la santé et à la sécurité","Autre(s)","Former les travailleurs sur les méthodes de travail sécuritaires, les risques à la santé et à la sécurité, le SIMDUT et le plan de mesures d’urgence"]
[null,"Les échelons et les passerelles sont propres, antidérapants et en bon état","S'assurer les pictogrammes et avertissements requis sont en place et lisibles","Fournir les ÉPI requis et s’assurer qu’ils sont utilisés, entretenus et entreposés de façon adéquate  (préciser les ÉPI nécessaires)",null,"Former les travailleurs sur les méthodes de travail sécuritaires, les risques à la sécurité et les règles de circulation","Fournir les ÉPI requis et s’assurer qu’ils sont utilisés, entretenus et entreposés de façon adéquate  (préciser les ÉPI nécessaires)",null,"Entretenir les lieux pour éviter l’accumulation des produits inflammables sur les surfaces et les conduits de ventilation"]
[null,"Utiliser des tracteurs dont la puissance et le poids sont adaptés aux tâches à réaliser","Interdire le transport de personnes dans les remorques de ferme, les bennes de camion et autres équipements similaires","Autre(s)",null,"Entretenir les lieux périodiquement","Autre(s)",null,"Entreposer les produits inflammables selon les normes"]
[null,"Les parties chaudes ou les zones de friction sont libres de débris combustibles",null,null,null,"Fournir les ÉPI requis (ex. : harnais conforme) et s’assurer qu’ils sont utilisés, entretenus et entreposés de façon adéquate  (préciser les ÉPI nécessaires)",null,null,"Fournir les ÉPI requis et s'assurer qu'ils sont utilisés, entretenus et entreposés de façon adéquate  (préciser les ÉPI nécessaires)"]
[null,"Le système électrique est en bon état et que les connections sont bien serrées",null,null,null,"Installer une ligne de vie conforme aux échelles fixes et porter un harnais lors de la montée et des tâches en hauteur (système antichute conforme aux normes) ",null,null,"Autre(s)"]
[null,"Le véhicule a à son bord un extincteur et une trousse de premiers secours et, lors de l’application de produits comme l’ammoniac, une réserve d’eau potable et un flacon rince-œil",null,null,null,"Remplacer les échelles par des escaliers"]
[null,"Le siège de conduite est ergonomique, que la cabine est insonorisée ou que le conducteur porte des protecteurs auditifs",null,null,null,"Installer un éclairage adéquat"]
[null,"Les dispositifs d’attelage sont en bon état",null,null,null,"Autre(s)"]
[null,"La barre de traction est fixe et en bon état"]
[null,"Les systèmes hydrauliques, valves, boyaux et connecteurs sont fonctionnels et en bon état"]
[null,"Vérifier s’il y a des fuites avec un carton, jamais avec les doigts ou les mains"]
[null,"S’assurer que les véhicules, y compris les tracteurs et autres machines automotrices, sont"]
[null,"Munir les tracteurs et machines de systèmes de communication bidirectionnels en bon état de fonctionnement"]
[null,"S’assurer que tous les pictogrammes et les avertissements requis sont en place et bien lisibles"]
[]
[]
[]
["Retour à la table des matières"]
["Mesure de contrôle"]
["Catégorie de Risque",{"$f":"IF(ISBLANK(B$24),\"\",CONCATENATE(B$24,3))","v":"Chimique3"},{"$f":"IF(ISBLANK(C$24),\"\",CONCATENATE(C$24,3))","v":"Biologique3"},"Physique3","Ergonomique3","Psychosocial3","Securite3","Conformite_mutuelle3","",""]
[null,"Informer","Informer","Informer","Informer","Informer","Informer"]
[null,"Former (ou formation d'appoint)","Former (ou formation d'appoint)","Former (ou formation d'appoint)","Former (ou formation d'appoint)","Former (ou formation d'appoint)","Former"]
[null,"Procéder à des inspections","Procéder à des inspections","Procéder à des inspections","Procéder à des inspections","Superviser","Superviser"]
[null,"Superviser","Superviser","Superviser","Superviser","Surveiller la qualité du milieu de travail","Procéder à des inspections régulières"]
[null,"Procéder à des entretiens préventif","Procéder à des entretiens préventif","Procéder à des entretiens préventif","Procéder à des entretiens préventif","Surveiller la santé des travailleurs","Procéder à des entretiens préventif"]
[null,"Élaborer une politique d'achat qui tient compte des riques et mesures de prévention","Élaborer une politique d'achat qui tient compte des riques et mesures de prévention","Élaborer une politique d'achat qui tient compte des riques et mesures de prévention","Élaborer une politique d'achat qui tient compte des riques et mesures de prévention","Autre(s)","Élaborer une politique d'achat qui tient compte des riques et mesures de prévention"]
[null,"Élaborer une politique de sous-traitance","Élaborer une politique de sous-traitance","Élaborer une politique de sous-traitance","Élaborer une politique de sous-traitance",null,"Élaborer une politique de sous-traitance"]
[null,"Surveiller la qualité du milieu de travail","Surveiller la qualité du milieu de travail","Élaborer une politique d'ingénierie","Élaborer une politique d'ingénierie",null,"Élaborer une politique d'ingénierie"]
[null,"Surveiller la santé des travailleurs","Surveiller la santé des travailleurs","Surveiller la qualité du milieu de travail","Surveiller la qualité du milieu de travail",null,"Surveiller la qualité du milieu de travail"]
[null,"Autre(s)","Autre(s)","Surveiller la santé des travailleurs","Mettre en place/fournir des mesures/équipements de protection collectifs",null,"Surveiller la santé des travailleurs"]
[null,null,null,"Mettre en place/fournir des mesures/équipements de protection collectifs","Surveiller la santé des travailleurs",null,"Mettre en place/fournir des mesures/équipements de protection collectifs"]
[null,null,null,"Autre(s)","Autre(s)",null,"Silos_a_grains_Pour_eviter_d_y_entrer"]
[null,null,null,null,null,null,"Autre(s)"]
[]
["Retour à la table des matières"]
["Précision Mesure de contrôle"]
["Risque de sécurité",{"$f":"G248","v":"Silos_a_grains_Pour_eviter_d_y_entrer"}]
[null,"Prévenir la détérioration des grains"]
[null,"Inspecter les silos et éliminer les infiltrations d’eau (neige, pluie) et s’assurer que le système d’aération est fonctionnel"]
[null,"Respecter les conditions de propreté des grains, de séchage et d’aération recommandées pour la variété de grain et la durée d’entreposage prévue"]
[null,"Contrôler la température des grains afin d’éviter les problèmes de condensation et de gel"]
[]
[]
[]
[]
[]
[]
["Retour à la table des matières"]
["Formations obligatoires"]
["Catégorie de Risque",{"$f":"IF(ISBLANK(B$24),\"\",CONCATENATE(B$24,4))","v":"Chimique4"},{"$f":"IF(ISBLANK(C$24),\"\",CONCATENATE(C$24,4))","v":"Biologique4"},"Physique4","Ergonomique4","Psychosocial4","Securite4","Conformite_mutuelle4","",""]
[null,"SIMDUT","Secouriste en milieu de travail","Secouriste en milieu de travail","Secouriste en milieu de travail",null,"Utilisation d'une scie à chaîne"]
[null,"Entrée en espace clos",null,null,null,null,"Cadenassage"]
[null,"Secouriste en milieu de travail",null,null,null,null,"Permis de conduire classe 8"]
[null,null,null,null,null,null,"Entrée en espace clos"]
[null,null,null,null,null,null,"Conduite chariot élévateur"]
[null,null,null,null,null,null,"Opérateur de nacelle, pont roulant"]
[null,null,null,null,null,null,"Secouriste en milieu de travail"]

{"sheet":"parametre","index":10,"n_rows":7,"n_cols":8,"rows_kept":7,"cut":false,"hidden":true,"merged":[]}
["Administrateur",null,null,"Date début","Date fin",null,null,"Hiérarchie des mesures de prévention"]
["Mot de passe:","Admin",null,"2020-01-01","2050-12-31"]
[]
["Utilisateurs"]
["Mot de passe:","UPA"]
[]
["Déjà transféré?","Oui"]